{"text_format":"3","workbook":"xlsx","n_sheets":63,"sheets":["Schedule of Events","Participants","Sheet1","Schedule","Teams","1600 Boys","400 4th Boys","50 4th Boys","200 4th Boys","800 4th Boys","100 4th Boys","Baseball 4th Boys","LongJump 4th Boys","HighJump 4th Boys","400 56 Boys","50 56 Boys","200 56 Boys","800 56 Boys","100 56 Boys","Shotput 56 Boys","LongJump 56 Boys","HighJump 56 Boys","Hurdles Cadet Boys","200 Cadet Boys","400 Cadet Boys","800 Cadet Boys","100 Cadet Boys","Shotput Cadet Boys","LongJump Cadet Boys","HighJump Cadet Boys","4X100 Boys","800XMedley Boys","1600 Girls","400 4th Girls","50 4th Girls","200 4th Girls","800 4th Girls","100 4th Girls","Softball 4th Girls","Kickball 4th Girls","LongJump 4th Girls","HighJump 4th Girls","400 56 Girls","50 56 Girls","200 56 Girls","800 56 Girls","100 56 Girls","Softball 56 Girls","Kickball 56 Girls","LongJump 56 Girls","HighJump 56 Girls","Hurdles Cadet Girls","400 Cadet Girls","200 Cadet Girls","800 Cadet Girls","100 Cadet Girls","Shotput Cadet Girls","Kickball Cadet Girls","LongJump Cadet Girls","HighJump Cadet Girls","4X100 Girls","800XMedley Girls","Field"],"not_rendered":{"macros":1,"external_links":1,"defined_names":8},"read":"whole","date_system":"1900"}

{"sheet":"Schedule of Events","index":0,"n_rows":58,"n_cols":35,"rows_kept":58}
[{"$nulls":3},"CYO Track Meet at Roncalli High School",{"$nulls":6},"Choose Girls Event",null,null,"Choose Boys Event",null,null,"Add or Update Participants",{"$nulls":6},"All Tabs","Girls","Boys","4th",56,"Cadet","4Boys","56Boys","CadetBoys","4Girls","56Girls","CadetGirls"]
["12:00 Gates Open",null,null,"12:30 Coaches meeting at starting line",{"$nulls":3},"1:00 Meet Start time",null,null,"Hurdles Cadet Girls",null,null,"Hurdles Cadet Boys",null,null,"Overall Place and Points",{"$nulls":6},"Hurdles Cadet Girls","x",{"$nulls":3},"x",{"$nulls":5},"x"]
[{"$nulls":10},"1600 Girls",null,null,"1600 Boys",{"$nulls":9},"1600 Girls","x",null,null,"p","p",{"$nulls":3},"p","p","p"]
[{"$nulls":3},"Schedule of Events",{"$nulls":6},"400 4th Girls",null,null,"400 4th Boys",{"$nulls":9},"400 4th Girls","x",null,"x",{"$nulls":5},"x"]
[{"$nulls":3},"Hurdles Girls then Boys",{"$nulls":6},"400 56 Girls",null,null,"400 56 Boys",{"$nulls":9},"400 56 Girls","x",null,null,"x",{"$nulls":5},"x"]
[{"$nulls":3},"1600 Girls then Boys",{"$nulls":6},"400 Cadet Girls",null,null,"400 Cadet Boys",{"$nulls":9},"400 Cadet Girls","x",{"$nulls":3},"x",{"$nulls":5},"x"]
[{"$nulls":3},"Girls Field events and Boys Running events",{"$nulls":6},"50 4th Girls",null,null,"50 4th Boys",{"$nulls":9},"50 4th Girls","x",null,"x",{"$nulls":5},"x"]
[{"$nulls":3},"Boys Field events and Girls Running events",{"$nulls":6},"50 56 Girls",null,null,"50 56 Boys",{"$nulls":9},"50 56 Girls","x",null,null,"x",{"$nulls":5},"x"]
[{"$nulls":3},"Relay Events Girls 400, Boys 400, Girls 800 Medley, Boys 800 Medley",{"$nulls":6},"200 4th Girls",null,null,"200 4th Boys",{"$nulls":9},"200 4th Girls","x",null,"x",{"$nulls":5},"x"]
[{"$nulls":10},"200 56 Girls",null,null,"200 56 Boys",{"$nulls":9},"200 56 Girls","x",null,null,"x",{"$nulls":5},"x"]
[1,"Girls 100m hurdles (78)",{"$nulls":4},"Girls Field Events",{"$nulls":3},"200 Cadet Girls",null,null,"200 Cadet Boys",{"$nulls":9},"200 Cadet Girls","x",{"$nulls":3},"x",{"$nulls":5},"x"]
[2,"Boys 100m hurdles (78)",{"$nulls":4},"Long Jump (56, 78, 4)",{"$nulls":3},"800 4th Girls",null,null,"800 4th Boys",{"$nulls":9},"800 4th Girls","x",null,"x",{"$nulls":5},"x"]
[3,"Girls 1600m run (56, 78) (one race may run w/boys)",{"$nulls":4},"High Jump (78, 4, 56)",{"$nulls":3},"800 56 Girls",null,null,"800 56 Boys",{"$nulls":9},"800 56 Girls","x",null,null,"x",{"$nulls":5},"x"]
[4,"Boys 1600m run (56, 78) (one race may run w/girls)",{"$nulls":4},"Shot Put (78)",{"$nulls":3},"800 Cadet Girls",null,null,"800 Cadet Boys",{"$nulls":9},"800 Cadet Girls","x",{"$nulls":3},"x",{"$nulls":5},"x"]
[5,"Boys 400m run (4, 56, 78)",{"$nulls":4},"Softball Throw (56, 4)",{"$nulls":3},"100 4th Girls",null,null,"100 4th Boys",{"$nulls":9},"100 4th Girls","x",null,"x",{"$nulls":5},"x"]
[6,"Boys 50m dash (4, 56)",{"$nulls":4},"Kickball Throw (4, 56, 78)",{"$nulls":3},"100 56 Girls",null,null,"100 56 Boys",{"$nulls":9},"100 56 Girls","x",null,null,"x",{"$nulls":5},"x"]
[7,"Boys 200m dash (4, 56, 78)",{"$nulls":8},"100 Cadet Girls",null,null,"100 Cadet Boys",{"$nulls":9},"100 Cadet Girls","x",{"$nulls":3},"x",{"$nulls":5},"x"]
[8,"Boys 800m run (4, 56, 78)",{"$nulls":8},"4X100 Girls",null,null,"4X100 Boys",{"$nulls":9},"4X100 Girls","x",null,"p","p","p",{"$nulls":3},"p","p","p"]
[9,"Boys 100m dash (4, 56, 78)",{"$nulls":8},"800XMedley Girls",null,null,"800XMedley Boys",{"$nulls":9},"800XMedley Girls","x",null,"p","p","p",{"$nulls":3},"p","p","p"]
[null,"Break for Timers",{"$nulls":21},"Softball 4th Girls","x",null,"x",{"$nulls":5},"x"]
[10,"Girls 400m run (4, 56, 78)",{"$nulls":4},"Boys Field Events",{"$nulls":3},"Girls Field Events",null,null,"Boys Field Events",{"$nulls":9},"Softball 56 Girls","x",null,null,"x",{"$nulls":5},"x"]
[11,"Girls 50m dash (4, 56)",{"$nulls":4},"High Jump (78, 4, 56)",{"$nulls":3},"Softball 4th Girls",null,null,"Baseball 4th Boys",{"$nulls":9},"Shotput Cadet Girls","x",{"$nulls":3},"x",{"$nulls":5},"x"]
[12,"Girls 200m dash (4, 56, 78)",{"$nulls":4},"Long Jump (56, 78, 4)",{"$nulls":3},"Softball 56 Girls",null,null,"Shotput 56 Boys",{"$nulls":9},"HighJump 4th Girls","x",null,"x",{"$nulls":5},"x"]
[13,"Girls 800m run (4, 56, 78)",{"$nulls":4},"Shot Put (56, 78)",{"$nulls":3},"Shotput Cadet Girls",null,null,"Shotput Cadet Boys",{"$nulls":9},"HighJump 56 Girls","x",null,null,"x",{"$nulls":5},"x"]
[14,"Girls 100m dash (4, 56, 78)",{"$nulls":4},"Baseball Throw (4)",{"$nulls":3},"HighJump 4th Girls",null,null,"HighJump 4th Boys",{"$nulls":9},"HighJump Cadet Girls","x",{"$nulls":3},"x",{"$nulls":5},"x"]
[21,"Break for Timers/Organize Relays",{"$nulls":8},"HighJump 56 Girls",null,null,"HighJump 56 Boys",{"$nulls":9},"LongJump 4th Girls","x",null,"x",{"$nulls":5},"x"]
[111,"Girls 400m relay (4, 56,78)",{"$nulls":8},"HighJump Cadet Girls",null,null,"HighJump Cadet Boys",{"$nulls":9},"LongJump 56 Girls","x",null,null,"x",{"$nulls":5},"x"]
[16,"Boys 400m relay (4, 56,78)",{"$nulls":8},"LongJump 4th Girls",null,null,"LongJump 4th Boys",{"$nulls":9},"LongJump Cadet Girls","x",{"$nulls":3},"x",{"$nulls":5},"x"]
[17,"Girls 800m medley relay (4, 56,78)",{"$nulls":8},"LongJump 56 Girls",null,null,"LongJump 56 Boys",{"$nulls":9},"Kickball 4th Girls","x",null,"x",{"$nulls":5},"x"]
[18,"Boys 800m medley relay (4, 56,78)",{"$nulls":8},"LongJump Cadet Girls",null,null,"LongJump Cadet Boys",{"$nulls":9},"Kickball 56 Girls","x",null,null,"x",{"$nulls":5},"x"]
[{"$nulls":10},"Kickball 4th Girls",{"$nulls":12},"Kickball Cadet Girls","x",{"$nulls":3},"x",{"$nulls":5},"x"]
[{"$nulls":10},"Kickball 56 Girls",{"$nulls":12},"Hurdles Cadet Boys",null,"x",null,null,"x",null,null,"x"]
[{"$nulls":10},"Kickball Cadet Girls",{"$nulls":12},"1600 Boys",null,"x",null,"p","p","p","p","p"]
[{"$nulls":23},"400 4th Boys",null,"x","x",null,null,"x"]
[{"$nulls":23},"400 56 Boys",null,"x",null,"x",null,null,"x"]
[{"$nulls":23},"400 Cadet Boys",null,"x",null,null,"x",null,null,"x"]
[{"$nulls":23},"50 4th Boys",null,"x","x",null,null,"x"]
[{"$nulls":23},"50 56 Boys",null,"x",null,"x",null,null,"x"]
[{"$nulls":23},"200 4th Boys",null,"x","x",null,null,"x"]
[{"$nulls":23},"200 56 Boys",null,"x",null,"x",null,null,"x"]
[{"$nulls":23},"200 Cadet Boys",null,"x",null,null,"x",null,null,"x"]
[{"$nulls":23},"800 4th Boys",null,"x","x",null,null,"x"]
[{"$nulls":23},"800 56 Boys",null,"x",null,"x",null,null,"x"]
[{"$nulls":23},"800 Cadet Boys",null,"x",null,null,"x",null,null,"x"]
[{"$nulls":23},"100 4th Boys",null,"x","x",null,null,"x"]
[{"$nulls":23},"100 56 Boys",null,"x",null,"x",null,null,"x"]
[{"$nulls":23},"100 Cadet Boys",null,"x",null,null,"x",null,null,"x"]
[{"$nulls":23},"4X100 Boys",null,"x"]
[{"$nulls":23},"800XMedley Boys",null,"x"]
[{"$nulls":23},"Baseball 4th Boys",null,"x","x",null,null,"x"]
[{"$nulls":23},"Shotput 56 Boys",null,"x",null,"x",null,null,"x"]
[{"$nulls":23},"Shotput Cadet Boys",null,"x",null,null,"x",null,null,"x"]
[{"$nulls":23},"HighJump 4th Boys",null,"x","x",null,null,"x"]
[{"$nulls":23},"HighJump 56 Boys",null,"x",null,"x",null,null,"x"]
[{"$nulls":23},"HighJump Cadet Boys",null,"x",null,null,"x",null,null,"x"]
[{"$nulls":23},"LongJump 4th Boys",null,"x","x",null,null,"x"]
[{"$nulls":23},"LongJump 56 Boys",null,"x",null,"x",null,null,"x"]
[{"$nulls":23},"LongJump Cadet Boys",null,"x",null,null,"x",null,null,"x"]

{"sheet":"Participants","index":1,"n_rows":1080,"n_cols":19,"rows_kept":1080}
["Bib #","First Name","Last Name","Grade","School","Gender","Group","*","Barcode","Date","Return to Schedule of Events",null,"School","Roster Status",{"$nulls":4},"Dup check"]
[{"$nulls":12},"Do not use","Do not use"]
[1,"Mauricio","Aguilar",4,"St Jude","M",{"$f":"IF(D3=8,\"Cadet\",IF(D3=7,\"Cadet\",IF(D3=6,\"56\",IF(D3=5,\"56\",IF(D3=4,\"34\",IF(D3=3,\"34\",\"No Group\"))))))","v":"34"},"*",{"$f":"CONCATENATE(H3,A3,H3)","v":"*1*"},null,{"$f":"CONCATENATE(B3,\" \",C3,\" \",D3,\" \",F3,\" \",E3)","v":"Mauricio Aguilar 4 M St Jude"},{"$nulls":7},{"$f":"EXACT(A3,A4)","v":false}]
[2,"Brooklyn ","Ahaus",4,"St Jude","F",{"$f":"IF(D4=8,\"Cadet\",IF(D4=7,\"Cadet\",IF(D4=6,\"56\",IF(D4=5,\"56\",IF(D4=4,\"34\",IF(D4=3,\"34\",\"No Group\"))))))","v":"34"},"*","*2*",null,"Brooklyn  Ahaus 4 F St Jude",{"$nulls":7},false]
[3,"Charlie","Allen",6,"St Jude","M","56","*","*3*",null,"Charlie Allen 6 M St Jude",{"$nulls":7},false]
[4,"Lucia","Allen",8,"St Jude","F","Cadet","*","*4*",null,"Lucia Allen 8 F St Jude",{"$nulls":7},false]
[5,"Maddox","Amador",3,"St Jude","M","34","*","*5*",null,"Maddox Amador 3 M St Jude",{"$nulls":7},false]
[6,"Olivia","Antolin",5,"St Jude","F","56","*","*6*",null,"Olivia Antolin 5 F St Jude",{"$nulls":7},false]
[7,"Elise","Baker",7,"St Jude","F","Cadet","*","*7*",null,"Elise Baker 7 F St Jude",{"$nulls":7},false]
[8,"Isabella","Ball",7,"St Jude","F","Cadet","*","*8*",null,"Isabella Ball 7 F St Jude",{"$nulls":7},false]
[9,"Landon","Ball",5,"St Jude","M","56","*","*9*",null,"Landon Ball 5 M St Jude",{"$nulls":7},false]
[10,"Luci","Ball",8,"St Jude","F","Cadet","*","*10*",null,"Luci Ball 8 F St Jude",{"$nulls":7},false]
[11,"Drew","Beckwith",4,"St Jude","M","34","*","*11*",null,"Drew Beckwith 4 M St Jude",{"$nulls":7},false]
[12,"Carter","Bohn",5,"St Jude","M","56","*","*12*",null,"Carter Bohn 5 M St Jude",{"$nulls":7},false]
[13,"Lauren","Brown",8,"St Jude","F","Cadet","*","*13*",null,"Lauren Brown 8 F St Jude",{"$nulls":7},false]
[14,"Jim","Buchmeier",6,"St Jude","M","56","*","*14*",null,"Jim Buchmeier 6 M St Jude",{"$nulls":7},false]
[15,"Joe","Buckel",8,"St Jude","M","Cadet","*","*15*",null,"Joe Buckel 8 M St Jude",{"$nulls":7},false]
[16,"Delanie","Bullock",5,"St Jude","F","56","*","*16*",null,"Delanie Bullock 5 F St Jude",{"$nulls":7},false]
[17,"Emmett","Burkhardt",7,"St Jude","M","Cadet","*","*17*",null,"Emmett Burkhardt 7 M St Jude",{"$nulls":7},false]
[18,"Ella ","Cadwallader",5,"St Jude","F","56","*","*18*",null,"Ella  Cadwallader 5 F St Jude",{"$nulls":7},false]
[19,"Jason ","Cardenas",4,"St Jude","M","34","*","*19*",null,"Jason  Cardenas 4 M St Jude",{"$nulls":7},false]
[20,"Myles ","Caudill",7,"St Jude","M","Cadet","*","*20*",null,"Myles  Caudill 7 M St Jude",{"$nulls":7},false]
[21,"Jesus","Cervantes",7,"St Jude","M","Cadet","*","*21*",null,"Jesus Cervantes 7 M St Jude",{"$nulls":7},false]
[22,"Joseph ","Chamblee",4,"St Jude","M","34","*","*22*",null,"Joseph  Chamblee 4 M St Jude",{"$nulls":7},false]
[23,"Josephine","Clark",4,"St Jude","F","34","*","*23*",null,"Josephine Clark 4 F St Jude",{"$nulls":7},false]
[24,"Anthony ","Cobb",4,"St Jude","M","34","*","*24*",null,"Anthony  Cobb 4 M St Jude",{"$nulls":7},false]
[25,"Jaime","Contreras",5,"St Jude","M","56","*","*25*",null,"Jaime Contreras 5 M St Jude",{"$nulls":7},false]
[26,"Ariana","Corona",7,"St Jude","F","Cadet","*","*26*",null,"Ariana Corona 7 F St Jude",{"$nulls":7},false]
[27,"Alex","Cruz-Flores",5,"St Jude","M","56","*","*27*",null,"Alex Cruz-Flores 5 M St Jude",{"$nulls":7},false]
[28,"Miguel","Cruz-Flores",7,"St Jude","M","Cadet","*","*28*",null,"Miguel Cruz-Flores 7 M St Jude",{"$nulls":7},false]
[29,"Lydia","Dant",5,"St Jude","F","56","*","*29*",null,"Lydia Dant 5 F St Jude",{"$nulls":7},false]
[30,"Owen ","Denzer",5,"St Jude","M","56","*","*30*",null,"Owen  Denzer 5 M St Jude",{"$nulls":7},false]
[31,"Ava","Eckhart",3,"St Jude","F","34","*","*31*",null,"Ava Eckhart 3 F St Jude",{"$nulls":7},false]
[32,"Elise","Elpers",8,"St Jude","F","Cadet","*","*32*",null,"Elise Elpers 8 F St Jude",{"$nulls":7},false]
[33,"Jaun","Escibedo",8,"St Jude","M","Cadet","*","*33*",null,"Jaun Escibedo 8 M St Jude",{"$nulls":7},{"$f":"EXACT(A35,A36)","v":false}]
[34,"Jose ","Escobedo",3,"St Jude","M","34","*","*34*",null,"Jose  Escobedo 3 M St Jude",{"$nulls":7},false]
[35,"Rachel","Flick",8,"St Jude","F","Cadet","*","*35*",null,"Rachel Flick 8 F St Jude",{"$nulls":7},false]
[36,"Mickey","Flynn",4,"St Jude","M","34","*","*36*",null,"Mickey Flynn 4 M St Jude",{"$nulls":7},false]
[37,"Claire","Gallagher",8,"St Jude","F","Cadet","*","*37*",null,"Claire Gallagher 8 F St Jude",{"$nulls":7},false]
[38,"Jairo","Garcia",3,"St Jude","M","34","*","*38*",null,"Jairo Garcia 3 M St Jude",{"$nulls":7},false]
[39,"Addie ","Gates",5,"St Jude","F","56","*","*39*",null,"Addie  Gates 5 F St Jude",{"$nulls":7},false]
[40,"Alex","Gazpar",8,"St Jude","M","Cadet","*","*40*",null,"Alex Gazpar 8 M St Jude",{"$nulls":7},false]
[41,"Moises","Gazpar",5,"St Jude","M","56","*","*41*",null,"Moises Gazpar 5 M St Jude",{"$nulls":7},false]
[42,"Owen","Geiger",4,"St Jude","M","34","*","*42*",null,"Owen Geiger 4 M St Jude",{"$nulls":7},false]
[43,"Eli","Goers",8,"St Jude","M","Cadet","*","*43*",null,"Eli Goers 8 M St Jude",{"$nulls":7},false]
[44,"Fabrizio","Gomez",8,"St Jude","M","Cadet","*","*44*",null,"Fabrizio Gomez 8 M St Jude",{"$nulls":7},false]
[45,"Sophia ","Grabczak",4,"St Jude","F","34","*","*45*",null,"Sophia  Grabczak 4 F St Jude",{"$nulls":7},false]
[46,"Cesar","Green",6,"St Jude","M","56","*","*46*",null,"Cesar Green 6 M St Jude",{"$nulls":7},false]
[47,"Kindley","Gridley",4,"St Jude","F","34","*","*47*",null,"Kindley Gridley 4 F St Jude",{"$nulls":7},false]
[48,"Andrea","Guerrero",4,"St Jude","F","34","*","*48*",null,"Andrea Guerrero 4 F St Jude",{"$nulls":7},false]
[49,"Evan","Hahn",3,"St Jude","M","34","*","*49*",null,"Evan Hahn 3 M St Jude",{"$nulls":7},false]
[50,"Shelby ","Hale",7,"St Jude","F","Cadet","*","*50*",null,"Shelby  Hale 7 F St Jude",{"$nulls":7},false]
[51,"Annabelle","Hawk",6,"St Jude","F","56","*","*51*",null,"Annabelle Hawk 6 F St Jude",{"$nulls":7},false]
[52,"Maryanna","Houser",5,"St Jude","F","56","*","*52*",null,"Maryanna Houser 5 F St Jude",{"$nulls":7},false]
[53,"Robert","Houser",8,"St Jude","M","Cadet","*","*53*",null,"Robert Houser 8 M St Jude"," ",{"$nulls":6},false]
[54,"Wilson","Hoyer",4,"St Jude","M","34","*","*54*",null,"Wilson Hoyer 4 M St Jude",{"$nulls":7},false]
[55,"Nathan","Huber",5,"St Jude","M","56","*","*55*",null,"Nathan Huber 5 M St Jude",{"$nulls":7},false]
[56,"Isaac","Hurrle",7,"St Jude","M","Cadet","*","*56*",null,"Isaac Hurrle 7 M St Jude",{"$nulls":7},false]
[57,"Lucy ","Jackson",5,"St Jude","F","56","*","*57*",null,"Lucy  Jackson 5 F St Jude",{"$nulls":7},false]
[58,"Jacob","Johnson",8,"St Jude","M","Cadet","*","*58*",null,"Jacob Johnson 8 M St Jude",{"$nulls":7},false]
[59,"Ben ","Kauffman",7,"St Jude","M","Cadet","*","*59*",null,"Ben  Kauffman 7 M St Jude",{"$nulls":7},false]
[60,"Tyler","Kedra",5,"St Jude","M","56","*","*60*",null,"Tyler Kedra 5 M St Jude",{"$nulls":7},false]
[61,"Aedyn","Kingston",7,"St Jude","M","Cadet","*","*61*",null,"Aedyn Kingston 7 M St Jude",{"$nulls":7},false]
[62,"Kyra","Kingston",6,"St Jude","F","56","*","*62*",null,"Kyra Kingston 6 F St Jude",{"$nulls":7},false]
[63,"Caleb","Kitchens",4,"St Jude","M","34","*","*63*",null,"Caleb Kitchens 4 M St Jude",{"$nulls":7},false]
[64,"Katelyn","Kitchens",3,"St Jude","F","34","*","*64*",null,"Katelyn Kitchens 3 F St Jude",{"$nulls":7},{"$f":"EXACT(A66,#REF!)","v":{"$error":"#REF!"}}]
[65,"Madelyn","Kitchens",7,"St Jude","F","Cadet","*",{"$f":"CONCATENATE(H67,A67,H67)","v":"*65*"},null,{"$f":"CONCATENATE(B67,\" \",C67,\" \",D67,\" \",F67,\" \",E67)","v":"Madelyn Kitchens 7 F St Jude"},{"$nulls":7},{"$f":"EXACT(#REF!,#REF!)","v":{"$error":"#REF!"}}]
[66,"Charlie","Kocher",3,"St Jude","M",{"$f":"IF(D68=8,\"Cadet\",IF(D68=7,\"Cadet\",IF(D68=6,\"56\",IF(D68=5,\"56\",IF(D68=4,\"34\",IF(D68=3,\"34\",\"No Group\"))))))","v":"34"},"*","*66*",null,"Charlie Kocher 3 M St Jude",{"$nulls":7},{"$f":"EXACT(#REF!,#REF!)","v":{"$error":"#REF!"}}]
[67,"Mac","Kramer",3,"St Jude","M","34","*","*67*",null,"Mac Kramer 3 M St Jude",{"$nulls":7},{"$f":"EXACT(#REF!,#REF!)","v":{"$error":"#REF!"}}]
[68,"Maric","Kramer",5,"St Jude","F","56","*","*68*",null,"Maric Kramer 5 F St Jude",{"$nulls":7},{"$f":"EXACT(#REF!,#REF!)","v":{"$error":"#REF!"}}]
[69,"Isaac","Lara",3,"St Jude","M","34","*","*69*",null,"Isaac Lara 3 M St Jude",{"$nulls":7},{"$f":"EXACT(#REF!,#REF!)","v":{"$error":"#REF!"}}]
[70,"Baylie ","Lauck",7,"St Jude","F","Cadet","*","*70*",null,"Baylie  Lauck 7 F St Jude",{"$nulls":7},{"$f":"EXACT(#REF!,#REF!)","v":{"$error":"#REF!"}}]
[71,"Maddie ","Lauck",6,"St Jude","F","56","*","*71*",null,"Maddie  Lauck 6 F St Jude",{"$nulls":7},{"$f":"EXACT(#REF!,#REF!)","v":{"$error":"#REF!"}}]
[72,"Xavier","Lawrie",7,"St Jude","M","Cadet","*","*72*",null,"Xavier Lawrie 7 M St Jude",{"$nulls":7},{"$f":"EXACT(#REF!,#REF!)","v":{"$error":"#REF!"}}]
[73,"Bridget","Lehner",5,"St Jude","F","56","*","*73*",null,"Bridget Lehner 5 F St Jude",{"$nulls":7},{"$f":"EXACT(#REF!,#REF!)","v":{"$error":"#REF!"}}]
[74,"Megan","Lehner",6,"St Jude","F","56","*","*74*",null,"Megan Lehner 6 F St Jude",{"$nulls":7},{"$f":"EXACT(#REF!,#REF!)","v":{"$error":"#REF!"}}]
[75,"J R","Link",6,"St Jude","M","56","*","*75*",null,"J R Link 6 M St Jude",{"$nulls":7},{"$f":"EXACT(#REF!,#REF!)","v":{"$error":"#REF!"}}]
[76,"Brayan","Lopez",8,"St Jude","M","Cadet","*","*76*",null,"Brayan Lopez 8 M St Jude",{"$nulls":7},{"$f":"EXACT(#REF!,#REF!)","v":{"$error":"#REF!"}}]
[77,"Adrian","Maldonado",3,"St Jude","M","34","*","*77*",null,"Adrian Maldonado 3 M St Jude",{"$nulls":7},{"$f":"EXACT(#REF!,#REF!)","v":{"$error":"#REF!"}}]
[78,"Alex","Maled",7,"St Jude","M","Cadet","*","*78*",null,"Alex Maled 7 M St Jude",{"$nulls":7},{"$f":"EXACT(#REF!,#REF!)","v":{"$error":"#REF!"}}]
[79,"Isaac","Mappes",4,"St Jude","M","34","*","*79*",null,"Isaac Mappes 4 M St Jude",{"$nulls":7},{"$f":"EXACT(#REF!,#REF!)","v":{"$error":"#REF!"}}]
[80,"Miriam","Mappes",7,"St Jude","F","Cadet","*","*80*",null,"Miriam Mappes 7 F St Jude",{"$nulls":7},{"$f":"EXACT(#REF!,#REF!)","v":{"$error":"#REF!"}}]
[81,"Anthony ","Marino",8,"St Jude","M","Cadet","*","*81*",null,"Anthony  Marino 8 M St Jude",{"$nulls":7},{"$f":"EXACT(#REF!,#REF!)","v":{"$error":"#REF!"}}]
[82,"Claire","May",7,"St Jude","F","Cadet","*","*82*",null,"Claire May 7 F St Jude",{"$nulls":7},{"$f":"EXACT(#REF!,#REF!)","v":{"$error":"#REF!"}}]
[83,"Jack ","May",4,"St Jude","M","34","*","*83*",null,"Jack  May 4 M St Jude",{"$nulls":7},{"$f":"EXACT(#REF!,#REF!)","v":{"$error":"#REF!"}}]
[84,"Will","May",8,"St Jude","M","Cadet","*","*84*",null,"Will May 8 M St Jude",{"$nulls":7},{"$f":"EXACT(#REF!,#REF!)","v":{"$error":"#REF!"}}]
[85,"Julia ","Mayer",3,"St Jude","F","34","*","*85*",null,"Julia  Mayer 3 F St Jude",{"$nulls":7},{"$f":"EXACT(#REF!,#REF!)","v":{"$error":"#REF!"}}]
[86,"Oliver","Mayer",3,"St Jude","M","34","*","*86*",null,"Oliver Mayer 3 M St Jude",{"$nulls":7},{"$f":"EXACT(#REF!,#REF!)","v":{"$error":"#REF!"}}]
[87,"Haley","McConnell",8,"St Jude","F","Cadet","*","*87*",null,"Haley McConnell 8 F St Jude",{"$nulls":7},{"$f":"EXACT(#REF!,#REF!)","v":{"$error":"#REF!"}}]
[88,"Andrew","McMichael",6,"St Jude","M","56","*","*88*",null,"Andrew McMichael 6 M St Jude",{"$nulls":7},{"$f":"EXACT(#REF!,#REF!)","v":{"$error":"#REF!"}}]
[89,"Brandon","Mejia-Herrera",8,"St Jude","M","Cadet","*","*89*",null,"Brandon Mejia-Herrera 8 M St Jude",{"$nulls":7},{"$f":"EXACT(#REF!,#REF!)","v":{"$error":"#REF!"}}]
[90,"Suri ","Mejia-Herrera",3,"St Jude","F","34","*","*90*",null,"Suri  Mejia-Herrera 3 F St Jude",{"$nulls":7},{"$f":"EXACT(#REF!,#REF!)","v":{"$error":"#REF!"}}]
[91,"T J","Michalak",6,"St Jude","M","56","*","*91*",null,"T J Michalak 6 M St Jude",{"$nulls":7},{"$f":"EXACT(#REF!,#REF!)","v":{"$error":"#REF!"}}]
[92,"Daniel","Monroy",3,"St Jude","M","34","*","*92*",null,"Daniel Monroy 3 M St Jude",{"$nulls":7},{"$f":"EXACT(#REF!,#REF!)","v":{"$error":"#REF!"}}]
[93,"Colleen","Moore",8,"St Jude","F","Cadet","*","*93*",null,"Colleen Moore 8 F St Jude",{"$nulls":7},{"$f":"EXACT(#REF!,#REF!)","v":{"$error":"#REF!"}}]
[94,"Lola","Morelli",5,"St Jude","F","56","*","*94*",null,"Lola Morelli 5 F St Jude",{"$nulls":7},{"$f":"EXACT(#REF!,#REF!)","v":{"$error":"#REF!"}}]
[95,"Perpetua","Morey",8,"St Jude","F","Cadet","*","*95*",null,"Perpetua Morey 8 F St Jude",{"$nulls":7},{"$f":"EXACT(#REF!,#REF!)","v":{"$error":"#REF!"}}]
[96,"Elizabeth","Nelson",8,"St Jude","F","Cadet","*","*96*",null,"Elizabeth Nelson 8 F St Jude",{"$nulls":7},{"$f":"EXACT(#REF!,#REF!)","v":{"$error":"#REF!"}}]
[97,"Evan","Nielsen",5,"St Jude","M","56","*","*97*",null,"Evan Nielsen 5 M St Jude",{"$nulls":7},{"$f":"EXACT(#REF!,#REF!)","v":{"$error":"#REF!"}}]
[98,"Kayden","Nordholt",4,"St Jude","M","34","*","*98*",null,"Kayden Nordholt 4 M St Jude",{"$nulls":7},{"$f":"EXACT(#REF!,#REF!)","v":{"$error":"#REF!"}}]
[99,"Lucas","Orrick",7,"St Jude","M","Cadet","*","*99*",null,"Lucas Orrick 7 M St Jude",{"$nulls":7},{"$f":"EXACT(#REF!,#REF!)","v":{"$error":"#REF!"}}]
[100,"Penny ","Perkins",7,"St Jude","F","Cadet","*","*100*",null,"Penny  Perkins 7 F St Jude",{"$nulls":7},{"$f":"EXACT(#REF!,#REF!)","v":{"$error":"#REF!"}}]
[101,"Sammy","Perkins",4,"St Jude","M","34","*","*101*",null,"Sammy Perkins 4 M St Jude",{"$nulls":7},{"$f":"EXACT(#REF!,#REF!)","v":{"$error":"#REF!"}}]
[102,"Addie ","Phillips",7,"St Jude","F","Cadet","*","*102*",null,"Addie  Phillips 7 F St Jude",{"$nulls":7},{"$f":"EXACT(#REF!,#REF!)","v":{"$error":"#REF!"}}]
[103,"Nora","Phillips",5,"St Jude","F","56","*","*103*",null,"Nora Phillips 5 F St Jude",{"$nulls":7},{"$f":"EXACT(#REF!,#REF!)","v":{"$error":"#REF!"}}]
[104,"Alex","Plahitko",8,"St Jude","M","Cadet","*","*104*",null,{"$f":"CONCATENATE(B106,\" \",C106,\" \",D106,\" \",F106,\" \",E106)","v":"Alex Plahitko 8 M St Jude"},{"$nulls":7},{"$f":"EXACT(#REF!,#REF!)","v":{"$error":"#REF!"}}]
[105,"Rocio","Ramirez-Vera",8,"St Jude","F","Cadet","*","*105*",null,"Rocio Ramirez-Vera 8 F St Jude",{"$nulls":7},{"$f":"EXACT(#REF!,#REF!)","v":{"$error":"#REF!"}}]
[106,"Emilia","Reutebuch",6,"St Jude","F","56","*","*106*",null,"Emilia Reutebuch 6 F St Jude",{"$nulls":7},{"$f":"EXACT(#REF!,#REF!)","v":{"$error":"#REF!"}}]
[107,"Jessy","Rico",8,"St Jude","M","Cadet","*","*107*",null,"Jessy Rico 8 M St Jude",{"$nulls":7},{"$f":"EXACT(#REF!,#REF!)","v":{"$error":"#REF!"}}]
[108,"Nate ","Russell",5,"St Jude","M","56","*","*108*",null,"Nate  Russell 5 M St Jude",{"$nulls":7},{"$f":"EXACT(#REF!,#REF!)","v":{"$error":"#REF!"}}]
[109,"Carrianne","Sabina",8,"St Jude","F","Cadet","*","*109*",null,"Carrianne Sabina 8 F St Jude",{"$nulls":7},{"$f":"EXACT(#REF!,#REF!)","v":{"$error":"#REF!"}}]
[110,"Emily","Salazar",8,"St Jude","F","Cadet","*","*110*",null,"Emily Salazar 8 F St Jude",{"$nulls":7},{"$f":"EXACT(#REF!,#REF!)","v":{"$error":"#REF!"}}]
[111,"Jose","Salazar",5,"St Jude","M","56","*","*111*",null,"Jose Salazar 5 M St Jude",{"$nulls":7},{"$f":"EXACT(#REF!,#REF!)","v":{"$error":"#REF!"}}]
[112,"Nathalia","Sanchez",8,"St Jude","F","Cadet","*","*112*",null,"Nathalia Sanchez 8 F St Jude",{"$nulls":7},{"$f":"EXACT(#REF!,#REF!)","v":{"$error":"#REF!"}}]
[113,"Marcus","Schneider",5,"St Jude","M","56","*","*113*",null,"Marcus Schneider 5 M St Jude",{"$nulls":7},{"$f":"EXACT(#REF!,#REF!)","v":{"$error":"#REF!"}}]
[null,"Sophie","Schneider",8,"St Jude","F","Cadet","*","**",null,"Sophie Schneider 8 F St Jude",{"$nulls":7},{"$f":"EXACT(#REF!,#REF!)","v":{"$error":"#REF!"}}]
[115,"Peyton","Schnitzmeyer",8,"St Jude","M","Cadet","*","*115*",null,"Peyton Schnitzmeyer 8 M St Jude",{"$nulls":7},{"$f":"EXACT(#REF!,#REF!)","v":{"$error":"#REF!"}}]
[116,"Aleigha","Schoettle",5,"St Jude","F","56","*","*116*",null,"Aleigha Schoettle 5 F St Jude",{"$nulls":7},{"$f":"EXACT(#REF!,#REF!)","v":{"$error":"#REF!"}}]
[117,"Darrian","Schoettle",7,"St Jude","M","Cadet","*","*117*",null,"Darrian Schoettle 7 M St Jude",{"$nulls":7},{"$f":"EXACT(#REF!,#REF!)","v":{"$error":"#REF!"}}]
[118,"Lauren","Schweers",7,"St Jude","F","Cadet","*","*118*",null,"Lauren Schweers 7 F St Jude",{"$nulls":7},{"$f":"EXACT(#REF!,#REF!)","v":{"$error":"#REF!"}}]
[119,"Brooklyn ","Seibert",7,"St Jude","F","Cadet","*","*119*",null,"Brooklyn  Seibert 7 F St Jude",{"$nulls":7},{"$f":"EXACT(#REF!,#REF!)","v":{"$error":"#REF!"}}]
[120,"Taylor ","Seibert",4,"St Jude","F","34","*","*120*",null,"Taylor  Seibert 4 F St Jude",{"$nulls":7},{"$f":"EXACT(#REF!,#REF!)","v":{"$error":"#REF!"}}]
[121,"Judd","Selke",8,"St Jude","M","Cadet","*","*121*",null,"Judd Selke 8 M St Jude",{"$nulls":7},{"$f":"EXACT(#REF!,#REF!)","v":{"$error":"#REF!"}}]
[122,"Dominic","Smith",3,"St Jude","M","34","*","*122*",null,"Dominic Smith 3 M St Jude",{"$nulls":7},{"$f":"EXACT(#REF!,#REF!)","v":{"$error":"#REF!"}}]
[123,"Nora","Smith",5,"St Jude","F","56","*","*123*",null,"Nora Smith 5 F St Jude",{"$nulls":7},{"$f":"EXACT(#REF!,#REF!)","v":{"$error":"#REF!"}}]
[124,"Guadalupe","Soberanes",7,"St Jude","F","Cadet","*","*124*",null,"Guadalupe Soberanes 7 F St Jude",{"$nulls":7},{"$f":"EXACT(#REF!,#REF!)","v":{"$error":"#REF!"}}]
[125,"Charlie","Spearing",7,"St Jude","M","Cadet","*","*125*",null,"Charlie Spearing 7 M St Jude",{"$nulls":7},{"$f":"EXACT(#REF!,#REF!)","v":{"$error":"#REF!"}}]
[126,"Rosanna","Spearing",5,"St Jude","F","56","*","*126*",null,"Rosanna Spearing 5 F St Jude",{"$nulls":7},{"$f":"EXACT(#REF!,#REF!)","v":{"$error":"#REF!"}}]
[127,"Thomas","Spearing",3,"St Jude","M","34","*","*127*",null,"Thomas Spearing 3 M St Jude",{"$nulls":7},{"$f":"EXACT(#REF!,A130)","v":{"$error":"#REF!"}}]
[128,"Fiersen","Steele",5,"St Jude","M","56","*","*128*",null,"Fiersen Steele 5 M St Jude",{"$nulls":7},{"$f":"EXACT(A130,A131)","v":false}]
[129,"Gabriel","Sulit",6,"St Jude","M","56","*",{"$f":"CONCATENATE(H131,A131,H131)","v":"*129*"},null,"Gabriel Sulit 6 M St Jude",{"$nulls":7},false]
[130,"Patrick","Tiernan",8,"St Jude","M",{"$f":"IF(D132=8,\"Cadet\",IF(D132=7,\"Cadet\",IF(D132=6,\"56\",IF(D132=5,\"56\",IF(D132=4,\"34\",IF(D132=3,\"34\",\"No Group\"))))))","v":"Cadet"},"*","*130*",null,"Patrick Tiernan 8 M St Jude",{"$nulls":7},false]
[131,"Brady","Tillar",7,"St Jude","M","Cadet","*","*131*",null,"Brady Tillar 7 M St Jude",{"$nulls":7},false]
[132,"Wren ","Tilson",4,"St Jude","F","34","*","*132*",null,"Wren  Tilson 4 F St Jude",{"$nulls":7},false]
[133,"Reagan","Turk",7,"St Jude","F","Cadet","*","*133*",null,{"$f":"CONCATENATE(B135,\" \",C135,\" \",D135,\" \",F135,\" \",E135)","v":"Reagan Turk 7 F St Jude"},{"$nulls":7},false]
[134,"Valerie","Turner",7,"St Jude","F","Cadet","*","*134*",null,"Valerie Turner 7 F St Jude",{"$nulls":7},false]
[135,"Max","Weliever",4,"St Jude","M","34","*","*135*",null,"Max Weliever 4 M St Jude",{"$nulls":7},false]
[136,"Alaina","Whiteley",6,"St Jude","F","56","*","*136*",null,"Alaina Whiteley 6 F St Jude",{"$nulls":7},false]
[137,"Elizabeth","Wilson",5,"St Jude","F","56","*","*137*",null,"Elizabeth Wilson 5 F St Jude",{"$nulls":7},false]
[138,"Josie ","Wilson",7,"St Jude","F","Cadet","*","*138*",null,"Josie  Wilson 7 F St Jude",{"$nulls":7},false]
[139,"Evan ","Wright",6,"St Jude","M","56","*","*139*",null,"Evan  Wright 6 M St Jude",{"$nulls":7},false]
[140,"Carmen","Yentura",4,"St Jude","F","34","*","*140*",null,"Carmen Yentura 4 F St Jude",{"$nulls":7},false]
[141,"Vaylen","Arnold",5,"OLG","M","56","*","*141*",null,"Vaylen Arnold 5 M OLG",{"$nulls":7},false]
[142,"Luis-Enrique","Corona",3,"OLG","M","34","*","*142*",null,"Luis-Enrique Corona 3 M OLG",{"$nulls":7},false]
[143,"Nick","Jackson",8,"OLG","M","Cadet","*","*143*",null,"Nick Jackson 8 M OLG",{"$nulls":7},false]
[144,"Corryn","Moster",4,"OLG","F","34","*","*144*",null,"Corryn Moster 4 F OLG",{"$nulls":7},false]
[145,"John","Seguin",6,"OLG","M","56","*","*145*",null,"John Seguin 6 M OLG",{"$nulls":7},false]
[146,"Max","Shank",4,"OLG","M","34","*","*146*",null,"Max Shank 4 M OLG",{"$nulls":7},false]
[147,"Evan","Stark",3,"OLG","M","34","*","*147*",null,"Evan Stark 3 M OLG",{"$nulls":7},false]
[148,"Evelynn","Vermillion",3,"OLG","F","34","*","*148*",null,"Evelynn Vermillion 3 F OLG",{"$nulls":7},false]
[149,"Isabelle","Vermillion",7,"OLG","F","Cadet","*","*149*",null,"Isabelle Vermillion 7 F OLG",{"$nulls":7},false]
[150,"Tyler","Allen",4,"SSFC","M","34","*","*150*",null,"Tyler Allen 4 M SSFC",{"$nulls":7},false]
[151,"Audie","Altherr",5,"SSFC","F","56","*","*151*",null,"Audie Altherr 5 F SSFC",{"$nulls":7},false]
[152,"Gabe","Argiris",6,"SSFC","M","56","*","*152*",null,"Gabe Argiris 6 M SSFC",{"$nulls":7},false]
[153,"Lilah","Argiris",5,"SSFC","F","56","*","*153*",null,"Lilah Argiris 5 F SSFC",{"$nulls":7},false]
[154,"Lucas","Back",4,"SSFC","M","34","*","*154*",null,"Lucas Back 4 M SSFC",{"$nulls":7},false]
[155,"Madalyn","Back",6,"SSFC","F","56","*","*155*",null,"Madalyn Back 6 F SSFC",{"$nulls":7},false]
[156,"Savannah","Beck",8,"SSFC","F","Cadet","*","*156*",null,"Savannah Beck 8 F SSFC",{"$nulls":7},false]
[157,"Parker","Cipich",4,"SSFC","M","34","*","*157*",null,"Parker Cipich 4 M SSFC",{"$nulls":7},false]
[158,"Jacob","Clark",4,"SSFC","M","34","*","*158*",null,"Jacob Clark 4 M SSFC",{"$nulls":7},false]
[159,"William","Clark",6,"SSFC","M","56","*","*159*",null,"William Clark 6 M SSFC",{"$nulls":7},false]
[160,"Jacob","Coppinger",6,"SSFC","M","56","*","*160*",null,"Jacob Coppinger 6 M SSFC",{"$nulls":7},false]
[161,"Lauren","Coppinger",8,"SSFC","F","Cadet","*","*161*",null,"Lauren Coppinger 8 F SSFC",{"$nulls":7},false]
[162,"Ava","Cox",6,"SSFC","F","56","*","*162*",null,"Ava Cox 6 F SSFC",{"$nulls":7},false]
[163,"Cameron","Cox",7,"SSFC","M","Cadet","*","*163*",null,"Cameron Cox 7 M SSFC",{"$nulls":7},false]
[164,"Tanner","Cox",7,"SSFC","M","Cadet","*","*164*",null,"Tanner Cox 7 M SSFC",{"$nulls":7},false]
[165,"Anthony ","Cuadros",7,"SSFC","M","Cadet","*","*165*",null,"Anthony  Cuadros 7 M SSFC",{"$nulls":7},false]
[166,"Matthew ","Cuadros",4,"SSFC","M","34","*","*166*",null,"Matthew  Cuadros 4 M SSFC",{"$nulls":7},false]
[167,"Evie","Eble",7,"SSFC","F","Cadet","*","*167*",null,"Evie Eble 7 F SSFC",{"$nulls":7},false]
[168,"Noel","Eble",6,"SSFC","F","56","*","*168*",null,"Noel Eble 6 F SSFC",{"$nulls":7},false]
[169,"Xavier","Eble",4,"SSFC","M","34","*","*169*",null,"Xavier Eble 4 M SSFC",{"$nulls":7},false]
[170,"Kalie","Garnel",8,"SSFC","F","Cadet","*","*170*",null,"Kalie Garnel 8 F SSFC",{"$nulls":7},false]
[171,"Ava","Giacobbe",3,"SSFC","F","34","*","*171*",null,"Ava Giacobbe 3 F SSFC",{"$nulls":7},false]
[172,"Alexa","Griffin",5,"SSFC","F","56","*","*172*",null,"Alexa Griffin 5 F SSFC",{"$nulls":7},false]
[173,"Alana","Hawkins",6,"SSFC","F","56","*","*173*",null,"Alana Hawkins 6 F SSFC",{"$nulls":7},false]
[174,"Isais","Hawkins",4,"SSFC","M","34","*","*174*",null,"Isais Hawkins 4 M SSFC",{"$nulls":7},false]
[175,"Alex","Hazard",4,"SSFC","M","34","*","*175*",null,"Alex Hazard 4 M SSFC",{"$nulls":7},false]
[176,"Charlie","Hazard",4,"SSFC","M","34","*","*176*",null,"Charlie Hazard 4 M SSFC",{"$nulls":7},false]
[177,"Zachary","Hellinga",6,"SSFC","M","56","*","*177*",null,"Zachary Hellinga 6 M SSFC",{"$nulls":7},false]
[178,"Bo","Huff",3,"SSFC","M","34","*","*178*",null,"Bo Huff 3 M SSFC",{"$nulls":7},false]
[179,"Cole","Huff",7,"SSFC","M","Cadet","*","*179*",null,"Cole Huff 7 M SSFC",{"$nulls":7},false]
[180,"Emma","Karns",5,"SSFC","F","56","*","*180*",null,"Emma Karns 5 F SSFC",{"$nulls":7},false]
[181,"Evelyn","Lewis",5,"SSFC","F","56","*","*181*",null,"Evelyn Lewis 5 F SSFC",{"$nulls":7},false]
[182,"Sophia","Lewis",8,"SSFC","F","Cadet","*","*182*",null,"Sophia Lewis 8 F SSFC",{"$nulls":7},false]
[183,"Logan","Linder",7,"SSFC","M","Cadet","*","*183*",null,"Logan Linder 7 M SSFC",{"$nulls":7},false]
[184,"Thomas","Mallers",6,"SSFC","M","56","*","*184*",null,"Thomas Mallers 6 M SSFC",{"$nulls":7},false]
[185,"Gretchen","Meisberger",6,"SSFC","F","56","*","*185*",null,"Gretchen Meisberger 6 F SSFC",{"$nulls":7},false]
[186,"Kiersten","Meisberger",8,"SSFC","F","Cadet","*","*186*",null,"Kiersten Meisberger 8 F SSFC",{"$nulls":7},false]
[187,"Parker","Meyers",4,"SSFC","M","34","*","*187*",null,"Parker Meyers 4 M SSFC",{"$nulls":7},false]
[188,"Ava","Nalley",3,"SSFC","F","34","*","*188*",null,"Ava Nalley 3 F SSFC",{"$nulls":7},false]
[189,"Peyton","Nalley",7,"SSFC","F","Cadet","*","*189*",null,"Peyton Nalley 7 F SSFC",{"$nulls":7},false]
[190,"Ellie","Neufelder",3,"SSFC","F","34","*","*190*",null,"Ellie Neufelder 3 F SSFC",{"$nulls":7},false]
[191,"Lillie","Neufelder",4,"SSFC","F","34","*","*191*",null,"Lillie Neufelder 4 F SSFC",{"$nulls":7},false]
[192,"Sam","Rodgers",4,"SSFC","M","34","*","*192*",null,"Sam Rodgers 4 M SSFC",{"$nulls":7},{"$f":"EXACT(A194,A195)","v":false}]
[193,"Gabrielle","Sallee",4,"SSFC","F","34","*",{"$f":"CONCATENATE(H195,A195,H195)","v":"*193*"},null,"Gabrielle Sallee 4 F SSFC",{"$nulls":7},false]
[194,"Matthias","Sanchez",3,"SSFC","M",{"$f":"IF(D196=8,\"Cadet\",IF(D196=7,\"Cadet\",IF(D196=6,\"56\",IF(D196=5,\"56\",IF(D196=4,\"34\",IF(D196=3,\"34\",\"No Group\"))))))","v":"34"},"*","*194*",null,"Matthias Sanchez 3 M SSFC",{"$nulls":7},false]
[195,"Sebastian","Sanchez",4,"SSFC","M","34","*","*195*",null,"Sebastian Sanchez 4 M SSFC",{"$nulls":7},false]
[196,"Adalie","Schembra",3,"SSFC","F","34","*","*196*",null,"Adalie Schembra 3 F SSFC",{"$nulls":7},false]
[197,"Richie","Scheve",5,"SSFC","M","56","*","*197*",null,{"$f":"CONCATENATE(B199,\" \",C199,\" \",D199,\" \",F199,\" \",E199)","v":"Richie Scheve 5 M SSFC"},{"$nulls":7},false]
[198,"Luke","Senac",5,"SSFC","M","56","*","*198*",null,"Luke Senac 5 M SSFC",{"$nulls":7},false]
[199,"Avalin","Shirley",7,"SSFC","F","Cadet","*","*199*",null,"Avalin Shirley 7 F SSFC",{"$nulls":7},false]
[200,"Maggie","Shirley",4,"SSFC","F","34","*","*200*",null,"Maggie Shirley 4 F SSFC",{"$nulls":7},false]
[201,"Brayson","Thomas",4,"SSFC","M","34","*","*201*",null,"Brayson Thomas 4 M SSFC",{"$nulls":7},false]
[202,"Camden","Timberlake",7,"SSFC","F","Cadet","*","*202*",null,"Camden Timberlake 7 F SSFC",{"$nulls":7},false]
[203,"Elijah","Timberlake",7,"SSFC","M","Cadet","*","*203*",null,"Elijah Timberlake 7 M SSFC",{"$nulls":7},false]
[204,"Emma","Timberlake",6,"SSFC","F","56","*","*204*",null,"Emma Timberlake 6 F SSFC",{"$nulls":7},false]
[205,"Isaac","Timberlake",6,"SSFC","M","56","*","*205*",null,"Isaac Timberlake 6 M SSFC",{"$nulls":7},false]
[206,"Sophia","Timberlake",7,"SSFC","F","Cadet","*","*206*",null,"Sophia Timberlake 7 F SSFC",{"$nulls":7},false]
[207,"Megan","Trieste",5,"SSFC","F","56","*","*207*",null,"Megan Trieste 5 F SSFC",{"$nulls":7},false]
[208,"Hannah","Vander Luitgaren",3,"SSFC","F","34","*","*208*",null,"Hannah Vander Luitgaren 3 F SSFC",{"$nulls":7},false]
[209,"Olivia","Vander Luitgaren",3,"SSFC","F","34","*","*209*",null,"Olivia Vander Luitgaren 3 F SSFC",{"$nulls":7},false]
[210,"Sam","Vaught",8,"SSFC","M","Cadet","*","*210*",null,"Sam Vaught 8 M SSFC",{"$nulls":7},false]
[211,"Owen","Vincent",3,"SSFC","M","34","*","*211*",null,"Owen Vincent 3 M SSFC",{"$nulls":7},false]
[212,"John","Wagner",8,"SSFC","M","Cadet","*","*212*",null,"John Wagner 8 M SSFC",{"$nulls":7},false]
[213,"Jayden","Wojcik",8,"SSFC","F","Cadet","*","*213*",null,"Jayden Wojcik 8 F SSFC",{"$nulls":7},false]
[214,"Alex","Woodburn",3,"SSFC","M","34","*","*214*",null,"Alex Woodburn 3 M SSFC",{"$nulls":7},false]
[215,"Ashley","Woodburn",5,"SSFC","F","56","*","*215*",null,"Ashley Woodburn 5 F SSFC",{"$nulls":7},false]
[216,"Nicholas","Woodburn",7,"SSFC","M","Cadet","*","*216*",null,"Nicholas Woodburn 7 M SSFC",{"$nulls":7},false]
[217,"Ava","Young",7,"SSFC","F","Cadet","*","*217*",null,"Ava Young 7 F SSFC",{"$nulls":7},false]
[218,"Tucker","Young",5,"SSFC","M","56","*","*218*",null,"Tucker Young 5 M SSFC",{"$nulls":7},false]
[219,"Kane","Youngs",3,"SSFC","M","34","*","*219*",null,"Kane Youngs 3 M SSFC",{"$nulls":7},false]
[220,"Roman","Youngs",4,"SSFC","M","34","*","*220*",null,"Roman Youngs 4 M SSFC",{"$nulls":7},false]
[221,"Elly","Agresta",7,"United We Run","F","Cadet","*","*221*",null,"Elly Agresta 7 F United We Run",{"$nulls":7},false]
[222,"Jack","Andrews",6,"United We Run","M","56","*","*222*",null,"Jack Andrews 6 M United We Run",{"$nulls":7},false]
[223,"Brynn","Berry",3,"United We Run","F","34","*","*223*",null,"Brynn Berry 3 F United We Run",{"$nulls":7},false]
[224,"Clare","Bohacik",5,"United We Run","F","56","*","*224*",null,"Clare Bohacik 5 F United We Run",{"$nulls":7},false]
[225,"Caleb","Brunson",4,"United We Run","M","34","*","*225*",null,"Caleb Brunson 4 M United We Run",{"$nulls":7},false]
[226,"Samantha","Cereceres",8,"United We Run","F","Cadet","*","*226*",null,"Samantha Cereceres 8 F United We Run",{"$nulls":7},false]
[227,"Keira","Chester",8,"United We Run","F","Cadet","*","*227*",null,"Keira Chester 8 F United We Run",{"$nulls":7},false]
[228,"Carson","Clark",5,"United We Run","M","56","*","*228*",null,"Carson Clark 5 M United We Run",{"$nulls":7},false]
[229,"Leah","Clark",6,"United We Run","F","56","*","*229*",null,"Leah Clark 6 F United We Run",{"$nulls":7},false]
[230,"Mason","Conway",4,"United We Run","M","34","*","*230*",null,"Mason Conway 4 M United We Run",{"$nulls":7},false]
[231,"Reed","Cromwell",4,"United We Run","M","34","*","*231*",null,"Reed Cromwell 4 M United We Run",{"$nulls":7},false]
[232,"Joe","Egan",6,"United We Run","M","56","*","*232*",null,"Joe Egan 6 M United We Run",{"$nulls":7},false]
[233,"Joel","Elrod",4,"United We Run","M","34","*","*233*",null,"Joel Elrod 4 M United We Run",{"$nulls":7},false]
[234,"Becca","Engel",7,"United We Run","F","Cadet","*","*234*",null,"Becca Engel 7 F United We Run",{"$nulls":7},false]
[235,"Hailey","Engel",6,"United We Run","F","56","*","*235*",null,"Hailey Engel 6 F United We Run",{"$nulls":7},false]
[236,"Hannah","Ervin",3,"United We Run","F","34","*","*236*",null,"Hannah Ervin 3 F United We Run",{"$nulls":7},false]
[237,"Jake","Gaskill",6,"United We Run","M","56","*","*237*",null,"Jake Gaskill 6 M United We Run",{"$nulls":7},false]
[238,"Sara","Geier",8,"United We Run","F","Cadet","*","*238*",null,"Sara Geier 8 F United We Run",{"$nulls":7},false]
[239,"Anthony","Ianni",8,"United We Run","M","Cadet","*","*239*",null,"Anthony Ianni 8 M United We Run",{"$nulls":7},false]
[240,"Alexander","Jarvis",6,"United We Run","M","56","*","*240*",null,"Alexander Jarvis 6 M United We Run",{"$nulls":7},false]
[241,"Ella","Johnson",4,"United We Run","F","34","*","*241*",null,"Ella Johnson 4 F United We Run",{"$nulls":7},false]
[242,"Alexis","Kabat",5,"United We Run","F","56","*","*242*",null,"Alexis Kabat 5 F United We Run",{"$nulls":7},false]
[243,"Peyton","Kocher",6,"United We Run","F","56","*","*243*",null,"Peyton Kocher 6 F United We Run",{"$nulls":7},false]
[244,"Ava","Kress",6,"United We Run","F","56","*","*244*",null,"Ava Kress 6 F United We Run",{"$nulls":7},false]
[245,"Isaiah","Littell",7,"United We Run","M","Cadet","*","*245*",null,"Isaiah Littell 7 M United We Run",{"$nulls":7},false]
[246,"Nicholas","Martin",8,"United We Run","M","Cadet","*","*246*",null,"Nicholas Martin 8 M United We Run",{"$nulls":7},false]
[247,"Oliver","McClellan",4,"United We Run","M","34","*","*247*",null,"Oliver McClellan 4 M United We Run",{"$nulls":7},false]
[248,"Aidan","McGuire",4,"United We Run","M","34","*","*248*",null,"Aidan McGuire 4 M United We Run",{"$nulls":7},false]
[249,"Griffin","McGuire",4,"United We Run","M","34","*","*249*",null,"Griffin McGuire 4 M United We Run",{"$nulls":7},false]
[250,"Vitya","McGuire",7,"United We Run","M","Cadet","*","*250*",null,"Vitya McGuire 7 M United We Run",{"$nulls":7},false]
[251,"Molly","Mockaitis",7,"United We Run","F","Cadet","*","*251*",null,"Molly Mockaitis 7 F United We Run",{"$nulls":7},false]
[252,"Max","Murphy",4,"United We Run","M","34","*","*252*",null,"Max Murphy 4 M United We Run",{"$nulls":7},false]
[253,"Dayne","Odum",4,"United We Run","M","34","*","*253*",null,"Dayne Odum 4 M United We Run",{"$nulls":7},false]
[254,"Jonah","Odum",6,"United We Run","M","56","*","*254*",null,"Jonah Odum 6 M United We Run",{"$nulls":7},false]
[255,"Ava","Price",5,"United We Run","F","56","*","*255*",null,"Ava Price 5 F United We Run",{"$nulls":7},false]
[256,"Gabrielle","Price",8,"United We Run","F","Cadet","*","*256*",null,"Gabrielle Price 8 F United We Run",{"$nulls":7},{"$f":"EXACT(A258,A259)","v":false}]
[257,"Ella","Quinlin",4,"United We Run","F","34","*",{"$f":"CONCATENATE(H259,A259,H259)","v":"*257*"},null,"Ella Quinlin 4 F United We Run",{"$nulls":7},false]
[258,"Jacob","Ready",6,"United We Run","M",{"$f":"IF(D260=8,\"Cadet\",IF(D260=7,\"Cadet\",IF(D260=6,\"56\",IF(D260=5,\"56\",IF(D260=4,\"34\",IF(D260=3,\"34\",\"No Group\"))))))","v":"56"},"*","*258*",null,"Jacob Ready 6 M United We Run",{"$nulls":7},false]
[259,"Alexandra","Richardson",7,"United We Run","F","Cadet","*","*259*",null,"Alexandra Richardson 7 F United We Run",{"$nulls":7},false]
[260,"Joel","Riedeman",4,"United We Run","M","34","*","*260*",null,"Joel Riedeman 4 M United We Run",{"$nulls":7},false]
[261,"Elianna","Schornak",5,"United We Run","F","56","*","*261*",null,{"$f":"CONCATENATE(B263,\" \",C263,\" \",D263,\" \",F263,\" \",E263)","v":"Elianna Schornak 5 F United We Run"},{"$nulls":7},false]
[262,"Teddy","Schott",4,"United We Run","M","34","*","*262*",null,"Teddy Schott 4 M United We Run",{"$nulls":7},false]
[263,"William","Schott",3,"United We Run","M","34","*","*263*",null,"William Schott 3 M United We Run",{"$nulls":7},false]
[264,"Maggie","Smith",8,"United We Run","F","Cadet","*","*264*",null,"Maggie Smith 8 F United We Run",{"$nulls":7},false]
[265,"Sam","Smith",6,"United We Run","M","56","*","*265*",null,"Sam Smith 6 M United We Run",{"$nulls":7},false]
[266,"Xander","Smith",7,"United We Run","M","Cadet","*","*266*",null,"Xander Smith 7 M United We Run",{"$nulls":7},false]
[267,"Lee","Stepp",4,"United We Run","M","34","*","*267*",null,"Lee Stepp 4 M United We Run",{"$nulls":7},false]
[268,"Matthew","Stevens",5,"United We Run","M","56","*","*268*",null,"Matthew Stevens 5 M United We Run",{"$nulls":7},false]
[269,"Nate","Vilches",4,"United We Run","M","34","*","*269*",null,"Nate Vilches 4 M United We Run",{"$nulls":7},false]
[270,"Anna","Wilson",6,"United We Run","F","56","*","*270*",null,"Anna Wilson 6 F United We Run",{"$nulls":7},false]
[271,"Nora","Wlodarczyk",6,"United We Run","F","56","*","*271*",null,"Nora Wlodarczyk 6 F United We Run",{"$nulls":7},false]
[272,"Isabella","Andrews",5,"St. Barnabas","F","56","*","*272*",null,"Isabella Andrews 5 F St. Barnabas",{"$nulls":7},false]
[273,"Olivia","Andrews",4,"St. Barnabas","F","34","*","*273*",null,"Olivia Andrews 4 F St. Barnabas",{"$nulls":7},false]
[274,"Brady","Beaupre",7,"St. Barnabas","M","Cadet","*","*274*",null,"Brady Beaupre 7 M St. Barnabas",{"$nulls":7},false]
[275,"Lauren","Bender",8,"St. Barnabas","F","Cadet","*","*275*",null,"Lauren Bender 8 F St. Barnabas",{"$nulls":7},false]
[276,"Lee","Cooper",4,"St. Barnabas","M","34","*","*276*",null,"Lee Cooper 4 M St. Barnabas",{"$nulls":7},false]
[277,"Caroline","Crews",7,"St. Barnabas","F","Cadet","*","*277*",null,"Caroline Crews 7 F St. Barnabas",{"$nulls":7},false]
[278,"Savannah","Duhammel",5,"St. Barnabas","F","56","*","*278*",null,"Savannah Duhammel 5 F St. Barnabas",{"$nulls":7},false]
[279,"Jeremiah","Evans",4,"St. Barnabas","M","34","*","*279*",null,"Jeremiah Evans 4 M St. Barnabas",{"$nulls":7},false]
[280,"Casey","Horton",7,"St. Barnabas","M","Cadet","*","*280*",null,"Casey Horton 7 M St. Barnabas",{"$nulls":7},false]
[281,"Stella","Kessenich",4,"St. Barnabas","F","34","*","*281*",null,"Stella Kessenich 4 F St. Barnabas",{"$nulls":7},false]
[282,"Liam","Kidwell",7,"St. Barnabas","M","Cadet","*","*282*",null,"Liam Kidwell 7 M St. Barnabas",{"$nulls":7},false]
[283,"Alexis ","Koleszar",6,"St. Barnabas","F","56","*","*283*",null,"Alexis  Koleszar 6 F St. Barnabas",{"$nulls":7},false]
[284,"Lauren","Koleszar",6,"St. Barnabas","F","56","*","*284*",null,"Lauren Koleszar 6 F St. Barnabas",{"$nulls":7},false]
[285,"Drake","Lally",4,"St. Barnabas","M","34","*","*285*",null,"Drake Lally 4 M St. Barnabas",{"$nulls":7},false]
[286,"Carter","Lanahan",4,"St. Barnabas","M","34","*","*286*",null,"Carter Lanahan 4 M St. Barnabas",{"$nulls":7},false]
[287,"Ray","Matis",4,"St. Barnabas","M","34","*","*287*",null,"Ray Matis 4 M St. Barnabas",{"$nulls":7},false]
[288,"Elizabeth","McCoy",8,"St. Barnabas","F","Cadet","*","*288*",null,"Elizabeth McCoy 8 F St. Barnabas",{"$nulls":7},false]
[289,"Joseph","McCoy",6,"St. Barnabas","M","56","*","*289*",null,"Joseph McCoy 6 M St. Barnabas",{"$nulls":7},false]
[290,"Nick","McCoy",5,"St. Barnabas","M","56","*","*290*",null,"Nick McCoy 5 M St. Barnabas",{"$nulls":7},false]
[291,"Claire","Meinerding",7,"St. Barnabas","F","Cadet","*","*291*",null,"Claire Meinerding 7 F St. Barnabas",{"$nulls":7},false]
[292,"Rylie","Meyer",4,"St. Barnabas","F","34","*","*292*",null,"Rylie Meyer 4 F St. Barnabas",{"$nulls":7},false]
[293,"Eva","Miller",5,"St. Barnabas","F","56","*","*293*",null,"Eva Miller 5 F St. Barnabas",{"$nulls":7},false]
[294,"Quentin","Miller",3,"St. Barnabas","M","34","*","*294*",null,"Quentin Miller 3 M St. Barnabas",{"$nulls":7},false]
[295,"Emma","Mize",3,"St. Barnabas","F","34","*","*295*",null,"Emma Mize 3 F St. Barnabas",{"$nulls":7},false]
[296,"Tessa","Mize",6,"St. Barnabas","F","56","*","*296*",null,"Tessa Mize 6 F St. Barnabas",{"$nulls":7},false]
[297,"Evan","Moore",4,"St. Barnabas","M","34","*","*297*",null,"Evan Moore 4 M St. Barnabas",{"$nulls":7},false]
[298,"AJ","Morris",7,"St. Barnabas","M","Cadet","*","*298*",null,"AJ Morris 7 M St. Barnabas",{"$nulls":7},false]
[299,"Amaya","Ripperger",4,"St. Barnabas","F","34","*","*299*",null,"Amaya Ripperger 4 F St. Barnabas",{"$nulls":7},false]
[300,"Ava","Roell",7,"St. Barnabas","F","Cadet","*","*300*",null,"Ava Roell 7 F St. Barnabas",{"$nulls":7},false]
[301,"Jonah","Roell",5,"St. Barnabas","M","56","*","*301*",null,"Jonah Roell 5 M St. Barnabas",{"$nulls":7},false]
[302,"Marygrace","Rykowski",7,"St. Barnabas","F","Cadet","*","*302*",null,"Marygrace Rykowski 7 F St. Barnabas",{"$nulls":7},false]
[303,"Mason","Schnarr",6,"St. Barnabas","M","56","*","*303*",null,"Mason Schnarr 6 M St. Barnabas",{"$nulls":7},false]
[304,"Annie","Schoettle",6,"St. Barnabas","F","56","*","*304*",null,"Annie Schoettle 6 F St. Barnabas",{"$nulls":7},false]
[305,"Cecelia","Schoettle",6,"St. Barnabas","F","56","*","*305*",null,"Cecelia Schoettle 6 F St. Barnabas",{"$nulls":7},false]
[306,"Callie","Stephenson",4,"St. Barnabas","F","34","*","*306*",null,"Callie Stephenson 4 F St. Barnabas",{"$nulls":7},false]
[307,"Bawi","Thluai",4,"St. Barnabas","F","34","*","*307*",null,"Bawi Thluai 4 F St. Barnabas",{"$nulls":7},false]
[308,"Melanie","Tucker",3,"St. Barnabas","F","34","*","*308*",null,"Melanie Tucker 3 F St. Barnabas",{"$nulls":7},false]
[309,"Vince","Uberta",4,"St. Barnabas","M","34","*","*309*",null,"Vince Uberta 4 M St. Barnabas",{"$nulls":7},false]
[310,"Caroline","Wilson",4,"St. Barnabas","F","34","*","*310*",null,"Caroline Wilson 4 F St. Barnabas",{"$nulls":7},false]
[311,"Kristen","Wilson",3,"St. Barnabas","F","34","*","*311*",null,"Kristen Wilson 3 F St. Barnabas",{"$nulls":7},false]
[312,"Andrew","Woodruff",7,"St. Barnabas","M","Cadet","*","*312*",null,"Andrew Woodruff 7 M St. Barnabas",{"$nulls":7},false]
[313,"Benjamin","Woodruff",5,"St. Barnabas","M","56","*","*313*",null,"Benjamin Woodruff 5 M St. Barnabas",{"$nulls":7},false]
[314,{"$nulls":5},"No Group","*","*314*",null,"    ",{"$nulls":7},false]
[315,{"$nulls":5},"No Group","*","*315*",null,"    ",{"$nulls":7},false]
[316,{"$nulls":5},"No Group","*","*316*",null,"    ",{"$nulls":7},false]
[317,{"$nulls":5},"No Group","*","*317*",null,"    ",{"$nulls":7},false]
[318,{"$nulls":5},"No Group","*","*318*",null,"    ",{"$nulls":7},false]
[319,{"$nulls":5},"No Group","*","*319*",null,"    ",{"$nulls":7},false]
[320,{"$nulls":5},"No Group","*","*320*",null,"    ",{"$nulls":7},{"$f":"EXACT(A322,A323)","v":false}]
[321,{"$nulls":5},"No Group","*",{"$f":"CONCATENATE(H323,A323,H323)","v":"*321*"},null,"    ",{"$nulls":7},false]
[322,{"$nulls":5},{"$f":"IF(D324=8,\"Cadet\",IF(D324=7,\"Cadet\",IF(D324=6,\"56\",IF(D324=5,\"56\",IF(D324=4,\"34\",IF(D324=3,\"34\",\"No Group\"))))))","v":"No Group"},"*","*322*",null,"    ",{"$nulls":7},false]
[323,{"$nulls":5},"No Group","*","*323*",null,"    ",{"$nulls":7},false]
[324,{"$nulls":5},"No Group","*","*324*",null,"    ",{"$nulls":7},false]
[325,{"$nulls":5},"No Group","*","*325*",null,{"$f":"CONCATENATE(B327,\" \",C327,\" \",D327,\" \",F327,\" \",E327)","v":"    "},{"$nulls":7},false]
[326,{"$nulls":5},"No Group","*","*326*",null,"    ",{"$nulls":7},false]
[327,{"$nulls":5},"No Group","*","*327*",null,"    ",{"$nulls":7},false]
[328,{"$nulls":5},"No Group","*","*328*",null,"    ",{"$nulls":7},false]
[329,{"$nulls":5},"No Group","*","*329*",null,"    ",{"$nulls":7},false]
[330,{"$nulls":5},"No Group","*","*330*",null,"    ",{"$nulls":7},false]
[331,{"$nulls":5},"No Group","*","*331*",null,"    ",{"$nulls":7},false]
[332,{"$nulls":5},"No Group","*","*332*",null,"    ",{"$nulls":7},false]
[333,{"$nulls":5},"No Group","*","*333*",null,"    ",{"$nulls":7},false]
[334,{"$nulls":5},"No Group","*","*334*",null,"    ",{"$nulls":7},false]
[335,{"$nulls":5},"No Group","*","*335*",null,"    ",{"$nulls":7},false]
[336,{"$nulls":5},"No Group","*","*336*",null,"    ",{"$nulls":7},false]
[337,{"$nulls":5},"No Group","*","*337*",null,"    ",{"$nulls":7},false]
[338,{"$nulls":5},"No Group","*","*338*",null,"    ",{"$nulls":7},false]
[339,{"$nulls":5},"No Group","*","*339*",null,"    ",{"$nulls":7},false]
[340,{"$nulls":5},"No Group","*","*340*",null,"    ",{"$nulls":7},false]
[341,{"$nulls":5},"No Group","*","*341*",null,"    ",{"$nulls":7},false]
[342,{"$nulls":5},"No Group","*","*342*",null,"    ",{"$nulls":7},false]
[343,{"$nulls":5},"No Group","*","*343*",null,"    ",{"$nulls":7},false]
[344,{"$nulls":5},"No Group","*","*344*",null,"    ",{"$nulls":7},false]
[345,{"$nulls":5},"No Group","*","*345*",null,"    ",{"$nulls":7},false]
[346,{"$nulls":5},"No Group","*","*346*",null,"    ",{"$nulls":7},false]
[347,{"$nulls":5},"No Group","*","*347*",null,"    ",{"$nulls":7},false]
[348,{"$nulls":5},"No Group","*","*348*",null,"    ",{"$nulls":7},false]
[349,{"$nulls":5},"No Group","*","*349*",null,"    ",{"$nulls":7},false]
[350,{"$nulls":5},"No Group","*","*350*",null,"    ",{"$nulls":7},false]
[351,{"$nulls":5},"No Group","*","*351*",null,"    ",{"$nulls":7},false]
[352,{"$nulls":5},"No Group","*","*352*",null,"    ",{"$nulls":7},false]
[353,{"$nulls":5},"No Group","*","*353*",null,"    ",{"$nulls":7},false]
[354,{"$nulls":5},"No Group","*","*354*",null,"    ",{"$nulls":7},false]
[355,{"$nulls":5},"No Group","*","*355*",null,"    ",{"$nulls":7},false]
[356,{"$nulls":5},"No Group","*","*356*",null,"    ",{"$nulls":7},false]
[357,{"$nulls":5},"No Group","*","*357*",null,"    ",{"$nulls":7},false]
[358,{"$nulls":5},"No Group","*","*358*",null,"    ",{"$nulls":7},false]
[359,{"$nulls":5},"No Group","*","*359*",null,"    ",{"$nulls":7},false]
[360,{"$nulls":5},"No Group","*","*360*",null,"    ",{"$nulls":7},false]
[361,{"$nulls":5},"No Group","*","*361*",null,"    ",{"$nulls":7},false]
[362,{"$nulls":5},"No Group","*","*362*",null,"    ",{"$nulls":7},false]
[363,{"$nulls":5},"No Group","*","*363*",null,"    ",{"$nulls":7},false]
[364,{"$nulls":5},"No Group","*","*364*",null,"    ",{"$nulls":7},false]
[365,{"$nulls":5},"No Group","*","*365*",null,"    ",{"$nulls":7},false]
[366,{"$nulls":5},"No Group","*","*366*",null,"    ",{"$nulls":7},false]
[367,{"$nulls":5},"No Group","*","*367*",null,"    ",{"$nulls":7},false]
[368,{"$nulls":5},"No Group","*","*368*",null,"    ",{"$nulls":7},false]
[369,{"$nulls":5},"No Group","*","*369*",null,"    ",{"$nulls":7},false]
[370,{"$nulls":5},"No Group","*","*370*",null,"    ",{"$nulls":7},false]
[371,{"$nulls":5},"No Group","*","*371*",null,"    ",{"$nulls":7},false]
[372,{"$nulls":5},"No Group","*","*372*",null,"    ",{"$nulls":7},false]
[373,{"$nulls":5},"No Group","*","*373*",null,"    ",{"$nulls":7},false]
[374,{"$nulls":5},"No Group","*","*374*",null,"    ",{"$nulls":7},false]
[375,{"$nulls":5},"No Group","*","*375*",null,"    ",{"$nulls":7},false]
[376,{"$nulls":5},"No Group","*","*376*",null,"    ",{"$nulls":7},false]
[377,{"$nulls":5},"No Group","*","*377*",null,"    ",{"$nulls":7},false]
[378,{"$nulls":5},"No Group","*","*378*",null,"    ",{"$nulls":7},false]
[379,{"$nulls":5},"No Group","*","*379*",null,"    ",{"$nulls":7},false]
[380,{"$nulls":5},"No Group","*","*380*",null,"    ",{"$nulls":7},false]
[381,{"$nulls":5},"No Group","*","*381*",null,"    ",{"$nulls":7},false]
[382,{"$nulls":5},"No Group","*","*382*",null,"    ",{"$nulls":7},false]
[383,{"$nulls":5},"No Group","*","*383*",null,"    ",{"$nulls":7},false]
[384,{"$nulls":5},"No Group","*","*384*",null,"    ",{"$nulls":7},{"$f":"EXACT(A386,A387)","v":false}]
[385,{"$nulls":5},"No Group","*",{"$f":"CONCATENATE(H387,A387,H387)","v":"*385*"},null,"    ",{"$nulls":7},false]
[386,{"$nulls":5},{"$f":"IF(D388=8,\"Cadet\",IF(D388=7,\"Cadet\",IF(D388=6,\"56\",IF(D388=5,\"56\",IF(D388=4,\"34\",IF(D388=3,\"34\",\"No Group\"))))))","v":"No Group"},"*","*386*",null,"    ",{"$nulls":7},false]
[387,{"$nulls":5},"No Group","*","*387*",null,"    ",{"$nulls":7},false]
[388,{"$nulls":5},"No Group","*","*388*",null,"    ",{"$nulls":7},false]
[389,{"$nulls":5},"No Group","*","*389*",null,{"$f":"CONCATENATE(B391,\" \",C391,\" \",D391,\" \",F391,\" \",E391)","v":"    "},{"$nulls":7},false]
[390,{"$nulls":5},"No Group","*","*390*",null,"    ",{"$nulls":7},false]
[391,{"$nulls":5},"No Group","*","*391*",null,"    ",{"$nulls":7},false]
[392,{"$nulls":5},"No Group","*","*392*",null,"    ",{"$nulls":7},false]
[393,{"$nulls":5},"No Group","*","*393*",null,"    ",{"$nulls":7},false]
[394,{"$nulls":5},"No Group","*","*394*",null,"    ",{"$nulls":7},false]
[395,{"$nulls":5},"No Group","*","*395*",null,"    ",{"$nulls":7},false]
[396,{"$nulls":5},"No Group","*","*396*",null,"    ",{"$nulls":7},false]
[397,{"$nulls":5},"No Group","*","*397*",null,"    ",{"$nulls":7},false]
[398,{"$nulls":5},"No Group","*","*398*",null,"    ",{"$nulls":7},false]
[399,{"$nulls":5},"No Group","*","*399*",null,"    ",{"$nulls":7},false]
[400,{"$nulls":5},"No Group","*","*400*",null,"    ",{"$nulls":7},false]
[401,{"$nulls":5},"No Group","*","*401*",null,"    ",{"$nulls":7},false]
[402,{"$nulls":5},"No Group","*","*402*",null,"    ",{"$nulls":7},false]
[403,{"$nulls":5},"No Group","*","*403*",null,"    ",{"$nulls":7},false]
[404,{"$nulls":5},"No Group","*","*404*",null,"    ",{"$nulls":7},false]
[405,{"$nulls":5},"No Group","*","*405*",null,"    ",{"$nulls":7},false]
[406,{"$nulls":5},"No Group","*","*406*",null,"    ",{"$nulls":7},false]
[407,{"$nulls":5},"No Group","*","*407*",null,"    ",{"$nulls":7},false]
[408,{"$nulls":5},"No Group","*","*408*",null,"    ",{"$nulls":7},false]
[409,{"$nulls":5},"No Group","*","*409*",null,"    ",{"$nulls":7},false]
[410,{"$nulls":5},"No Group","*","*410*",null,"    ",{"$nulls":7},false]
[411,{"$nulls":5},"No Group","*","*411*",null,"    ",{"$nulls":7},false]
[412,{"$nulls":5},"No Group","*","*412*",null,"    ",{"$nulls":7},false]
[413,{"$nulls":5},"No Group","*","*413*",null,"    ",{"$nulls":7},false]
[414,{"$nulls":5},"No Group","*","*414*",null,"    ",{"$nulls":7},false]
[415,{"$nulls":5},"No Group","*","*415*",null,"    ",{"$nulls":7},false]
[416,{"$nulls":5},"No Group","*","*416*",null,"    ",{"$nulls":7},false]
[417,{"$nulls":5},"No Group","*","*417*",null,"    ",{"$nulls":7},false]
[418,{"$nulls":5},"No Group","*","*418*",null,"    ",{"$nulls":7},false]
[419,{"$nulls":5},"No Group","*","*419*",null,"    ",{"$nulls":7},false]
[420,{"$nulls":5},"No Group","*","*420*",null,"    ",{"$nulls":7},false]
[421,{"$nulls":5},"No Group","*","*421*",null,"    ",{"$nulls":7},false]
[422,{"$nulls":5},"No Group","*","*422*",null,"    ",{"$nulls":7},false]
[423,{"$nulls":5},"No Group","*","*423*",null,"    ",{"$nulls":7},false]
[424,{"$nulls":5},"No Group","*","*424*",null,"    ",{"$nulls":7},false]
[425,{"$nulls":5},"No Group","*","*425*",null,"    ",{"$nulls":7},false]
[426,{"$nulls":5},"No Group","*","*426*",null,"    ",{"$nulls":7},false]
[427,{"$nulls":5},"No Group","*","*427*",null,"    ",{"$nulls":7},{"$f":"EXACT(A429,#REF!)","v":{"$error":"#REF!"}}]
[428,{"$nulls":5},"No Group","*","*428*",null,"    ",{"$nulls":7},{"$f":"EXACT(A430,A431)","v":false}]
[429,{"$nulls":5},"No Group","*","*429*",null,"    ",{"$nulls":7},{"$f":"EXACT(A431,#REF!)","v":{"$error":"#REF!"}}]
[430,{"$nulls":5},"No Group","*","*430*",null,"    ",{"$nulls":7},{"$f":"EXACT(A432,A433)","v":false}]
[431,{"$nulls":5},"No Group","*","*431*",null,"    ",{"$nulls":7},false]
[432,{"$nulls":5},"No Group","*","*432*",null,"    ",{"$nulls":7},false]
[433,{"$nulls":5},"No Group","*","*433*",null,"    ",{"$nulls":7},false]
[434,{"$nulls":5},"No Group","*","*434*",null,"    ",{"$nulls":7},false]
[435,{"$nulls":5},"No Group","*","*435*",null,"    ",{"$nulls":7},false]
[436,{"$nulls":5},"No Group","*","*436*",null,"    ",{"$nulls":7},{"$f":"EXACT(A438,#REF!)","v":{"$error":"#REF!"}}]
[437,{"$nulls":5},"No Group","*","*437*",null,"    ",{"$nulls":7},{"$f":"EXACT(A439,A440)","v":false}]
[438,{"$nulls":5},"No Group","*","*438*",null,"    ",{"$nulls":7},false]
[439,{"$nulls":5},"No Group","*","*439*",null,"    ",{"$nulls":7},false]
[440,{"$nulls":5},"No Group","*","*440*",null,"    ",{"$nulls":7},false]
[441,{"$nulls":5},"No Group","*","*441*",null,"    ",{"$nulls":7},false]
[442,{"$nulls":5},"No Group","*","*442*",null,"    ",{"$nulls":7},false]
[443,{"$nulls":5},"No Group","*","*443*",null,"    ",{"$nulls":7},false]
[444,{"$nulls":5},"No Group","*","*444*",null,"    ",{"$nulls":7},false]
[445,{"$nulls":5},"No Group","*","*445*",null,"    ",{"$nulls":7},{"$f":"EXACT(A447,#REF!)","v":{"$error":"#REF!"}}]
[446,{"$nulls":5},"No Group","*","*446*",null,"    ",{"$nulls":7},{"$f":"EXACT(A448,A449)","v":false}]
[447,{"$nulls":5},"No Group","*","*447*",null,"    ",{"$nulls":7},{"$f":"EXACT(A449,A450)","v":false}]
[448,{"$nulls":5},"No Group","*","*448*",null,"    ",{"$nulls":7},{"$f":"EXACT(A450,A451)","v":false}]
[449,{"$nulls":5},"No Group","*",{"$f":"CONCATENATE(H451,A451,H451)","v":"*449*"},null,"    ",{"$nulls":7},{"$f":"EXACT(A451,#REF!)","v":{"$error":"#REF!"}}]
[450,{"$nulls":5},{"$f":"IF(D452=8,\"Cadet\",IF(D452=7,\"Cadet\",IF(D452=6,\"56\",IF(D452=5,\"56\",IF(D452=4,\"34\",IF(D452=3,\"34\",\"No Group\"))))))","v":"No Group"},"*","*450*",null,"    ",{"$nulls":7},{"$f":"EXACT(A452,A453)","v":false}]
[451,{"$nulls":5},"No Group","*","*451*",null,"    ",{"$nulls":7},{"$f":"EXACT(A453,A454)","v":false}]
[452,{"$nulls":5},"No Group","*","*452*",null,"    ",{"$nulls":7},{"$f":"EXACT(A454,A455)","v":false}]
[453,{"$nulls":5},"No Group","*","*453*",null,{"$f":"CONCATENATE(B455,\" \",C455,\" \",D455,\" \",F455,\" \",E455)","v":"    "},{"$nulls":7},{"$f":"EXACT(A455,A456)","v":false}]
[454,{"$nulls":5},"No Group","*","*454*",null,"    ",{"$nulls":7},{"$f":"EXACT(A456,A457)","v":false}]
[455,{"$nulls":5},"No Group","*","*455*",null,"    ",{"$nulls":7},{"$f":"EXACT(A457,#REF!)","v":{"$error":"#REF!"}}]
[456,{"$nulls":5},"No Group","*","*456*",null,"    ",{"$nulls":7},{"$f":"EXACT(A458,A459)","v":false}]
[457,{"$nulls":5},"No Group","*","*457*",null,"    ",{"$nulls":7},{"$f":"EXACT(A459,A460)","v":false}]
[458,{"$nulls":5},"No Group","*","*458*",null,"    ",{"$nulls":7},{"$f":"EXACT(A460,A461)","v":false}]
[459,{"$nulls":5},"No Group","*","*459*",null,"    ",{"$nulls":7},{"$f":"EXACT(A461,A462)","v":false}]
[460,{"$nulls":5},"No Group","*","*460*",null,"    ",{"$nulls":7},{"$f":"EXACT(A462,A463)","v":false}]
[461,{"$nulls":5},"No Group","*","*461*",null,"    ",{"$nulls":7},{"$f":"EXACT(A463,#REF!)","v":{"$error":"#REF!"}}]
[462,{"$nulls":5},"No Group","*","*462*",null,"    ",{"$nulls":7},{"$f":"EXACT(A464,A465)","v":false}]
[463,{"$nulls":5},"No Group","*","*463*",null,"    ",{"$nulls":7},false]
[464,{"$nulls":5},"No Group","*","*464*",null,"    ",{"$nulls":7},false]
[465,{"$nulls":5},"No Group","*","*465*",null,"    ",{"$nulls":7},false]
[466,{"$nulls":5},"No Group","*","*466*",null,"    ",{"$nulls":7},false]
[467,{"$nulls":5},"No Group","*","*467*",null,"    ",{"$nulls":7},false]
[468,{"$nulls":5},"No Group","*","*468*",null,"    ",{"$nulls":7},false]
[469,{"$nulls":5},"No Group","*","*469*",null,"    ",{"$nulls":7},false]
[470,{"$nulls":5},"No Group","*","*470*",null,"    ",{"$nulls":7},false]
[471,{"$nulls":5},"No Group","*","*471*",null,"    ",{"$nulls":7},false]
[472,{"$nulls":5},"No Group","*","*472*",null,"    ",{"$nulls":7},false]
[473,{"$nulls":5},"No Group","*","*473*",null,"    ",{"$nulls":7},false]
[474,{"$nulls":5},"No Group","*","*474*",null,"    ",{"$nulls":7},false]
[475,{"$nulls":5},"No Group","*","*475*",null,"    ",{"$nulls":7},false]
[476,{"$nulls":5},"No Group","*","*476*",null,"    ",{"$nulls":7},false]
[477,{"$nulls":5},"No Group","*","*477*",null,"    ",{"$nulls":7},false]
[478,{"$nulls":5},"No Group","*","*478*",null,"    ",{"$nulls":7},false]
[479,{"$nulls":5},"No Group","*","*479*",null,"    ",{"$nulls":7},false]
[480,{"$nulls":5},"No Group","*","*480*",null,"    ",{"$nulls":7},false]
[481,{"$nulls":5},"No Group","*","*481*",null,"    ",{"$nulls":7},false]
[482,{"$nulls":5},"No Group","*","*482*",null,"    ",{"$nulls":7},false]
[483,{"$nulls":5},"No Group","*","*483*",null,"    ",{"$nulls":7},false]
[484,{"$nulls":5},"No Group","*","*484*",null,"    ",{"$nulls":7},false]
[485,{"$nulls":5},"No Group","*","*485*",null,"    ",{"$nulls":7},false]
[486,{"$nulls":5},"No Group","*","*486*",null,"    ",{"$nulls":7},false]
[487,{"$nulls":5},"No Group","*","*487*",null,"    ",{"$nulls":7},false]
[488,{"$nulls":5},"No Group","*","*488*",null,"    ",{"$nulls":7},false]
[489,{"$nulls":5},"No Group","*","*489*",null,"    ",{"$nulls":7},false]
[490,{"$nulls":5},"No Group","*","*490*",null,"    ",{"$nulls":7},false]
[491,{"$nulls":5},"No Group","*","*491*",null,"    ",{"$nulls":7},false]
[492,{"$nulls":5},"No Group","*","*492*",null,"    ",{"$nulls":7},false]
[493,{"$nulls":5},"No Group","*","*493*",null,"    ",{"$nulls":7},false]
[494,{"$nulls":5},"No Group","*","*494*",null,"    ",{"$nulls":7},false]
[495,{"$nulls":5},"No Group","*","*495*",null,"    ",{"$nulls":7},false]
[496,{"$nulls":5},"No Group","*","*496*",null,"    ",{"$nulls":7},false]
[497,{"$nulls":5},"No Group","*","*497*",null,"    ",{"$nulls":7},false]
[498,{"$nulls":5},"No Group","*","*498*",null,"    ",{"$nulls":7},false]
[499,{"$nulls":5},"No Group","*","*499*",null,"    ",{"$nulls":7},false]
[500,{"$nulls":5},"No Group","*","*500*",null,"    ",{"$nulls":7},false]
[501,{"$nulls":5},"No Group","*","*501*",null,"    ",{"$nulls":7},false]
[502,{"$nulls":5},"No Group","*","*502*",null,"    ",{"$nulls":7},false]
[503,{"$nulls":5},"No Group","*","*503*",null,"    ",{"$nulls":7},false]
[504,{"$nulls":5},{"$f":"IF(D506=8,\"Cadet\",IF(D506=7,\"Cadet\",IF(D506=6,\"56\",IF(D506=5,\"56\",IF(D506=4,\"34\",IF(D506=3,\"34\",\"No Group\"))))))","v":"No Group"},"*","*504*",null,"    ",{"$nulls":7},false]
[505,{"$nulls":5},"No Group","*","*505*",null,"    ",{"$nulls":7},false]
[506,{"$nulls":5},"No Group","*","*506*",null,"    ",{"$nulls":7},false]
[507,{"$nulls":5},"No Group","*","*507*",null,"    ",{"$nulls":7},false]
[508,{"$nulls":5},"No Group","*","*508*",null,"    ",{"$nulls":7},false]
[509,{"$nulls":5},"No Group","*","*509*",null,"    ",{"$nulls":7},false]
[510,{"$nulls":5},"No Group","*","*510*",null,"    ",{"$nulls":7},false]
[511,{"$nulls":5},"No Group","*","*511*",null,"    ",{"$nulls":7},false]
[512,{"$nulls":5},"No Group","*","*512*",null,"    ",{"$nulls":7},false]
[513,{"$nulls":5},"No Group","*",{"$f":"CONCATENATE(H515,A515,H515)","v":"*513*"},null,"    ",{"$nulls":7},false]
[514,{"$nulls":5},{"$f":"IF(D516=8,\"Cadet\",IF(D516=7,\"Cadet\",IF(D516=6,\"56\",IF(D516=5,\"56\",IF(D516=4,\"34\",IF(D516=3,\"34\",\"No Group\"))))))","v":"No Group"},"*","*514*",null,"    ",{"$nulls":7},false]
[515,{"$nulls":5},"No Group","*","*515*",null,"    ",{"$nulls":7},false]
[516,{"$nulls":5},"No Group","*","*516*",null,"    ",{"$nulls":7},false]
[517,{"$nulls":5},"No Group","*","*517*",null,{"$f":"CONCATENATE(B519,\" \",C519,\" \",D519,\" \",F519,\" \",E519)","v":"    "},{"$nulls":7},false]
[518,{"$nulls":5},"No Group","*","*518*",null,"    ",{"$nulls":7},false]
[519,{"$nulls":5},"No Group","*","*519*",null,"    ",{"$nulls":7},false]
[520,{"$nulls":5},"No Group","*","*520*",null,"    ",{"$nulls":7},false]
[521,{"$nulls":5},"No Group","*","*521*",null,"    ",{"$nulls":7},false]
[522,{"$nulls":5},"No Group","*","*522*",null,"    ",{"$nulls":7},false]
[523,{"$nulls":5},"No Group","*","*523*",null,"    ",{"$nulls":7},false]
[524,{"$nulls":5},"No Group","*","*524*",null,"    ",{"$nulls":7},false]
[525,{"$nulls":5},"No Group","*","*525*",null,"    ",{"$nulls":7},false]
[526,{"$nulls":5},"No Group","*","*526*",null,"    ",{"$nulls":7},{"$f":"EXACT(A528,A529)","v":false}]
[527,{"$nulls":5},"No Group","*","*527*",null,"    ",{"$nulls":7},false]
[528,{"$nulls":5},"No Group","*","*528*",null,"    ",{"$nulls":7},false]
[529,{"$nulls":5},"No Group","*","*529*",null,"    ",{"$nulls":7},false]
[530,{"$nulls":5},"No Group","*","*530*",null,"    ",{"$nulls":7},false]
[531,{"$nulls":5},"No Group","*","*531*",null,"    ",{"$nulls":7},false]
[532,{"$nulls":5},"No Group","*","*532*",null,"    ",{"$nulls":7},false]
[533,{"$nulls":5},"No Group","*","*533*",null,"    ",{"$nulls":7},false]
[534,{"$nulls":5},"No Group","*","*534*",null,"    ",{"$nulls":7},false]
[535,{"$nulls":5},"No Group","*","*535*",null,"    ",{"$nulls":7},false]
[536,{"$nulls":5},"No Group","*","*536*",null,"    ",{"$nulls":7},false]
[537,{"$nulls":5},"No Group","*","*537*",null,"    ",{"$nulls":7},false]
[538,{"$nulls":5},"No Group","*","*538*",null,"    ",{"$nulls":7},false]
[539,{"$nulls":5},"No Group","*","*539*",null,"    ",{"$nulls":7},false]
[540,{"$nulls":5},"No Group","*","*540*",null,"    ",{"$nulls":7},false]
[541,{"$nulls":5},"No Group","*","*541*",null,"    ",{"$nulls":7},false]
[542,{"$nulls":5},"No Group","*","*542*",null,"    ",{"$nulls":7},false]
[543,{"$nulls":5},"No Group","*","*543*",null,"    ",{"$nulls":7},false]
[544,{"$nulls":5},"No Group","*","*544*",null,"    ",{"$nulls":7},false]
[545,{"$nulls":5},"No Group","*","*545*",null,"    ",{"$nulls":7},false]
[546,{"$nulls":5},"No Group","*","*546*",null,"    ",{"$nulls":7},false]
[547,{"$nulls":5},"No Group","*","*547*",null,"    ",{"$nulls":7},false]
[548,{"$nulls":5},"No Group","*","*548*",null,"    ",{"$nulls":7},false]
[549,{"$nulls":5},"No Group","*","*549*",null,"    ",{"$nulls":7},false]
[550,{"$nulls":5},"No Group","*","*550*",null,"    ",{"$nulls":7},false]
[551,{"$nulls":5},"No Group","*","*551*",null,"    ",{"$nulls":7},false]
[552,{"$nulls":5},"No Group","*","*552*",null,"    ",{"$nulls":7},false]
[553,{"$nulls":5},"No Group","*","*553*",null,"    ",{"$nulls":7},false]
[554,{"$nulls":5},"No Group","*","*554*",null,"    ",{"$nulls":7},false]
[555,{"$nulls":5},"No Group","*","*555*",null,"    ",{"$nulls":7},false]
[556,{"$nulls":5},"No Group","*","*556*",null,"    ",{"$nulls":7},false]
[557,{"$nulls":5},"No Group","*","*557*",null,"    ",{"$nulls":7},false]
[558,{"$nulls":5},"No Group","*","*558*",null,"    ",{"$nulls":7},false]
[559,{"$nulls":5},"No Group","*","*559*",null,"    ",{"$nulls":7},false]
[560,{"$nulls":5},"No Group","*","*560*",null,"    ",{"$nulls":7},false]
[561,{"$nulls":5},"No Group","*","*561*",null,"    ",{"$nulls":7},false]
[562,{"$nulls":5},"No Group","*","*562*",null,"    ",{"$nulls":7},false]
[563,{"$nulls":5},"No Group","*","*563*",null,"    ",{"$nulls":7},false]
[564,{"$nulls":5},"No Group","*","*564*",null,"    ",{"$nulls":7},false]
[565,{"$nulls":5},"No Group","*","*565*",null,"    ",{"$nulls":7},false]
[566,{"$nulls":5},"No Group","*","*566*",null,"    ",{"$nulls":7},false]
[567,{"$nulls":5},"No Group","*","*567*",null,"    ",{"$nulls":7},false]
[568,{"$nulls":5},"No Group","*","*568*",null,"    ",{"$nulls":7},false]
[569,{"$nulls":5},"No Group","*","*569*",null,"    ",{"$nulls":7},false]
[570,{"$nulls":5},"No Group","*","*570*",null,"    ",{"$nulls":7},false]
[571,{"$nulls":5},"No Group","*","*571*",null,"    ",{"$nulls":7},false]
[572,{"$nulls":5},"No Group","*","*572*",null,"    ",{"$nulls":7},false]
[573,{"$nulls":5},"No Group","*","*573*",null,"    ",{"$nulls":7},false]
[574,{"$nulls":5},"No Group","*","*574*",null,"    ",{"$nulls":7},false]
[575,{"$nulls":5},"No Group","*","*575*",null,"    ",{"$nulls":7},false]
[576,{"$nulls":5},"No Group","*","*576*",null,"    ",{"$nulls":7},false]
[577,{"$nulls":5},"No Group","*",{"$f":"CONCATENATE(H579,A579,H579)","v":"*577*"},null,"    ",{"$nulls":7},false]
[578,{"$nulls":5},{"$f":"IF(D580=8,\"Cadet\",IF(D580=7,\"Cadet\",IF(D580=6,\"56\",IF(D580=5,\"56\",IF(D580=4,\"34\",IF(D580=3,\"34\",\"No Group\"))))))","v":"No Group"},"*","*578*",null,"    ",{"$nulls":7},false]
[579,{"$nulls":5},"No Group","*","*579*",null,"    ",{"$nulls":7},false]
[580,{"$nulls":5},"No Group","*","*580*",null,"    ",{"$nulls":7},false]
[581,{"$nulls":5},"No Group","*","*581*",null,{"$f":"CONCATENATE(B583,\" \",C583,\" \",D583,\" \",F583,\" \",E583)","v":"    "},{"$nulls":7},false]
[582,{"$nulls":5},"No Group","*","*582*",null,"    ",{"$nulls":7},false]
[583,{"$nulls":5},"No Group","*","*583*",null,"    ",{"$nulls":7},false]
[584,{"$nulls":5},"No Group","*","*584*",null,"    ",{"$nulls":7},false]
[585,{"$nulls":5},"No Group","*","*585*",null,"    ",{"$nulls":7},false]
[586,{"$nulls":5},"No Group","*","*586*",null,"    ",{"$nulls":7},false]
[587,{"$nulls":5},"No Group","*","*587*",null,"    ",{"$nulls":7},false]
[588,{"$nulls":5},"No Group","*","*588*",null,"    ",{"$nulls":7},false]
[589,{"$nulls":5},"No Group","*","*589*",null,"    ",{"$nulls":7},false]
[590,{"$nulls":5},"No Group","*","*590*",null,"    ",{"$nulls":7},{"$f":"EXACT(A592,A593)","v":false}]
[591,{"$nulls":5},"No Group","*","*591*",null,"    ",{"$nulls":7},false]
[592,{"$nulls":5},"No Group","*","*592*",null,"    ",{"$nulls":7},false]
[593,{"$nulls":5},"No Group","*","*593*",null,"    ",{"$nulls":7},false]
[594,{"$nulls":5},"No Group","*","*594*",null,"    ",{"$nulls":7},false]
[595,{"$nulls":5},"No Group","*","*595*",null,"    ",{"$nulls":7},false]
[596,{"$nulls":5},"No Group","*","*596*",null,"    ",{"$nulls":7},false]
[597,{"$nulls":5},"No Group","*","*597*",null,"    ",{"$nulls":7},false]
[598,{"$nulls":5},"No Group","*","*598*",null,"    ",{"$nulls":7},false]
[599,{"$nulls":5},"No Group","*","*599*",null,"    ",{"$nulls":7},false]
[600,{"$nulls":5},"No Group","*","*600*",null,"    ",{"$nulls":7},false]
[601,{"$nulls":5},"No Group","*","*601*",null,"    ",{"$nulls":7},false]
[602,{"$nulls":5},"No Group","*","*602*",null,"    ",{"$nulls":7},false]
[603,{"$nulls":5},"No Group","*","*603*",null,"    ",{"$nulls":7},false]
[604,{"$nulls":5},"No Group","*","*604*",null,"    ",{"$nulls":7},false]
[605,{"$nulls":5},"No Group","*","*605*",null,"    ",{"$nulls":7},false]
[606,{"$nulls":5},"No Group","*","*606*",null,"    ",{"$nulls":7},false]
[607,{"$nulls":5},"No Group","*","*607*",null,"    ",{"$nulls":7},false]
[608,{"$nulls":5},"No Group","*","*608*",null,"    ",{"$nulls":7},false]
[609,{"$nulls":5},"No Group","*","*609*",null,"    ",{"$nulls":7},false]
[610,{"$nulls":5},"No Group","*","*610*",null,"    ",{"$nulls":7},false]
[611,{"$nulls":5},"No Group","*","*611*",null,"    ",{"$nulls":7},false]
[612,{"$nulls":5},"No Group","*","*612*",null,"    ",{"$nulls":7},false]
[613,{"$nulls":5},"No Group","*","*613*",null,"    ",{"$nulls":7},false]
[614,{"$nulls":5},"No Group","*","*614*",null,"    ",{"$nulls":7},false]
[615,{"$nulls":5},"No Group","*","*615*",null,"    ",{"$nulls":7},false]
[616,{"$nulls":5},"No Group","*","*616*",null,"    ",{"$nulls":7},false]
[617,{"$nulls":5},"No Group","*","*617*",null,"    ",{"$nulls":7},false]
[618,{"$nulls":5},"No Group","*","*618*",null,"    ",{"$nulls":7},false]
[619,{"$nulls":5},"No Group","*","*619*",null,"    ",{"$nulls":7},false]
[620,{"$nulls":5},"No Group","*","*620*",null,"    ",{"$nulls":7},false]
[621,{"$nulls":5},"No Group","*","*621*",null,"    ",{"$nulls":7},false]
[622,{"$nulls":5},"No Group","*","*622*",null,"    ",{"$nulls":7},false]
[623,{"$nulls":5},"No Group","*","*623*",null,"    ",{"$nulls":7},false]
[624,{"$nulls":5},"No Group","*","*624*",null,"    ",{"$nulls":7},false]
[625,{"$nulls":5},"No Group","*","*625*",null,"    ",{"$nulls":7},false]
[626,{"$nulls":5},"No Group","*","*626*",null,"    ",{"$nulls":7},false]
[627,{"$nulls":5},"No Group","*","*627*",null,"    ",{"$nulls":7},false]
[628,{"$nulls":5},"No Group","*","*628*",null,"    ",{"$nulls":7},false]
[629,{"$nulls":5},"No Group","*","*629*",null,"    ",{"$nulls":7},false]
[630,{"$nulls":5},"No Group","*","*630*",null,"    ",{"$nulls":7},false]
[631,{"$nulls":5},"No Group","*","*631*",null,"    ",{"$nulls":7},false]
[632,{"$nulls":5},"No Group","*","*632*",null,"    ",{"$nulls":7},false]
[633,{"$nulls":5},"No Group","*","*633*",null,"    ",{"$nulls":7},false]
[634,{"$nulls":5},"No Group","*","*634*",null,"    ",{"$nulls":7},false]
[635,{"$nulls":5},"No Group","*","*635*",null,"    ",{"$nulls":7},false]
[636,{"$nulls":5},"No Group","*","*636*",null,"    ",{"$nulls":7},false]
[637,{"$nulls":5},"No Group","*","*637*",null,"    ",{"$nulls":7},false]
[638,{"$nulls":5},"No Group","*","*638*",null,"    ",{"$nulls":7},false]
[639,{"$nulls":5},"No Group","*","*639*",null,"    ",{"$nulls":7},false]
[640,{"$nulls":5},"No Group","*","*640*",null,"    ",{"$nulls":7},false]
[641,{"$nulls":5},"No Group","*",{"$f":"CONCATENATE(H643,A643,H643)","v":"*641*"},null,"    ",{"$nulls":7},false]
[642,{"$nulls":5},{"$f":"IF(D644=8,\"Cadet\",IF(D644=7,\"Cadet\",IF(D644=6,\"56\",IF(D644=5,\"56\",IF(D644=4,\"34\",IF(D644=3,\"34\",\"No Group\"))))))","v":"No Group"},"*","*642*",null,"    ",{"$nulls":7},false]
[643,{"$nulls":5},"No Group","*","*643*",null,"    ",{"$nulls":7},false]
[644,{"$nulls":5},"No Group","*","*644*",null,"    ",{"$nulls":7},false]
[645,{"$nulls":5},"No Group","*","*645*",null,{"$f":"CONCATENATE(B647,\" \",C647,\" \",D647,\" \",F647,\" \",E647)","v":"    "},{"$nulls":7},false]
[646,{"$nulls":5},"No Group","*","*646*",null,"    ",{"$nulls":7},false]
[647,{"$nulls":5},"No Group","*","*647*",null,"    ",{"$nulls":7},false]
[648,{"$nulls":5},"No Group","*","*648*",null,"    ",{"$nulls":7},false]
[649,{"$nulls":5},"No Group","*","*649*",null,"    ",{"$nulls":7},false]
[650,{"$nulls":5},"No Group","*","*650*",null,"    ",{"$nulls":7},false]
[651,{"$nulls":5},"No Group","*","*651*",null,"    ",{"$nulls":7},false]
[652,{"$nulls":5},"No Group","*","*652*",null,"    ",{"$nulls":7},false]
[653,{"$nulls":5},"No Group","*","*653*",null,"    ",{"$nulls":7},false]
[654,{"$nulls":5},"No Group","*","*654*",null,"    ",{"$nulls":7},{"$f":"EXACT(A656,A657)","v":false}]
[655,{"$nulls":5},"No Group","*","*655*",null,"    ",{"$nulls":7},false]
[656,{"$nulls":5},"No Group","*","*656*",null,"    ",{"$nulls":7},false]
[657,{"$nulls":5},"No Group","*","*657*",null,"    ",{"$nulls":7},false]
[658,{"$nulls":5},"No Group","*","*658*",null,"    ",{"$nulls":7},false]
[659,{"$nulls":5},"No Group","*","*659*",null,"    ",{"$nulls":7},false]
[660,{"$nulls":5},"No Group","*","*660*",null,"    ",{"$nulls":7},false]
[661,{"$nulls":5},"No Group","*","*661*",null,"    ",{"$nulls":7},false]
[662,{"$nulls":5},"No Group","*","*662*",null,"    ",{"$nulls":7},false]
[663,{"$nulls":5},"No Group","*","*663*",null,"    ",{"$nulls":7},false]
[664,{"$nulls":5},"No Group","*","*664*",null,"    ",{"$nulls":7},false]
[665,{"$nulls":5},"No Group","*","*665*",null,"    ",{"$nulls":7},false]
[666,{"$nulls":5},"No Group","*","*666*",null,"    ",{"$nulls":7},false]
[667,{"$nulls":5},"No Group","*","*667*",null,"    ",{"$nulls":7},false]
[668,{"$nulls":5},"No Group","*","*668*",null,"    ",{"$nulls":7},false]
[669,{"$nulls":5},"No Group","*","*669*",null,"    ",{"$nulls":7},false]
[670,{"$nulls":5},"No Group","*","*670*",null,"    ",{"$nulls":7},false]
[671,{"$nulls":5},"No Group","*","*671*",null,"    ",{"$nulls":7},false]
[672,{"$nulls":5},"No Group","*","*672*",null,"    ",{"$nulls":7},false]
[673,{"$nulls":5},"No Group","*","*673*",null,"    ",{"$nulls":7},false]
[674,{"$nulls":5},"No Group","*","*674*",null,"    ",{"$nulls":7},false]
[675,{"$nulls":5},"No Group","*","*675*",null,"    ",{"$nulls":7},false]
[676,{"$nulls":5},"No Group","*","*676*",null,"    ",{"$nulls":7},false]
[677,{"$nulls":5},"No Group","*","*677*",null,"    ",{"$nulls":7},false]
[678,{"$nulls":5},"No Group","*","*678*",null,"    ",{"$nulls":7},false]
[679,{"$nulls":5},"No Group","*","*679*",null,"    ",{"$nulls":7},false]
[680,{"$nulls":5},"No Group","*","*680*",null,"    ",{"$nulls":7},false]
[681,{"$nulls":5},"No Group","*","*681*",null,"    ",{"$nulls":7},false]
[682,{"$nulls":5},"No Group","*","*682*",null,"    ",{"$nulls":7},false]
[683,{"$nulls":5},"No Group","*","*683*",null,"    ",{"$nulls":7},false]
[684,{"$nulls":5},"No Group","*","*684*",null,"    ",{"$nulls":7},false]
[685,{"$nulls":5},"No Group","*","*685*",null,"    ",{"$nulls":7},false]
[686,{"$nulls":5},"No Group","*","*686*",null,"    ",{"$nulls":7},false]
[687,{"$nulls":5},"No Group","*","*687*",null,"    ",{"$nulls":7},false]
[688,{"$nulls":5},"No Group","*","*688*",null,"    ",{"$nulls":7},false]
[689,{"$nulls":5},"No Group","*","*689*",null,"    ",{"$nulls":7},false]
[690,{"$nulls":5},"No Group","*","*690*",null,"    ",{"$nulls":7},false]
[691,{"$nulls":5},"No Group","*","*691*",null,"    ",{"$nulls":7},false]
[692,{"$nulls":5},"No Group","*","*692*",null,"    ",{"$nulls":7},false]
[693,{"$nulls":5},"No Group","*","*693*",null,"    ",{"$nulls":7},false]
[694,{"$nulls":5},"No Group","*","*694*",null,"    ",{"$nulls":7},false]
[695,{"$nulls":5},"No Group","*","*695*",null,"    ",{"$nulls":7},false]
[696,{"$nulls":5},"No Group","*","*696*",null,"    ",{"$nulls":7},false]
[697,{"$nulls":5},"No Group","*","*697*",null,"    ",{"$nulls":7},false]
[698,{"$nulls":5},"No Group","*","*698*",null,"    ",{"$nulls":7},false]
[699,{"$nulls":5},"No Group","*","*699*",null,"    ",{"$nulls":7},false]
[700,{"$nulls":5},"No Group","*","*700*",null,"    ",{"$nulls":7},false]
[701,{"$nulls":5},"No Group","*","*701*",null,"    ",{"$nulls":7},false]
[702,{"$nulls":5},"No Group","*","*702*",null,"    ",{"$nulls":7},false]
[703,{"$nulls":5},"No Group","*","*703*",null,"    ",{"$nulls":7},false]
[704,{"$nulls":5},"No Group","*","*704*",null,"    ",{"$nulls":7},false]
[705,{"$nulls":5},"No Group","*",{"$f":"CONCATENATE(H707,A707,H707)","v":"*705*"},null,"    ",{"$nulls":7},false]
[706,{"$nulls":5},{"$f":"IF(D708=8,\"Cadet\",IF(D708=7,\"Cadet\",IF(D708=6,\"56\",IF(D708=5,\"56\",IF(D708=4,\"34\",IF(D708=3,\"34\",\"No Group\"))))))","v":"No Group"},"*","*706*",null,"    ",{"$nulls":7},false]
[707,{"$nulls":5},"No Group","*","*707*",null,"    ",{"$nulls":7},false]
[708,{"$nulls":5},"No Group","*","*708*",null,"    ",{"$nulls":7},false]
[709,{"$nulls":5},"No Group","*","*709*",null,{"$f":"CONCATENATE(B711,\" \",C711,\" \",D711,\" \",F711,\" \",E711)","v":"    "},{"$nulls":7},false]
[710,{"$nulls":5},"No Group","*","*710*",null,"    ",{"$nulls":7},false]
[711,{"$nulls":5},"No Group","*","*711*",null,"    ",{"$nulls":7},false]
[712,{"$nulls":5},"No Group","*","*712*",null,"    ",{"$nulls":7},false]
[713,{"$nulls":5},"No Group","*","*713*",null,"    ",{"$nulls":7},false]
[714,{"$nulls":5},"No Group","*","*714*",null,"    ",{"$nulls":7},false]
[715,{"$nulls":5},"No Group","*","*715*",null,"    ",{"$nulls":7},false]
[716,{"$nulls":5},"No Group","*","*716*",null,"    ",{"$nulls":7},false]
[717,{"$nulls":5},"No Group","*","*717*",null,"    ",{"$nulls":7},false]
[718,{"$nulls":5},"No Group","*","*718*",null,"    ",{"$nulls":7},{"$f":"EXACT(A720,A721)","v":false}]
[719,{"$nulls":5},"No Group","*","*719*",null,"    ",{"$nulls":7},false]
[720,{"$nulls":5},"No Group","*","*720*",null,"    ",{"$nulls":7},false]
[721,{"$nulls":5},"No Group","*","*721*",null,"    ",{"$nulls":7},false]
[722,{"$nulls":5},"No Group","*","*722*",null,"    ",{"$nulls":7},false]
[723,{"$nulls":5},"No Group","*","*723*",null,"    ",{"$nulls":7},false]
[724,{"$nulls":5},"No Group","*","*724*",null,"    ",{"$nulls":7},false]
[725,{"$nulls":5},"No Group","*","*725*",null,"    ",{"$nulls":7},false]
[726,{"$nulls":5},"No Group","*","*726*",null,"    ",{"$nulls":7},false]
[727,{"$nulls":5},"No Group","*","*727*",null,"    ",{"$nulls":7},false]
[728,{"$nulls":5},"No Group","*","*728*",null,"    ",{"$nulls":7},false]
[729,{"$nulls":5},"No Group","*","*729*",null,"    ",{"$nulls":7},false]
[730,{"$nulls":5},"No Group","*","*730*",null,"    ",{"$nulls":7},false]
[731,{"$nulls":5},"No Group","*","*731*",null,"    ",{"$nulls":7},false]
[732,{"$nulls":5},"No Group","*","*732*",null,"    ",{"$nulls":7},false]
[733,{"$nulls":5},"No Group","*","*733*",null,"    ",{"$nulls":7},false]
[734,{"$nulls":5},"No Group","*","*734*",null,"    ",{"$nulls":7},false]
[735,{"$nulls":5},"No Group","*","*735*",null,"    ",{"$nulls":7},false]
[736,{"$nulls":5},"No Group","*","*736*",null,"    ",{"$nulls":7},false]
[737,{"$nulls":5},"No Group","*","*737*",null,"    ",{"$nulls":7},false]
[738,{"$nulls":5},"No Group","*","*738*",null,"    ",{"$nulls":7},false]
[739,{"$nulls":5},"No Group","*","*739*",null,"    ",{"$nulls":7},false]
[740,{"$nulls":5},"No Group","*","*740*",null,"    ",{"$nulls":7},false]
[741,{"$nulls":5},"No Group","*","*741*",null,"    ",{"$nulls":7},false]
[742,{"$nulls":5},"No Group","*","*742*",null,"    ",{"$nulls":7},false]
[743,{"$nulls":5},"No Group","*","*743*",null,"    ",{"$nulls":7},false]
[744,{"$nulls":5},"No Group","*","*744*",null,"    ",{"$nulls":7},false]
[745,{"$nulls":5},"No Group","*","*745*",null,"    ",{"$nulls":7},false]
[746,{"$nulls":5},"No Group","*","*746*",null,"    ",{"$nulls":7},false]
[747,{"$nulls":5},"No Group","*","*747*",null,"    ",{"$nulls":7},false]
[748,{"$nulls":5},"No Group","*","*748*",null,"    ",{"$nulls":7},false]
[749,{"$nulls":5},"No Group","*","*749*",null,"    ",{"$nulls":7},false]
[750,{"$nulls":5},"No Group","*","*750*",null,"    ",{"$nulls":7},false]
[751,{"$nulls":5},"No Group","*","*751*",null,"    ",{"$nulls":7},false]
[752,{"$nulls":5},"No Group","*","*752*",null,"    ",{"$nulls":7},false]
[753,{"$nulls":5},"No Group","*","*753*",null,"    ",{"$nulls":7},false]
[754,{"$nulls":5},"No Group","*","*754*",null,"    ",{"$nulls":7},false]
[755,{"$nulls":5},"No Group","*","*755*",null,"    ",{"$nulls":7},false]
[756,{"$nulls":5},"No Group","*","*756*",null,"    ",{"$nulls":7},false]
[757,{"$nulls":5},"No Group","*","*757*",null,"    ",{"$nulls":7},false]
[758,{"$nulls":5},"No Group","*","*758*",null,"    ",{"$nulls":7},false]
[759,{"$nulls":5},"No Group","*","*759*",null,"    ",{"$nulls":7},false]
[760,{"$nulls":5},"No Group","*","*760*",null,"    ",{"$nulls":7},false]
[761,{"$nulls":5},"No Group","*","*761*",null,"    ",{"$nulls":7},false]
[762,{"$nulls":5},"No Group","*","*762*",null,"    ",{"$nulls":7},false]
[763,{"$nulls":5},"No Group","*","*763*",null,"    ",{"$nulls":7},false]
[764,{"$nulls":5},"No Group","*","*764*",null,"    ",{"$nulls":7},false]
[765,{"$nulls":5},"No Group","*","*765*",null,"    ",{"$nulls":7},false]
[766,{"$nulls":5},"No Group","*","*766*",null,"    ",{"$nulls":7},false]
[767,{"$nulls":5},"No Group","*","*767*",null,"    ",{"$nulls":7},false]
[768,{"$nulls":5},"No Group","*","*768*",null,"    ",{"$nulls":7},false]
[769,{"$nulls":5},"No Group","*",{"$f":"CONCATENATE(H771,A771,H771)","v":"*769*"},null,"    ",{"$nulls":7},false]
[770,{"$nulls":5},{"$f":"IF(D772=8,\"Cadet\",IF(D772=7,\"Cadet\",IF(D772=6,\"56\",IF(D772=5,\"56\",IF(D772=4,\"34\",IF(D772=3,\"34\",\"No Group\"))))))","v":"No Group"},"*","*770*",null,"    ",{"$nulls":7},false]
[771,{"$nulls":5},"No Group","*","*771*",null,"    ",{"$nulls":7},false]
[772,{"$nulls":5},"No Group","*","*772*",null,"    ",{"$nulls":7},false]
[773,{"$nulls":5},"No Group","*","*773*",null,{"$f":"CONCATENATE(B775,\" \",C775,\" \",D775,\" \",F775,\" \",E775)","v":"    "},{"$nulls":7},false]
[774,{"$nulls":5},"No Group","*","*774*",null,"    ",{"$nulls":7},false]
[775,{"$nulls":5},"No Group","*","*775*",null,"    ",{"$nulls":7},false]
[776,{"$nulls":5},"No Group","*","*776*",null,"    ",{"$nulls":7},false]
[777,{"$nulls":5},"No Group","*","*777*",null,"    ",{"$nulls":7},false]
[778,{"$nulls":5},"No Group","*","*778*",null,"    ",{"$nulls":7},false]
[779,{"$nulls":5},"No Group","*","*779*",null,"    ",{"$nulls":7},false]
[780,{"$nulls":5},"No Group","*","*780*",null,"    ",{"$nulls":7},false]
[781,{"$nulls":5},"No Group","*","*781*",null,"    ",{"$nulls":7},false]
[782,{"$nulls":5},"No Group","*","*782*",null,"    ",{"$nulls":7},{"$f":"EXACT(A784,A785)","v":false}]
[783,{"$nulls":5},"No Group","*","*783*",null,"    ",{"$nulls":7},false]
[784,{"$nulls":5},"No Group","*","*784*",null,"    ",{"$nulls":7},false]
[785,{"$nulls":5},"No Group","*","*785*",null,"    ",{"$nulls":7},false]
[786,{"$nulls":5},"No Group","*","*786*",null,"    ",{"$nulls":7},false]
[787,{"$nulls":5},"No Group","*","*787*",null,"    ",{"$nulls":7},false]
[788,"Mason","Carroll",5,"St. Jude","M","56","*","*788*",null,"Mason Carroll 5 M St. Jude",{"$nulls":7},false]
[789,"Noah","Clark",7,"St. Jude",null,"Cadet","*","*789*",null,"Noah Clark 7  St. Jude",{"$nulls":7},false]
[790,{"$nulls":5},"No Group","*","*790*",null,"    ",{"$nulls":7},false]
[791,{"$nulls":5},"No Group","*","*791*",null,"    ",{"$nulls":7},false]
[792,{"$nulls":5},"No Group","*","*792*",null,"    ",{"$nulls":7},false]
[793,{"$nulls":5},"No Group","*","*793*",null,"    ",{"$nulls":7},false]
[794,{"$nulls":5},"No Group","*","*794*",null,"    ",{"$nulls":7},false]
[795,{"$nulls":5},"No Group","*","*795*",null,"    ",{"$nulls":7},false]
[796,{"$nulls":5},"No Group","*","*796*",null,"    ",{"$nulls":7},false]
[797,{"$nulls":5},"No Group","*","*797*",null,"    ",{"$nulls":7},false]
[798,{"$nulls":5},"No Group","*","*798*",null,"    ",{"$nulls":7},false]
[799,{"$nulls":5},"No Group","*","*799*",null,"    ",{"$nulls":7},false]
[800,{"$nulls":5},"No Group","*","*800*",null,"    ",{"$nulls":7},false]
[801,{"$nulls":5},"No Group","*","*801*",null,"    ",{"$nulls":7},false]
[802,{"$nulls":5},"No Group","*","*802*",null,"    ",{"$nulls":7},false]
[803,{"$nulls":5},"No Group","*","*803*",null,"    ",{"$nulls":7},false]
[804,{"$nulls":5},"No Group","*","*804*",null,"    ",{"$nulls":7},false]
[805,{"$nulls":5},"No Group","*","*805*",null,"    ",{"$nulls":7},false]
[806,{"$nulls":5},"No Group","*","*806*",null,"    ",{"$nulls":7},false]
[807,{"$nulls":5},"No Group","*","*807*",null,"    ",{"$nulls":7},false]
[808,{"$nulls":5},"No Group","*","*808*",null,"    ",{"$nulls":7},false]
[809,{"$nulls":5},"No Group","*","*809*",null,"    ",{"$nulls":7},false]
[810,{"$nulls":5},"No Group","*","*810*",null,"    ",{"$nulls":7},false]
[811,{"$nulls":5},"No Group","*","*811*",null,"    ",{"$nulls":7},false]
[812,{"$nulls":5},"No Group","*","*812*",null,"    ",{"$nulls":7},false]
[813,{"$nulls":5},"No Group","*","*813*",null,"    ",{"$nulls":7},false]
[814,{"$nulls":5},"No Group","*","*814*",null,"    ",{"$nulls":7},false]
[815,{"$nulls":5},"No Group","*","*815*",null,"    ",{"$nulls":7},false]
[816,{"$nulls":5},"No Group","*","*816*",null,"    ",{"$nulls":7},false]
[817,{"$nulls":5},"No Group","*","*817*",null,"    ",{"$nulls":7},false]
[818,{"$nulls":5},"No Group","*","*818*",null,"    ",{"$nulls":7},false]
[819,{"$nulls":5},"No Group","*","*819*",null,"    ",{"$nulls":7},false]
[820,{"$nulls":5},"No Group","*","*820*",null,"    ",{"$nulls":7},false]
[821,{"$nulls":5},"No Group","*","*821*",null,"    ",{"$nulls":7},false]
[822,{"$nulls":5},"No Group","*","*822*",null,"    ",{"$nulls":7},false]
[823,{"$nulls":5},"No Group","*","*823*",null,"    ",{"$nulls":7},false]
[824,{"$nulls":5},"No Group","*","*824*",null,"    ",{"$nulls":7},false]
[825,{"$nulls":5},"No Group","*","*825*",null,"    ",{"$nulls":7},false]
[826,{"$nulls":5},"No Group","*","*826*",null,"    ",{"$nulls":7},false]
[827,{"$nulls":5},"No Group","*","*827*",null,"    ",{"$nulls":7},false]
[828,{"$nulls":5},"No Group","*","*828*",null,"    ",{"$nulls":7},false]
[829,{"$nulls":5},"No Group","*","*829*",null,"    ",{"$nulls":7},false]
[830,{"$nulls":5},"No Group","*","*830*",null,"    ",{"$nulls":7},false]
[831,{"$nulls":5},"No Group","*","*831*",null,"    ",{"$nulls":7},false]
[832,{"$nulls":5},"No Group","*","*832*",null,"    ",{"$nulls":7},false]
[833,{"$nulls":5},"No Group","*",{"$f":"CONCATENATE(H835,A835,H835)","v":"*833*"},null,"    ",{"$nulls":7},false]
[834,{"$nulls":5},{"$f":"IF(D836=8,\"Cadet\",IF(D836=7,\"Cadet\",IF(D836=6,\"56\",IF(D836=5,\"56\",IF(D836=4,\"34\",IF(D836=3,\"34\",\"No Group\"))))))","v":"No Group"},"*","*834*",null,"    ",{"$nulls":7},false]
[835,{"$nulls":5},"No Group","*","*835*",null,"    ",{"$nulls":7},false]
[836,{"$nulls":5},"No Group","*","*836*",null,"    ",{"$nulls":7},false]
[837,{"$nulls":5},"No Group","*","*837*",null,{"$f":"CONCATENATE(B839,\" \",C839,\" \",D839,\" \",F839,\" \",E839)","v":"    "},{"$nulls":7},false]
[838,{"$nulls":5},"No Group","*","*838*",null,"    ",{"$nulls":7},false]
[839,{"$nulls":5},"No Group","*","*839*",null,"    ",{"$nulls":7},false]
[840,{"$nulls":5},"No Group","*","*840*",null,"    ",{"$nulls":7},false]
[841,{"$nulls":5},"No Group","*","*841*",null,"    ",{"$nulls":7},false]
[842,{"$nulls":5},"No Group","*","*842*",null,"    ",{"$nulls":7},false]
[843,{"$nulls":5},"No Group","*","*843*",null,"    ",{"$nulls":7},false]
[844,{"$nulls":5},"No Group","*","*844*",null,"    ",{"$nulls":7},false]
[845,{"$nulls":5},"No Group","*","*845*",null,"    ",{"$nulls":7},false]
[846,{"$nulls":5},"No Group","*","*846*",null,"    ",{"$nulls":7},{"$f":"EXACT(A848,A849)","v":false}]
[847,{"$nulls":5},"No Group","*","*847*",null,"    ",{"$nulls":7},false]
[848,{"$nulls":5},"No Group","*","*848*",null,"    ",{"$nulls":7},false]
[849,{"$nulls":5},"No Group","*","*849*",null,"    ",{"$nulls":7},false]
[850,{"$nulls":5},"No Group","*","*850*",null,"    ",{"$nulls":7},false]
[851,{"$nulls":5},"No Group","*","*851*",null,"    ",{"$nulls":7},false]
[852,{"$nulls":5},"No Group","*","*852*",null,"    ",{"$nulls":7},false]
[853,{"$nulls":5},"No Group","*","*853*",null,"    ",{"$nulls":7},false]
[854,{"$nulls":5},"No Group","*","*854*",null,"    ",{"$nulls":7},false]
[855,{"$nulls":5},"No Group","*","*855*",null,"    ",{"$nulls":7},false]
[856,{"$nulls":5},"No Group","*","*856*",null,"    ",{"$nulls":7},false]
[857,{"$nulls":5},"No Group","*","*857*",null,"    ",{"$nulls":7},false]
[858,{"$nulls":5},"No Group","*","*858*",null,"    ",{"$nulls":7},false]
[859,{"$nulls":5},"No Group","*","*859*",null,"    ",{"$nulls":7},false]
[860,{"$nulls":5},"No Group","*","*860*",null,"    ",{"$nulls":7},false]
[861,{"$nulls":5},"No Group","*","*861*",null,"    ",{"$nulls":7},false]
[862,{"$nulls":5},"No Group","*","*862*",null,"    ",{"$nulls":7},false]
[863,{"$nulls":5},"No Group","*","*863*",null,"    ",{"$nulls":7},false]
[864,{"$nulls":5},"No Group","*","*864*",null,"    ",{"$nulls":7},false]
[865,{"$nulls":5},"No Group","*","*865*",null,"    ",{"$nulls":7},false]
[866,{"$nulls":5},"No Group","*","*866*",null,"    ",{"$nulls":7},false]
[867,{"$nulls":5},"No Group","*","*867*",null,"    ",{"$nulls":7},false]
[868,{"$nulls":5},"No Group","*","*868*",null,"    ",{"$nulls":7},false]
[869,{"$nulls":5},"No Group","*","*869*",null,"    ",{"$nulls":7},false]
[870,{"$nulls":5},"No Group","*","*870*",null,"    ",{"$nulls":7},false]
[871,{"$nulls":5},"No Group","*","*871*",null,"    ",{"$nulls":7},false]
[872,{"$nulls":5},"No Group","*","*872*",null,"    ",{"$nulls":7},false]
[873,{"$nulls":5},"No Group","*","*873*",null,"    ",{"$nulls":7},false]
[874,{"$nulls":5},"No Group","*","*874*",null,"    ",{"$nulls":7},false]
[875,{"$nulls":5},"No Group","*","*875*",null,"    ",{"$nulls":7},false]
[876,{"$nulls":5},"No Group","*","*876*",null,"    ",{"$nulls":7},false]
[877,{"$nulls":5},"No Group","*","*877*",null,"    ",{"$nulls":7},false]
[878,{"$nulls":5},"No Group","*","*878*",null,"    ",{"$nulls":7},false]
[879,{"$nulls":5},"No Group","*","*879*",null,"    ",{"$nulls":7},false]
[880,{"$nulls":5},"No Group","*","*880*",null,"    ",{"$nulls":7},false]
[881,{"$nulls":5},"No Group","*","*881*",null,"    ",{"$nulls":7},false]
[882,{"$nulls":5},"No Group","*","*882*",null,"    ",{"$nulls":7},false]
[883,{"$nulls":5},"No Group","*","*883*",null,"    ",{"$nulls":7},false]
[884,{"$nulls":5},"No Group","*","*884*",null,"    ",{"$nulls":7},false]
[885,{"$nulls":5},"No Group","*","*885*",null,"    ",{"$nulls":7},false]
[886,{"$nulls":5},"No Group","*","*886*",null,"    ",{"$nulls":7},false]
[887,{"$nulls":5},"No Group","*","*887*",null,"    ",{"$nulls":7},false]
[888,{"$nulls":5},"No Group","*","*888*",null,"    ",{"$nulls":7},false]
[889,{"$nulls":5},"No Group","*","*889*",null,"    ",{"$nulls":7},false]
[890,{"$nulls":5},"No Group","*","*890*",null,"    ",{"$nulls":7},false]
[891,{"$nulls":5},"No Group","*","*891*",null,"    ",{"$nulls":7},false]
[892,{"$nulls":5},"No Group","*","*892*",null,"    ",{"$nulls":7},false]
[893,{"$nulls":5},"No Group","*","*893*",null,"    ",{"$nulls":7},false]
[894,{"$nulls":5},"No Group","*","*894*",null,"    ",{"$nulls":7},false]
[895,{"$nulls":5},"No Group","*","*895*",null,"    ",{"$nulls":7},false]
[896,{"$nulls":5},"No Group","*","*896*",null,"    ",{"$nulls":7},false]
[897,{"$nulls":5},"No Group","*",{"$f":"CONCATENATE(H899,A899,H899)","v":"*897*"},null,"    ",{"$nulls":7},false]
[898,{"$nulls":5},{"$f":"IF(D900=8,\"Cadet\",IF(D900=7,\"Cadet\",IF(D900=6,\"56\",IF(D900=5,\"56\",IF(D900=4,\"34\",IF(D900=3,\"34\",\"No Group\"))))))","v":"No Group"},"*","*898*",null,"    ",{"$nulls":7},false]
[899,{"$nulls":5},"No Group","*","*899*",null,"    ",{"$nulls":7},false]
[900,{"$nulls":5},"No Group","*","*900*",null,"    ",{"$nulls":7},false]
[901,{"$nulls":5},"No Group","*","*901*",null,{"$f":"CONCATENATE(B903,\" \",C903,\" \",D903,\" \",F903,\" \",E903)","v":"    "},{"$nulls":7},false]
[902,{"$nulls":5},"No Group","*","*902*",null,"    ",{"$nulls":7},false]
[903,{"$nulls":5},"No Group","*","*903*",null,"    ",{"$nulls":7},false]
[904,{"$nulls":5},"No Group","*","*904*",null,"    ",{"$nulls":7},false]
[905,{"$nulls":5},"No Group","*","*905*",null,"    ",{"$nulls":7},false]
[906,{"$nulls":5},"No Group","*","*906*",null,"    ",{"$nulls":7},false]
[907,{"$nulls":5},"No Group","*","*907*",null,"    ",{"$nulls":7},false]
[908,{"$nulls":5},"No Group","*","*908*",null,"    ",{"$nulls":7},false]
[909,{"$nulls":5},"No Group","*","*909*",null,"    ",{"$nulls":7},false]
[910,{"$nulls":5},"No Group","*","*910*",null,"    ",{"$nulls":7},{"$f":"EXACT(A912,A913)","v":false}]
[911,{"$nulls":5},"No Group","*","*911*",null,"    ",{"$nulls":7},false]
[912,{"$nulls":5},"No Group","*","*912*",null,"    ",{"$nulls":7},false]
[913,{"$nulls":5},"No Group","*","*913*",null,"    ",{"$nulls":7},false]
[914,{"$nulls":5},"No Group","*","*914*",null,"    ",{"$nulls":7},false]
[915,{"$nulls":5},"No Group","*","*915*",null,"    ",{"$nulls":7},false]
[916,{"$nulls":5},"No Group","*","*916*",null,"    ",{"$nulls":7},false]
[917,{"$nulls":5},"No Group","*","*917*",null,"    ",{"$nulls":7},false]
[918,{"$nulls":5},"No Group","*","*918*",null,"    ",{"$nulls":7},false]
[919,{"$nulls":5},"No Group","*","*919*",null,"    ",{"$nulls":7},false]
[920,{"$nulls":5},"No Group","*","*920*",null,"    ",{"$nulls":7},false]
[921,{"$nulls":5},"No Group","*","*921*",null,"    ",{"$nulls":7},false]
[922,{"$nulls":5},"No Group","*","*922*",null,"    ",{"$nulls":7},false]
[923,{"$nulls":5},"No Group","*","*923*",null,"    ",{"$nulls":7},false]
[924,{"$nulls":5},"No Group","*","*924*",null,"    ",{"$nulls":7},false]
[925,{"$nulls":5},"No Group","*","*925*",null,"    ",{"$nulls":7},false]
[926,{"$nulls":5},"No Group","*","*926*",null,"    ",{"$nulls":7},false]
[927,{"$nulls":5},"No Group","*","*927*",null,"    ",{"$nulls":7},false]
[928,{"$nulls":5},"No Group","*","*928*",null,"    ",{"$nulls":7},false]
[929,{"$nulls":5},"No Group","*","*929*",null,"    ",{"$nulls":7},false]
[930,{"$nulls":5},"No Group","*","*930*",null,"    ",{"$nulls":7},false]
[931,{"$nulls":5},"No Group","*","*931*",null,"    ",{"$nulls":7},false]
[932,{"$nulls":5},"No Group","*","*932*",null,"    ",{"$nulls":7},false]
[933,{"$nulls":5},"No Group","*","*933*",null,"    ",{"$nulls":7},false]
[934,{"$nulls":5},"No Group","*","*934*",null,"    ",{"$nulls":7},false]
[935,{"$nulls":5},"No Group","*","*935*",null,"    ",{"$nulls":7},false]
[936,{"$nulls":5},"No Group","*","*936*",null,"    ",{"$nulls":7},false]
[937,{"$nulls":5},"No Group","*","*937*",null,"    ",{"$nulls":7},false]
[938,{"$nulls":5},"No Group","*","*938*",null,"    ",{"$nulls":7},false]
[939,{"$nulls":5},"No Group","*","*939*",null,"    ",{"$nulls":7},false]
[940,{"$nulls":5},"No Group","*","*940*",null,"    ",{"$nulls":7},false]
[941,{"$nulls":5},"No Group","*","*941*",null,"    ",{"$nulls":7},false]
[942,{"$nulls":5},"No Group","*","*942*",null,"    ",{"$nulls":7},false]
[943,{"$nulls":5},"No Group","*","*943*",null,"    ",{"$nulls":7},false]
[944,{"$nulls":5},"No Group","*","*944*",null,"    ",{"$nulls":7},false]
[945,{"$nulls":5},"No Group","*","*945*",null,"    ",{"$nulls":7},false]
[946,{"$nulls":5},"No Group","*","*946*",null,"    ",{"$nulls":7},false]
[947,{"$nulls":5},"No Group","*","*947*",null,"    ",{"$nulls":7},false]
[948,{"$nulls":5},"No Group","*","*948*",null,"    ",{"$nulls":7},false]
[949,{"$nulls":5},"No Group","*","*949*",null,"    ",{"$nulls":7},false]
[950,{"$nulls":5},"No Group","*","*950*",null,"    ",{"$nulls":7},false]
[951,{"$nulls":5},"No Group","*","*951*",null,"    ",{"$nulls":7},false]
[952,{"$nulls":5},"No Group","*","*952*",null,"    ",{"$nulls":7},false]
[953,{"$nulls":5},"No Group","*","*953*",null,"    ",{"$nulls":7},false]
[954,{"$nulls":5},"No Group","*","*954*",null,"    ",{"$nulls":7},false]
[955,{"$nulls":5},"No Group","*","*955*",null,"    ",{"$nulls":7},false]
[956,{"$nulls":5},"No Group","*","*956*",null,"    ",{"$nulls":7},false]
[957,{"$nulls":5},"No Group","*","*957*",null,"    ",{"$nulls":7},false]
[958,{"$nulls":5},"No Group","*","*958*",null,"    ",{"$nulls":7},false]
[959,{"$nulls":5},"No Group","*","*959*",null,"    ",{"$nulls":7},false]
[960,{"$nulls":5},"No Group","*","*960*",null,"    ",{"$nulls":7},false]
[961,{"$nulls":5},"No Group","*",{"$f":"CONCATENATE(H963,A963,H963)","v":"*961*"},null,"    ",{"$nulls":7},false]
[962,{"$nulls":5},{"$f":"IF(D964=8,\"Cadet\",IF(D964=7,\"Cadet\",IF(D964=6,\"56\",IF(D964=5,\"56\",IF(D964=4,\"34\",IF(D964=3,\"34\",\"No Group\"))))))","v":"No Group"},"*","*962*",null,"    ",{"$nulls":7},false]
[963,{"$nulls":5},"No Group","*","*963*",null,"    ",{"$nulls":7},false]
[964,{"$nulls":5},"No Group","*","*964*",null,"    ",{"$nulls":7},false]
[965,{"$nulls":5},"No Group","*","*965*",null,{"$f":"CONCATENATE(B967,\" \",C967,\" \",D967,\" \",F967,\" \",E967)","v":"    "},{"$nulls":7},false]
[966,{"$nulls":5},"No Group","*","*966*",null,"    ",{"$nulls":7},false]
[967,{"$nulls":5},"No Group","*","*967*",null,"    ",{"$nulls":7},false]
[968,{"$nulls":5},"No Group","*","*968*",null,"    ",{"$nulls":7},false]
[969,{"$nulls":5},"No Group","*","*969*",null,"    ",{"$nulls":7},false]
[970,{"$nulls":5},"No Group","*","*970*",null,"    ",{"$nulls":7},false]
[971,{"$nulls":5},"No Group","*","*971*",null,"    ",{"$nulls":7},false]
[972,{"$nulls":5},"No Group","*","*972*",null,"    ",{"$nulls":7},false]
[973,{"$nulls":5},"No Group","*","*973*",null,"    ",{"$nulls":7},false]
[974,{"$nulls":5},"No Group","*","*974*",null,"    ",{"$nulls":7},{"$f":"EXACT(A976,A977)","v":false}]
[975,{"$nulls":5},"No Group","*","*975*",null,"    ",{"$nulls":7},false]
[976,{"$nulls":5},"No Group","*","*976*",null,"    ",{"$nulls":7},false]
[977,{"$nulls":5},"No Group","*","*977*",null,"    ",{"$nulls":7},false]
[978,{"$nulls":5},"No Group","*","*978*",null,"    ",{"$nulls":7},false]
[979,{"$nulls":5},"No Group","*","*979*",null,"    ",{"$nulls":7},false]
[980,{"$nulls":5},"No Group","*","*980*",null,"    ",{"$nulls":7},false]
[981,{"$nulls":5},"No Group","*","*981*",null,"    ",{"$nulls":7},false]
[982,{"$nulls":5},"No Group","*","*982*",null,"    ",{"$nulls":7},false]
[983,{"$nulls":5},"No Group","*","*983*",null,"    ",{"$nulls":7},false]
[984,{"$nulls":5},"No Group","*","*984*",null,"    ",{"$nulls":7},false]
[985,{"$nulls":5},"No Group","*","*985*",null,"    ",{"$nulls":7},false]
[986,{"$nulls":5},"No Group","*","*986*",null,"    ",{"$nulls":7},false]
[987,{"$nulls":5},"No Group","*","*987*",null,"    ",{"$nulls":7},false]
[988,{"$nulls":5},"No Group","*","*988*",null,"    ",{"$nulls":7},false]
[989,{"$nulls":5},"No Group","*","*989*",null,"    ",{"$nulls":7},false]
[990,{"$nulls":5},"No Group","*","*990*",null,"    ",{"$nulls":7},false]
[991,{"$nulls":5},"No Group","*","*991*",null,"    ",{"$nulls":7},false]
[992,{"$nulls":5},"No Group","*","*992*",null,"    ",{"$nulls":7},false]
[993,{"$nulls":5},"No Group","*","*993*",null,"    ",{"$nulls":7},false]
[994,{"$nulls":5},"No Group","*","*994*",null,"    ",{"$nulls":7},false]
[995,{"$nulls":5},"No Group","*","*995*",null,"    ",{"$nulls":7},false]
[996,{"$nulls":5},"No Group","*","*996*",null,"    ",{"$nulls":7},false]
[997,{"$nulls":5},"No Group","*","*997*",null,"    ",{"$nulls":7},false]
[998,{"$nulls":5},"No Group","*","*998*",null,"    ",{"$nulls":7},false]
[999,{"$nulls":5},"No Group","*","*999*",null,"    ",{"$nulls":7},false]
[1000,{"$nulls":5},"No Group","*","*1000*",null,"    ",{"$nulls":7},false]
[1001,{"$nulls":5},"No Group","*","*1001*",null,"    ",{"$nulls":7},false]
[1002,{"$nulls":5},"No Group","*","*1002*",null,"    ",{"$nulls":7},false]
[1003,{"$nulls":5},"No Group","*","*1003*",null,"    ",{"$nulls":7},false]
[1004,{"$nulls":5},"No Group","*","*1004*",null,"    ",{"$nulls":7},false]
[1005,{"$nulls":5},"No Group","*","*1005*",null,"    ",{"$nulls":7},false]
[1006,{"$nulls":5},"No Group","*","*1006*",null,"    ",{"$nulls":7},false]
[1007,{"$nulls":5},"No Group","*","*1007*",null,"    ",{"$nulls":7},false]
[1008,{"$nulls":5},"No Group","*","*1008*",null,"    ",{"$nulls":7},false]
[1009,{"$nulls":5},"No Group","*","*1009*",null,"    ",{"$nulls":7},false]
[1010,{"$nulls":5},"No Group","*","*1010*",null,"    ",{"$nulls":7},false]
[1011,{"$nulls":5},"No Group","*","*1011*",null,"    ",{"$nulls":7},false]
[1012,{"$nulls":5},"No Group","*","*1012*",null,"    ",{"$nulls":7},false]
[1013,{"$nulls":5},"No Group","*","*1013*",null,"    ",{"$nulls":7},false]
[1014,{"$nulls":5},"No Group","*","*1014*",null,"    ",{"$nulls":7},false]
[1015,{"$nulls":5},"No Group","*","*1015*",null,"    ",{"$nulls":7},false]
[1016,{"$nulls":5},"No Group","*","*1016*",null,"    ",{"$nulls":7},false]
[1017,{"$nulls":5},"No Group","*","*1017*",null,"    ",{"$nulls":7},false]
[1018,{"$nulls":5},"No Group","*","*1018*",null,"    ",{"$nulls":7},false]
[1019,{"$nulls":5},"No Group","*","*1019*",null,"    ",{"$nulls":7},false]
[1020,{"$nulls":5},"No Group","*","*1020*",null,"    ",{"$nulls":7},false]
[1021,{"$nulls":5},"No Group","*","*1021*",null,"    ",{"$nulls":7},false]
[1022,{"$nulls":5},"No Group","*","*1022*",null,"    ",{"$nulls":7},false]
[1023,{"$nulls":5},"No Group","*","*1023*",null,"    ",{"$nulls":7},false]
[1024,{"$nulls":5},"No Group","*","*1024*",null,"    ",{"$nulls":7},false]
[1025,{"$nulls":5},"No Group","*",{"$f":"CONCATENATE(H1027,A1027,H1027)","v":"*1025*"},null,"    ",{"$nulls":7},false]
[1026,{"$nulls":5},{"$f":"IF(D1028=8,\"Cadet\",IF(D1028=7,\"Cadet\",IF(D1028=6,\"56\",IF(D1028=5,\"56\",IF(D1028=4,\"34\",IF(D1028=3,\"34\",\"No Group\"))))))","v":"No Group"},"*","*1026*",null,"    ",{"$nulls":7},false]
[1027,{"$nulls":5},"No Group","*","*1027*",null,"    ",{"$nulls":7},false]
[1028,{"$nulls":5},"No Group","*","*1028*",null,"    ",{"$nulls":7},false]
[1029,{"$nulls":5},"No Group","*","*1029*",null,{"$f":"CONCATENATE(B1031,\" \",C1031,\" \",D1031,\" \",F1031,\" \",E1031)","v":"    "},{"$nulls":7},false]
[1030,{"$nulls":5},"No Group","*","*1030*",null,"    ",{"$nulls":7},false]
[1031,{"$nulls":5},"No Group","*","*1031*",null,"    ",{"$nulls":7},false]
[1032,{"$nulls":5},"No Group","*","*1032*",null,"    ",{"$nulls":7},false]
[1033,{"$nulls":5},"No Group","*","*1033*",null,"    ",{"$nulls":7},false]
[1034,{"$nulls":5},"No Group","*","*1034*",null,"    ",{"$nulls":7},false]
[1035,{"$nulls":5},"No Group","*","*1035*",null,"    ",{"$nulls":7},false]
[1036,{"$nulls":5},"No Group","*","*1036*",null,"    ",{"$nulls":7},false]
[1037,{"$nulls":5},"No Group","*","*1037*",null,"    ",{"$nulls":7},false]
[1038,{"$nulls":5},"No Group","*","*1038*",null,"    ",{"$nulls":7},{"$f":"EXACT(A1040,A1041)","v":false}]
[1039,{"$nulls":5},"No Group","*","*1039*",null,"    ",{"$nulls":7},false]
[1040,{"$nulls":5},"No Group","*","*1040*",null,"    ",{"$nulls":7},false]
[1041,{"$nulls":5},"No Group","*","*1041*",null,"    ",{"$nulls":7},false]
[1042,{"$nulls":5},"No Group","*","*1042*",null,"    ",{"$nulls":7},false]
[1043,{"$nulls":5},"No Group","*","*1043*",null,"    ",{"$nulls":7},false]
[1044,{"$nulls":5},"No Group","*","*1044*",null,"    ",{"$nulls":7},false]
[1045,{"$nulls":5},"No Group","*","*1045*",null,"    ",{"$nulls":7},false]
[1046,{"$nulls":5},"No Group","*","*1046*",null,"    ",{"$nulls":7},false]
[1047,{"$nulls":5},"No Group","*","*1047*",null,"    ",{"$nulls":7},false]
[1048,{"$nulls":5},"No Group","*","*1048*",null,"    ",{"$nulls":7},false]
[1049,{"$nulls":5},"No Group","*","*1049*",null,"    ",{"$nulls":7},false]
[1050,{"$nulls":5},"No Group","*","*1050*",null,"    ",{"$nulls":7},false]
[1051,{"$nulls":5},"No Group","*","*1051*",null,"    ",{"$nulls":7},false]
[1052,{"$nulls":5},"No Group","*","*1052*",null,"    ",{"$nulls":7},false]
[1053,{"$nulls":5},"No Group","*","*1053*",null,"    ",{"$nulls":7},false]
[1054,{"$nulls":5},"No Group","*","*1054*",null,"    ",{"$nulls":7},false]
[1055,{"$nulls":5},"No Group","*","*1055*",null,"    ",{"$nulls":7},false]
[1056,{"$nulls":5},"No Group","*","*1056*",null,"    ",{"$nulls":7},false]
[1057,{"$nulls":5},"No Group","*","*1057*",null,"    ",{"$nulls":7},false]
[1058,{"$nulls":5},"No Group","*","*1058*",null,"    ",{"$nulls":7},false]
[1059,{"$nulls":5},"No Group","*","*1059*",{"$nulls":9},false]
[1060,{"$nulls":5},"No Group","*","*1060*",{"$nulls":9},false]
[1061,{"$nulls":5},"No Group","*","*1061*",{"$nulls":9},false]
[1062,{"$nulls":5},"No Group","*","*1062*",{"$nulls":9},false]
[1063,{"$nulls":5},"No Group","*","*1063*",{"$nulls":9},false]
[1064,{"$nulls":5},"No Group","*","*1064*",{"$nulls":9},false]
[{"$nulls":18},true]
[{"$nulls":18},true]
[{"$nulls":18},true]
[{"$nulls":18},true]
[{"$nulls":18},true]
[{"$nulls":18},true]
[{"$nulls":18},true]
[{"$nulls":18},true]
[{"$nulls":18},true]
[{"$nulls":18},true]
[{"$nulls":18},true]
[{"$nulls":18},true]
[{"$nulls":18},true]
[{"$nulls":18},true]

{"sheet":"Sheet1","index":2,"n_rows":0,"n_cols":0,"rows_kept":0}

{"sheet":"Schedule","index":3,"n_rows":0,"n_cols":0,"rows_kept":0}

{"sheet":"Teams","index":4,"n_rows":29,"n_cols":11,"rows_kept":29}
["Schedule"]
["2012-04-15","Holy Spirit, Indy","OL Mount Carmel","St. Joan of Arc","St. Mark","St. Matthew","St. Pius X","St. Michael, Grnfld.","St. Susanna"]
["2012-04-22","St. Charles","Little Flower","OL Greenwood","St. Barnabas","St. Michael, Indy"]
["2012-04-29","Catholic Academies","Christ the King","OL Lourdes","Saints Francis and Clare ","St. Monica","St. Roch "]
["2012-05-06","Nativity","OL Greenwood","Saints Francis and Clare ","St. Barnabas","St. Mark","St. Roch","Catholic Academies   "]
[]
[null,"School","First","Last","email",null,null,2015]
[null,"Holy Spirit, Indy","Larry","Lenne","lsquared86@hotmail.com",null,null,"SSFC","Andrea","Pawlik","mapawlik@comcast.net"]
[null,"St. Charles","Alex","Tanford","tanford@indiana.edu",null,null,"St Charles","Maria","Hamilton","sammyalice3535@gmail.com"]
[null,"Catholic Academies","Tim","Shilson","tiro5@juno.com",null,null,"Nativity","Jeff","Silcox","jeffsilcox@gmail.com"]
[null,"Nativity","Michael","O'Maley","mike.omaley@yahoo.com",null,null,"St Roch and St Mark","Carol","Pitzer","cpitzer@lilly.com"]
[null,"OL Mount Carmel","Michael","Quigley","michael.quigley@us.ing.com",null,null,"OLG","Brenda","Origer","baoriger@gmail.com"]
[null,"Little Flower","Kevin","Egan","kpegan1@gmail.com",null,null,"St Barnabas","Rick","Dias","rdias@ronnoco.com"]
[null,"Christ the King","Annette","Harden","khsmommy2@yahoo.com"]
[null,"OL of the Greenwood","Brenda","Origer","b.origer@comcast.net"]
[null,"St. Joan of Arc","Lucian","Anderson","coralrockandy@yahoo.com"]
[null,"OL Lourdes","Kevin","Martin","kmartin@blackburnarchitects.com"]
[null,"Saints Francis and Clare ","Andrea","Pawlik","mapawlik@comcast.net"]
[null,"St. Mark","Carol","Pitzer","cpitzer@lilly.com"]
[null,"St. Barnabas","Rick","Dias","rdias@acorndistributors.com"]
[null,"St. Matthew","Greg","Bowers","gabowers@hotmail.com"]
[null,"St. Michael, Indy","Vaughn","Taylor","vaughn.keith@gmail.com"]
[null,"St. Monica","Todd","Finnell","tafinnell1@gmail.com"]
[null,"St. Pius X","Kirby","Kinghorn","kkinghorn@muesingmgmt.com"]
[null,"St. Roch","Tony","Egan","tegan@maglog.com"]
[null,"St. Michael, Grnfld.","David","Flora","dflora2003@yahoo.com"]
[null,"Catholic Academies","Tim","Shilson","tiro5@juno.com"]
[null,"St. Susanna","Colin","Chapin","cchapin@saintsusanna.com"]
[null,"OL of the Greenwood","Jeff","Hume","driverisme@att.net"]

{"sheet":"1600 Boys","index":5,"n_rows":33,"n_cols":13,"rows_kept":33}
["Bib","HeatOrder","Dif","Time","Grade","FName","Lname","School","Heat","Heat Place","Overall Place","Group","Return to Schedule of Events"]
[163,null,"00:05:04.840","00:05:04.840",{"$f":"VLOOKUP($A2,Participants!$A:$E,4,FALSE)","v":7},{"$f":"VLOOKUP($A2,Participants!$A:$E,2,FALSE)","v":"Cameron"},{"$f":"VLOOKUP($A2,Participants!$A:$E,3,FALSE)","v":"Cox"},{"$f":"VLOOKUP($A2,Participants!$A:$E,5,FALSE)","v":"SSFC"},1,null,{"$f":"RANK(D2,$D$2:$D$84,1)","v":1},{"$f":"VLOOKUP(A2,Participants!A:G,7,FALSE)","v":"Cadet"},"Add or Update Participants"]
[59,null,"00:00:41.080","00:05:48.800",{"$f":"VLOOKUP($A3,Participants!$A:$E,4,FALSE)","v":7},{"$f":"VLOOKUP($A3,Participants!$A:$E,2,FALSE)","v":"Ben "},{"$f":"VLOOKUP($A3,Participants!$A:$E,3,FALSE)","v":"Kauffman"},{"$f":"VLOOKUP($A3,Participants!$A:$E,5,FALSE)","v":"St Jude"},1,null,{"$f":"RANK(D3,$D$2:$D$84,1)","v":2},{"$f":"VLOOKUP(A3,Participants!A:G,7,FALSE)","v":"Cadet"},"Overall Place and Points"]
[143,null,"00:00:04.740","00:05:53.540",{"$f":"VLOOKUP($A4,Participants!$A:$E,4,FALSE)","v":8},{"$f":"VLOOKUP($A4,Participants!$A:$E,2,FALSE)","v":"Nick"},{"$f":"VLOOKUP($A4,Participants!$A:$E,3,FALSE)","v":"Jackson"},{"$f":"VLOOKUP($A4,Participants!$A:$E,5,FALSE)","v":"OLG"},1,null,{"$f":"RANK(D4,$D$2:$D$84,1)","v":3},{"$f":"VLOOKUP(A4,Participants!A:G,7,FALSE)","v":"Cadet"}]
[216,null,"00:00:01.310","00:05:54.850",{"$f":"VLOOKUP($A5,Participants!$A:$E,4,FALSE)","v":7},{"$f":"VLOOKUP($A5,Participants!$A:$E,2,FALSE)","v":"Nicholas"},{"$f":"VLOOKUP($A5,Participants!$A:$E,3,FALSE)","v":"Woodburn"},{"$f":"VLOOKUP($A5,Participants!$A:$E,5,FALSE)","v":"SSFC"},1,null,{"$f":"RANK(D5,$D$2:$D$84,1)","v":4},{"$f":"VLOOKUP(A5,Participants!A:G,7,FALSE)","v":"Cadet"},"Bib # field must be empty"]
[89,null,"00:00:08.940","00:06:03.800",{"$f":"VLOOKUP($A6,Participants!$A:$E,4,FALSE)","v":8},{"$f":"VLOOKUP($A6,Participants!$A:$E,2,FALSE)","v":"Brandon"},{"$f":"VLOOKUP($A6,Participants!$A:$E,3,FALSE)","v":"Mejia-Herrera"},{"$f":"VLOOKUP($A6,Participants!$A:$E,5,FALSE)","v":"St Jude"},1,null,{"$f":"RANK(D5,$D$2:$D$84,1)","v":4},{"$f":"VLOOKUP(A6,Participants!A:G,7,FALSE)","v":"Cadet"},"Paste times into B3"]
[17,null,"00:00:08.740","00:06:12.540",{"$f":"VLOOKUP($A7,Participants!$A:$E,4,FALSE)","v":7},{"$f":"VLOOKUP($A7,Participants!$A:$E,2,FALSE)","v":"Emmett"},{"$f":"VLOOKUP($A7,Participants!$A:$E,3,FALSE)","v":"Burkhardt"},{"$f":"VLOOKUP($A7,Participants!$A:$E,5,FALSE)","v":"St Jude"},1,null,5,{"$f":"VLOOKUP(A7,Participants!A:G,7,FALSE)","v":"Cadet"},"CTRL-SHIFT-T to sort times"]
[298,null,"00:00:07.280","00:06:19.830",{"$f":"VLOOKUP($A8,Participants!$A:$E,4,FALSE)","v":7},{"$f":"VLOOKUP($A8,Participants!$A:$E,2,FALSE)","v":"AJ"},{"$f":"VLOOKUP($A8,Participants!$A:$E,3,FALSE)","v":"Morris"},{"$f":"VLOOKUP($A8,Participants!$A:$E,5,FALSE)","v":"St. Barnabas"},1,null,6,{"$f":"VLOOKUP(A8,Participants!A:G,7,FALSE)","v":"Cadet"},"enter #s"]
[125,null,"00:00:06.960","00:06:26.790",{"$f":"VLOOKUP($A9,Participants!$A:$E,4,FALSE)","v":7},{"$f":"VLOOKUP($A9,Participants!$A:$E,2,FALSE)","v":"Charlie"},{"$f":"VLOOKUP($A9,Participants!$A:$E,3,FALSE)","v":"Spearing"},{"$f":"VLOOKUP($A9,Participants!$A:$E,5,FALSE)","v":"St Jude"},1,null,7,{"$f":"VLOOKUP(A9,Participants!A:G,7,FALSE)","v":"Cadet"},"upper section should be 34 times"]
[245,null,"00:00:03.590","00:06:30.390",{"$f":"VLOOKUP($A10,Participants!$A:$E,4,FALSE)","v":7},{"$f":"VLOOKUP($A10,Participants!$A:$E,2,FALSE)","v":"Isaiah"},{"$f":"VLOOKUP($A10,Participants!$A:$E,3,FALSE)","v":"Littell"},{"$f":"VLOOKUP($A10,Participants!$A:$E,5,FALSE)","v":"United We Run"},1,null,8,{"$f":"VLOOKUP(A10,Participants!A:G,7,FALSE)","v":"Cadet"}]
[165,null,"00:00:08.120","00:06:38.510",{"$f":"VLOOKUP($A11,Participants!$A:$E,4,FALSE)","v":7},{"$f":"VLOOKUP($A11,Participants!$A:$E,2,FALSE)","v":"Anthony "},{"$f":"VLOOKUP($A11,Participants!$A:$E,3,FALSE)","v":"Cuadros"},{"$f":"VLOOKUP($A11,Participants!$A:$E,5,FALSE)","v":"SSFC"},1,null,9,{"$f":"VLOOKUP(A11,Participants!A:G,7,FALSE)","v":"Cadet"}]
[null,null,"00:00:10.770"]
[152,null,"00:00:10.720","00:06:49.280",{"$f":"VLOOKUP($A13,Participants!$A:$E,4,FALSE)","v":6},{"$f":"VLOOKUP($A13,Participants!$A:$E,2,FALSE)","v":"Gabe"},{"$f":"VLOOKUP($A13,Participants!$A:$E,3,FALSE)","v":"Argiris"},{"$f":"VLOOKUP($A13,Participants!$A:$E,5,FALSE)","v":"SSFC"},1,null,1,{"$f":"VLOOKUP(A13,Participants!A:G,7,FALSE)","v":"56"}]
[46,null,"00:00:00.160","00:07:00",{"$f":"VLOOKUP($A14,Participants!$A:$E,4,FALSE)","v":6},{"$f":"VLOOKUP($A14,Participants!$A:$E,2,FALSE)","v":"Cesar"},{"$f":"VLOOKUP($A14,Participants!$A:$E,3,FALSE)","v":"Green"},{"$f":"VLOOKUP($A14,Participants!$A:$E,5,FALSE)","v":"St Jude"},1,null,2,{"$f":"VLOOKUP(A14,Participants!A:G,7,FALSE)","v":"56"}]
[254,null,"00:00:05.370","00:07:05.470",{"$f":"VLOOKUP($A15,Participants!$A:$E,4,FALSE)","v":6},{"$f":"VLOOKUP($A15,Participants!$A:$E,2,FALSE)","v":"Jonah"},{"$f":"VLOOKUP($A15,Participants!$A:$E,3,FALSE)","v":"Odum"},{"$f":"VLOOKUP($A15,Participants!$A:$E,5,FALSE)","v":"United We Run"},1,null,3,{"$f":"VLOOKUP(A15,Participants!A:G,7,FALSE)","v":"56"},"middle section should be 56 times"]
[303,null,"00:00:02.050","00:07:30.140",{"$f":"VLOOKUP($A16,Participants!$A:$E,4,FALSE)","v":6},{"$f":"VLOOKUP($A16,Participants!$A:$E,2,FALSE)","v":"Mason"},{"$f":"VLOOKUP($A16,Participants!$A:$E,3,FALSE)","v":"Schnarr"},{"$f":"VLOOKUP($A16,Participants!$A:$E,5,FALSE)","v":"St. Barnabas"},1,null,4,{"$f":"VLOOKUP(A16,Participants!A:G,7,FALSE)","v":"56"}]
[197,null,"00:00:08.130","00:08:25.980",{"$f":"VLOOKUP($A17,Participants!$A:$E,4,FALSE)","v":5},{"$f":"VLOOKUP($A17,Participants!$A:$E,2,FALSE)","v":"Richie"},{"$f":"VLOOKUP($A17,Participants!$A:$E,3,FALSE)","v":"Scheve"},{"$f":"VLOOKUP($A17,Participants!$A:$E,5,FALSE)","v":"SSFC"},1,null,5,{"$f":"VLOOKUP(A17,Participants!A:G,7,FALSE)","v":"56"}]
[{"$nulls":12},"lower section should be cadet times"]
[214,null,null,"00:07:00.160",{"$f":"VLOOKUP($A19,Participants!$A:$E,4,FALSE)","v":3},{"$f":"VLOOKUP($A19,Participants!$A:$E,2,FALSE)","v":"Alex"},{"$f":"VLOOKUP($A19,Participants!$A:$E,3,FALSE)","v":"Woodburn"},{"$f":"VLOOKUP($A19,Participants!$A:$E,5,FALSE)","v":"SSFC"},1,null,1,{"$f":"VLOOKUP(A19,Participants!A:G,7,FALSE)","v":"34"}]
[101,null,null,"00:07:05.530",{"$f":"VLOOKUP($A20,Participants!$A:$E,4,FALSE)","v":4},{"$f":"VLOOKUP($A20,Participants!$A:$E,2,FALSE)","v":"Sammy"},{"$f":"VLOOKUP($A20,Participants!$A:$E,3,FALSE)","v":"Perkins"},{"$f":"VLOOKUP($A20,Participants!$A:$E,5,FALSE)","v":"St Jude"},1,null,2,{"$f":"VLOOKUP(A20,Participants!A:G,7,FALSE)","v":"34"}]
[262,null,null,"00:07:07.590",{"$f":"VLOOKUP($A21,Participants!$A:$E,4,FALSE)","v":4},{"$f":"VLOOKUP($A21,Participants!$A:$E,2,FALSE)","v":"Teddy"},{"$f":"VLOOKUP($A21,Participants!$A:$E,3,FALSE)","v":"Schott"},{"$f":"VLOOKUP($A21,Participants!$A:$E,5,FALSE)","v":"United We Run"},1,null,3,{"$f":"VLOOKUP(A21,Participants!A:G,7,FALSE)","v":"34"}]
[309,null,null,"00:07:15.730",{"$f":"VLOOKUP($A22,Participants!$A:$E,4,FALSE)","v":4},{"$f":"VLOOKUP($A22,Participants!$A:$E,2,FALSE)","v":"Vince"},{"$f":"VLOOKUP($A22,Participants!$A:$E,3,FALSE)","v":"Uberta"},{"$f":"VLOOKUP($A22,Participants!$A:$E,5,FALSE)","v":"St. Barnabas"},1,null,4,{"$f":"VLOOKUP(A22,Participants!A:G,7,FALSE)","v":"34"}]
[86,null,null,"00:07:28.060",{"$f":"VLOOKUP($A23,Participants!$A:$E,4,FALSE)","v":3},{"$f":"VLOOKUP($A23,Participants!$A:$E,2,FALSE)","v":"Oliver"},{"$f":"VLOOKUP($A23,Participants!$A:$E,3,FALSE)","v":"Mayer"},{"$f":"VLOOKUP($A23,Participants!$A:$E,5,FALSE)","v":"St Jude"},1,null,5,{"$f":"VLOOKUP(A23,Participants!A:G,7,FALSE)","v":"34"}]
[77,null,null,"00:07:35.530",{"$f":"VLOOKUP($A24,Participants!$A:$E,4,FALSE)","v":3},{"$f":"VLOOKUP($A24,Participants!$A:$E,2,FALSE)","v":"Adrian"},{"$f":"VLOOKUP($A24,Participants!$A:$E,3,FALSE)","v":"Maldonado"},{"$f":"VLOOKUP($A24,Participants!$A:$E,5,FALSE)","v":"St Jude"},1,null,6,{"$f":"VLOOKUP(A24,Participants!A:G,7,FALSE)","v":"34"}]
[150,null,null,"00:07:54.120",{"$f":"VLOOKUP($A25,Participants!$A:$E,4,FALSE)","v":4},{"$f":"VLOOKUP($A25,Participants!$A:$E,2,FALSE)","v":"Tyler"},{"$f":"VLOOKUP($A25,Participants!$A:$E,3,FALSE)","v":"Allen"},{"$f":"VLOOKUP($A25,Participants!$A:$E,5,FALSE)","v":"SSFC"},1,null,7,{"$f":"VLOOKUP(A25,Participants!A:G,7,FALSE)","v":"34"}," "]
[127,null,null,"00:07:59.350",{"$f":"VLOOKUP($A26,Participants!$A:$E,4,FALSE)","v":3},{"$f":"VLOOKUP($A26,Participants!$A:$E,2,FALSE)","v":"Thomas"},{"$f":"VLOOKUP($A26,Participants!$A:$E,3,FALSE)","v":"Spearing"},{"$f":"VLOOKUP($A26,Participants!$A:$E,5,FALSE)","v":"St Jude"},1,null,8,{"$f":"VLOOKUP(A26,Participants!A:G,7,FALSE)","v":"34"}]
[247,null,null,"00:08:33.780",{"$f":"VLOOKUP($A27,Participants!$A:$E,4,FALSE)","v":4},{"$f":"VLOOKUP($A27,Participants!$A:$E,2,FALSE)","v":"Oliver"},{"$f":"VLOOKUP($A27,Participants!$A:$E,3,FALSE)","v":"McClellan"},{"$f":"VLOOKUP($A27,Participants!$A:$E,5,FALSE)","v":"United We Run"},1,null,9,{"$f":"VLOOKUP(A27,Participants!A:G,7,FALSE)","v":"34"}]
[]
[{"$nulls":4},{"$f":"VLOOKUP($A29,Participants!$A:$E,4,FALSE)","v":{"$error":"#N/A"}},{"$f":"VLOOKUP($A29,Participants!$A:$E,2,FALSE)","v":{"$error":"#N/A"}},{"$f":"VLOOKUP($A29,Participants!$A:$E,3,FALSE)","v":{"$error":"#N/A"}},{"$f":"VLOOKUP($A29,Participants!$A:$E,5,FALSE)","v":{"$error":"#N/A"}},3,{"$f":"RANK(D28,IF(I29=3,$D$18:$D$32,),1)","v":{"$error":"#N/A"}},{"$f":"RANK(D28,$D$2:$D$84,1)","v":{"$error":"#N/A"}},{"$f":"VLOOKUP(A29,Participants!A:G,7,FALSE)","v":{"$error":"#N/A"}}]
[{"$nulls":4},{"$f":"VLOOKUP($A30,Participants!$A:$E,4,FALSE)","v":{"$error":"#N/A"}},{"$f":"VLOOKUP($A30,Participants!$A:$E,2,FALSE)","v":{"$error":"#N/A"}},{"$f":"VLOOKUP($A30,Participants!$A:$E,3,FALSE)","v":{"$error":"#N/A"}},{"$f":"VLOOKUP($A30,Participants!$A:$E,5,FALSE)","v":{"$error":"#N/A"}},3,{"$f":"RANK(D29,IF(I30=3,$D$18:$D$32,),1)","v":{"$error":"#N/A"}},{"$f":"RANK(D29,$D$2:$D$84,1)","v":{"$error":"#N/A"}},{"$f":"VLOOKUP(A30,Participants!A:G,7,FALSE)","v":{"$error":"#N/A"}}]
[{"$nulls":4},{"$f":"VLOOKUP($A31,Participants!$A:$E,4,FALSE)","v":{"$error":"#N/A"}},{"$f":"VLOOKUP($A31,Participants!$A:$E,2,FALSE)","v":{"$error":"#N/A"}},{"$f":"VLOOKUP($A31,Participants!$A:$E,3,FALSE)","v":{"$error":"#N/A"}},{"$f":"VLOOKUP($A31,Participants!$A:$E,5,FALSE)","v":{"$error":"#N/A"}},3,{"$f":"RANK(D30,IF(I31=3,$D$18:$D$32,),1)","v":{"$error":"#N/A"}},{"$f":"RANK(D30,$D$2:$D$84,1)","v":{"$error":"#N/A"}},{"$f":"VLOOKUP(A31,Participants!A:G,7,FALSE)","v":{"$error":"#N/A"}}]
[{"$nulls":4},{"$f":"VLOOKUP($A32,Participants!$A:$E,4,FALSE)","v":{"$error":"#N/A"}},{"$f":"VLOOKUP($A32,Participants!$A:$E,2,FALSE)","v":{"$error":"#N/A"}},{"$f":"VLOOKUP($A32,Participants!$A:$E,3,FALSE)","v":{"$error":"#N/A"}},{"$f":"VLOOKUP($A32,Participants!$A:$E,5,FALSE)","v":{"$error":"#N/A"}},3,{"$f":"RANK(D31,IF(I32=3,$D$18:$D$32,),1)","v":{"$error":"#N/A"}},{"$f":"RANK(D31,$D$2:$D$84,1)","v":{"$error":"#N/A"}},{"$f":"VLOOKUP(A32,Participants!A:G,7,FALSE)","v":{"$error":"#N/A"}}]
[{"$nulls":4},{"$f":"VLOOKUP($A33,Participants!$A:$E,4,FALSE)","v":{"$error":"#N/A"}},{"$f":"VLOOKUP($A33,Participants!$A:$E,2,FALSE)","v":{"$error":"#N/A"}},{"$f":"VLOOKUP($A33,Participants!$A:$E,3,FALSE)","v":{"$error":"#N/A"}},{"$f":"VLOOKUP($A33,Participants!$A:$E,5,FALSE)","v":{"$error":"#N/A"}},3,{"$f":"RANK(D32,IF(I33=3,$D$18:$D$32,),1)","v":{"$error":"#N/A"}},{"$f":"RANK(D32,$D$2:$D$84,1)","v":{"$error":"#N/A"}},{"$f":"VLOOKUP(A33,Participants!A:G,7,FALSE)","v":{"$error":"#N/A"}}]

{"sheet":"400 4th Boys","index":6,"n_rows":42,"n_cols":14,"rows_kept":42}
["Bib","Heat Order",null,"Time","Grade","FName","Lname","School","Heat","Heat Place","Overall Place",null,"Return to Schedule of Events"]
[169,"Lap 1","00:01:18.070","00:01:18.070",{"$f":"VLOOKUP($A2,Participants!$A:$E,4,FALSE)","v":4},{"$f":"VLOOKUP($A2,Participants!$A:$E,2,FALSE)","v":"Xavier"},{"$f":"VLOOKUP($A2,Participants!$A:$E,3,FALSE)","v":"Eble"},{"$f":"VLOOKUP($A2,Participants!$A:$E,5,FALSE)","v":"SSFC"},1,{"$f":"RANK(D2,IF(I2=1,$D$2:$D$7,),1)","v":1},{"$f":"RANK(D2,$D$2:$D$100,1)","v":1},null,null,{"$f":"IF(K2=K3,IF(K2=K1,\"Duplicate\",\"First\"),IF(K1=K2,\"Last\",\"Unique\"))","v":"Unique"}]
[122,"Lap 2","00:00:04.940","00:01:23.010",{"$f":"VLOOKUP($A3,Participants!$A:$E,4,FALSE)","v":3},{"$f":"VLOOKUP($A3,Participants!$A:$E,2,FALSE)","v":"Dominic"},{"$f":"VLOOKUP($A3,Participants!$A:$E,3,FALSE)","v":"Smith"},{"$f":"VLOOKUP($A3,Participants!$A:$E,5,FALSE)","v":"St Jude"},1,2,2,null,"Add or Update Participants"]
[157,"Lap 3","00:00:06.960","00:01:29.970",{"$f":"VLOOKUP($A4,Participants!$A:$E,4,FALSE)","v":4},{"$f":"VLOOKUP($A4,Participants!$A:$E,2,FALSE)","v":"Parker"},{"$f":"VLOOKUP($A4,Participants!$A:$E,3,FALSE)","v":"Cipich"},{"$f":"VLOOKUP($A4,Participants!$A:$E,5,FALSE)","v":"SSFC"},1,3,4,null,"Overall Place and Points"]
[63,"Lap 4","00:00:01.630","00:01:31.610",{"$f":"VLOOKUP($A5,Participants!$A:$E,4,FALSE)","v":4},{"$f":"VLOOKUP($A5,Participants!$A:$E,2,FALSE)","v":"Caleb"},{"$f":"VLOOKUP($A5,Participants!$A:$E,3,FALSE)","v":"Kitchens"},{"$f":"VLOOKUP($A5,Participants!$A:$E,5,FALSE)","v":"St Jude"},1,4,5]
[150,"Lap 5","00:00:00.760","00:01:32.370",{"$f":"VLOOKUP($A6,Participants!$A:$E,4,FALSE)","v":4},{"$f":"VLOOKUP($A6,Participants!$A:$E,2,FALSE)","v":"Tyler"},{"$f":"VLOOKUP($A6,Participants!$A:$E,3,FALSE)","v":"Allen"},{"$f":"VLOOKUP($A6,Participants!$A:$E,5,FALSE)","v":"SSFC"},1,5,7]
[267,"Lap 6","00:00:16.940","00:01:49.320",{"$f":"VLOOKUP($A7,Participants!$A:$E,4,FALSE)","v":4},{"$f":"VLOOKUP($A7,Participants!$A:$E,2,FALSE)","v":"Lee"},{"$f":"VLOOKUP($A7,Participants!$A:$E,3,FALSE)","v":"Stepp"},{"$f":"VLOOKUP($A7,Participants!$A:$E,5,FALSE)","v":"United We Run"},1,6,12]
[]
[83,"Lap 1","00:01:24.080","00:01:24.080",{"$f":"VLOOKUP($A9,Participants!$A:$E,4,FALSE)","v":4},{"$f":"VLOOKUP($A9,Participants!$A:$E,2,FALSE)","v":"Jack "},{"$f":"VLOOKUP($A9,Participants!$A:$E,3,FALSE)","v":"May"},{"$f":"VLOOKUP($A9,Participants!$A:$E,5,FALSE)","v":"St Jude"},2,{"$f":"RANK(D9,IF(I9=2,$D$9:$D$14,),1)","v":1},{"$f":"RANK(D9,$D$2:$D$100,1)","v":3}]
[135,"Lap 2","00:00:07.640","00:01:31.730",{"$f":"VLOOKUP($A10,Participants!$A:$E,4,FALSE)","v":4},{"$f":"VLOOKUP($A10,Participants!$A:$E,2,FALSE)","v":"Max"},{"$f":"VLOOKUP($A10,Participants!$A:$E,3,FALSE)","v":"Weliever"},{"$f":"VLOOKUP($A10,Participants!$A:$E,5,FALSE)","v":"St Jude"},2,2,6]
[77,"Lap 3","00:00:03.430","00:01:35.160",{"$f":"VLOOKUP($A11,Participants!$A:$E,4,FALSE)","v":3},{"$f":"VLOOKUP($A11,Participants!$A:$E,2,FALSE)","v":"Adrian"},{"$f":"VLOOKUP($A11,Participants!$A:$E,3,FALSE)","v":"Maldonado"},{"$f":"VLOOKUP($A11,Participants!$A:$E,5,FALSE)","v":"St Jude"},2,3,8]
[247,"Lap 4","00:00:02.800","00:01:37.960",{"$f":"VLOOKUP($A12,Participants!$A:$E,4,FALSE)","v":4},{"$f":"VLOOKUP($A12,Participants!$A:$E,2,FALSE)","v":"Oliver"},{"$f":"VLOOKUP($A12,Participants!$A:$E,3,FALSE)","v":"McClellan"},{"$f":"VLOOKUP($A12,Participants!$A:$E,5,FALSE)","v":"United We Run"},2,4,9]
[260,"Lap 5","00:00:05.190","00:01:43.160",{"$f":"VLOOKUP($A13,Participants!$A:$E,4,FALSE)","v":4},{"$f":"VLOOKUP($A13,Participants!$A:$E,2,FALSE)","v":"Joel"},{"$f":"VLOOKUP($A13,Participants!$A:$E,3,FALSE)","v":"Riedeman"},{"$f":"VLOOKUP($A13,Participants!$A:$E,5,FALSE)","v":"United We Run"},2,5,10]
[187,"Lap 6","00:00:01.580","00:01:44.740",{"$f":"VLOOKUP($A14,Participants!$A:$E,4,FALSE)","v":4},{"$f":"VLOOKUP($A14,Participants!$A:$E,2,FALSE)","v":"Parker"},{"$f":"VLOOKUP($A14,Participants!$A:$E,3,FALSE)","v":"Meyers"},{"$f":"VLOOKUP($A14,Participants!$A:$E,5,FALSE)","v":"SSFC"},2,6,11]
[]
[{"$nulls":4},{"$f":"VLOOKUP($A16,Participants!$A:$E,4,FALSE)","v":{"$error":"#N/A"}},{"$f":"VLOOKUP($A16,Participants!$A:$E,2,FALSE)","v":{"$error":"#N/A"}},{"$f":"VLOOKUP($A16,Participants!$A:$E,3,FALSE)","v":{"$error":"#N/A"}},{"$f":"VLOOKUP($A16,Participants!$A:$E,5,FALSE)","v":{"$error":"#N/A"}},3,{"$f":"RANK(D16,IF(I16=3,$D$16:$D$21,),1)","v":{"$error":"#N/A"}},{"$f":"RANK(D16,$D$2:$D$100,1)","v":{"$error":"#N/A"}}]
[{"$nulls":4},{"$f":"VLOOKUP($A17,Participants!$A:$E,4,FALSE)","v":{"$error":"#N/A"}},{"$f":"VLOOKUP($A17,Participants!$A:$E,2,FALSE)","v":{"$error":"#N/A"}},{"$f":"VLOOKUP($A17,Participants!$A:$E,3,FALSE)","v":{"$error":"#N/A"}},{"$f":"VLOOKUP($A17,Participants!$A:$E,5,FALSE)","v":{"$error":"#N/A"}},3,{"$error":"#N/A"},{"$error":"#N/A"}]
[{"$nulls":4},{"$f":"VLOOKUP($A18,Participants!$A:$E,4,FALSE)","v":{"$error":"#N/A"}},{"$f":"VLOOKUP($A18,Participants!$A:$E,2,FALSE)","v":{"$error":"#N/A"}},{"$f":"VLOOKUP($A18,Participants!$A:$E,3,FALSE)","v":{"$error":"#N/A"}},{"$f":"VLOOKUP($A18,Participants!$A:$E,5,FALSE)","v":{"$error":"#N/A"}},3,{"$error":"#N/A"},{"$error":"#N/A"}]
[{"$nulls":4},{"$f":"VLOOKUP($A19,Participants!$A:$E,4,FALSE)","v":{"$error":"#N/A"}},{"$f":"VLOOKUP($A19,Participants!$A:$E,2,FALSE)","v":{"$error":"#N/A"}},{"$f":"VLOOKUP($A19,Participants!$A:$E,3,FALSE)","v":{"$error":"#N/A"}},{"$f":"VLOOKUP($A19,Participants!$A:$E,5,FALSE)","v":{"$error":"#N/A"}},3,{"$error":"#N/A"},{"$error":"#N/A"}]
[{"$nulls":4},{"$f":"VLOOKUP($A20,Participants!$A:$E,4,FALSE)","v":{"$error":"#N/A"}},{"$f":"VLOOKUP($A20,Participants!$A:$E,2,FALSE)","v":{"$error":"#N/A"}},{"$f":"VLOOKUP($A20,Participants!$A:$E,3,FALSE)","v":{"$error":"#N/A"}},{"$f":"VLOOKUP($A20,Participants!$A:$E,5,FALSE)","v":{"$error":"#N/A"}},3,{"$error":"#N/A"},{"$error":"#N/A"}]
[{"$nulls":4},{"$f":"VLOOKUP($A21,Participants!$A:$E,4,FALSE)","v":{"$error":"#N/A"}},{"$f":"VLOOKUP($A21,Participants!$A:$E,2,FALSE)","v":{"$error":"#N/A"}},{"$f":"VLOOKUP($A21,Participants!$A:$E,3,FALSE)","v":{"$error":"#N/A"}},{"$f":"VLOOKUP($A21,Participants!$A:$E,5,FALSE)","v":{"$error":"#N/A"}},3,{"$error":"#N/A"},{"$error":"#N/A"}]
[]
[{"$nulls":4},{"$f":"VLOOKUP($A23,Participants!$A:$E,4,FALSE)","v":{"$error":"#N/A"}},{"$f":"VLOOKUP($A23,Participants!$A:$E,2,FALSE)","v":{"$error":"#N/A"}},{"$f":"VLOOKUP($A23,Participants!$A:$E,3,FALSE)","v":{"$error":"#N/A"}},{"$f":"VLOOKUP($A23,Participants!$A:$E,5,FALSE)","v":{"$error":"#N/A"}},4,{"$f":"RANK(D23,IF(I23=4,$D$23:$D$28,),1)","v":{"$error":"#N/A"}},{"$f":"RANK(D23,$D$2:$D$100,1)","v":{"$error":"#N/A"}}]
[{"$nulls":4},{"$f":"VLOOKUP($A24,Participants!$A:$E,4,FALSE)","v":{"$error":"#N/A"}},{"$f":"VLOOKUP($A24,Participants!$A:$E,2,FALSE)","v":{"$error":"#N/A"}},{"$f":"VLOOKUP($A24,Participants!$A:$E,3,FALSE)","v":{"$error":"#N/A"}},{"$f":"VLOOKUP($A24,Participants!$A:$E,5,FALSE)","v":{"$error":"#N/A"}},4,{"$error":"#N/A"},{"$error":"#N/A"}]
[{"$nulls":4},{"$f":"VLOOKUP($A25,Participants!$A:$E,4,FALSE)","v":{"$error":"#N/A"}},{"$f":"VLOOKUP($A25,Participants!$A:$E,2,FALSE)","v":{"$error":"#N/A"}},{"$f":"VLOOKUP($A25,Participants!$A:$E,3,FALSE)","v":{"$error":"#N/A"}},{"$f":"VLOOKUP($A25,Participants!$A:$E,5,FALSE)","v":{"$error":"#N/A"}},4,{"$error":"#N/A"},{"$error":"#N/A"}]
[{"$nulls":4},{"$f":"VLOOKUP($A26,Participants!$A:$E,4,FALSE)","v":{"$error":"#N/A"}},{"$f":"VLOOKUP($A26,Participants!$A:$E,2,FALSE)","v":{"$error":"#N/A"}},{"$f":"VLOOKUP($A26,Participants!$A:$E,3,FALSE)","v":{"$error":"#N/A"}},{"$f":"VLOOKUP($A26,Participants!$A:$E,5,FALSE)","v":{"$error":"#N/A"}},4,{"$error":"#N/A"},{"$error":"#N/A"}]
[{"$nulls":4},{"$f":"VLOOKUP($A27,Participants!$A:$E,4,FALSE)","v":{"$error":"#N/A"}},{"$f":"VLOOKUP($A27,Participants!$A:$E,2,FALSE)","v":{"$error":"#N/A"}},{"$f":"VLOOKUP($A27,Participants!$A:$E,3,FALSE)","v":{"$error":"#N/A"}},{"$f":"VLOOKUP($A27,Participants!$A:$E,5,FALSE)","v":{"$error":"#N/A"}},4,{"$error":"#N/A"},{"$error":"#N/A"}]
[{"$nulls":4},{"$f":"VLOOKUP($A28,Participants!$A:$E,4,FALSE)","v":{"$error":"#N/A"}},{"$f":"VLOOKUP($A28,Participants!$A:$E,2,FALSE)","v":{"$error":"#N/A"}},{"$f":"VLOOKUP($A28,Participants!$A:$E,3,FALSE)","v":{"$error":"#N/A"}},{"$f":"VLOOKUP($A28,Participants!$A:$E,5,FALSE)","v":{"$error":"#N/A"}},4,{"$error":"#N/A"},{"$error":"#N/A"}]
[]
[{"$nulls":4},{"$f":"VLOOKUP($A30,Participants!$A:$E,4,FALSE)","v":{"$error":"#N/A"}},{"$f":"VLOOKUP($A30,Participants!$A:$E,2,FALSE)","v":{"$error":"#N/A"}},{"$f":"VLOOKUP($A30,Participants!$A:$E,3,FALSE)","v":{"$error":"#N/A"}},{"$f":"VLOOKUP($A30,Participants!$A:$E,5,FALSE)","v":{"$error":"#N/A"}},5,{"$f":"RANK(D30,IF(I30=5,$D$30:$D$35,),1)","v":{"$error":"#N/A"}},{"$f":"RANK(D30,$D$2:$D$100,1)","v":{"$error":"#N/A"}}]
[{"$nulls":4},{"$f":"VLOOKUP($A31,Participants!$A:$E,4,FALSE)","v":{"$error":"#N/A"}},{"$f":"VLOOKUP($A31,Participants!$A:$E,2,FALSE)","v":{"$error":"#N/A"}},{"$f":"VLOOKUP($A31,Participants!$A:$E,3,FALSE)","v":{"$error":"#N/A"}},{"$f":"VLOOKUP($A31,Participants!$A:$E,5,FALSE)","v":{"$error":"#N/A"}},5,{"$error":"#N/A"},{"$error":"#N/A"}]
[{"$nulls":4},{"$f":"VLOOKUP($A32,Participants!$A:$E,4,FALSE)","v":{"$error":"#N/A"}},{"$f":"VLOOKUP($A32,Participants!$A:$E,2,FALSE)","v":{"$error":"#N/A"}},{"$f":"VLOOKUP($A32,Participants!$A:$E,3,FALSE)","v":{"$error":"#N/A"}},{"$f":"VLOOKUP($A32,Participants!$A:$E,5,FALSE)","v":{"$error":"#N/A"}},5,{"$error":"#N/A"},{"$error":"#N/A"}]
[{"$nulls":4},{"$f":"VLOOKUP($A33,Participants!$A:$E,4,FALSE)","v":{"$error":"#N/A"}},{"$f":"VLOOKUP($A33,Participants!$A:$E,2,FALSE)","v":{"$error":"#N/A"}},{"$f":"VLOOKUP($A33,Participants!$A:$E,3,FALSE)","v":{"$error":"#N/A"}},{"$f":"VLOOKUP($A33,Participants!$A:$E,5,FALSE)","v":{"$error":"#N/A"}},5,{"$error":"#N/A"},{"$error":"#N/A"}]
[{"$nulls":4},{"$f":"VLOOKUP($A34,Participants!$A:$E,4,FALSE)","v":{"$error":"#N/A"}},{"$f":"VLOOKUP($A34,Participants!$A:$E,2,FALSE)","v":{"$error":"#N/A"}},{"$f":"VLOOKUP($A34,Participants!$A:$E,3,FALSE)","v":{"$error":"#N/A"}},{"$f":"VLOOKUP($A34,Participants!$A:$E,5,FALSE)","v":{"$error":"#N/A"}},5,{"$error":"#N/A"},{"$error":"#N/A"}]
[{"$nulls":4},{"$f":"VLOOKUP($A35,Participants!$A:$E,4,FALSE)","v":{"$error":"#N/A"}},{"$f":"VLOOKUP($A35,Participants!$A:$E,2,FALSE)","v":{"$error":"#N/A"}},{"$f":"VLOOKUP($A35,Participants!$A:$E,3,FALSE)","v":{"$error":"#N/A"}},{"$f":"VLOOKUP($A35,Participants!$A:$E,5,FALSE)","v":{"$error":"#N/A"}},5,{"$error":"#N/A"},{"$error":"#N/A"}]
[]
[{"$nulls":4},{"$f":"VLOOKUP($A37,Participants!$A:$E,4,FALSE)","v":{"$error":"#N/A"}},{"$f":"VLOOKUP($A37,Participants!$A:$E,2,FALSE)","v":{"$error":"#N/A"}},{"$f":"VLOOKUP($A37,Participants!$A:$E,3,FALSE)","v":{"$error":"#N/A"}},{"$f":"VLOOKUP($A37,Participants!$A:$E,5,FALSE)","v":{"$error":"#N/A"}},6,{"$f":"RANK(D37,IF(I37=6,$D$37:$D$42,),1)","v":{"$error":"#N/A"}},{"$f":"RANK(D37,$D$2:$D$100,1)","v":{"$error":"#N/A"}}]
[{"$nulls":4},{"$f":"VLOOKUP($A38,Participants!$A:$E,4,FALSE)","v":{"$error":"#N/A"}},{"$f":"VLOOKUP($A38,Participants!$A:$E,2,FALSE)","v":{"$error":"#N/A"}},{"$f":"VLOOKUP($A38,Participants!$A:$E,3,FALSE)","v":{"$error":"#N/A"}},{"$f":"VLOOKUP($A38,Participants!$A:$E,5,FALSE)","v":{"$error":"#N/A"}},6,{"$error":"#N/A"},{"$error":"#N/A"}]
[{"$nulls":4},{"$f":"VLOOKUP($A39,Participants!$A:$E,4,FALSE)","v":{"$error":"#N/A"}},{"$f":"VLOOKUP($A39,Participants!$A:$E,2,FALSE)","v":{"$error":"#N/A"}},{"$f":"VLOOKUP($A39,Participants!$A:$E,3,FALSE)","v":{"$error":"#N/A"}},{"$f":"VLOOKUP($A39,Participants!$A:$E,5,FALSE)","v":{"$error":"#N/A"}},6,{"$error":"#N/A"},{"$error":"#N/A"}]
[{"$nulls":4},{"$f":"VLOOKUP($A40,Participants!$A:$E,4,FALSE)","v":{"$error":"#N/A"}},{"$f":"VLOOKUP($A40,Participants!$A:$E,2,FALSE)","v":{"$error":"#N/A"}},{"$f":"VLOOKUP($A40,Participants!$A:$E,3,FALSE)","v":{"$error":"#N/A"}},{"$f":"VLOOKUP($A40,Participants!$A:$E,5,FALSE)","v":{"$error":"#N/A"}},6,{"$error":"#N/A"},{"$error":"#N/A"}]
[{"$nulls":4},{"$f":"VLOOKUP($A41,Participants!$A:$E,4,FALSE)","v":{"$error":"#N/A"}},{"$f":"VLOOKUP($A41,Participants!$A:$E,2,FALSE)","v":{"$error":"#N/A"}},{"$f":"VLOOKUP($A41,Participants!$A:$E,3,FALSE)","v":{"$error":"#N/A"}},{"$f":"VLOOKUP($A41,Participants!$A:$E,5,FALSE)","v":{"$error":"#N/A"}},6,{"$error":"#N/A"},{"$error":"#N/A"}]
[{"$nulls":4},{"$f":"VLOOKUP($A42,Participants!$A:$E,4,FALSE)","v":{"$error":"#N/A"}},{"$f":"VLOOKUP($A42,Participants!$A:$E,2,FALSE)","v":{"$error":"#N/A"}},{"$f":"VLOOKUP($A42,Participants!$A:$E,3,FALSE)","v":{"$error":"#N/A"}},{"$f":"VLOOKUP($A42,Participants!$A:$E,5,FALSE)","v":{"$error":"#N/A"}},6,{"$error":"#N/A"},{"$error":"#N/A"}]

{"sheet":"50 4th Boys","index":7,"n_rows":42,"n_cols":13,"rows_kept":42}
["Bib","HeatOrder",null,"Time","Grade","FName","Lname","School","Heat","Heat Place","Overall Place",null,"Return to Schedule of Events"]
[297,"Lap 1","00:00:08.500","00:00:08.500",{"$f":"VLOOKUP($A2,Participants!$A:$E,4,FALSE)","v":4},{"$f":"VLOOKUP($A2,Participants!$A:$E,2,FALSE)","v":"Evan"},{"$f":"VLOOKUP($A2,Participants!$A:$E,3,FALSE)","v":"Moore"},{"$f":"VLOOKUP($A2,Participants!$A:$E,5,FALSE)","v":"St. Barnabas"},1,{"$f":"RANK(D2,IF(I2=1,$D$2:$D$6,),1)","v":1},{"$f":"RANK(D2,$D$2:$D$99,1)","v":3}]
[201,"Lap 2","00:00:00.480","00:00:08.980",{"$f":"VLOOKUP($A3,Participants!$A:$E,4,FALSE)","v":4},{"$f":"VLOOKUP($A3,Participants!$A:$E,2,FALSE)","v":"Brayson"},{"$f":"VLOOKUP($A3,Participants!$A:$E,3,FALSE)","v":"Thomas"},{"$f":"VLOOKUP($A3,Participants!$A:$E,5,FALSE)","v":"SSFC"},1,{"$f":"RANK(D3,IF(I3=1,$D$2:$D$6,),1)","v":2},{"$f":"RANK(D3,$D$2:$D$99,1)","v":9},null,"Add or Update Participants"]
[249,"Lap 3","00:00:00.140","00:00:09.120",{"$f":"VLOOKUP($A4,Participants!$A:$E,4,FALSE)","v":4},{"$f":"VLOOKUP($A4,Participants!$A:$E,2,FALSE)","v":"Griffin"},{"$f":"VLOOKUP($A4,Participants!$A:$E,3,FALSE)","v":"McGuire"},{"$f":"VLOOKUP($A4,Participants!$A:$E,5,FALSE)","v":"United We Run"},1,{"$f":"RANK(D4,IF(I4=1,$D$2:$D$6,),1)","v":3},{"$f":"RANK(D4,$D$2:$D$99,1)","v":11},null,"Overall Place and Points"]
[147,"Lap 4","00:00:00.170","00:00:09.290",{"$f":"VLOOKUP($A5,Participants!$A:$E,4,FALSE)","v":3},{"$f":"VLOOKUP($A5,Participants!$A:$E,2,FALSE)","v":"Evan"},{"$f":"VLOOKUP($A5,Participants!$A:$E,3,FALSE)","v":"Stark"},{"$f":"VLOOKUP($A5,Participants!$A:$E,5,FALSE)","v":"OLG"},1,{"$f":"RANK(D5,IF(I5=1,$D$2:$D$6,),1)","v":4},{"$f":"RANK(D5,$D$2:$D$99,1)","v":13}]
[141,"Lap 5","00:00:00.220","00:00:09.510",{"$f":"VLOOKUP($A6,Participants!$A:$E,4,FALSE)","v":5},{"$f":"VLOOKUP($A6,Participants!$A:$E,2,FALSE)","v":"Vaylen"},{"$f":"VLOOKUP($A6,Participants!$A:$E,3,FALSE)","v":"Arnold"},{"$f":"VLOOKUP($A6,Participants!$A:$E,5,FALSE)","v":"OLG"},1,{"$f":"RANK(D6,IF(I6=1,$D$2:$D$6,),1)","v":5},{"$f":"RANK(D6,$D$2:$D$99,1)","v":16}]
[285,"Lap 7","00:00:00.430","00:00:10.340",{"$f":"VLOOKUP($A7,Participants!$A:$E,4,FALSE)","v":4},{"$f":"VLOOKUP($A7,Participants!$A:$E,2,FALSE)","v":"Drake"},{"$f":"VLOOKUP($A7,Participants!$A:$E,3,FALSE)","v":"Lally"},{"$f":"VLOOKUP($A7,Participants!$A:$E,5,FALSE)","v":"St. Barnabas"},1,{"$f":"RANK(#REF!,IF(I7=1,$D$2:$D$6,),1)","v":{"$error":"#REF!"}},{"$f":"RANK(#REF!,$D$2:$D$99,1)","v":{"$error":"#REF!"}}]
[]
[178,"Lap 1","00:00:08.220","00:00:08.220",{"$f":"VLOOKUP($A9,Participants!$A:$E,4,FALSE)","v":3},{"$f":"VLOOKUP($A9,Participants!$A:$E,2,FALSE)","v":"Bo"},{"$f":"VLOOKUP($A9,Participants!$A:$E,3,FALSE)","v":"Huff"},{"$f":"VLOOKUP($A9,Participants!$A:$E,5,FALSE)","v":"SSFC"},2,{"$f":"RANK(D8,IF(I9=2,$D$8:$D$13,),1)","v":{"$error":"#N/A"}},{"$f":"RANK(D8,$D$2:$D$99,1)","v":{"$error":"#N/A"}}]
[67,"Lap 2","00:00:00.190","00:00:08.420",{"$f":"VLOOKUP($A10,Participants!$A:$E,4,FALSE)","v":3},{"$f":"VLOOKUP($A10,Participants!$A:$E,2,FALSE)","v":"Mac"},{"$f":"VLOOKUP($A10,Participants!$A:$E,3,FALSE)","v":"Kramer"},{"$f":"VLOOKUP($A10,Participants!$A:$E,5,FALSE)","v":"St Jude"},2,1,1]
[141,"Lap 3","00:00:00.430","00:00:08.850",{"$f":"VLOOKUP($A11,Participants!$A:$E,4,FALSE)","v":5},{"$f":"VLOOKUP($A11,Participants!$A:$E,2,FALSE)","v":"Vaylen"},{"$f":"VLOOKUP($A11,Participants!$A:$E,3,FALSE)","v":"Arnold"},{"$f":"VLOOKUP($A11,Participants!$A:$E,5,FALSE)","v":"OLG"},2,2,2]
[158,"Lap 4","00:00:00.170","00:00:09.020",{"$f":"VLOOKUP($A12,Participants!$A:$E,4,FALSE)","v":4},{"$f":"VLOOKUP($A12,Participants!$A:$E,2,FALSE)","v":"Jacob"},{"$f":"VLOOKUP($A12,Participants!$A:$E,3,FALSE)","v":"Clark"},{"$f":"VLOOKUP($A12,Participants!$A:$E,5,FALSE)","v":"SSFC"},2,3,7]
[269,"Lap 5","00:00:00.380","00:00:09.400",{"$f":"VLOOKUP($A13,Participants!$A:$E,4,FALSE)","v":4},{"$f":"VLOOKUP($A13,Participants!$A:$E,2,FALSE)","v":"Nate"},{"$f":"VLOOKUP($A13,Participants!$A:$E,3,FALSE)","v":"Vilches"},{"$f":"VLOOKUP($A13,Participants!$A:$E,5,FALSE)","v":"United We Run"},2,4,10]
[142,"Lap 6","00:00:00.440","00:00:09.850",{"$f":"VLOOKUP($A14,Participants!$A:$E,4,FALSE)","v":3},{"$f":"VLOOKUP($A14,Participants!$A:$E,2,FALSE)","v":"Luis-Enrique"},{"$f":"VLOOKUP($A14,Participants!$A:$E,3,FALSE)","v":"Corona"},{"$f":"VLOOKUP($A14,Participants!$A:$E,5,FALSE)","v":"OLG"},2,5,14]
[]
[36,"Lap 1","00:00:08.600","00:00:08.600",{"$f":"VLOOKUP($A16,Participants!$A:$E,4,FALSE)","v":4},{"$f":"VLOOKUP($A16,Participants!$A:$E,2,FALSE)","v":"Mickey"},{"$f":"VLOOKUP($A16,Participants!$A:$E,3,FALSE)","v":"Flynn"},{"$f":"VLOOKUP($A16,Participants!$A:$E,5,FALSE)","v":"St Jude"},3,{"$f":"RANK(D15,IF(I16=3,$D$15:$D$20,),1)","v":{"$error":"#N/A"}},{"$f":"RANK(D15,$D$2:$D$99,1)","v":{"$error":"#N/A"}}]
[231,"Lap 2","00:00:00.310","00:00:08.910",{"$f":"VLOOKUP($A17,Participants!$A:$E,4,FALSE)","v":4},{"$f":"VLOOKUP($A17,Participants!$A:$E,2,FALSE)","v":"Reed"},{"$f":"VLOOKUP($A17,Participants!$A:$E,3,FALSE)","v":"Cromwell"},{"$f":"VLOOKUP($A17,Participants!$A:$E,5,FALSE)","v":"United We Run"},3,1,5]
[187,"Lap 3","00:00:00.350","00:00:09.270",{"$f":"VLOOKUP($A18,Participants!$A:$E,4,FALSE)","v":4},{"$f":"VLOOKUP($A18,Participants!$A:$E,2,FALSE)","v":"Parker"},{"$f":"VLOOKUP($A18,Participants!$A:$E,3,FALSE)","v":"Meyers"},{"$f":"VLOOKUP($A18,Participants!$A:$E,5,FALSE)","v":"SSFC"},3,2,8]
[11,"Lap 4","00:00:00.720","00:00:10",{"$f":"VLOOKUP($A19,Participants!$A:$E,4,FALSE)","v":4},{"$f":"VLOOKUP($A19,Participants!$A:$E,2,FALSE)","v":"Drew"},{"$f":"VLOOKUP($A19,Participants!$A:$E,3,FALSE)","v":"Beckwith"},{"$f":"VLOOKUP($A19,Participants!$A:$E,5,FALSE)","v":"St Jude"},3,3,12]
[225,"Lap 5","00:00:00.680","00:00:10.680",{"$f":"VLOOKUP($A20,Participants!$A:$E,4,FALSE)","v":4},{"$f":"VLOOKUP($A20,Participants!$A:$E,2,FALSE)","v":"Caleb"},{"$f":"VLOOKUP($A20,Participants!$A:$E,3,FALSE)","v":"Brunson"},{"$f":"VLOOKUP($A20,Participants!$A:$E,5,FALSE)","v":"United We Run"},3,4,21]
[175,"Lap 6","00:00:00.520","00:00:11.200",{"$f":"VLOOKUP($A21,Participants!$A:$E,4,FALSE)","v":4},{"$f":"VLOOKUP($A21,Participants!$A:$E,2,FALSE)","v":"Alex"},{"$f":"VLOOKUP($A21,Participants!$A:$E,3,FALSE)","v":"Hazard"},{"$f":"VLOOKUP($A21,Participants!$A:$E,5,FALSE)","v":"SSFC"},3,5,24]
[]
[230,"Lap 1","00:00:09.610","00:00:09.610",{"$f":"VLOOKUP($A23,Participants!$A:$E,4,FALSE)","v":4},{"$f":"VLOOKUP($A23,Participants!$A:$E,2,FALSE)","v":"Mason"},{"$f":"VLOOKUP($A23,Participants!$A:$E,3,FALSE)","v":"Conway"},{"$f":"VLOOKUP($A23,Participants!$A:$E,5,FALSE)","v":"United We Run"},4,{"$f":"RANK(D22,IF(I23=4,$D$22:$D$27,),1)","v":{"$error":"#N/A"}},{"$f":"RANK(D22,$D$2:$D$99,1)","v":{"$error":"#N/A"}}]
[49,"Lap 2","00:00:00.140","00:00:09.750",{"$f":"VLOOKUP($A24,Participants!$A:$E,4,FALSE)","v":3},{"$f":"VLOOKUP($A24,Participants!$A:$E,2,FALSE)","v":"Evan"},{"$f":"VLOOKUP($A24,Participants!$A:$E,3,FALSE)","v":"Hahn"},{"$f":"VLOOKUP($A24,Participants!$A:$E,5,FALSE)","v":"St Jude"},4,1,17]
[66,"Lap 3","00:00:00.150","00:00:09.910",{"$f":"VLOOKUP($A25,Participants!$A:$E,4,FALSE)","v":3},{"$f":"VLOOKUP($A25,Participants!$A:$E,2,FALSE)","v":"Charlie"},{"$f":"VLOOKUP($A25,Participants!$A:$E,3,FALSE)","v":"Kocher"},{"$f":"VLOOKUP($A25,Participants!$A:$E,5,FALSE)","v":"St Jude"},4,2,18]
[253,"Lap 4","00:00:00.190","00:00:10.100",{"$f":"VLOOKUP($A26,Participants!$A:$E,4,FALSE)","v":4},{"$f":"VLOOKUP($A26,Participants!$A:$E,2,FALSE)","v":"Dayne"},{"$f":"VLOOKUP($A26,Participants!$A:$E,3,FALSE)","v":"Odum"},{"$f":"VLOOKUP($A26,Participants!$A:$E,5,FALSE)","v":"United We Run"},4,3,20]
[176,"Lap 5","00:00:01.190","00:00:11.290",{"$f":"VLOOKUP($A27,Participants!$A:$E,4,FALSE)","v":4},{"$f":"VLOOKUP($A27,Participants!$A:$E,2,FALSE)","v":"Charlie"},{"$f":"VLOOKUP($A27,Participants!$A:$E,3,FALSE)","v":"Hazard"},{"$f":"VLOOKUP($A27,Participants!$A:$E,5,FALSE)","v":"SSFC"},4,4,22]
[276,"Lap 6","00:00:02.320","00:00:13.610",{"$f":"VLOOKUP($A28,Participants!$A:$E,4,FALSE)","v":4},{"$f":"VLOOKUP($A28,Participants!$A:$E,2,FALSE)","v":"Lee"},{"$f":"VLOOKUP($A28,Participants!$A:$E,3,FALSE)","v":"Cooper"},{"$f":"VLOOKUP($A28,Participants!$A:$E,5,FALSE)","v":"St. Barnabas"},4,5,27]
[]
[98,"Lap 1","00:00:08.560","00:00:08.560",{"$f":"VLOOKUP($A30,Participants!$A:$E,4,FALSE)","v":4},{"$f":"VLOOKUP($A30,Participants!$A:$E,2,FALSE)","v":"Kayden"},{"$f":"VLOOKUP($A30,Participants!$A:$E,3,FALSE)","v":"Nordholt"},{"$f":"VLOOKUP($A30,Participants!$A:$E,5,FALSE)","v":"St Jude"},5,{"$f":"RANK(D29,IF(I30=5,$D$29:$D$34,),1)","v":{"$error":"#N/A"}},{"$f":"RANK(D29,$D$2:$D$99,1)","v":{"$error":"#N/A"}}]
[127,"Lap 2","00:00:00.130","00:00:08.700",{"$f":"VLOOKUP($A31,Participants!$A:$E,4,FALSE)","v":3},{"$f":"VLOOKUP($A31,Participants!$A:$E,2,FALSE)","v":"Thomas"},{"$f":"VLOOKUP($A31,Participants!$A:$E,3,FALSE)","v":"Spearing"},{"$f":"VLOOKUP($A31,Participants!$A:$E,5,FALSE)","v":"St Jude"},5,1,4]
[34,"Lap 3","00:00:00.730","00:00:09.440",{"$f":"VLOOKUP($A32,Participants!$A:$E,4,FALSE)","v":3},{"$f":"VLOOKUP($A32,Participants!$A:$E,2,FALSE)","v":"Jose "},{"$f":"VLOOKUP($A32,Participants!$A:$E,3,FALSE)","v":"Escobedo"},{"$f":"VLOOKUP($A32,Participants!$A:$E,5,FALSE)","v":"St Jude"},5,2,6]
[5,"Lap 4","00:00:01.840","00:00:11.280",{"$f":"VLOOKUP($A33,Participants!$A:$E,4,FALSE)","v":3},{"$f":"VLOOKUP($A33,Participants!$A:$E,2,FALSE)","v":"Maddox"},{"$f":"VLOOKUP($A33,Participants!$A:$E,3,FALSE)","v":"Amador"},{"$f":"VLOOKUP($A33,Participants!$A:$E,5,FALSE)","v":"St Jude"},5,3,15]
[294,"Lap 5","00:00:00.470","00:00:11.760",{"$f":"VLOOKUP($A34,Participants!$A:$E,4,FALSE)","v":3},{"$f":"VLOOKUP($A34,Participants!$A:$E,2,FALSE)","v":"Quentin"},{"$f":"VLOOKUP($A34,Participants!$A:$E,3,FALSE)","v":"Miller"},{"$f":"VLOOKUP($A34,Participants!$A:$E,5,FALSE)","v":"St. Barnabas"},5,4,26]
[252,"Lap 6","00:00:04.050","00:00:15.820",{"$f":"VLOOKUP($A35,Participants!$A:$E,4,FALSE)","v":4},{"$f":"VLOOKUP($A35,Participants!$A:$E,2,FALSE)","v":"Max"},{"$f":"VLOOKUP($A35,Participants!$A:$E,3,FALSE)","v":"Murphy"},{"$f":"VLOOKUP($A35,Participants!$A:$E,5,FALSE)","v":"United We Run"},5,5,28]
[]
[{"$nulls":4},{"$f":"VLOOKUP($A37,Participants!$A:$E,4,FALSE)","v":{"$error":"#N/A"}},{"$f":"VLOOKUP($A37,Participants!$A:$E,2,FALSE)","v":{"$error":"#N/A"}},{"$f":"VLOOKUP($A37,Participants!$A:$E,3,FALSE)","v":{"$error":"#N/A"}},{"$f":"VLOOKUP($A37,Participants!$A:$E,5,FALSE)","v":{"$error":"#N/A"}},6,{"$f":"RANK(D36,IF(I37=6,$D$36:$D$41,),1)","v":{"$error":"#N/A"}},{"$f":"RANK(D36,$D$2:$D$99,1)","v":{"$error":"#N/A"}}]
[{"$nulls":4},{"$f":"VLOOKUP($A38,Participants!$A:$E,4,FALSE)","v":{"$error":"#N/A"}},{"$f":"VLOOKUP($A38,Participants!$A:$E,2,FALSE)","v":{"$error":"#N/A"}},{"$f":"VLOOKUP($A38,Participants!$A:$E,3,FALSE)","v":{"$error":"#N/A"}},{"$f":"VLOOKUP($A38,Participants!$A:$E,5,FALSE)","v":{"$error":"#N/A"}},6,{"$error":"#N/A"},{"$error":"#N/A"}]
[{"$nulls":4},{"$f":"VLOOKUP($A39,Participants!$A:$E,4,FALSE)","v":{"$error":"#N/A"}},{"$f":"VLOOKUP($A39,Participants!$A:$E,2,FALSE)","v":{"$error":"#N/A"}},{"$f":"VLOOKUP($A39,Participants!$A:$E,3,FALSE)","v":{"$error":"#N/A"}},{"$f":"VLOOKUP($A39,Participants!$A:$E,5,FALSE)","v":{"$error":"#N/A"}},6,{"$error":"#N/A"},{"$error":"#N/A"}]
[{"$nulls":4},{"$f":"VLOOKUP($A40,Participants!$A:$E,4,FALSE)","v":{"$error":"#N/A"}},{"$f":"VLOOKUP($A40,Participants!$A:$E,2,FALSE)","v":{"$error":"#N/A"}},{"$f":"VLOOKUP($A40,Participants!$A:$E,3,FALSE)","v":{"$error":"#N/A"}},{"$f":"VLOOKUP($A40,Participants!$A:$E,5,FALSE)","v":{"$error":"#N/A"}},6,{"$error":"#N/A"},{"$error":"#N/A"}]
[{"$nulls":4},{"$f":"VLOOKUP($A41,Participants!$A:$E,4,FALSE)","v":{"$error":"#N/A"}},{"$f":"VLOOKUP($A41,Participants!$A:$E,2,FALSE)","v":{"$error":"#N/A"}},{"$f":"VLOOKUP($A41,Participants!$A:$E,3,FALSE)","v":{"$error":"#N/A"}},{"$f":"VLOOKUP($A41,Participants!$A:$E,5,FALSE)","v":{"$error":"#N/A"}},6,{"$error":"#N/A"},{"$error":"#N/A"}]
[{"$nulls":4},{"$f":"VLOOKUP($A42,Participants!$A:$E,4,FALSE)","v":{"$error":"#N/A"}},{"$f":"VLOOKUP($A42,Participants!$A:$E,2,FALSE)","v":{"$error":"#N/A"}},{"$f":"VLOOKUP($A42,Participants!$A:$E,3,FALSE)","v":{"$error":"#N/A"}},{"$f":"VLOOKUP($A42,Participants!$A:$E,5,FALSE)","v":{"$error":"#N/A"}},6,{"$error":"#N/A"},{"$error":"#N/A"}]

{"sheet":"200 4th Boys","index":8,"n_rows":42,"n_cols":13,"rows_kept":42}
["Bib","HeatOrder",null,"Time","Grade","FName","Lname","School","Heat","Heat Place","Overall Place",null,"Return to Schedule of Events"]
[122,"Lap 1","00:00:37.370","00:00:37.370",{"$f":"VLOOKUP($A2,Participants!$A:$E,4,FALSE)","v":3},{"$f":"VLOOKUP($A2,Participants!$A:$E,2,FALSE)","v":"Dominic"},{"$f":"VLOOKUP($A2,Participants!$A:$E,3,FALSE)","v":"Smith"},{"$f":"VLOOKUP($A2,Participants!$A:$E,5,FALSE)","v":"St Jude"},1,{"$f":"RANK(D2,IF(I2=1,$D$2:$D$7,),1)","v":1},{"$f":"RANK(D2,$D$2:$D$100,1)","v":7}]
[92,"Lap 2","00:00:02.440","00:00:39.810",{"$f":"VLOOKUP($A3,Participants!$A:$E,4,FALSE)","v":3},{"$f":"VLOOKUP($A3,Participants!$A:$E,2,FALSE)","v":"Daniel"},{"$f":"VLOOKUP($A3,Participants!$A:$E,3,FALSE)","v":"Monroy"},{"$f":"VLOOKUP($A3,Participants!$A:$E,5,FALSE)","v":"St Jude"},1,2,{"$f":"RANK(D3,$D$2:$D$100,1)","v":10},null,"Add or Update Participants"]
[34,"Lap 3","00:00:01.760","00:00:41.570",{"$f":"VLOOKUP($A4,Participants!$A:$E,4,FALSE)","v":3},{"$f":"VLOOKUP($A4,Participants!$A:$E,2,FALSE)","v":"Jose "},{"$f":"VLOOKUP($A4,Participants!$A:$E,3,FALSE)","v":"Escobedo"},{"$f":"VLOOKUP($A4,Participants!$A:$E,5,FALSE)","v":"St Jude"},1,3,13,null,"Overall Place and Points"]
[147,"Lap 4","00:00:00.340","00:00:41.920",{"$f":"VLOOKUP($A5,Participants!$A:$E,4,FALSE)","v":3},{"$f":"VLOOKUP($A5,Participants!$A:$E,2,FALSE)","v":"Evan"},{"$f":"VLOOKUP($A5,Participants!$A:$E,3,FALSE)","v":"Stark"},{"$f":"VLOOKUP($A5,Participants!$A:$E,5,FALSE)","v":"OLG"},1,4,14]
[38,"Lap 5","00:00:07.660","00:00:49.580",{"$f":"VLOOKUP($A6,Participants!$A:$E,4,FALSE)","v":3},{"$f":"VLOOKUP($A6,Participants!$A:$E,2,FALSE)","v":"Jairo"},{"$f":"VLOOKUP($A6,Participants!$A:$E,3,FALSE)","v":"Garcia"},{"$f":"VLOOKUP($A6,Participants!$A:$E,5,FALSE)","v":"St Jude"},1,5,19]
[{"$nulls":4},{"$f":"VLOOKUP($A7,Participants!$A:$E,4,FALSE)","v":{"$error":"#N/A"}},{"$f":"VLOOKUP($A7,Participants!$A:$E,2,FALSE)","v":{"$error":"#N/A"}},{"$f":"VLOOKUP($A7,Participants!$A:$E,3,FALSE)","v":{"$error":"#N/A"}},{"$f":"VLOOKUP($A7,Participants!$A:$E,5,FALSE)","v":{"$error":"#N/A"}},1,{"$error":"#N/A"},{"$error":"#N/A"}]
[]
[169,"Lap 1","00:00:34.980","00:00:34.980",{"$f":"VLOOKUP($A9,Participants!$A:$E,4,FALSE)","v":4},{"$f":"VLOOKUP($A9,Participants!$A:$E,2,FALSE)","v":"Xavier"},{"$f":"VLOOKUP($A9,Participants!$A:$E,3,FALSE)","v":"Eble"},{"$f":"VLOOKUP($A9,Participants!$A:$E,5,FALSE)","v":"SSFC"},2,{"$f":"RANK(D9,IF(I9=2,$D$9:$D$14,),1)","v":1},1]
[233,"Lap 2","00:00:00.560","00:00:35.540",{"$f":"VLOOKUP($A10,Participants!$A:$E,4,FALSE)","v":4},{"$f":"VLOOKUP($A10,Participants!$A:$E,2,FALSE)","v":"Joel"},{"$f":"VLOOKUP($A10,Participants!$A:$E,3,FALSE)","v":"Elrod"},{"$f":"VLOOKUP($A10,Participants!$A:$E,5,FALSE)","v":"United We Run"},2,2,2]
[248,"Lap 3","00:00:00.150","00:00:35.700",{"$f":"VLOOKUP($A11,Participants!$A:$E,4,FALSE)","v":4},{"$f":"VLOOKUP($A11,Participants!$A:$E,2,FALSE)","v":"Aidan"},{"$f":"VLOOKUP($A11,Participants!$A:$E,3,FALSE)","v":"McGuire"},{"$f":"VLOOKUP($A11,Participants!$A:$E,5,FALSE)","v":"United We Run"},2,3,3]
[174,"Lap 4","00:00:01.190","00:00:36.890",{"$f":"VLOOKUP($A12,Participants!$A:$E,4,FALSE)","v":4},{"$f":"VLOOKUP($A12,Participants!$A:$E,2,FALSE)","v":"Isais"},{"$f":"VLOOKUP($A12,Participants!$A:$E,3,FALSE)","v":"Hawkins"},{"$f":"VLOOKUP($A12,Participants!$A:$E,5,FALSE)","v":"SSFC"},2,4,5]
[231,"Lap 5","00:00:00.150","00:00:37.040",{"$f":"VLOOKUP($A13,Participants!$A:$E,4,FALSE)","v":4},{"$f":"VLOOKUP($A13,Participants!$A:$E,2,FALSE)","v":"Reed"},{"$f":"VLOOKUP($A13,Participants!$A:$E,3,FALSE)","v":"Cromwell"},{"$f":"VLOOKUP($A13,Participants!$A:$E,5,FALSE)","v":"United We Run"},2,5,6]
[63,"Lap 6","00:00:02.990","00:00:40.040",{"$f":"VLOOKUP($A14,Participants!$A:$E,4,FALSE)","v":4},{"$f":"VLOOKUP($A14,Participants!$A:$E,2,FALSE)","v":"Caleb"},{"$f":"VLOOKUP($A14,Participants!$A:$E,3,FALSE)","v":"Kitchens"},{"$f":"VLOOKUP($A14,Participants!$A:$E,5,FALSE)","v":"St Jude"},2,6,11]
[]
[158,"Lap 1","00:00:38.540","00:00:38.540",{"$f":"VLOOKUP($A16,Participants!$A:$E,4,FALSE)","v":4},{"$f":"VLOOKUP($A16,Participants!$A:$E,2,FALSE)","v":"Jacob"},{"$f":"VLOOKUP($A16,Participants!$A:$E,3,FALSE)","v":"Clark"},{"$f":"VLOOKUP($A16,Participants!$A:$E,5,FALSE)","v":"SSFC"},3,{"$f":"RANK(D16,IF(I16=3,$D$16:$D$21,),1)","v":1},9]
[187,"Lap 2","00:00:05.300","00:00:43.840",{"$f":"VLOOKUP($A17,Participants!$A:$E,4,FALSE)","v":4},{"$f":"VLOOKUP($A17,Participants!$A:$E,2,FALSE)","v":"Parker"},{"$f":"VLOOKUP($A17,Participants!$A:$E,3,FALSE)","v":"Meyers"},{"$f":"VLOOKUP($A17,Participants!$A:$E,5,FALSE)","v":"SSFC"},3,2,16]
[19,"Lap 3","00:00:01.110","00:00:44.950",{"$f":"VLOOKUP($A18,Participants!$A:$E,4,FALSE)","v":4},{"$f":"VLOOKUP($A18,Participants!$A:$E,2,FALSE)","v":"Jason "},{"$f":"VLOOKUP($A18,Participants!$A:$E,3,FALSE)","v":"Cardenas"},{"$f":"VLOOKUP($A18,Participants!$A:$E,5,FALSE)","v":"St Jude"},3,3,17]
[225,"Lap 4","00:00:01.220","00:00:46.180",{"$f":"VLOOKUP($A19,Participants!$A:$E,4,FALSE)","v":4},{"$f":"VLOOKUP($A19,Participants!$A:$E,2,FALSE)","v":"Caleb"},{"$f":"VLOOKUP($A19,Participants!$A:$E,3,FALSE)","v":"Brunson"},{"$f":"VLOOKUP($A19,Participants!$A:$E,5,FALSE)","v":"United We Run"},3,4,18]
[5,"Lap 5","00:00:06.280","00:00:52.460",{"$f":"VLOOKUP($A20,Participants!$A:$E,4,FALSE)","v":3},{"$f":"VLOOKUP($A20,Participants!$A:$E,2,FALSE)","v":"Maddox"},{"$f":"VLOOKUP($A20,Participants!$A:$E,3,FALSE)","v":"Amador"},{"$f":"VLOOKUP($A20,Participants!$A:$E,5,FALSE)","v":"St Jude"},3,5,20]
[{"$nulls":4},{"$f":"VLOOKUP($A21,Participants!$A:$E,4,FALSE)","v":{"$error":"#N/A"}},{"$f":"VLOOKUP($A21,Participants!$A:$E,2,FALSE)","v":{"$error":"#N/A"}},{"$f":"VLOOKUP($A21,Participants!$A:$E,3,FALSE)","v":{"$error":"#N/A"}},{"$f":"VLOOKUP($A21,Participants!$A:$E,5,FALSE)","v":{"$error":"#N/A"}},3,{"$error":"#N/A"},{"$error":"#N/A"}]
[]
[98,"Lap 1","00:00:35.820","00:00:35.820",{"$f":"VLOOKUP($A23,Participants!$A:$E,4,FALSE)","v":4},{"$f":"VLOOKUP($A23,Participants!$A:$E,2,FALSE)","v":"Kayden"},{"$f":"VLOOKUP($A23,Participants!$A:$E,3,FALSE)","v":"Nordholt"},{"$f":"VLOOKUP($A23,Participants!$A:$E,5,FALSE)","v":"St Jude"},4,{"$f":"RANK(D23,IF(I23=4,$D$23:$D$28,),1)","v":1},4]
[201,"Lap 2","00:00:02.410","00:00:38.240",{"$f":"VLOOKUP($A24,Participants!$A:$E,4,FALSE)","v":4},{"$f":"VLOOKUP($A24,Participants!$A:$E,2,FALSE)","v":"Brayson"},{"$f":"VLOOKUP($A24,Participants!$A:$E,3,FALSE)","v":"Thomas"},{"$f":"VLOOKUP($A24,Participants!$A:$E,5,FALSE)","v":"SSFC"},4,2,8]
[150,"Lap 3","00:00:02.520","00:00:40.770",{"$f":"VLOOKUP($A25,Participants!$A:$E,4,FALSE)","v":4},{"$f":"VLOOKUP($A25,Participants!$A:$E,2,FALSE)","v":"Tyler"},{"$f":"VLOOKUP($A25,Participants!$A:$E,3,FALSE)","v":"Allen"},{"$f":"VLOOKUP($A25,Participants!$A:$E,5,FALSE)","v":"SSFC"},4,3,12]
[267,"Lap 4","00:00:02.110","00:00:42.880",{"$f":"VLOOKUP($A26,Participants!$A:$E,4,FALSE)","v":4},{"$f":"VLOOKUP($A26,Participants!$A:$E,2,FALSE)","v":"Lee"},{"$f":"VLOOKUP($A26,Participants!$A:$E,3,FALSE)","v":"Stepp"},{"$f":"VLOOKUP($A26,Participants!$A:$E,5,FALSE)","v":"United We Run"},4,4,15]
[{"$nulls":4},{"$f":"VLOOKUP($A27,Participants!$A:$E,4,FALSE)","v":{"$error":"#N/A"}},{"$f":"VLOOKUP($A27,Participants!$A:$E,2,FALSE)","v":{"$error":"#N/A"}},{"$f":"VLOOKUP($A27,Participants!$A:$E,3,FALSE)","v":{"$error":"#N/A"}},{"$f":"VLOOKUP($A27,Participants!$A:$E,5,FALSE)","v":{"$error":"#N/A"}},4,{"$error":"#N/A"},{"$error":"#N/A"}]
[{"$nulls":4},{"$f":"VLOOKUP($A28,Participants!$A:$E,4,FALSE)","v":{"$error":"#N/A"}},{"$f":"VLOOKUP($A28,Participants!$A:$E,2,FALSE)","v":{"$error":"#N/A"}},{"$f":"VLOOKUP($A28,Participants!$A:$E,3,FALSE)","v":{"$error":"#N/A"}},{"$f":"VLOOKUP($A28,Participants!$A:$E,5,FALSE)","v":{"$error":"#N/A"}},4,{"$error":"#N/A"},{"$error":"#N/A"}]
[]
[{"$nulls":4},{"$f":"VLOOKUP($A30,Participants!$A:$E,4,FALSE)","v":{"$error":"#N/A"}},{"$f":"VLOOKUP($A30,Participants!$A:$E,2,FALSE)","v":{"$error":"#N/A"}},{"$f":"VLOOKUP($A30,Participants!$A:$E,3,FALSE)","v":{"$error":"#N/A"}},{"$f":"VLOOKUP($A30,Participants!$A:$E,5,FALSE)","v":{"$error":"#N/A"}},5,{"$f":"RANK(D30,IF(I30=5,$D$30:$D$35,),1)","v":{"$error":"#N/A"}},{"$error":"#N/A"}]
[{"$nulls":4},{"$f":"VLOOKUP($A31,Participants!$A:$E,4,FALSE)","v":{"$error":"#N/A"}},{"$f":"VLOOKUP($A31,Participants!$A:$E,2,FALSE)","v":{"$error":"#N/A"}},{"$f":"VLOOKUP($A31,Participants!$A:$E,3,FALSE)","v":{"$error":"#N/A"}},{"$f":"VLOOKUP($A31,Participants!$A:$E,5,FALSE)","v":{"$error":"#N/A"}},5,{"$f":"RANK(D31,IF(I31=5,$D$30:$D$35,),1)","v":{"$error":"#N/A"}},{"$error":"#N/A"}]
[{"$nulls":4},{"$f":"VLOOKUP($A32,Participants!$A:$E,4,FALSE)","v":{"$error":"#N/A"}},{"$f":"VLOOKUP($A32,Participants!$A:$E,2,FALSE)","v":{"$error":"#N/A"}},{"$f":"VLOOKUP($A32,Participants!$A:$E,3,FALSE)","v":{"$error":"#N/A"}},{"$f":"VLOOKUP($A32,Participants!$A:$E,5,FALSE)","v":{"$error":"#N/A"}},5,{"$error":"#N/A"},{"$error":"#N/A"}]
[{"$nulls":4},{"$f":"VLOOKUP($A33,Participants!$A:$E,4,FALSE)","v":{"$error":"#N/A"}},{"$f":"VLOOKUP($A33,Participants!$A:$E,2,FALSE)","v":{"$error":"#N/A"}},{"$f":"VLOOKUP($A33,Participants!$A:$E,3,FALSE)","v":{"$error":"#N/A"}},{"$f":"VLOOKUP($A33,Participants!$A:$E,5,FALSE)","v":{"$error":"#N/A"}},5,{"$error":"#N/A"},{"$error":"#N/A"}]
[{"$nulls":4},{"$f":"VLOOKUP($A34,Participants!$A:$E,4,FALSE)","v":{"$error":"#N/A"}},{"$f":"VLOOKUP($A34,Participants!$A:$E,2,FALSE)","v":{"$error":"#N/A"}},{"$f":"VLOOKUP($A34,Participants!$A:$E,3,FALSE)","v":{"$error":"#N/A"}},{"$f":"VLOOKUP($A34,Participants!$A:$E,5,FALSE)","v":{"$error":"#N/A"}},5,{"$error":"#N/A"},{"$error":"#N/A"}]
[{"$nulls":4},{"$f":"VLOOKUP($A35,Participants!$A:$E,4,FALSE)","v":{"$error":"#N/A"}},{"$f":"VLOOKUP($A35,Participants!$A:$E,2,FALSE)","v":{"$error":"#N/A"}},{"$f":"VLOOKUP($A35,Participants!$A:$E,3,FALSE)","v":{"$error":"#N/A"}},{"$f":"VLOOKUP($A35,Participants!$A:$E,5,FALSE)","v":{"$error":"#N/A"}},5,{"$error":"#N/A"},{"$error":"#N/A"}]
[]
[{"$nulls":4},{"$f":"VLOOKUP($A37,Participants!$A:$E,4,FALSE)","v":{"$error":"#N/A"}},{"$f":"VLOOKUP($A37,Participants!$A:$E,2,FALSE)","v":{"$error":"#N/A"}},{"$f":"VLOOKUP($A37,Participants!$A:$E,3,FALSE)","v":{"$error":"#N/A"}},{"$f":"VLOOKUP($A37,Participants!$A:$E,5,FALSE)","v":{"$error":"#N/A"}},6,{"$f":"RANK(D37,IF(I37=6,$D$37:$D$42,),1)","v":{"$error":"#N/A"}},{"$error":"#N/A"}]
[{"$nulls":4},{"$f":"VLOOKUP($A38,Participants!$A:$E,4,FALSE)","v":{"$error":"#N/A"}},{"$f":"VLOOKUP($A38,Participants!$A:$E,2,FALSE)","v":{"$error":"#N/A"}},{"$f":"VLOOKUP($A38,Participants!$A:$E,3,FALSE)","v":{"$error":"#N/A"}},{"$f":"VLOOKUP($A38,Participants!$A:$E,5,FALSE)","v":{"$error":"#N/A"}},6,{"$f":"RANK(D38,IF(I38=6,$D$37:$D$42,),1)","v":{"$error":"#N/A"}},{"$error":"#N/A"}]
[{"$nulls":4},{"$f":"VLOOKUP($A39,Participants!$A:$E,4,FALSE)","v":{"$error":"#N/A"}},{"$f":"VLOOKUP($A39,Participants!$A:$E,2,FALSE)","v":{"$error":"#N/A"}},{"$f":"VLOOKUP($A39,Participants!$A:$E,3,FALSE)","v":{"$error":"#N/A"}},{"$f":"VLOOKUP($A39,Participants!$A:$E,5,FALSE)","v":{"$error":"#N/A"}},6,{"$error":"#N/A"},{"$error":"#N/A"}]
[{"$nulls":4},{"$f":"VLOOKUP($A40,Participants!$A:$E,4,FALSE)","v":{"$error":"#N/A"}},{"$f":"VLOOKUP($A40,Participants!$A:$E,2,FALSE)","v":{"$error":"#N/A"}},{"$f":"VLOOKUP($A40,Participants!$A:$E,3,FALSE)","v":{"$error":"#N/A"}},{"$f":"VLOOKUP($A40,Participants!$A:$E,5,FALSE)","v":{"$error":"#N/A"}},6,{"$error":"#N/A"},{"$error":"#N/A"}]
[{"$nulls":4},{"$f":"VLOOKUP($A41,Participants!$A:$E,4,FALSE)","v":{"$error":"#N/A"}},{"$f":"VLOOKUP($A41,Participants!$A:$E,2,FALSE)","v":{"$error":"#N/A"}},{"$f":"VLOOKUP($A41,Participants!$A:$E,3,FALSE)","v":{"$error":"#N/A"}},{"$f":"VLOOKUP($A41,Participants!$A:$E,5,FALSE)","v":{"$error":"#N/A"}},6,{"$error":"#N/A"},{"$error":"#N/A"}]
[{"$nulls":4},{"$f":"VLOOKUP($A42,Participants!$A:$E,4,FALSE)","v":{"$error":"#N/A"}},{"$f":"VLOOKUP($A42,Participants!$A:$E,2,FALSE)","v":{"$error":"#N/A"}},{"$f":"VLOOKUP($A42,Participants!$A:$E,3,FALSE)","v":{"$error":"#N/A"}},{"$f":"VLOOKUP($A42,Participants!$A:$E,5,FALSE)","v":{"$error":"#N/A"}},6,{"$error":"#N/A"},{"$error":"#N/A"}]

{"sheet":"800 4th Boys","index":9,"n_rows":35,"n_cols":13,"rows_kept":35}
["Bib","HeatOrder",null,"Time","Grade","FName","Lname","School","Heat","Heat Place","Overall Place","Group","Return to Schedule of Events"]
[169,null,"00:00:03.260","00:03:13.570",{"$f":"VLOOKUP($A2,Participants!$A:$E,4,FALSE)","v":4},{"$f":"VLOOKUP($A2,Participants!$A:$E,2,FALSE)","v":"Xavier"},{"$f":"VLOOKUP($A2,Participants!$A:$E,3,FALSE)","v":"Eble"},{"$f":"VLOOKUP($A2,Participants!$A:$E,5,FALSE)","v":"SSFC"},1,{"$f":"RANK(D2,IF(I2=1,$D$2:$D$34,),1)","v":1},{"$f":"RANK(D2,$D$2:$D$93,1)","v":1},{"$f":"VLOOKUP(A3,Participants!A:G,7,FALSE)","v":"34"},"Add or Update Participants"]
[214,null,"00:00:17.850","00:03:31.430",{"$f":"VLOOKUP($A3,Participants!$A:$E,4,FALSE)","v":3},{"$f":"VLOOKUP($A3,Participants!$A:$E,2,FALSE)","v":"Alex"},{"$f":"VLOOKUP($A3,Participants!$A:$E,3,FALSE)","v":"Woodburn"},{"$f":"VLOOKUP($A3,Participants!$A:$E,5,FALSE)","v":"SSFC"},1,2,2,{"$f":"VLOOKUP(A4,Participants!A:G,7,FALSE)","v":"34"},"Overall Place and Points"]
[135,null,"00:00:03.050","00:03:34.480",{"$f":"VLOOKUP($A4,Participants!$A:$E,4,FALSE)","v":4},{"$f":"VLOOKUP($A4,Participants!$A:$E,2,FALSE)","v":"Max"},{"$f":"VLOOKUP($A4,Participants!$A:$E,3,FALSE)","v":"Weliever"},{"$f":"VLOOKUP($A4,Participants!$A:$E,5,FALSE)","v":"St Jude"},1,3,3,{"$f":"VLOOKUP(#REF!,Participants!A:G,7,FALSE)","v":{"$error":"#REF!"}}]
[101,null,"00:00:10.720","00:03:48.530",{"$f":"VLOOKUP($A5,Participants!$A:$E,4,FALSE)","v":4},{"$f":"VLOOKUP($A5,Participants!$A:$E,2,FALSE)","v":"Sammy"},{"$f":"VLOOKUP($A5,Participants!$A:$E,3,FALSE)","v":"Perkins"},{"$f":"VLOOKUP($A5,Participants!$A:$E,5,FALSE)","v":"St Jude"},1,4,4,{"$f":"VLOOKUP(A6,Participants!A:G,7,FALSE)","v":"34"}]
[260,null,"00:00:06.830","00:04:09.640",{"$f":"VLOOKUP($A6,Participants!$A:$E,4,FALSE)","v":4},{"$f":"VLOOKUP($A6,Participants!$A:$E,2,FALSE)","v":"Joel"},{"$f":"VLOOKUP($A6,Participants!$A:$E,3,FALSE)","v":"Riedeman"},{"$f":"VLOOKUP($A6,Participants!$A:$E,5,FALSE)","v":"United We Run"},1,5,5,{"$f":"VLOOKUP(A7,Participants!A:G,7,FALSE)","v":"34"},"If multiple groups sort by group then time"]
[263,null,"00:00:14.270","00:04:21.930",{"$f":"VLOOKUP($A7,Participants!$A:$E,4,FALSE)","v":3},{"$f":"VLOOKUP($A7,Participants!$A:$E,2,FALSE)","v":"William"},{"$f":"VLOOKUP($A7,Participants!$A:$E,3,FALSE)","v":"Schott"},{"$f":"VLOOKUP($A7,Participants!$A:$E,5,FALSE)","v":"United We Run"},1,6,6,{"$f":"VLOOKUP(A8,Participants!A:G,7,FALSE)","v":{"$error":"#N/A"}}]
[null,null,"00:00:12.290",null,{"$f":"VLOOKUP($A8,Participants!$A:$E,4,FALSE)","v":{"$error":"#N/A"}},{"$f":"VLOOKUP($A8,Participants!$A:$E,2,FALSE)","v":{"$error":"#N/A"}},{"$f":"VLOOKUP($A8,Participants!$A:$E,3,FALSE)","v":{"$error":"#N/A"}},{"$f":"VLOOKUP($A8,Participants!$A:$E,5,FALSE)","v":{"$error":"#N/A"}},1,{"$error":"#N/A"},{"$error":"#N/A"},{"$f":"VLOOKUP(A9,Participants!A:G,7,FALSE)","v":{"$error":"#N/A"}}]
[{"$nulls":4},{"$f":"VLOOKUP($A9,Participants!$A:$E,4,FALSE)","v":{"$error":"#N/A"}},{"$f":"VLOOKUP($A9,Participants!$A:$E,2,FALSE)","v":{"$error":"#N/A"}},{"$f":"VLOOKUP($A9,Participants!$A:$E,3,FALSE)","v":{"$error":"#N/A"}},{"$f":"VLOOKUP($A9,Participants!$A:$E,5,FALSE)","v":{"$error":"#N/A"}},1,{"$error":"#N/A"},{"$error":"#N/A"},{"$f":"VLOOKUP(A10,Participants!A:G,7,FALSE)","v":{"$error":"#N/A"}}]
[{"$nulls":4},{"$f":"VLOOKUP($A10,Participants!$A:$E,4,FALSE)","v":{"$error":"#N/A"}},{"$f":"VLOOKUP($A10,Participants!$A:$E,2,FALSE)","v":{"$error":"#N/A"}},{"$f":"VLOOKUP($A10,Participants!$A:$E,3,FALSE)","v":{"$error":"#N/A"}},{"$f":"VLOOKUP($A10,Participants!$A:$E,5,FALSE)","v":{"$error":"#N/A"}},1,{"$error":"#N/A"},{"$error":"#N/A"},{"$f":"VLOOKUP(A11,Participants!A:G,7,FALSE)","v":{"$error":"#N/A"}}]
[{"$nulls":4},{"$f":"VLOOKUP($A11,Participants!$A:$E,4,FALSE)","v":{"$error":"#N/A"}},{"$f":"VLOOKUP($A11,Participants!$A:$E,2,FALSE)","v":{"$error":"#N/A"}},{"$f":"VLOOKUP($A11,Participants!$A:$E,3,FALSE)","v":{"$error":"#N/A"}},{"$f":"VLOOKUP($A11,Participants!$A:$E,5,FALSE)","v":{"$error":"#N/A"}},1,{"$error":"#N/A"},{"$error":"#N/A"},{"$f":"VLOOKUP(A12,Participants!A:G,7,FALSE)","v":{"$error":"#N/A"}}]
[{"$nulls":4},{"$f":"VLOOKUP($A12,Participants!$A:$E,4,FALSE)","v":{"$error":"#N/A"}},{"$f":"VLOOKUP($A12,Participants!$A:$E,2,FALSE)","v":{"$error":"#N/A"}},{"$f":"VLOOKUP($A12,Participants!$A:$E,3,FALSE)","v":{"$error":"#N/A"}},{"$f":"VLOOKUP($A12,Participants!$A:$E,5,FALSE)","v":{"$error":"#N/A"}},1,{"$error":"#N/A"},{"$error":"#N/A"},{"$f":"VLOOKUP(A13,Participants!A:G,7,FALSE)","v":{"$error":"#N/A"}}]
[{"$nulls":4},{"$f":"VLOOKUP($A13,Participants!$A:$E,4,FALSE)","v":{"$error":"#N/A"}},{"$f":"VLOOKUP($A13,Participants!$A:$E,2,FALSE)","v":{"$error":"#N/A"}},{"$f":"VLOOKUP($A13,Participants!$A:$E,3,FALSE)","v":{"$error":"#N/A"}},{"$f":"VLOOKUP($A13,Participants!$A:$E,5,FALSE)","v":{"$error":"#N/A"}},1,{"$error":"#N/A"},{"$error":"#N/A"},{"$f":"VLOOKUP(A14,Participants!A:G,7,FALSE)","v":{"$error":"#N/A"}}]
[{"$nulls":4},{"$f":"VLOOKUP($A14,Participants!$A:$E,4,FALSE)","v":{"$error":"#N/A"}},{"$f":"VLOOKUP($A14,Participants!$A:$E,2,FALSE)","v":{"$error":"#N/A"}},{"$f":"VLOOKUP($A14,Participants!$A:$E,3,FALSE)","v":{"$error":"#N/A"}},{"$f":"VLOOKUP($A14,Participants!$A:$E,5,FALSE)","v":{"$error":"#N/A"}},1,{"$error":"#N/A"},{"$error":"#N/A"},{"$f":"VLOOKUP(A15,Participants!A:G,7,FALSE)","v":{"$error":"#N/A"}}]
[{"$nulls":4},{"$f":"VLOOKUP($A15,Participants!$A:$E,4,FALSE)","v":{"$error":"#N/A"}},{"$f":"VLOOKUP($A15,Participants!$A:$E,2,FALSE)","v":{"$error":"#N/A"}},{"$f":"VLOOKUP($A15,Participants!$A:$E,3,FALSE)","v":{"$error":"#N/A"}},{"$f":"VLOOKUP($A15,Participants!$A:$E,5,FALSE)","v":{"$error":"#N/A"}},1,{"$error":"#N/A"},{"$error":"#N/A"},{"$f":"VLOOKUP(A16,Participants!A:G,7,FALSE)","v":{"$error":"#N/A"}}]
[{"$nulls":4},{"$f":"VLOOKUP($A16,Participants!$A:$E,4,FALSE)","v":{"$error":"#N/A"}},{"$f":"VLOOKUP($A16,Participants!$A:$E,2,FALSE)","v":{"$error":"#N/A"}},{"$f":"VLOOKUP($A16,Participants!$A:$E,3,FALSE)","v":{"$error":"#N/A"}},{"$f":"VLOOKUP($A16,Participants!$A:$E,5,FALSE)","v":{"$error":"#N/A"}},1,{"$error":"#N/A"},{"$error":"#N/A"},{"$f":"VLOOKUP(A17,Participants!A:G,7,FALSE)","v":{"$error":"#N/A"}}]
[{"$nulls":4},{"$f":"VLOOKUP($A17,Participants!$A:$E,4,FALSE)","v":{"$error":"#N/A"}},{"$f":"VLOOKUP($A17,Participants!$A:$E,2,FALSE)","v":{"$error":"#N/A"}},{"$f":"VLOOKUP($A17,Participants!$A:$E,3,FALSE)","v":{"$error":"#N/A"}},{"$f":"VLOOKUP($A17,Participants!$A:$E,5,FALSE)","v":{"$error":"#N/A"}},1,{"$error":"#N/A"},{"$error":"#N/A"},{"$f":"VLOOKUP(A18,Participants!A:G,7,FALSE)","v":{"$error":"#N/A"}}]
[{"$nulls":4},{"$f":"VLOOKUP($A18,Participants!$A:$E,4,FALSE)","v":{"$error":"#N/A"}},{"$f":"VLOOKUP($A18,Participants!$A:$E,2,FALSE)","v":{"$error":"#N/A"}},{"$f":"VLOOKUP($A18,Participants!$A:$E,3,FALSE)","v":{"$error":"#N/A"}},{"$f":"VLOOKUP($A18,Participants!$A:$E,5,FALSE)","v":{"$error":"#N/A"}},1,{"$error":"#N/A"},{"$error":"#N/A"},{"$f":"VLOOKUP(A19,Participants!A:G,7,FALSE)","v":{"$error":"#N/A"}}]
[{"$nulls":4},{"$f":"VLOOKUP($A19,Participants!$A:$E,4,FALSE)","v":{"$error":"#N/A"}},{"$f":"VLOOKUP($A19,Participants!$A:$E,2,FALSE)","v":{"$error":"#N/A"}},{"$f":"VLOOKUP($A19,Participants!$A:$E,3,FALSE)","v":{"$error":"#N/A"}},{"$f":"VLOOKUP($A19,Participants!$A:$E,5,FALSE)","v":{"$error":"#N/A"}},1,{"$error":"#N/A"},{"$error":"#N/A"},{"$f":"VLOOKUP(A20,Participants!A:G,7,FALSE)","v":{"$error":"#N/A"}}]
[{"$nulls":4},{"$f":"VLOOKUP($A20,Participants!$A:$E,4,FALSE)","v":{"$error":"#N/A"}},{"$f":"VLOOKUP($A20,Participants!$A:$E,2,FALSE)","v":{"$error":"#N/A"}},{"$f":"VLOOKUP($A20,Participants!$A:$E,3,FALSE)","v":{"$error":"#N/A"}},{"$f":"VLOOKUP($A20,Participants!$A:$E,5,FALSE)","v":{"$error":"#N/A"}},1,{"$error":"#N/A"},{"$error":"#N/A"},{"$f":"VLOOKUP(A21,Participants!A:G,7,FALSE)","v":{"$error":"#N/A"}}]
[{"$nulls":4},{"$f":"VLOOKUP($A21,Participants!$A:$E,4,FALSE)","v":{"$error":"#N/A"}},{"$f":"VLOOKUP($A21,Participants!$A:$E,2,FALSE)","v":{"$error":"#N/A"}},{"$f":"VLOOKUP($A21,Participants!$A:$E,3,FALSE)","v":{"$error":"#N/A"}},{"$f":"VLOOKUP($A21,Participants!$A:$E,5,FALSE)","v":{"$error":"#N/A"}},1,{"$error":"#N/A"},{"$error":"#N/A"},{"$f":"VLOOKUP(A22,Participants!A:G,7,FALSE)","v":{"$error":"#N/A"}}]
[{"$nulls":4},{"$f":"VLOOKUP($A22,Participants!$A:$E,4,FALSE)","v":{"$error":"#N/A"}},{"$f":"VLOOKUP($A22,Participants!$A:$E,2,FALSE)","v":{"$error":"#N/A"}},{"$f":"VLOOKUP($A22,Participants!$A:$E,3,FALSE)","v":{"$error":"#N/A"}},{"$f":"VLOOKUP($A22,Participants!$A:$E,5,FALSE)","v":{"$error":"#N/A"}},1,{"$error":"#N/A"},{"$error":"#N/A"},{"$f":"VLOOKUP(A23,Participants!A:G,7,FALSE)","v":{"$error":"#N/A"}}]
[{"$nulls":4},{"$f":"VLOOKUP($A23,Participants!$A:$E,4,FALSE)","v":{"$error":"#N/A"}},{"$f":"VLOOKUP($A23,Participants!$A:$E,2,FALSE)","v":{"$error":"#N/A"}},{"$f":"VLOOKUP($A23,Participants!$A:$E,3,FALSE)","v":{"$error":"#N/A"}},{"$f":"VLOOKUP($A23,Participants!$A:$E,5,FALSE)","v":{"$error":"#N/A"}},1,{"$error":"#N/A"},{"$error":"#N/A"},{"$f":"VLOOKUP(A24,Participants!A:G,7,FALSE)","v":{"$error":"#N/A"}}]
[{"$nulls":4},{"$f":"VLOOKUP($A24,Participants!$A:$E,4,FALSE)","v":{"$error":"#N/A"}},{"$f":"VLOOKUP($A24,Participants!$A:$E,2,FALSE)","v":{"$error":"#N/A"}},{"$f":"VLOOKUP($A24,Participants!$A:$E,3,FALSE)","v":{"$error":"#N/A"}},{"$f":"VLOOKUP($A24,Participants!$A:$E,5,FALSE)","v":{"$error":"#N/A"}},1,{"$error":"#N/A"},{"$error":"#N/A"},{"$f":"VLOOKUP(A25,Participants!A:G,7,FALSE)","v":{"$error":"#N/A"}}]
[{"$nulls":4},{"$f":"VLOOKUP($A25,Participants!$A:$E,4,FALSE)","v":{"$error":"#N/A"}},{"$f":"VLOOKUP($A25,Participants!$A:$E,2,FALSE)","v":{"$error":"#N/A"}},{"$f":"VLOOKUP($A25,Participants!$A:$E,3,FALSE)","v":{"$error":"#N/A"}},{"$f":"VLOOKUP($A25,Participants!$A:$E,5,FALSE)","v":{"$error":"#N/A"}},1,{"$error":"#N/A"},{"$error":"#N/A"},{"$f":"VLOOKUP(A26,Participants!A:G,7,FALSE)","v":{"$error":"#N/A"}}]
[{"$nulls":4},{"$f":"VLOOKUP($A26,Participants!$A:$E,4,FALSE)","v":{"$error":"#N/A"}},{"$f":"VLOOKUP($A26,Participants!$A:$E,2,FALSE)","v":{"$error":"#N/A"}},{"$f":"VLOOKUP($A26,Participants!$A:$E,3,FALSE)","v":{"$error":"#N/A"}},{"$f":"VLOOKUP($A26,Participants!$A:$E,5,FALSE)","v":{"$error":"#N/A"}},1,{"$error":"#N/A"},{"$error":"#N/A"},{"$f":"VLOOKUP(A27,Participants!A:G,7,FALSE)","v":{"$error":"#N/A"}}]
[{"$nulls":4},{"$f":"VLOOKUP($A27,Participants!$A:$E,4,FALSE)","v":{"$error":"#N/A"}},{"$f":"VLOOKUP($A27,Participants!$A:$E,2,FALSE)","v":{"$error":"#N/A"}},{"$f":"VLOOKUP($A27,Participants!$A:$E,3,FALSE)","v":{"$error":"#N/A"}},{"$f":"VLOOKUP($A27,Participants!$A:$E,5,FALSE)","v":{"$error":"#N/A"}},1,{"$error":"#N/A"},{"$error":"#N/A"},{"$f":"VLOOKUP(A28,Participants!A:G,7,FALSE)","v":{"$error":"#N/A"}}]
[{"$nulls":4},{"$f":"VLOOKUP($A28,Participants!$A:$E,4,FALSE)","v":{"$error":"#N/A"}},{"$f":"VLOOKUP($A28,Participants!$A:$E,2,FALSE)","v":{"$error":"#N/A"}},{"$f":"VLOOKUP($A28,Participants!$A:$E,3,FALSE)","v":{"$error":"#N/A"}},{"$f":"VLOOKUP($A28,Participants!$A:$E,5,FALSE)","v":{"$error":"#N/A"}},1,{"$error":"#N/A"},{"$error":"#N/A"},{"$f":"VLOOKUP(A29,Participants!A:G,7,FALSE)","v":{"$error":"#N/A"}}]
[{"$nulls":4},{"$f":"VLOOKUP($A29,Participants!$A:$E,4,FALSE)","v":{"$error":"#N/A"}},{"$f":"VLOOKUP($A29,Participants!$A:$E,2,FALSE)","v":{"$error":"#N/A"}},{"$f":"VLOOKUP($A29,Participants!$A:$E,3,FALSE)","v":{"$error":"#N/A"}},{"$f":"VLOOKUP($A29,Participants!$A:$E,5,FALSE)","v":{"$error":"#N/A"}},1,{"$error":"#N/A"},{"$error":"#N/A"},{"$f":"VLOOKUP(A30,Participants!A:G,7,FALSE)","v":{"$error":"#N/A"}}]
[{"$nulls":4},{"$f":"VLOOKUP($A30,Participants!$A:$E,4,FALSE)","v":{"$error":"#N/A"}},{"$f":"VLOOKUP($A30,Participants!$A:$E,2,FALSE)","v":{"$error":"#N/A"}},{"$f":"VLOOKUP($A30,Participants!$A:$E,3,FALSE)","v":{"$error":"#N/A"}},{"$f":"VLOOKUP($A30,Participants!$A:$E,5,FALSE)","v":{"$error":"#N/A"}},1,{"$error":"#N/A"},{"$error":"#N/A"},{"$f":"VLOOKUP(A31,Participants!A:G,7,FALSE)","v":{"$error":"#N/A"}}]
[{"$nulls":4},{"$f":"VLOOKUP($A31,Participants!$A:$E,4,FALSE)","v":{"$error":"#N/A"}},{"$f":"VLOOKUP($A31,Participants!$A:$E,2,FALSE)","v":{"$error":"#N/A"}},{"$f":"VLOOKUP($A31,Participants!$A:$E,3,FALSE)","v":{"$error":"#N/A"}},{"$f":"VLOOKUP($A31,Participants!$A:$E,5,FALSE)","v":{"$error":"#N/A"}},1,{"$error":"#N/A"},{"$error":"#N/A"},{"$f":"VLOOKUP(A32,Participants!A:G,7,FALSE)","v":{"$error":"#N/A"}}]
[{"$nulls":4},{"$f":"VLOOKUP($A32,Participants!$A:$E,4,FALSE)","v":{"$error":"#N/A"}},{"$f":"VLOOKUP($A32,Participants!$A:$E,2,FALSE)","v":{"$error":"#N/A"}},{"$f":"VLOOKUP($A32,Participants!$A:$E,3,FALSE)","v":{"$error":"#N/A"}},{"$f":"VLOOKUP($A32,Participants!$A:$E,5,FALSE)","v":{"$error":"#N/A"}},1,{"$error":"#N/A"},{"$error":"#N/A"},{"$f":"VLOOKUP(A33,Participants!A:G,7,FALSE)","v":{"$error":"#N/A"}}]
[{"$nulls":4},{"$f":"VLOOKUP($A33,Participants!$A:$E,4,FALSE)","v":{"$error":"#N/A"}},{"$f":"VLOOKUP($A33,Participants!$A:$E,2,FALSE)","v":{"$error":"#N/A"}},{"$f":"VLOOKUP($A33,Participants!$A:$E,3,FALSE)","v":{"$error":"#N/A"}},{"$f":"VLOOKUP($A33,Participants!$A:$E,5,FALSE)","v":{"$error":"#N/A"}},1,{"$error":"#N/A"},{"$error":"#N/A"},{"$f":"VLOOKUP(A34,Participants!A:G,7,FALSE)","v":{"$error":"#N/A"}}]
[{"$nulls":4},{"$f":"VLOOKUP($A34,Participants!$A:$E,4,FALSE)","v":{"$error":"#N/A"}},{"$f":"VLOOKUP($A34,Participants!$A:$E,2,FALSE)","v":{"$error":"#N/A"}},{"$f":"VLOOKUP($A34,Participants!$A:$E,3,FALSE)","v":{"$error":"#N/A"}},{"$f":"VLOOKUP($A34,Participants!$A:$E,5,FALSE)","v":{"$error":"#N/A"}},1,{"$error":"#N/A"},{"$error":"#N/A"},{"$f":"VLOOKUP(A35,Participants!A:G,7,FALSE)","v":{"$error":"#N/A"}}]
[{"$nulls":4},{"$f":"VLOOKUP($A35,Participants!$A:$E,4,FALSE)","v":{"$error":"#N/A"}},{"$f":"VLOOKUP($A35,Participants!$A:$E,2,FALSE)","v":{"$error":"#N/A"}},{"$f":"VLOOKUP($A35,Participants!$A:$E,3,FALSE)","v":{"$error":"#N/A"}},{"$f":"VLOOKUP($A35,Participants!$A:$E,5,FALSE)","v":{"$error":"#N/A"}},1,{"$error":"#N/A"},{"$error":"#N/A"},{"$f":"VLOOKUP(A36,Participants!A:G,7,FALSE)","v":{"$error":"#N/A"}}]

{"sheet":"100 4th Boys","index":10,"n_rows":42,"n_cols":13,"rows_kept":42}
["Bib","HeatOrder",null,"Time","Grade","FName","Lname","School","Heat","Heat Place","Overall Place",null,"Return to Schedule of Events"]
[178,"Lap 1","00:00:16.650","00:00:16.650",{"$f":"VLOOKUP($A2,Participants!$A:$E,4,FALSE)","v":3},{"$f":"VLOOKUP($A2,Participants!$A:$E,2,FALSE)","v":"Bo"},{"$f":"VLOOKUP($A2,Participants!$A:$E,3,FALSE)","v":"Huff"},{"$f":"VLOOKUP($A2,Participants!$A:$E,5,FALSE)","v":"SSFC"},1,{"$f":"RANK(D2,IF(I2=1,$D$2:$D$7,),1)","v":1},{"$f":"RANK(D2,$D$2:$D$100,1)","v":1}]
[67,"Lap 2","00:00:00.540","00:00:17.190",{"$f":"VLOOKUP($A3,Participants!$A:$E,4,FALSE)","v":3},{"$f":"VLOOKUP($A3,Participants!$A:$E,2,FALSE)","v":"Mac"},{"$f":"VLOOKUP($A3,Participants!$A:$E,3,FALSE)","v":"Kramer"},{"$f":"VLOOKUP($A3,Participants!$A:$E,5,FALSE)","v":"St Jude"},1,2,{"$f":"RANK(D3,$D$2:$D$100,1)","v":3},null,"Add or Update Participants"]
[147,"Lap 3","00:00:02.130","00:00:19.320",{"$f":"VLOOKUP($A4,Participants!$A:$E,4,FALSE)","v":3},{"$f":"VLOOKUP($A4,Participants!$A:$E,2,FALSE)","v":"Evan"},{"$f":"VLOOKUP($A4,Participants!$A:$E,3,FALSE)","v":"Stark"},{"$f":"VLOOKUP($A4,Participants!$A:$E,5,FALSE)","v":"OLG"},1,3,20,null,"Overall Place and Points"]
[34,"Lap 4","00:00:00.240","00:00:19.570",{"$f":"VLOOKUP($A5,Participants!$A:$E,4,FALSE)","v":3},{"$f":"VLOOKUP($A5,Participants!$A:$E,2,FALSE)","v":"Jose "},{"$f":"VLOOKUP($A5,Participants!$A:$E,3,FALSE)","v":"Escobedo"},{"$f":"VLOOKUP($A5,Participants!$A:$E,5,FALSE)","v":"St Jude"},1,4,22]
[69,"Lap 5","00:00:01.680","00:00:21.250",{"$f":"VLOOKUP($A6,Participants!$A:$E,4,FALSE)","v":3},{"$f":"VLOOKUP($A6,Participants!$A:$E,2,FALSE)","v":"Isaac"},{"$f":"VLOOKUP($A6,Participants!$A:$E,3,FALSE)","v":"Lara"},{"$f":"VLOOKUP($A6,Participants!$A:$E,5,FALSE)","v":"St Jude"},1,5,28]
[294,"Lap 6","00:00:02.340","00:00:23.600",{"$f":"VLOOKUP($A7,Participants!$A:$E,4,FALSE)","v":3},{"$f":"VLOOKUP($A7,Participants!$A:$E,2,FALSE)","v":"Quentin"},{"$f":"VLOOKUP($A7,Participants!$A:$E,3,FALSE)","v":"Miller"},{"$f":"VLOOKUP($A7,Participants!$A:$E,5,FALSE)","v":"St. Barnabas"},1,6,30]
[]
[122,"Lap 1","00:00:17.880","00:00:17.880",{"$f":"VLOOKUP($A9,Participants!$A:$E,4,FALSE)","v":3},{"$f":"VLOOKUP($A9,Participants!$A:$E,2,FALSE)","v":"Dominic"},{"$f":"VLOOKUP($A9,Participants!$A:$E,3,FALSE)","v":"Smith"},{"$f":"VLOOKUP($A9,Participants!$A:$E,5,FALSE)","v":"St Jude"},2,{"$f":"RANK(D9,IF(I9=2,$D$9:$D$14,),1)","v":1},9]
[92,"Lap 2","00:00:00.140","00:00:18.020",{"$f":"VLOOKUP($A10,Participants!$A:$E,4,FALSE)","v":3},{"$f":"VLOOKUP($A10,Participants!$A:$E,2,FALSE)","v":"Daniel"},{"$f":"VLOOKUP($A10,Participants!$A:$E,3,FALSE)","v":"Monroy"},{"$f":"VLOOKUP($A10,Participants!$A:$E,5,FALSE)","v":"St Jude"},2,2,11]
[77,"Lap 3","00:00:00.750","00:00:18.780",{"$f":"VLOOKUP($A11,Participants!$A:$E,4,FALSE)","v":3},{"$f":"VLOOKUP($A11,Participants!$A:$E,2,FALSE)","v":"Adrian"},{"$f":"VLOOKUP($A11,Participants!$A:$E,3,FALSE)","v":"Maldonado"},{"$f":"VLOOKUP($A11,Participants!$A:$E,5,FALSE)","v":"St Jude"},2,3,15]
[49,"Lap 4","00:00:00.810","00:00:19.590",{"$f":"VLOOKUP($A12,Participants!$A:$E,4,FALSE)","v":3},{"$f":"VLOOKUP($A12,Participants!$A:$E,2,FALSE)","v":"Evan"},{"$f":"VLOOKUP($A12,Participants!$A:$E,3,FALSE)","v":"Hahn"},{"$f":"VLOOKUP($A12,Participants!$A:$E,5,FALSE)","v":"St Jude"},2,4,23]
[38,"Lap 5","00:00:04.070","00:00:23.660",{"$f":"VLOOKUP($A13,Participants!$A:$E,4,FALSE)","v":3},{"$f":"VLOOKUP($A13,Participants!$A:$E,2,FALSE)","v":"Jairo"},{"$f":"VLOOKUP($A13,Participants!$A:$E,3,FALSE)","v":"Garcia"},{"$f":"VLOOKUP($A13,Participants!$A:$E,5,FALSE)","v":"St Jude"},2,5,31]
[{"$nulls":4},{"$f":"VLOOKUP($A14,Participants!$A:$E,4,FALSE)","v":{"$error":"#N/A"}},{"$f":"VLOOKUP($A14,Participants!$A:$E,2,FALSE)","v":{"$error":"#N/A"}},{"$f":"VLOOKUP($A14,Participants!$A:$E,3,FALSE)","v":{"$error":"#N/A"}},{"$f":"VLOOKUP($A14,Participants!$A:$E,5,FALSE)","v":{"$error":"#N/A"}},2,{"$error":"#N/A"},{"$error":"#N/A"}]
[]
[231,"Lap 1","00:00:17.420","00:00:17.420",{"$f":"VLOOKUP($A16,Participants!$A:$E,4,FALSE)","v":4},{"$f":"VLOOKUP($A16,Participants!$A:$E,2,FALSE)","v":"Reed"},{"$f":"VLOOKUP($A16,Participants!$A:$E,3,FALSE)","v":"Cromwell"},{"$f":"VLOOKUP($A16,Participants!$A:$E,5,FALSE)","v":"United We Run"},3,{"$f":"RANK(D16,IF(I16=3,$D$16:$D$21,),1)","v":1},7]
[174,"Lap 2","00:00:00.320","00:00:17.740",{"$f":"VLOOKUP($A17,Participants!$A:$E,4,FALSE)","v":4},{"$f":"VLOOKUP($A17,Participants!$A:$E,2,FALSE)","v":"Isais"},{"$f":"VLOOKUP($A17,Participants!$A:$E,3,FALSE)","v":"Hawkins"},{"$f":"VLOOKUP($A17,Participants!$A:$E,5,FALSE)","v":"SSFC"},3,2,8]
[230,"Lap 3","00:00:00.810","00:00:18.560",{"$f":"VLOOKUP($A18,Participants!$A:$E,4,FALSE)","v":4},{"$f":"VLOOKUP($A18,Participants!$A:$E,2,FALSE)","v":"Mason"},{"$f":"VLOOKUP($A18,Participants!$A:$E,3,FALSE)","v":"Conway"},{"$f":"VLOOKUP($A18,Participants!$A:$E,5,FALSE)","v":"United We Run"},3,3,12]
[157,"Lap 4","00:00:00.940","00:00:19.500",{"$f":"VLOOKUP($A19,Participants!$A:$E,4,FALSE)","v":4},{"$f":"VLOOKUP($A19,Participants!$A:$E,2,FALSE)","v":"Parker"},{"$f":"VLOOKUP($A19,Participants!$A:$E,3,FALSE)","v":"Cipich"},{"$f":"VLOOKUP($A19,Participants!$A:$E,5,FALSE)","v":"SSFC"},3,4,21]
[11,"Lap 5","00:00:00.720","00:00:20.220",{"$f":"VLOOKUP($A20,Participants!$A:$E,4,FALSE)","v":4},{"$f":"VLOOKUP($A20,Participants!$A:$E,2,FALSE)","v":"Drew"},{"$f":"VLOOKUP($A20,Participants!$A:$E,3,FALSE)","v":"Beckwith"},{"$f":"VLOOKUP($A20,Participants!$A:$E,5,FALSE)","v":"St Jude"},3,5,24]
[19,"Lap 6","00:00:01.280","00:00:21.510",{"$f":"VLOOKUP($A21,Participants!$A:$E,4,FALSE)","v":4},{"$f":"VLOOKUP($A21,Participants!$A:$E,2,FALSE)","v":"Jason "},{"$f":"VLOOKUP($A21,Participants!$A:$E,3,FALSE)","v":"Cardenas"},{"$f":"VLOOKUP($A21,Participants!$A:$E,5,FALSE)","v":"St Jude"},3,6,29]
[]
[98,"Lap 1","00:00:17.250","00:00:17.250",{"$f":"VLOOKUP($A23,Participants!$A:$E,4,FALSE)","v":4},{"$f":"VLOOKUP($A23,Participants!$A:$E,2,FALSE)","v":"Kayden"},{"$f":"VLOOKUP($A23,Participants!$A:$E,3,FALSE)","v":"Nordholt"},{"$f":"VLOOKUP($A23,Participants!$A:$E,5,FALSE)","v":"St Jude"},4,{"$f":"RANK(D23,IF(I23=4,$D$23:$D$28,),1)","v":1},4]
[248,"Lap 2","00:00:00.160","00:00:17.410",{"$f":"VLOOKUP($A24,Participants!$A:$E,4,FALSE)","v":4},{"$f":"VLOOKUP($A24,Participants!$A:$E,2,FALSE)","v":"Aidan"},{"$f":"VLOOKUP($A24,Participants!$A:$E,3,FALSE)","v":"McGuire"},{"$f":"VLOOKUP($A24,Participants!$A:$E,5,FALSE)","v":"United We Run"},4,2,6]
[192,"Lap 3","00:00:01.250","00:00:18.670",{"$f":"VLOOKUP($A25,Participants!$A:$E,4,FALSE)","v":4},{"$f":"VLOOKUP($A25,Participants!$A:$E,2,FALSE)","v":"Sam"},{"$f":"VLOOKUP($A25,Participants!$A:$E,3,FALSE)","v":"Rodgers"},{"$f":"VLOOKUP($A25,Participants!$A:$E,5,FALSE)","v":"SSFC"},4,3,14]
[154,"Lap 4","00:00:00.150","00:00:18.820",{"$f":"VLOOKUP($A26,Participants!$A:$E,4,FALSE)","v":4},{"$f":"VLOOKUP($A26,Participants!$A:$E,2,FALSE)","v":"Lucas"},{"$f":"VLOOKUP($A26,Participants!$A:$E,3,FALSE)","v":"Back"},{"$f":"VLOOKUP($A26,Participants!$A:$E,5,FALSE)","v":"SSFC"},4,4,16]
[158,"Lap 5","00:00:00.130","00:00:18.960",{"$f":"VLOOKUP($A27,Participants!$A:$E,4,FALSE)","v":4},{"$f":"VLOOKUP($A27,Participants!$A:$E,2,FALSE)","v":"Jacob"},{"$f":"VLOOKUP($A27,Participants!$A:$E,3,FALSE)","v":"Clark"},{"$f":"VLOOKUP($A27,Participants!$A:$E,5,FALSE)","v":"SSFC"},4,5,17]
[249,"Lap 6","00:00:00.150","00:00:19.110",{"$f":"VLOOKUP($A28,Participants!$A:$E,4,FALSE)","v":4},{"$f":"VLOOKUP($A28,Participants!$A:$E,2,FALSE)","v":"Griffin"},{"$f":"VLOOKUP($A28,Participants!$A:$E,3,FALSE)","v":"McGuire"},{"$f":"VLOOKUP($A28,Participants!$A:$E,5,FALSE)","v":"United We Run"},4,6,18]
[]
[233,"Lap 1","00:00:17.940","00:00:17.940",{"$f":"VLOOKUP($A30,Participants!$A:$E,4,FALSE)","v":4},{"$f":"VLOOKUP($A30,Participants!$A:$E,2,FALSE)","v":"Joel"},{"$f":"VLOOKUP($A30,Participants!$A:$E,3,FALSE)","v":"Elrod"},{"$f":"VLOOKUP($A30,Participants!$A:$E,5,FALSE)","v":"United We Run"},5,{"$f":"RANK(D30,IF(I30=5,$D$30:$D$35,),1)","v":1},10]
[135,"Lap 2","00:00:00.620","00:00:18.560",{"$f":"VLOOKUP($A31,Participants!$A:$E,4,FALSE)","v":4},{"$f":"VLOOKUP($A31,Participants!$A:$E,2,FALSE)","v":"Max"},{"$f":"VLOOKUP($A31,Participants!$A:$E,3,FALSE)","v":"Weliever"},{"$f":"VLOOKUP($A31,Participants!$A:$E,5,FALSE)","v":"St Jude"},5,{"$f":"RANK(D31,IF(I31=5,$D$30:$D$35,),1)","v":2},12]
[269,"Lap 3","00:00:01.780","00:00:20.350",{"$f":"VLOOKUP($A32,Participants!$A:$E,4,FALSE)","v":4},{"$f":"VLOOKUP($A32,Participants!$A:$E,2,FALSE)","v":"Nate"},{"$f":"VLOOKUP($A32,Participants!$A:$E,3,FALSE)","v":"Vilches"},{"$f":"VLOOKUP($A32,Participants!$A:$E,5,FALSE)","v":"United We Run"},5,3,25]
[253,"Lap 4","00:00:00.660","00:00:21.010",{"$f":"VLOOKUP($A33,Participants!$A:$E,4,FALSE)","v":4},{"$f":"VLOOKUP($A33,Participants!$A:$E,2,FALSE)","v":"Dayne"},{"$f":"VLOOKUP($A33,Participants!$A:$E,3,FALSE)","v":"Odum"},{"$f":"VLOOKUP($A33,Participants!$A:$E,5,FALSE)","v":"United We Run"},5,4,27]
[252,"Lap 5","00:00:16.610","00:00:37.620",{"$f":"VLOOKUP($A34,Participants!$A:$E,4,FALSE)","v":4},{"$f":"VLOOKUP($A34,Participants!$A:$E,2,FALSE)","v":"Max"},{"$f":"VLOOKUP($A34,Participants!$A:$E,3,FALSE)","v":"Murphy"},{"$f":"VLOOKUP($A34,Participants!$A:$E,5,FALSE)","v":"United We Run"},5,5,32]
[{"$nulls":4},{"$f":"VLOOKUP($A35,Participants!$A:$E,4,FALSE)","v":{"$error":"#N/A"}},{"$f":"VLOOKUP($A35,Participants!$A:$E,2,FALSE)","v":{"$error":"#N/A"}},{"$f":"VLOOKUP($A35,Participants!$A:$E,3,FALSE)","v":{"$error":"#N/A"}},{"$f":"VLOOKUP($A35,Participants!$A:$E,5,FALSE)","v":{"$error":"#N/A"}},5,{"$error":"#N/A"},{"$error":"#N/A"}]
[297]
[79,"Lap 1","00:00:16.650","00:00:16.650",{"$f":"VLOOKUP($A37,Participants!$A:$E,4,FALSE)","v":4},{"$f":"VLOOKUP($A37,Participants!$A:$E,2,FALSE)","v":"Isaac"},{"$f":"VLOOKUP($A37,Participants!$A:$E,3,FALSE)","v":"Mappes"},{"$f":"VLOOKUP($A37,Participants!$A:$E,5,FALSE)","v":"St Jude"},6,{"$f":"RANK(D37,IF(I37=6,$D$37:$D$42,),1)","v":1},1]
[83,"Lap 2","00:00:00.680","00:00:17.330",{"$f":"VLOOKUP($A38,Participants!$A:$E,4,FALSE)","v":4},{"$f":"VLOOKUP($A38,Participants!$A:$E,2,FALSE)","v":"Jack "},{"$f":"VLOOKUP($A38,Participants!$A:$E,3,FALSE)","v":"May"},{"$f":"VLOOKUP($A38,Participants!$A:$E,5,FALSE)","v":"St Jude"},6,{"$f":"RANK(D38,IF(I38=6,$D$37:$D$42,),1)","v":2},5]
[285,"Lap 3","00:00:01.830","00:00:19.160",{"$f":"VLOOKUP($A39,Participants!$A:$E,4,FALSE)","v":4},{"$f":"VLOOKUP($A39,Participants!$A:$E,2,FALSE)","v":"Drake"},{"$f":"VLOOKUP($A39,Participants!$A:$E,3,FALSE)","v":"Lally"},{"$f":"VLOOKUP($A39,Participants!$A:$E,5,FALSE)","v":"St. Barnabas"},6,3,19]
[null,"Lap 4","00:00:01.250","00:00:20.420",{"$f":"VLOOKUP($A40,Participants!$A:$E,4,FALSE)","v":{"$error":"#N/A"}},{"$f":"VLOOKUP($A40,Participants!$A:$E,2,FALSE)","v":{"$error":"#N/A"}},{"$f":"VLOOKUP($A40,Participants!$A:$E,3,FALSE)","v":{"$error":"#N/A"}},{"$f":"VLOOKUP($A40,Participants!$A:$E,5,FALSE)","v":{"$error":"#N/A"}},6,4,26]
[{"$nulls":4},{"$f":"VLOOKUP($A41,Participants!$A:$E,4,FALSE)","v":{"$error":"#N/A"}},{"$f":"VLOOKUP($A41,Participants!$A:$E,2,FALSE)","v":{"$error":"#N/A"}},{"$f":"VLOOKUP($A41,Participants!$A:$E,3,FALSE)","v":{"$error":"#N/A"}},{"$f":"VLOOKUP($A41,Participants!$A:$E,5,FALSE)","v":{"$error":"#N/A"}},6,{"$error":"#N/A"},{"$error":"#N/A"}]
[{"$nulls":4},{"$f":"VLOOKUP($A42,Participants!$A:$E,4,FALSE)","v":{"$error":"#N/A"}},{"$f":"VLOOKUP($A42,Participants!$A:$E,2,FALSE)","v":{"$error":"#N/A"}},{"$f":"VLOOKUP($A42,Participants!$A:$E,3,FALSE)","v":{"$error":"#N/A"}},{"$f":"VLOOKUP($A42,Participants!$A:$E,5,FALSE)","v":{"$error":"#N/A"}},6,{"$error":"#N/A"},{"$error":"#N/A"}]

{"sheet":"Baseball 4th Boys","index":11,"n_rows":101,"n_cols":13,"rows_kept":101}
["Bib","Best Jump\n\nwill calculate\nautomatically","First Jump\n\nEnter 10 ft 3 3/4 in as 1003.75","Second Jump\n\nEnter 10 ft 3 3/4 in as 1003.75","Third Jump\n\nEnter 10 ft 3 3/4 in as 1003.75","Grade","FName","Lname","School","Overall Place",null,null,"Return to Schedule of Events"]
[142,{"$f":"MAX(C2:E2)","v":4109},4109,null,null,{"$f":"VLOOKUP($A2,Participants!$A:$E,4,FALSE)","v":3},{"$f":"VLOOKUP($A2,Participants!$A:$E,2,FALSE)","v":"Luis-Enrique"},{"$f":"VLOOKUP($A2,Participants!$A:$E,3,FALSE)","v":"Corona"},{"$f":"VLOOKUP($A2,Participants!$A:$E,5,FALSE)","v":"OLG"},{"$f":"RANK(B2,$B$1:$B$97,0)","v":12}]
[147,{"$f":"MAX(C3:E3)","v":7506},7506,null,null,{"$f":"VLOOKUP($A3,Participants!$A:$E,4,FALSE)","v":3},{"$f":"VLOOKUP($A3,Participants!$A:$E,2,FALSE)","v":"Evan"},{"$f":"VLOOKUP($A3,Participants!$A:$E,3,FALSE)","v":"Stark"},{"$f":"VLOOKUP($A3,Participants!$A:$E,5,FALSE)","v":"OLG"},{"$f":"RANK(B3,$B$1:$B$97,0)","v":5},null,null,"Add or Update Participants"]
[253,5600,5600,null,null,{"$f":"VLOOKUP($A4,Participants!$A:$E,4,FALSE)","v":4},{"$f":"VLOOKUP($A4,Participants!$A:$E,2,FALSE)","v":"Dayne"},{"$f":"VLOOKUP($A4,Participants!$A:$E,3,FALSE)","v":"Odum"},{"$f":"VLOOKUP($A4,Participants!$A:$E,5,FALSE)","v":"United We Run"},7,null,null,"Overall Place and Points"]
[279,10800,10800,null,null,{"$f":"VLOOKUP($A5,Participants!$A:$E,4,FALSE)","v":4},{"$f":"VLOOKUP($A5,Participants!$A:$E,2,FALSE)","v":"Jeremiah"},{"$f":"VLOOKUP($A5,Participants!$A:$E,3,FALSE)","v":"Evans"},{"$f":"VLOOKUP($A5,Participants!$A:$E,5,FALSE)","v":"St. Barnabas"},1]
[309,10506,10506,null,null,{"$f":"VLOOKUP($A6,Participants!$A:$E,4,FALSE)","v":4},{"$f":"VLOOKUP($A6,Participants!$A:$E,2,FALSE)","v":"Vince"},{"$f":"VLOOKUP($A6,Participants!$A:$E,3,FALSE)","v":"Uberta"},{"$f":"VLOOKUP($A6,Participants!$A:$E,5,FALSE)","v":"St. Barnabas"},2]
[178,10006,10006,null,null,{"$f":"VLOOKUP($A7,Participants!$A:$E,4,FALSE)","v":3},{"$f":"VLOOKUP($A7,Participants!$A:$E,2,FALSE)","v":"Bo"},{"$f":"VLOOKUP($A7,Participants!$A:$E,3,FALSE)","v":"Huff"},{"$f":"VLOOKUP($A7,Participants!$A:$E,5,FALSE)","v":"SSFC"},3]
[175,4200,4200,null,null,{"$f":"VLOOKUP($A8,Participants!$A:$E,4,FALSE)","v":4},{"$f":"VLOOKUP($A8,Participants!$A:$E,2,FALSE)","v":"Alex"},{"$f":"VLOOKUP($A8,Participants!$A:$E,3,FALSE)","v":"Hazard"},{"$f":"VLOOKUP($A8,Participants!$A:$E,5,FALSE)","v":"SSFC"},11]
[176,4608,4608,null,null,{"$f":"VLOOKUP($A9,Participants!$A:$E,4,FALSE)","v":4},{"$f":"VLOOKUP($A9,Participants!$A:$E,2,FALSE)","v":"Charlie"},{"$f":"VLOOKUP($A9,Participants!$A:$E,3,FALSE)","v":"Hazard"},{"$f":"VLOOKUP($A9,Participants!$A:$E,5,FALSE)","v":"SSFC"},9]
[154,7007,7007,null,null,{"$f":"VLOOKUP($A10,Participants!$A:$E,4,FALSE)","v":4},{"$f":"VLOOKUP($A10,Participants!$A:$E,2,FALSE)","v":"Lucas"},{"$f":"VLOOKUP($A10,Participants!$A:$E,3,FALSE)","v":"Back"},{"$f":"VLOOKUP($A10,Participants!$A:$E,5,FALSE)","v":"SSFC"},6]
[157,5400,5400,null,null,{"$f":"VLOOKUP($A11,Participants!$A:$E,4,FALSE)","v":4},{"$f":"VLOOKUP($A11,Participants!$A:$E,2,FALSE)","v":"Parker"},{"$f":"VLOOKUP($A11,Participants!$A:$E,3,FALSE)","v":"Cipich"},{"$f":"VLOOKUP($A11,Participants!$A:$E,5,FALSE)","v":"SSFC"},8]
[67,9903,9903,null,null,{"$f":"VLOOKUP($A12,Participants!$A:$E,4,FALSE)","v":3},{"$f":"VLOOKUP($A12,Participants!$A:$E,2,FALSE)","v":"Mac"},{"$f":"VLOOKUP($A12,Participants!$A:$E,3,FALSE)","v":"Kramer"},{"$f":"VLOOKUP($A12,Participants!$A:$E,5,FALSE)","v":"St Jude"},4]
[192,4400,4400,null,null,{"$f":"VLOOKUP($A13,Participants!$A:$E,4,FALSE)","v":4},{"$f":"VLOOKUP($A13,Participants!$A:$E,2,FALSE)","v":"Sam"},{"$f":"VLOOKUP($A13,Participants!$A:$E,3,FALSE)","v":"Rodgers"},{"$f":"VLOOKUP($A13,Participants!$A:$E,5,FALSE)","v":"SSFC"},10]
[null,0,{"$nulls":3},{"$f":"VLOOKUP($A14,Participants!$A:$E,4,FALSE)","v":{"$error":"#N/A"}},{"$f":"VLOOKUP($A14,Participants!$A:$E,2,FALSE)","v":{"$error":"#N/A"}},{"$f":"VLOOKUP($A14,Participants!$A:$E,3,FALSE)","v":{"$error":"#N/A"}},{"$f":"VLOOKUP($A14,Participants!$A:$E,5,FALSE)","v":{"$error":"#N/A"}},13]
[null,0,{"$nulls":3},{"$f":"VLOOKUP($A15,Participants!$A:$E,4,FALSE)","v":{"$error":"#N/A"}},{"$f":"VLOOKUP($A15,Participants!$A:$E,2,FALSE)","v":{"$error":"#N/A"}},{"$f":"VLOOKUP($A15,Participants!$A:$E,3,FALSE)","v":{"$error":"#N/A"}},{"$f":"VLOOKUP($A15,Participants!$A:$E,5,FALSE)","v":{"$error":"#N/A"}},13]
[null,0,{"$nulls":3},{"$f":"VLOOKUP($A16,Participants!$A:$E,4,FALSE)","v":{"$error":"#N/A"}},{"$f":"VLOOKUP($A16,Participants!$A:$E,2,FALSE)","v":{"$error":"#N/A"}},{"$f":"VLOOKUP($A16,Participants!$A:$E,3,FALSE)","v":{"$error":"#N/A"}},{"$f":"VLOOKUP($A16,Participants!$A:$E,5,FALSE)","v":{"$error":"#N/A"}},13]
[null,0,{"$nulls":3},{"$f":"VLOOKUP($A17,Participants!$A:$E,4,FALSE)","v":{"$error":"#N/A"}},{"$f":"VLOOKUP($A17,Participants!$A:$E,2,FALSE)","v":{"$error":"#N/A"}},{"$f":"VLOOKUP($A17,Participants!$A:$E,3,FALSE)","v":{"$error":"#N/A"}},{"$f":"VLOOKUP($A17,Participants!$A:$E,5,FALSE)","v":{"$error":"#N/A"}},13]
[null,0,{"$nulls":3},{"$f":"VLOOKUP($A18,Participants!$A:$E,4,FALSE)","v":{"$error":"#N/A"}},{"$f":"VLOOKUP($A18,Participants!$A:$E,2,FALSE)","v":{"$error":"#N/A"}},{"$f":"VLOOKUP($A18,Participants!$A:$E,3,FALSE)","v":{"$error":"#N/A"}},{"$f":"VLOOKUP($A18,Participants!$A:$E,5,FALSE)","v":{"$error":"#N/A"}},13]
[null,0,{"$nulls":3},{"$f":"VLOOKUP($A19,Participants!$A:$E,4,FALSE)","v":{"$error":"#N/A"}},{"$f":"VLOOKUP($A19,Participants!$A:$E,2,FALSE)","v":{"$error":"#N/A"}},{"$f":"VLOOKUP($A19,Participants!$A:$E,3,FALSE)","v":{"$error":"#N/A"}},{"$f":"VLOOKUP($A19,Participants!$A:$E,5,FALSE)","v":{"$error":"#N/A"}},13]
[null,0,{"$nulls":3},{"$f":"VLOOKUP($A20,Participants!$A:$E,4,FALSE)","v":{"$error":"#N/A"}},{"$f":"VLOOKUP($A20,Participants!$A:$E,2,FALSE)","v":{"$error":"#N/A"}},{"$f":"VLOOKUP($A20,Participants!$A:$E,3,FALSE)","v":{"$error":"#N/A"}},{"$f":"VLOOKUP($A20,Participants!$A:$E,5,FALSE)","v":{"$error":"#N/A"}},13]
[null,0,{"$nulls":3},{"$f":"VLOOKUP($A21,Participants!$A:$E,4,FALSE)","v":{"$error":"#N/A"}},{"$f":"VLOOKUP($A21,Participants!$A:$E,2,FALSE)","v":{"$error":"#N/A"}},{"$f":"VLOOKUP($A21,Participants!$A:$E,3,FALSE)","v":{"$error":"#N/A"}},{"$f":"VLOOKUP($A21,Participants!$A:$E,5,FALSE)","v":{"$error":"#N/A"}},13]
[null,0,{"$nulls":3},{"$f":"VLOOKUP($A22,Participants!$A:$E,4,FALSE)","v":{"$error":"#N/A"}},{"$f":"VLOOKUP($A22,Participants!$A:$E,2,FALSE)","v":{"$error":"#N/A"}},{"$f":"VLOOKUP($A22,Participants!$A:$E,3,FALSE)","v":{"$error":"#N/A"}},{"$f":"VLOOKUP($A22,Participants!$A:$E,5,FALSE)","v":{"$error":"#N/A"}},13]
[null,0,{"$nulls":3},{"$f":"VLOOKUP($A23,Participants!$A:$E,4,FALSE)","v":{"$error":"#N/A"}},{"$f":"VLOOKUP($A23,Participants!$A:$E,2,FALSE)","v":{"$error":"#N/A"}},{"$f":"VLOOKUP($A23,Participants!$A:$E,3,FALSE)","v":{"$error":"#N/A"}},{"$f":"VLOOKUP($A23,Participants!$A:$E,5,FALSE)","v":{"$error":"#N/A"}},13]
[null,0,{"$nulls":3},{"$f":"VLOOKUP($A24,Participants!$A:$E,4,FALSE)","v":{"$error":"#N/A"}},{"$f":"VLOOKUP($A24,Participants!$A:$E,2,FALSE)","v":{"$error":"#N/A"}},{"$f":"VLOOKUP($A24,Participants!$A:$E,3,FALSE)","v":{"$error":"#N/A"}},{"$f":"VLOOKUP($A24,Participants!$A:$E,5,FALSE)","v":{"$error":"#N/A"}},13]
[null,0,{"$nulls":3},{"$f":"VLOOKUP($A25,Participants!$A:$E,4,FALSE)","v":{"$error":"#N/A"}},{"$f":"VLOOKUP($A25,Participants!$A:$E,2,FALSE)","v":{"$error":"#N/A"}},{"$f":"VLOOKUP($A25,Participants!$A:$E,3,FALSE)","v":{"$error":"#N/A"}},{"$f":"VLOOKUP($A25,Participants!$A:$E,5,FALSE)","v":{"$error":"#N/A"}},13]
[null,0,{"$nulls":3},{"$f":"VLOOKUP($A26,Participants!$A:$E,4,FALSE)","v":{"$error":"#N/A"}},{"$f":"VLOOKUP($A26,Participants!$A:$E,2,FALSE)","v":{"$error":"#N/A"}},{"$f":"VLOOKUP($A26,Participants!$A:$E,3,FALSE)","v":{"$error":"#N/A"}},{"$f":"VLOOKUP($A26,Participants!$A:$E,5,FALSE)","v":{"$error":"#N/A"}},13]
[null,0,{"$nulls":3},{"$f":"VLOOKUP($A27,Participants!$A:$E,4,FALSE)","v":{"$error":"#N/A"}},{"$f":"VLOOKUP($A27,Participants!$A:$E,2,FALSE)","v":{"$error":"#N/A"}},{"$f":"VLOOKUP($A27,Participants!$A:$E,3,FALSE)","v":{"$error":"#N/A"}},{"$f":"VLOOKUP($A27,Participants!$A:$E,5,FALSE)","v":{"$error":"#N/A"}},13]
[null,0,{"$nulls":3},{"$f":"VLOOKUP($A28,Participants!$A:$E,4,FALSE)","v":{"$error":"#N/A"}},{"$f":"VLOOKUP($A28,Participants!$A:$E,2,FALSE)","v":{"$error":"#N/A"}},{"$f":"VLOOKUP($A28,Participants!$A:$E,3,FALSE)","v":{"$error":"#N/A"}},{"$f":"VLOOKUP($A28,Participants!$A:$E,5,FALSE)","v":{"$error":"#N/A"}},13]
[null,0,{"$nulls":3},{"$f":"VLOOKUP($A29,Participants!$A:$E,4,FALSE)","v":{"$error":"#N/A"}},{"$f":"VLOOKUP($A29,Participants!$A:$E,2,FALSE)","v":{"$error":"#N/A"}},{"$f":"VLOOKUP($A29,Participants!$A:$E,3,FALSE)","v":{"$error":"#N/A"}},{"$f":"VLOOKUP($A29,Participants!$A:$E,5,FALSE)","v":{"$error":"#N/A"}},13]
[null,0,{"$nulls":3},{"$f":"VLOOKUP($A30,Participants!$A:$E,4,FALSE)","v":{"$error":"#N/A"}},{"$f":"VLOOKUP($A30,Participants!$A:$E,2,FALSE)","v":{"$error":"#N/A"}},{"$f":"VLOOKUP($A30,Participants!$A:$E,3,FALSE)","v":{"$error":"#N/A"}},{"$f":"VLOOKUP($A30,Participants!$A:$E,5,FALSE)","v":{"$error":"#N/A"}},13]
[null,0,{"$nulls":3},{"$f":"VLOOKUP($A31,Participants!$A:$E,4,FALSE)","v":{"$error":"#N/A"}},{"$f":"VLOOKUP($A31,Participants!$A:$E,2,FALSE)","v":{"$error":"#N/A"}},{"$f":"VLOOKUP($A31,Participants!$A:$E,3,FALSE)","v":{"$error":"#N/A"}},{"$f":"VLOOKUP($A31,Participants!$A:$E,5,FALSE)","v":{"$error":"#N/A"}},13]
[null,0,{"$nulls":3},{"$f":"VLOOKUP($A32,Participants!$A:$E,4,FALSE)","v":{"$error":"#N/A"}},{"$f":"VLOOKUP($A32,Participants!$A:$E,2,FALSE)","v":{"$error":"#N/A"}},{"$f":"VLOOKUP($A32,Participants!$A:$E,3,FALSE)","v":{"$error":"#N/A"}},{"$f":"VLOOKUP($A32,Participants!$A:$E,5,FALSE)","v":{"$error":"#N/A"}},13]
[null,0,{"$nulls":3},{"$f":"VLOOKUP($A33,Participants!$A:$E,4,FALSE)","v":{"$error":"#N/A"}},{"$f":"VLOOKUP($A33,Participants!$A:$E,2,FALSE)","v":{"$error":"#N/A"}},{"$f":"VLOOKUP($A33,Participants!$A:$E,3,FALSE)","v":{"$error":"#N/A"}},{"$f":"VLOOKUP($A33,Participants!$A:$E,5,FALSE)","v":{"$error":"#N/A"}},13]
[null,0,{"$nulls":3},{"$f":"VLOOKUP($A34,Participants!$A:$E,4,FALSE)","v":{"$error":"#N/A"}},{"$f":"VLOOKUP($A34,Participants!$A:$E,2,FALSE)","v":{"$error":"#N/A"}},{"$f":"VLOOKUP($A34,Participants!$A:$E,3,FALSE)","v":{"$error":"#N/A"}},{"$f":"VLOOKUP($A34,Participants!$A:$E,5,FALSE)","v":{"$error":"#N/A"}},13]
[null,0,{"$nulls":3},{"$f":"VLOOKUP($A35,Participants!$A:$E,4,FALSE)","v":{"$error":"#N/A"}},{"$f":"VLOOKUP($A35,Participants!$A:$E,2,FALSE)","v":{"$error":"#N/A"}},{"$f":"VLOOKUP($A35,Participants!$A:$E,3,FALSE)","v":{"$error":"#N/A"}},{"$f":"VLOOKUP($A35,Participants!$A:$E,5,FALSE)","v":{"$error":"#N/A"}},13]
[null,0,{"$nulls":3},{"$f":"VLOOKUP($A36,Participants!$A:$E,4,FALSE)","v":{"$error":"#N/A"}},{"$f":"VLOOKUP($A36,Participants!$A:$E,2,FALSE)","v":{"$error":"#N/A"}},{"$f":"VLOOKUP($A36,Participants!$A:$E,3,FALSE)","v":{"$error":"#N/A"}},{"$f":"VLOOKUP($A36,Participants!$A:$E,5,FALSE)","v":{"$error":"#N/A"}},13]
[null,0,{"$nulls":3},{"$f":"VLOOKUP($A37,Participants!$A:$E,4,FALSE)","v":{"$error":"#N/A"}},{"$f":"VLOOKUP($A37,Participants!$A:$E,2,FALSE)","v":{"$error":"#N/A"}},{"$f":"VLOOKUP($A37,Participants!$A:$E,3,FALSE)","v":{"$error":"#N/A"}},{"$f":"VLOOKUP($A37,Participants!$A:$E,5,FALSE)","v":{"$error":"#N/A"}},13]
[null,0,{"$nulls":3},{"$f":"VLOOKUP($A38,Participants!$A:$E,4,FALSE)","v":{"$error":"#N/A"}},{"$f":"VLOOKUP($A38,Participants!$A:$E,2,FALSE)","v":{"$error":"#N/A"}},{"$f":"VLOOKUP($A38,Participants!$A:$E,3,FALSE)","v":{"$error":"#N/A"}},{"$f":"VLOOKUP($A38,Participants!$A:$E,5,FALSE)","v":{"$error":"#N/A"}},13]
[null,0,{"$nulls":3},{"$f":"VLOOKUP($A39,Participants!$A:$E,4,FALSE)","v":{"$error":"#N/A"}},{"$f":"VLOOKUP($A39,Participants!$A:$E,2,FALSE)","v":{"$error":"#N/A"}},{"$f":"VLOOKUP($A39,Participants!$A:$E,3,FALSE)","v":{"$error":"#N/A"}},{"$f":"VLOOKUP($A39,Participants!$A:$E,5,FALSE)","v":{"$error":"#N/A"}},13]
[null,0,{"$nulls":3},{"$f":"VLOOKUP($A40,Participants!$A:$E,4,FALSE)","v":{"$error":"#N/A"}},{"$f":"VLOOKUP($A40,Participants!$A:$E,2,FALSE)","v":{"$error":"#N/A"}},{"$f":"VLOOKUP($A40,Participants!$A:$E,3,FALSE)","v":{"$error":"#N/A"}},{"$f":"VLOOKUP($A40,Participants!$A:$E,5,FALSE)","v":{"$error":"#N/A"}},13]
[null,0,{"$nulls":3},{"$f":"VLOOKUP($A41,Participants!$A:$E,4,FALSE)","v":{"$error":"#N/A"}},{"$f":"VLOOKUP($A41,Participants!$A:$E,2,FALSE)","v":{"$error":"#N/A"}},{"$f":"VLOOKUP($A41,Participants!$A:$E,3,FALSE)","v":{"$error":"#N/A"}},{"$f":"VLOOKUP($A41,Participants!$A:$E,5,FALSE)","v":{"$error":"#N/A"}},13]
[null,0,{"$nulls":3},{"$f":"VLOOKUP($A42,Participants!$A:$E,4,FALSE)","v":{"$error":"#N/A"}},{"$f":"VLOOKUP($A42,Participants!$A:$E,2,FALSE)","v":{"$error":"#N/A"}},{"$f":"VLOOKUP($A42,Participants!$A:$E,3,FALSE)","v":{"$error":"#N/A"}},{"$f":"VLOOKUP($A42,Participants!$A:$E,5,FALSE)","v":{"$error":"#N/A"}},13]
[null,0,{"$nulls":3},{"$f":"VLOOKUP($A43,Participants!$A:$E,4,FALSE)","v":{"$error":"#N/A"}},{"$f":"VLOOKUP($A43,Participants!$A:$E,2,FALSE)","v":{"$error":"#N/A"}},{"$f":"VLOOKUP($A43,Participants!$A:$E,3,FALSE)","v":{"$error":"#N/A"}},{"$f":"VLOOKUP($A43,Participants!$A:$E,5,FALSE)","v":{"$error":"#N/A"}},13]
[null,0,{"$nulls":3},{"$f":"VLOOKUP($A44,Participants!$A:$E,4,FALSE)","v":{"$error":"#N/A"}},{"$f":"VLOOKUP($A44,Participants!$A:$E,2,FALSE)","v":{"$error":"#N/A"}},{"$f":"VLOOKUP($A44,Participants!$A:$E,3,FALSE)","v":{"$error":"#N/A"}},{"$f":"VLOOKUP($A44,Participants!$A:$E,5,FALSE)","v":{"$error":"#N/A"}},13]
[null,0,{"$nulls":3},{"$f":"VLOOKUP($A45,Participants!$A:$E,4,FALSE)","v":{"$error":"#N/A"}},{"$f":"VLOOKUP($A45,Participants!$A:$E,2,FALSE)","v":{"$error":"#N/A"}},{"$f":"VLOOKUP($A45,Participants!$A:$E,3,FALSE)","v":{"$error":"#N/A"}},{"$f":"VLOOKUP($A45,Participants!$A:$E,5,FALSE)","v":{"$error":"#N/A"}},13]
[null,0,{"$nulls":3},{"$f":"VLOOKUP($A46,Participants!$A:$E,4,FALSE)","v":{"$error":"#N/A"}},{"$f":"VLOOKUP($A46,Participants!$A:$E,2,FALSE)","v":{"$error":"#N/A"}},{"$f":"VLOOKUP($A46,Participants!$A:$E,3,FALSE)","v":{"$error":"#N/A"}},{"$f":"VLOOKUP($A46,Participants!$A:$E,5,FALSE)","v":{"$error":"#N/A"}},13]
[null,0,{"$nulls":3},{"$f":"VLOOKUP($A47,Participants!$A:$E,4,FALSE)","v":{"$error":"#N/A"}},{"$f":"VLOOKUP($A47,Participants!$A:$E,2,FALSE)","v":{"$error":"#N/A"}},{"$f":"VLOOKUP($A47,Participants!$A:$E,3,FALSE)","v":{"$error":"#N/A"}},{"$f":"VLOOKUP($A47,Participants!$A:$E,5,FALSE)","v":{"$error":"#N/A"}},13]
[null,0,{"$nulls":3},{"$f":"VLOOKUP($A48,Participants!$A:$E,4,FALSE)","v":{"$error":"#N/A"}},{"$f":"VLOOKUP($A48,Participants!$A:$E,2,FALSE)","v":{"$error":"#N/A"}},{"$f":"VLOOKUP($A48,Participants!$A:$E,3,FALSE)","v":{"$error":"#N/A"}},{"$f":"VLOOKUP($A48,Participants!$A:$E,5,FALSE)","v":{"$error":"#N/A"}},13]
[null,0,{"$nulls":3},{"$f":"VLOOKUP($A49,Participants!$A:$E,4,FALSE)","v":{"$error":"#N/A"}},{"$f":"VLOOKUP($A49,Participants!$A:$E,2,FALSE)","v":{"$error":"#N/A"}},{"$f":"VLOOKUP($A49,Participants!$A:$E,3,FALSE)","v":{"$error":"#N/A"}},{"$f":"VLOOKUP($A49,Participants!$A:$E,5,FALSE)","v":{"$error":"#N/A"}},13]
[null,0,{"$nulls":3},{"$f":"VLOOKUP($A50,Participants!$A:$E,4,FALSE)","v":{"$error":"#N/A"}},{"$f":"VLOOKUP($A50,Participants!$A:$E,2,FALSE)","v":{"$error":"#N/A"}},{"$f":"VLOOKUP($A50,Participants!$A:$E,3,FALSE)","v":{"$error":"#N/A"}},{"$f":"VLOOKUP($A50,Participants!$A:$E,5,FALSE)","v":{"$error":"#N/A"}},13]
[null,0,{"$nulls":3},{"$f":"VLOOKUP($A51,Participants!$A:$E,4,FALSE)","v":{"$error":"#N/A"}},{"$f":"VLOOKUP($A51,Participants!$A:$E,2,FALSE)","v":{"$error":"#N/A"}},{"$f":"VLOOKUP($A51,Participants!$A:$E,3,FALSE)","v":{"$error":"#N/A"}},{"$f":"VLOOKUP($A51,Participants!$A:$E,5,FALSE)","v":{"$error":"#N/A"}},13]
[null,0,{"$nulls":3},{"$f":"VLOOKUP($A52,Participants!$A:$E,4,FALSE)","v":{"$error":"#N/A"}},{"$f":"VLOOKUP($A52,Participants!$A:$E,2,FALSE)","v":{"$error":"#N/A"}},{"$f":"VLOOKUP($A52,Participants!$A:$E,3,FALSE)","v":{"$error":"#N/A"}},{"$f":"VLOOKUP($A52,Participants!$A:$E,5,FALSE)","v":{"$error":"#N/A"}},13]
[null,0,{"$nulls":3},{"$f":"VLOOKUP($A53,Participants!$A:$E,4,FALSE)","v":{"$error":"#N/A"}},{"$f":"VLOOKUP($A53,Participants!$A:$E,2,FALSE)","v":{"$error":"#N/A"}},{"$f":"VLOOKUP($A53,Participants!$A:$E,3,FALSE)","v":{"$error":"#N/A"}},{"$f":"VLOOKUP($A53,Participants!$A:$E,5,FALSE)","v":{"$error":"#N/A"}},13]
[null,0,{"$nulls":3},{"$f":"VLOOKUP($A54,Participants!$A:$E,4,FALSE)","v":{"$error":"#N/A"}},{"$f":"VLOOKUP($A54,Participants!$A:$E,2,FALSE)","v":{"$error":"#N/A"}},{"$f":"VLOOKUP($A54,Participants!$A:$E,3,FALSE)","v":{"$error":"#N/A"}},{"$f":"VLOOKUP($A54,Participants!$A:$E,5,FALSE)","v":{"$error":"#N/A"}},13]
[null,0,{"$nulls":3},{"$f":"VLOOKUP($A55,Participants!$A:$E,4,FALSE)","v":{"$error":"#N/A"}},{"$f":"VLOOKUP($A55,Participants!$A:$E,2,FALSE)","v":{"$error":"#N/A"}},{"$f":"VLOOKUP($A55,Participants!$A:$E,3,FALSE)","v":{"$error":"#N/A"}},{"$f":"VLOOKUP($A55,Participants!$A:$E,5,FALSE)","v":{"$error":"#N/A"}},13]
[null,0,{"$nulls":3},{"$f":"VLOOKUP($A56,Participants!$A:$E,4,FALSE)","v":{"$error":"#N/A"}},{"$f":"VLOOKUP($A56,Participants!$A:$E,2,FALSE)","v":{"$error":"#N/A"}},{"$f":"VLOOKUP($A56,Participants!$A:$E,3,FALSE)","v":{"$error":"#N/A"}},{"$f":"VLOOKUP($A56,Participants!$A:$E,5,FALSE)","v":{"$error":"#N/A"}},13]
[null,0,{"$nulls":3},{"$f":"VLOOKUP($A57,Participants!$A:$E,4,FALSE)","v":{"$error":"#N/A"}},{"$f":"VLOOKUP($A57,Participants!$A:$E,2,FALSE)","v":{"$error":"#N/A"}},{"$f":"VLOOKUP($A57,Participants!$A:$E,3,FALSE)","v":{"$error":"#N/A"}},{"$f":"VLOOKUP($A57,Participants!$A:$E,5,FALSE)","v":{"$error":"#N/A"}},13]
[null,0,{"$nulls":3},{"$f":"VLOOKUP($A58,Participants!$A:$E,4,FALSE)","v":{"$error":"#N/A"}},{"$f":"VLOOKUP($A58,Participants!$A:$E,2,FALSE)","v":{"$error":"#N/A"}},{"$f":"VLOOKUP($A58,Participants!$A:$E,3,FALSE)","v":{"$error":"#N/A"}},{"$f":"VLOOKUP($A58,Participants!$A:$E,5,FALSE)","v":{"$error":"#N/A"}},13]
[null,0,{"$nulls":3},{"$f":"VLOOKUP($A59,Participants!$A:$E,4,FALSE)","v":{"$error":"#N/A"}},{"$f":"VLOOKUP($A59,Participants!$A:$E,2,FALSE)","v":{"$error":"#N/A"}},{"$f":"VLOOKUP($A59,Participants!$A:$E,3,FALSE)","v":{"$error":"#N/A"}},{"$f":"VLOOKUP($A59,Participants!$A:$E,5,FALSE)","v":{"$error":"#N/A"}},13]
[null,0,{"$nulls":3},{"$f":"VLOOKUP($A60,Participants!$A:$E,4,FALSE)","v":{"$error":"#N/A"}},{"$f":"VLOOKUP($A60,Participants!$A:$E,2,FALSE)","v":{"$error":"#N/A"}},{"$f":"VLOOKUP($A60,Participants!$A:$E,3,FALSE)","v":{"$error":"#N/A"}},{"$f":"VLOOKUP($A60,Participants!$A:$E,5,FALSE)","v":{"$error":"#N/A"}},13]
[null,0,{"$nulls":3},{"$f":"VLOOKUP($A61,Participants!$A:$E,4,FALSE)","v":{"$error":"#N/A"}},{"$f":"VLOOKUP($A61,Participants!$A:$E,2,FALSE)","v":{"$error":"#N/A"}},{"$f":"VLOOKUP($A61,Participants!$A:$E,3,FALSE)","v":{"$error":"#N/A"}},{"$f":"VLOOKUP($A61,Participants!$A:$E,5,FALSE)","v":{"$error":"#N/A"}},13]
[null,0,{"$nulls":3},{"$f":"VLOOKUP($A62,Participants!$A:$E,4,FALSE)","v":{"$error":"#N/A"}},{"$f":"VLOOKUP($A62,Participants!$A:$E,2,FALSE)","v":{"$error":"#N/A"}},{"$f":"VLOOKUP($A62,Participants!$A:$E,3,FALSE)","v":{"$error":"#N/A"}},{"$f":"VLOOKUP($A62,Participants!$A:$E,5,FALSE)","v":{"$error":"#N/A"}},13]
[null,0,{"$nulls":3},{"$f":"VLOOKUP($A63,Participants!$A:$E,4,FALSE)","v":{"$error":"#N/A"}},{"$f":"VLOOKUP($A63,Participants!$A:$E,2,FALSE)","v":{"$error":"#N/A"}},{"$f":"VLOOKUP($A63,Participants!$A:$E,3,FALSE)","v":{"$error":"#N/A"}},{"$f":"VLOOKUP($A63,Participants!$A:$E,5,FALSE)","v":{"$error":"#N/A"}},13]
[null,0,{"$nulls":3},{"$f":"VLOOKUP($A64,Participants!$A:$E,4,FALSE)","v":{"$error":"#N/A"}},{"$f":"VLOOKUP($A64,Participants!$A:$E,2,FALSE)","v":{"$error":"#N/A"}},{"$f":"VLOOKUP($A64,Participants!$A:$E,3,FALSE)","v":{"$error":"#N/A"}},{"$f":"VLOOKUP($A64,Participants!$A:$E,5,FALSE)","v":{"$error":"#N/A"}},13]
[null,0,{"$nulls":3},{"$f":"VLOOKUP($A65,Participants!$A:$E,4,FALSE)","v":{"$error":"#N/A"}},{"$f":"VLOOKUP($A65,Participants!$A:$E,2,FALSE)","v":{"$error":"#N/A"}},{"$f":"VLOOKUP($A65,Participants!$A:$E,3,FALSE)","v":{"$error":"#N/A"}},{"$f":"VLOOKUP($A65,Participants!$A:$E,5,FALSE)","v":{"$error":"#N/A"}},13]
[null,0,{"$nulls":3},{"$f":"VLOOKUP($A66,Participants!$A:$E,4,FALSE)","v":{"$error":"#N/A"}},{"$f":"VLOOKUP($A66,Participants!$A:$E,2,FALSE)","v":{"$error":"#N/A"}},{"$f":"VLOOKUP($A66,Participants!$A:$E,3,FALSE)","v":{"$error":"#N/A"}},{"$f":"VLOOKUP($A66,Participants!$A:$E,5,FALSE)","v":{"$error":"#N/A"}},13]
[null,{"$f":"MAX(C67:E67)","v":0},{"$nulls":3},{"$f":"VLOOKUP($A67,Participants!$A:$E,4,FALSE)","v":{"$error":"#N/A"}},{"$f":"VLOOKUP($A67,Participants!$A:$E,2,FALSE)","v":{"$error":"#N/A"}},{"$f":"VLOOKUP($A67,Participants!$A:$E,3,FALSE)","v":{"$error":"#N/A"}},{"$f":"VLOOKUP($A67,Participants!$A:$E,5,FALSE)","v":{"$error":"#N/A"}},{"$f":"RANK(B67,$B$1:$B$97,0)","v":13}]
[null,0,{"$nulls":3},{"$f":"VLOOKUP($A68,Participants!$A:$E,4,FALSE)","v":{"$error":"#N/A"}},{"$f":"VLOOKUP($A68,Participants!$A:$E,2,FALSE)","v":{"$error":"#N/A"}},{"$f":"VLOOKUP($A68,Participants!$A:$E,3,FALSE)","v":{"$error":"#N/A"}},{"$f":"VLOOKUP($A68,Participants!$A:$E,5,FALSE)","v":{"$error":"#N/A"}},13]
[null,0,{"$nulls":3},{"$f":"VLOOKUP($A69,Participants!$A:$E,4,FALSE)","v":{"$error":"#N/A"}},{"$f":"VLOOKUP($A69,Participants!$A:$E,2,FALSE)","v":{"$error":"#N/A"}},{"$f":"VLOOKUP($A69,Participants!$A:$E,3,FALSE)","v":{"$error":"#N/A"}},{"$f":"VLOOKUP($A69,Participants!$A:$E,5,FALSE)","v":{"$error":"#N/A"}},13]
[null,0,{"$nulls":3},{"$f":"VLOOKUP($A70,Participants!$A:$E,4,FALSE)","v":{"$error":"#N/A"}},{"$f":"VLOOKUP($A70,Participants!$A:$E,2,FALSE)","v":{"$error":"#N/A"}},{"$f":"VLOOKUP($A70,Participants!$A:$E,3,FALSE)","v":{"$error":"#N/A"}},{"$f":"VLOOKUP($A70,Participants!$A:$E,5,FALSE)","v":{"$error":"#N/A"}},13]
[null,0,{"$nulls":3},{"$f":"VLOOKUP($A71,Participants!$A:$E,4,FALSE)","v":{"$error":"#N/A"}},{"$f":"VLOOKUP($A71,Participants!$A:$E,2,FALSE)","v":{"$error":"#N/A"}},{"$f":"VLOOKUP($A71,Participants!$A:$E,3,FALSE)","v":{"$error":"#N/A"}},{"$f":"VLOOKUP($A71,Participants!$A:$E,5,FALSE)","v":{"$error":"#N/A"}},13]
[null,0,{"$nulls":3},{"$f":"VLOOKUP($A72,Participants!$A:$E,4,FALSE)","v":{"$error":"#N/A"}},{"$f":"VLOOKUP($A72,Participants!$A:$E,2,FALSE)","v":{"$error":"#N/A"}},{"$f":"VLOOKUP($A72,Participants!$A:$E,3,FALSE)","v":{"$error":"#N/A"}},{"$f":"VLOOKUP($A72,Participants!$A:$E,5,FALSE)","v":{"$error":"#N/A"}},13]
[null,0,{"$nulls":3},{"$f":"VLOOKUP($A73,Participants!$A:$E,4,FALSE)","v":{"$error":"#N/A"}},{"$f":"VLOOKUP($A73,Participants!$A:$E,2,FALSE)","v":{"$error":"#N/A"}},{"$f":"VLOOKUP($A73,Participants!$A:$E,3,FALSE)","v":{"$error":"#N/A"}},{"$f":"VLOOKUP($A73,Participants!$A:$E,5,FALSE)","v":{"$error":"#N/A"}},13]
[null,0,{"$nulls":3},{"$f":"VLOOKUP($A74,Participants!$A:$E,4,FALSE)","v":{"$error":"#N/A"}},{"$f":"VLOOKUP($A74,Participants!$A:$E,2,FALSE)","v":{"$error":"#N/A"}},{"$f":"VLOOKUP($A74,Participants!$A:$E,3,FALSE)","v":{"$error":"#N/A"}},{"$f":"VLOOKUP($A74,Participants!$A:$E,5,FALSE)","v":{"$error":"#N/A"}},13]
[null,0,{"$nulls":3},{"$f":"VLOOKUP($A75,Participants!$A:$E,4,FALSE)","v":{"$error":"#N/A"}},{"$f":"VLOOKUP($A75,Participants!$A:$E,2,FALSE)","v":{"$error":"#N/A"}},{"$f":"VLOOKUP($A75,Participants!$A:$E,3,FALSE)","v":{"$error":"#N/A"}},{"$f":"VLOOKUP($A75,Participants!$A:$E,5,FALSE)","v":{"$error":"#N/A"}},13]
[null,0,{"$nulls":3},{"$f":"VLOOKUP($A76,Participants!$A:$E,4,FALSE)","v":{"$error":"#N/A"}},{"$f":"VLOOKUP($A76,Participants!$A:$E,2,FALSE)","v":{"$error":"#N/A"}},{"$f":"VLOOKUP($A76,Participants!$A:$E,3,FALSE)","v":{"$error":"#N/A"}},{"$f":"VLOOKUP($A76,Participants!$A:$E,5,FALSE)","v":{"$error":"#N/A"}},13]
[null,0,{"$nulls":3},{"$f":"VLOOKUP($A77,Participants!$A:$E,4,FALSE)","v":{"$error":"#N/A"}},{"$f":"VLOOKUP($A77,Participants!$A:$E,2,FALSE)","v":{"$error":"#N/A"}},{"$f":"VLOOKUP($A77,Participants!$A:$E,3,FALSE)","v":{"$error":"#N/A"}},{"$f":"VLOOKUP($A77,Participants!$A:$E,5,FALSE)","v":{"$error":"#N/A"}},13]
[null,0,{"$nulls":3},{"$f":"VLOOKUP($A78,Participants!$A:$E,4,FALSE)","v":{"$error":"#N/A"}},{"$f":"VLOOKUP($A78,Participants!$A:$E,2,FALSE)","v":{"$error":"#N/A"}},{"$f":"VLOOKUP($A78,Participants!$A:$E,3,FALSE)","v":{"$error":"#N/A"}},{"$f":"VLOOKUP($A78,Participants!$A:$E,5,FALSE)","v":{"$error":"#N/A"}},13]
[null,0,{"$nulls":3},{"$f":"VLOOKUP($A79,Participants!$A:$E,4,FALSE)","v":{"$error":"#N/A"}},{"$f":"VLOOKUP($A79,Participants!$A:$E,2,FALSE)","v":{"$error":"#N/A"}},{"$f":"VLOOKUP($A79,Participants!$A:$E,3,FALSE)","v":{"$error":"#N/A"}},{"$f":"VLOOKUP($A79,Participants!$A:$E,5,FALSE)","v":{"$error":"#N/A"}},13]
[null,0,{"$nulls":3},{"$f":"VLOOKUP($A80,Participants!$A:$E,4,FALSE)","v":{"$error":"#N/A"}},{"$f":"VLOOKUP($A80,Participants!$A:$E,2,FALSE)","v":{"$error":"#N/A"}},{"$f":"VLOOKUP($A80,Participants!$A:$E,3,FALSE)","v":{"$error":"#N/A"}},{"$f":"VLOOKUP($A80,Participants!$A:$E,5,FALSE)","v":{"$error":"#N/A"}},13]
[null,0,{"$nulls":3},{"$f":"VLOOKUP($A81,Participants!$A:$E,4,FALSE)","v":{"$error":"#N/A"}},{"$f":"VLOOKUP($A81,Participants!$A:$E,2,FALSE)","v":{"$error":"#N/A"}},{"$f":"VLOOKUP($A81,Participants!$A:$E,3,FALSE)","v":{"$error":"#N/A"}},{"$f":"VLOOKUP($A81,Participants!$A:$E,5,FALSE)","v":{"$error":"#N/A"}},13]
[null,0,{"$nulls":3},{"$f":"VLOOKUP($A82,Participants!$A:$E,4,FALSE)","v":{"$error":"#N/A"}},{"$f":"VLOOKUP($A82,Participants!$A:$E,2,FALSE)","v":{"$error":"#N/A"}},{"$f":"VLOOKUP($A82,Participants!$A:$E,3,FALSE)","v":{"$error":"#N/A"}},{"$f":"VLOOKUP($A82,Participants!$A:$E,5,FALSE)","v":{"$error":"#N/A"}},13]
[null,0,{"$nulls":3},{"$f":"VLOOKUP($A83,Participants!$A:$E,4,FALSE)","v":{"$error":"#N/A"}},{"$f":"VLOOKUP($A83,Participants!$A:$E,2,FALSE)","v":{"$error":"#N/A"}},{"$f":"VLOOKUP($A83,Participants!$A:$E,3,FALSE)","v":{"$error":"#N/A"}},{"$f":"VLOOKUP($A83,Participants!$A:$E,5,FALSE)","v":{"$error":"#N/A"}},13]
[null,0,{"$nulls":3},{"$f":"VLOOKUP($A84,Participants!$A:$E,4,FALSE)","v":{"$error":"#N/A"}},{"$f":"VLOOKUP($A84,Participants!$A:$E,2,FALSE)","v":{"$error":"#N/A"}},{"$f":"VLOOKUP($A84,Participants!$A:$E,3,FALSE)","v":{"$error":"#N/A"}},{"$f":"VLOOKUP($A84,Participants!$A:$E,5,FALSE)","v":{"$error":"#N/A"}},13]
[null,0,{"$nulls":3},{"$f":"VLOOKUP($A85,Participants!$A:$E,4,FALSE)","v":{"$error":"#N/A"}},{"$f":"VLOOKUP($A85,Participants!$A:$E,2,FALSE)","v":{"$error":"#N/A"}},{"$f":"VLOOKUP($A85,Participants!$A:$E,3,FALSE)","v":{"$error":"#N/A"}},{"$f":"VLOOKUP($A85,Participants!$A:$E,5,FALSE)","v":{"$error":"#N/A"}},13]
[null,0,{"$nulls":3},{"$f":"VLOOKUP($A86,Participants!$A:$E,4,FALSE)","v":{"$error":"#N/A"}},{"$f":"VLOOKUP($A86,Participants!$A:$E,2,FALSE)","v":{"$error":"#N/A"}},{"$f":"VLOOKUP($A86,Participants!$A:$E,3,FALSE)","v":{"$error":"#N/A"}},{"$f":"VLOOKUP($A86,Participants!$A:$E,5,FALSE)","v":{"$error":"#N/A"}},13]
[null,0,{"$nulls":3},{"$f":"VLOOKUP($A87,Participants!$A:$E,4,FALSE)","v":{"$error":"#N/A"}},{"$f":"VLOOKUP($A87,Participants!$A:$E,2,FALSE)","v":{"$error":"#N/A"}},{"$f":"VLOOKUP($A87,Participants!$A:$E,3,FALSE)","v":{"$error":"#N/A"}},{"$f":"VLOOKUP($A87,Participants!$A:$E,5,FALSE)","v":{"$error":"#N/A"}},13]
[null,0,{"$nulls":3},{"$f":"VLOOKUP($A88,Participants!$A:$E,4,FALSE)","v":{"$error":"#N/A"}},{"$f":"VLOOKUP($A88,Participants!$A:$E,2,FALSE)","v":{"$error":"#N/A"}},{"$f":"VLOOKUP($A88,Participants!$A:$E,3,FALSE)","v":{"$error":"#N/A"}},{"$f":"VLOOKUP($A88,Participants!$A:$E,5,FALSE)","v":{"$error":"#N/A"}},13]
[null,0,{"$nulls":3},{"$f":"VLOOKUP($A89,Participants!$A:$E,4,FALSE)","v":{"$error":"#N/A"}},{"$f":"VLOOKUP($A89,Participants!$A:$E,2,FALSE)","v":{"$error":"#N/A"}},{"$f":"VLOOKUP($A89,Participants!$A:$E,3,FALSE)","v":{"$error":"#N/A"}},{"$f":"VLOOKUP($A89,Participants!$A:$E,5,FALSE)","v":{"$error":"#N/A"}},13]
[null,0,{"$nulls":3},{"$f":"VLOOKUP($A90,Participants!$A:$E,4,FALSE)","v":{"$error":"#N/A"}},{"$f":"VLOOKUP($A90,Participants!$A:$E,2,FALSE)","v":{"$error":"#N/A"}},{"$f":"VLOOKUP($A90,Participants!$A:$E,3,FALSE)","v":{"$error":"#N/A"}},{"$f":"VLOOKUP($A90,Participants!$A:$E,5,FALSE)","v":{"$error":"#N/A"}},13]
[null,0,{"$nulls":3},{"$f":"VLOOKUP($A91,Participants!$A:$E,4,FALSE)","v":{"$error":"#N/A"}},{"$f":"VLOOKUP($A91,Participants!$A:$E,2,FALSE)","v":{"$error":"#N/A"}},{"$f":"VLOOKUP($A91,Participants!$A:$E,3,FALSE)","v":{"$error":"#N/A"}},{"$f":"VLOOKUP($A91,Participants!$A:$E,5,FALSE)","v":{"$error":"#N/A"}},13]
[null,0,{"$nulls":3},{"$f":"VLOOKUP($A92,Participants!$A:$E,4,FALSE)","v":{"$error":"#N/A"}},{"$f":"VLOOKUP($A92,Participants!$A:$E,2,FALSE)","v":{"$error":"#N/A"}},{"$f":"VLOOKUP($A92,Participants!$A:$E,3,FALSE)","v":{"$error":"#N/A"}},{"$f":"VLOOKUP($A92,Participants!$A:$E,5,FALSE)","v":{"$error":"#N/A"}},13]
[null,0,{"$nulls":3},{"$f":"VLOOKUP($A93,Participants!$A:$E,4,FALSE)","v":{"$error":"#N/A"}},{"$f":"VLOOKUP($A93,Participants!$A:$E,2,FALSE)","v":{"$error":"#N/A"}},{"$f":"VLOOKUP($A93,Participants!$A:$E,3,FALSE)","v":{"$error":"#N/A"}},{"$f":"VLOOKUP($A93,Participants!$A:$E,5,FALSE)","v":{"$error":"#N/A"}},13]
[null,0,{"$nulls":3},{"$f":"VLOOKUP($A94,Participants!$A:$E,4,FALSE)","v":{"$error":"#N/A"}},{"$f":"VLOOKUP($A94,Participants!$A:$E,2,FALSE)","v":{"$error":"#N/A"}},{"$f":"VLOOKUP($A94,Participants!$A:$E,3,FALSE)","v":{"$error":"#N/A"}},{"$f":"VLOOKUP($A94,Participants!$A:$E,5,FALSE)","v":{"$error":"#N/A"}},13]
[null,0,{"$nulls":3},{"$f":"VLOOKUP($A95,Participants!$A:$E,4,FALSE)","v":{"$error":"#N/A"}},{"$f":"VLOOKUP($A95,Participants!$A:$E,2,FALSE)","v":{"$error":"#N/A"}},{"$f":"VLOOKUP($A95,Participants!$A:$E,3,FALSE)","v":{"$error":"#N/A"}},{"$f":"VLOOKUP($A95,Participants!$A:$E,5,FALSE)","v":{"$error":"#N/A"}},13]
[null,0,{"$nulls":3},{"$f":"VLOOKUP($A96,Participants!$A:$E,4,FALSE)","v":{"$error":"#N/A"}},{"$f":"VLOOKUP($A96,Participants!$A:$E,2,FALSE)","v":{"$error":"#N/A"}},{"$f":"VLOOKUP($A96,Participants!$A:$E,3,FALSE)","v":{"$error":"#N/A"}},{"$f":"VLOOKUP($A96,Participants!$A:$E,5,FALSE)","v":{"$error":"#N/A"}},13]
[null,0,{"$nulls":3},{"$f":"VLOOKUP($A97,Participants!$A:$E,4,FALSE)","v":{"$error":"#N/A"}},{"$f":"VLOOKUP($A97,Participants!$A:$E,2,FALSE)","v":{"$error":"#N/A"}},{"$f":"VLOOKUP($A97,Participants!$A:$E,3,FALSE)","v":{"$error":"#N/A"}},{"$f":"VLOOKUP($A97,Participants!$A:$E,5,FALSE)","v":{"$error":"#N/A"}},13]
[null,0,{"$nulls":3},{"$f":"VLOOKUP($A98,Participants!$A:$E,4,FALSE)","v":{"$error":"#N/A"}},{"$f":"VLOOKUP($A98,Participants!$A:$E,2,FALSE)","v":{"$error":"#N/A"}},{"$f":"VLOOKUP($A98,Participants!$A:$E,3,FALSE)","v":{"$error":"#N/A"}},{"$f":"VLOOKUP($A98,Participants!$A:$E,5,FALSE)","v":{"$error":"#N/A"}},13]
[null,0,{"$nulls":3},{"$f":"VLOOKUP($A99,Participants!$A:$E,4,FALSE)","v":{"$error":"#N/A"}},{"$f":"VLOOKUP($A99,Participants!$A:$E,2,FALSE)","v":{"$error":"#N/A"}},{"$f":"VLOOKUP($A99,Participants!$A:$E,3,FALSE)","v":{"$error":"#N/A"}},{"$f":"VLOOKUP($A99,Participants!$A:$E,5,FALSE)","v":{"$error":"#N/A"}},13]
[null,0,{"$nulls":3},{"$f":"VLOOKUP($A100,Participants!$A:$E,4,FALSE)","v":{"$error":"#N/A"}},{"$f":"VLOOKUP($A100,Participants!$A:$E,2,FALSE)","v":{"$error":"#N/A"}},{"$f":"VLOOKUP($A100,Participants!$A:$E,3,FALSE)","v":{"$error":"#N/A"}},{"$f":"VLOOKUP($A100,Participants!$A:$E,5,FALSE)","v":{"$error":"#N/A"}},13]
[null,0,{"$nulls":3},{"$f":"VLOOKUP($A101,Participants!$A:$E,4,FALSE)","v":{"$error":"#N/A"}},{"$f":"VLOOKUP($A101,Participants!$A:$E,2,FALSE)","v":{"$error":"#N/A"}},{"$f":"VLOOKUP($A101,Participants!$A:$E,3,FALSE)","v":{"$error":"#N/A"}},{"$f":"VLOOKUP($A101,Participants!$A:$E,5,FALSE)","v":{"$error":"#N/A"}},13]

{"sheet":"LongJump 4th Boys","index":12,"n_rows":102,"n_cols":13,"rows_kept":102}
["Bib","Best Jump\n\nwill calculate\nautomatically","First Jump\n\nEnter 10 ft 3 3/4 in as 1003.75","Second Jump\n\nEnter 10 ft 3 3/4 in as 1003.75","Third Jump\n\nEnter 10 ft 3 3/4 in as 1003.75","Grade","FName","Lname","School","Overall Place",null,null,"Return to Schedule of Events"]
[233,{"$f":"MAX(C2:E2)","v":902},902,705.5,901,{"$f":"VLOOKUP($A2,Participants!$A:$E,4,FALSE)","v":4},{"$f":"VLOOKUP($A2,Participants!$A:$E,2,FALSE)","v":"Joel"},{"$f":"VLOOKUP($A2,Participants!$A:$E,3,FALSE)","v":"Elrod"},{"$f":"VLOOKUP($A2,Participants!$A:$E,5,FALSE)","v":"United We Run"},{"$f":"RANK(B2,$B$1:$B$97,0)","v":3}]
[260,{"$f":"MAX(C3:E3)","v":508.5},508.5,0,0,{"$f":"VLOOKUP($A3,Participants!$A:$E,4,FALSE)","v":4},{"$f":"VLOOKUP($A3,Participants!$A:$E,2,FALSE)","v":"Joel"},{"$f":"VLOOKUP($A3,Participants!$A:$E,3,FALSE)","v":"Riedeman"},{"$f":"VLOOKUP($A3,Participants!$A:$E,5,FALSE)","v":"United We Run"},{"$f":"RANK(B3,$B$1:$B$97,0)","v":10},null,null,"Add or Update Participants"]
[263,603,0,0,603,{"$f":"VLOOKUP($A4,Participants!$A:$E,4,FALSE)","v":3},{"$f":"VLOOKUP($A4,Participants!$A:$E,2,FALSE)","v":"William"},{"$f":"VLOOKUP($A4,Participants!$A:$E,3,FALSE)","v":"Schott"},{"$f":"VLOOKUP($A4,Participants!$A:$E,5,FALSE)","v":"United We Run"},8,null,null,"Overall Place and Points"]
[269,501,501,0,500.75,{"$f":"VLOOKUP($A5,Participants!$A:$E,4,FALSE)","v":4},{"$f":"VLOOKUP($A5,Participants!$A:$E,2,FALSE)","v":"Nate"},{"$f":"VLOOKUP($A5,Participants!$A:$E,3,FALSE)","v":"Vilches"},{"$f":"VLOOKUP($A5,Participants!$A:$E,5,FALSE)","v":"United We Run"},11]
[69,704.75,0,704.75,602.5,{"$f":"VLOOKUP($A6,Participants!$A:$E,4,FALSE)","v":3},{"$f":"VLOOKUP($A6,Participants!$A:$E,2,FALSE)","v":"Isaac"},{"$f":"VLOOKUP($A6,Participants!$A:$E,3,FALSE)","v":"Lara"},{"$f":"VLOOKUP($A6,Participants!$A:$E,5,FALSE)","v":"St Jude"},6]
[63,709.5,703,0,709.5,{"$f":"VLOOKUP($A7,Participants!$A:$E,4,FALSE)","v":4},{"$f":"VLOOKUP($A7,Participants!$A:$E,2,FALSE)","v":"Caleb"},{"$f":"VLOOKUP($A7,Participants!$A:$E,3,FALSE)","v":"Kitchens"},{"$f":"VLOOKUP($A7,Participants!$A:$E,5,FALSE)","v":"St Jude"},4]
[34,606,504,606,504,{"$f":"VLOOKUP($A8,Participants!$A:$E,4,FALSE)","v":3},{"$f":"VLOOKUP($A8,Participants!$A:$E,2,FALSE)","v":"Jose "},{"$f":"VLOOKUP($A8,Participants!$A:$E,3,FALSE)","v":"Escobedo"},{"$f":"VLOOKUP($A8,Participants!$A:$E,5,FALSE)","v":"St Jude"},7]
[66,707,603,707,609.75,{"$f":"VLOOKUP($A9,Participants!$A:$E,4,FALSE)","v":3},{"$f":"VLOOKUP($A9,Participants!$A:$E,2,FALSE)","v":"Charlie"},{"$f":"VLOOKUP($A9,Participants!$A:$E,3,FALSE)","v":"Kocher"},{"$f":"VLOOKUP($A9,Participants!$A:$E,5,FALSE)","v":"St Jude"},5]
[49,509.75,504.75,503.5,509.75,{"$f":"VLOOKUP($A10,Participants!$A:$E,4,FALSE)","v":3},{"$f":"VLOOKUP($A10,Participants!$A:$E,2,FALSE)","v":"Evan"},{"$f":"VLOOKUP($A10,Participants!$A:$E,3,FALSE)","v":"Hahn"},{"$f":"VLOOKUP($A10,Participants!$A:$E,5,FALSE)","v":"St Jude"},9]
[294,410,0,0,410,{"$f":"VLOOKUP($A11,Participants!$A:$E,4,FALSE)","v":3},{"$f":"VLOOKUP($A11,Participants!$A:$E,2,FALSE)","v":"Quentin"},{"$f":"VLOOKUP($A11,Participants!$A:$E,3,FALSE)","v":"Miller"},{"$f":"VLOOKUP($A11,Participants!$A:$E,5,FALSE)","v":"St. Barnabas"},13]
[142,500.25,411.5,410.25,500.25,{"$f":"VLOOKUP($A12,Participants!$A:$E,4,FALSE)","v":3},{"$f":"VLOOKUP($A12,Participants!$A:$E,2,FALSE)","v":"Luis-Enrique"},{"$f":"VLOOKUP($A12,Participants!$A:$E,3,FALSE)","v":"Corona"},{"$f":"VLOOKUP($A12,Participants!$A:$E,5,FALSE)","v":"OLG"},12]
[36,1002.75,1001.75,1002.75,1001,{"$f":"VLOOKUP($A13,Participants!$A:$E,4,FALSE)","v":4},{"$f":"VLOOKUP($A13,Participants!$A:$E,2,FALSE)","v":"Mickey"},{"$f":"VLOOKUP($A13,Participants!$A:$E,3,FALSE)","v":"Flynn"},{"$f":"VLOOKUP($A13,Participants!$A:$E,5,FALSE)","v":"St Jude"},1]
[79,905,802,905,808.75,{"$f":"VLOOKUP($A14,Participants!$A:$E,4,FALSE)","v":4},{"$f":"VLOOKUP($A14,Participants!$A:$E,2,FALSE)","v":"Isaac"},{"$f":"VLOOKUP($A14,Participants!$A:$E,3,FALSE)","v":"Mappes"},{"$f":"VLOOKUP($A14,Participants!$A:$E,5,FALSE)","v":"St Jude"},2]
[null,0,{"$nulls":3},{"$f":"VLOOKUP($A15,Participants!$A:$E,4,FALSE)","v":{"$error":"#N/A"}},{"$f":"VLOOKUP($A15,Participants!$A:$E,2,FALSE)","v":{"$error":"#N/A"}},{"$f":"VLOOKUP($A15,Participants!$A:$E,3,FALSE)","v":{"$error":"#N/A"}},{"$f":"VLOOKUP($A15,Participants!$A:$E,5,FALSE)","v":{"$error":"#N/A"}},14]
[null,0,{"$nulls":3},{"$f":"VLOOKUP($A16,Participants!$A:$E,4,FALSE)","v":{"$error":"#N/A"}},{"$f":"VLOOKUP($A16,Participants!$A:$E,2,FALSE)","v":{"$error":"#N/A"}},{"$f":"VLOOKUP($A16,Participants!$A:$E,3,FALSE)","v":{"$error":"#N/A"}},{"$f":"VLOOKUP($A16,Participants!$A:$E,5,FALSE)","v":{"$error":"#N/A"}},14]
[null,0,{"$nulls":3},{"$f":"VLOOKUP($A17,Participants!$A:$E,4,FALSE)","v":{"$error":"#N/A"}},{"$f":"VLOOKUP($A17,Participants!$A:$E,2,FALSE)","v":{"$error":"#N/A"}},{"$f":"VLOOKUP($A17,Participants!$A:$E,3,FALSE)","v":{"$error":"#N/A"}},{"$f":"VLOOKUP($A17,Participants!$A:$E,5,FALSE)","v":{"$error":"#N/A"}},14]
[null,0,{"$nulls":3},{"$f":"VLOOKUP($A18,Participants!$A:$E,4,FALSE)","v":{"$error":"#N/A"}},{"$f":"VLOOKUP($A18,Participants!$A:$E,2,FALSE)","v":{"$error":"#N/A"}},{"$f":"VLOOKUP($A18,Participants!$A:$E,3,FALSE)","v":{"$error":"#N/A"}},{"$f":"VLOOKUP($A18,Participants!$A:$E,5,FALSE)","v":{"$error":"#N/A"}},14]
[null,0,{"$nulls":3},{"$f":"VLOOKUP($A19,Participants!$A:$E,4,FALSE)","v":{"$error":"#N/A"}},{"$f":"VLOOKUP($A19,Participants!$A:$E,2,FALSE)","v":{"$error":"#N/A"}},{"$f":"VLOOKUP($A19,Participants!$A:$E,3,FALSE)","v":{"$error":"#N/A"}},{"$f":"VLOOKUP($A19,Participants!$A:$E,5,FALSE)","v":{"$error":"#N/A"}},14]
[null,0,{"$nulls":3},{"$f":"VLOOKUP($A20,Participants!$A:$E,4,FALSE)","v":{"$error":"#N/A"}},{"$f":"VLOOKUP($A20,Participants!$A:$E,2,FALSE)","v":{"$error":"#N/A"}},{"$f":"VLOOKUP($A20,Participants!$A:$E,3,FALSE)","v":{"$error":"#N/A"}},{"$f":"VLOOKUP($A20,Participants!$A:$E,5,FALSE)","v":{"$error":"#N/A"}},14]
[null,0,{"$nulls":3},{"$f":"VLOOKUP($A21,Participants!$A:$E,4,FALSE)","v":{"$error":"#N/A"}},{"$f":"VLOOKUP($A21,Participants!$A:$E,2,FALSE)","v":{"$error":"#N/A"}},{"$f":"VLOOKUP($A21,Participants!$A:$E,3,FALSE)","v":{"$error":"#N/A"}},{"$f":"VLOOKUP($A21,Participants!$A:$E,5,FALSE)","v":{"$error":"#N/A"}},14]
[null,0,{"$nulls":3},{"$f":"VLOOKUP($A22,Participants!$A:$E,4,FALSE)","v":{"$error":"#N/A"}},{"$f":"VLOOKUP($A22,Participants!$A:$E,2,FALSE)","v":{"$error":"#N/A"}},{"$f":"VLOOKUP($A22,Participants!$A:$E,3,FALSE)","v":{"$error":"#N/A"}},{"$f":"VLOOKUP($A22,Participants!$A:$E,5,FALSE)","v":{"$error":"#N/A"}},14]
[null,0,{"$nulls":3},{"$f":"VLOOKUP($A23,Participants!$A:$E,4,FALSE)","v":{"$error":"#N/A"}},{"$f":"VLOOKUP($A23,Participants!$A:$E,2,FALSE)","v":{"$error":"#N/A"}},{"$f":"VLOOKUP($A23,Participants!$A:$E,3,FALSE)","v":{"$error":"#N/A"}},{"$f":"VLOOKUP($A23,Participants!$A:$E,5,FALSE)","v":{"$error":"#N/A"}},14]
[null,0,{"$nulls":3},{"$f":"VLOOKUP($A24,Participants!$A:$E,4,FALSE)","v":{"$error":"#N/A"}},{"$f":"VLOOKUP($A24,Participants!$A:$E,2,FALSE)","v":{"$error":"#N/A"}},{"$f":"VLOOKUP($A24,Participants!$A:$E,3,FALSE)","v":{"$error":"#N/A"}},{"$f":"VLOOKUP($A24,Participants!$A:$E,5,FALSE)","v":{"$error":"#N/A"}},14]
[null,0,{"$nulls":3},{"$f":"VLOOKUP($A25,Participants!$A:$E,4,FALSE)","v":{"$error":"#N/A"}},{"$f":"VLOOKUP($A25,Participants!$A:$E,2,FALSE)","v":{"$error":"#N/A"}},{"$f":"VLOOKUP($A25,Participants!$A:$E,3,FALSE)","v":{"$error":"#N/A"}},{"$f":"VLOOKUP($A25,Participants!$A:$E,5,FALSE)","v":{"$error":"#N/A"}},14]
[null,0,{"$nulls":3},{"$f":"VLOOKUP($A26,Participants!$A:$E,4,FALSE)","v":{"$error":"#N/A"}},{"$f":"VLOOKUP($A26,Participants!$A:$E,2,FALSE)","v":{"$error":"#N/A"}},{"$f":"VLOOKUP($A26,Participants!$A:$E,3,FALSE)","v":{"$error":"#N/A"}},{"$f":"VLOOKUP($A26,Participants!$A:$E,5,FALSE)","v":{"$error":"#N/A"}},14]
[null,0,{"$nulls":3},{"$f":"VLOOKUP($A27,Participants!$A:$E,4,FALSE)","v":{"$error":"#N/A"}},{"$f":"VLOOKUP($A27,Participants!$A:$E,2,FALSE)","v":{"$error":"#N/A"}},{"$f":"VLOOKUP($A27,Participants!$A:$E,3,FALSE)","v":{"$error":"#N/A"}},{"$f":"VLOOKUP($A27,Participants!$A:$E,5,FALSE)","v":{"$error":"#N/A"}},14]
[null,0,{"$nulls":3},{"$f":"VLOOKUP($A28,Participants!$A:$E,4,FALSE)","v":{"$error":"#N/A"}},{"$f":"VLOOKUP($A28,Participants!$A:$E,2,FALSE)","v":{"$error":"#N/A"}},{"$f":"VLOOKUP($A28,Participants!$A:$E,3,FALSE)","v":{"$error":"#N/A"}},{"$f":"VLOOKUP($A28,Participants!$A:$E,5,FALSE)","v":{"$error":"#N/A"}},14]
[null,0,{"$nulls":3},{"$f":"VLOOKUP($A29,Participants!$A:$E,4,FALSE)","v":{"$error":"#N/A"}},{"$f":"VLOOKUP($A29,Participants!$A:$E,2,FALSE)","v":{"$error":"#N/A"}},{"$f":"VLOOKUP($A29,Participants!$A:$E,3,FALSE)","v":{"$error":"#N/A"}},{"$f":"VLOOKUP($A29,Participants!$A:$E,5,FALSE)","v":{"$error":"#N/A"}},14]
[null,0,{"$nulls":3},{"$f":"VLOOKUP($A30,Participants!$A:$E,4,FALSE)","v":{"$error":"#N/A"}},{"$f":"VLOOKUP($A30,Participants!$A:$E,2,FALSE)","v":{"$error":"#N/A"}},{"$f":"VLOOKUP($A30,Participants!$A:$E,3,FALSE)","v":{"$error":"#N/A"}},{"$f":"VLOOKUP($A30,Participants!$A:$E,5,FALSE)","v":{"$error":"#N/A"}},14]
[null,0,{"$nulls":3},{"$f":"VLOOKUP($A31,Participants!$A:$E,4,FALSE)","v":{"$error":"#N/A"}},{"$f":"VLOOKUP($A31,Participants!$A:$E,2,FALSE)","v":{"$error":"#N/A"}},{"$f":"VLOOKUP($A31,Participants!$A:$E,3,FALSE)","v":{"$error":"#N/A"}},{"$f":"VLOOKUP($A31,Participants!$A:$E,5,FALSE)","v":{"$error":"#N/A"}},14]
[null,0,{"$nulls":3},{"$f":"VLOOKUP($A32,Participants!$A:$E,4,FALSE)","v":{"$error":"#N/A"}},{"$f":"VLOOKUP($A32,Participants!$A:$E,2,FALSE)","v":{"$error":"#N/A"}},{"$f":"VLOOKUP($A32,Participants!$A:$E,3,FALSE)","v":{"$error":"#N/A"}},{"$f":"VLOOKUP($A32,Participants!$A:$E,5,FALSE)","v":{"$error":"#N/A"}},14]
[null,0,{"$nulls":3},{"$f":"VLOOKUP($A33,Participants!$A:$E,4,FALSE)","v":{"$error":"#N/A"}},{"$f":"VLOOKUP($A33,Participants!$A:$E,2,FALSE)","v":{"$error":"#N/A"}},{"$f":"VLOOKUP($A33,Participants!$A:$E,3,FALSE)","v":{"$error":"#N/A"}},{"$f":"VLOOKUP($A33,Participants!$A:$E,5,FALSE)","v":{"$error":"#N/A"}},14]
[null,0,{"$nulls":3},{"$f":"VLOOKUP($A34,Participants!$A:$E,4,FALSE)","v":{"$error":"#N/A"}},{"$f":"VLOOKUP($A34,Participants!$A:$E,2,FALSE)","v":{"$error":"#N/A"}},{"$f":"VLOOKUP($A34,Participants!$A:$E,3,FALSE)","v":{"$error":"#N/A"}},{"$f":"VLOOKUP($A34,Participants!$A:$E,5,FALSE)","v":{"$error":"#N/A"}},14]
[null,0,{"$nulls":3},{"$f":"VLOOKUP($A35,Participants!$A:$E,4,FALSE)","v":{"$error":"#N/A"}},{"$f":"VLOOKUP($A35,Participants!$A:$E,2,FALSE)","v":{"$error":"#N/A"}},{"$f":"VLOOKUP($A35,Participants!$A:$E,3,FALSE)","v":{"$error":"#N/A"}},{"$f":"VLOOKUP($A35,Participants!$A:$E,5,FALSE)","v":{"$error":"#N/A"}},14]
[null,0,{"$nulls":3},{"$f":"VLOOKUP($A36,Participants!$A:$E,4,FALSE)","v":{"$error":"#N/A"}},{"$f":"VLOOKUP($A36,Participants!$A:$E,2,FALSE)","v":{"$error":"#N/A"}},{"$f":"VLOOKUP($A36,Participants!$A:$E,3,FALSE)","v":{"$error":"#N/A"}},{"$f":"VLOOKUP($A36,Participants!$A:$E,5,FALSE)","v":{"$error":"#N/A"}},14]
[null,0,{"$nulls":3},{"$f":"VLOOKUP($A37,Participants!$A:$E,4,FALSE)","v":{"$error":"#N/A"}},{"$f":"VLOOKUP($A37,Participants!$A:$E,2,FALSE)","v":{"$error":"#N/A"}},{"$f":"VLOOKUP($A37,Participants!$A:$E,3,FALSE)","v":{"$error":"#N/A"}},{"$f":"VLOOKUP($A37,Participants!$A:$E,5,FALSE)","v":{"$error":"#N/A"}},14]
[null,0,{"$nulls":3},{"$f":"VLOOKUP($A38,Participants!$A:$E,4,FALSE)","v":{"$error":"#N/A"}},{"$f":"VLOOKUP($A38,Participants!$A:$E,2,FALSE)","v":{"$error":"#N/A"}},{"$f":"VLOOKUP($A38,Participants!$A:$E,3,FALSE)","v":{"$error":"#N/A"}},{"$f":"VLOOKUP($A38,Participants!$A:$E,5,FALSE)","v":{"$error":"#N/A"}},14]
[null,0,{"$nulls":3},{"$f":"VLOOKUP($A39,Participants!$A:$E,4,FALSE)","v":{"$error":"#N/A"}},{"$f":"VLOOKUP($A39,Participants!$A:$E,2,FALSE)","v":{"$error":"#N/A"}},{"$f":"VLOOKUP($A39,Participants!$A:$E,3,FALSE)","v":{"$error":"#N/A"}},{"$f":"VLOOKUP($A39,Participants!$A:$E,5,FALSE)","v":{"$error":"#N/A"}},14]
[null,0,{"$nulls":3},{"$f":"VLOOKUP($A40,Participants!$A:$E,4,FALSE)","v":{"$error":"#N/A"}},{"$f":"VLOOKUP($A40,Participants!$A:$E,2,FALSE)","v":{"$error":"#N/A"}},{"$f":"VLOOKUP($A40,Participants!$A:$E,3,FALSE)","v":{"$error":"#N/A"}},{"$f":"VLOOKUP($A40,Participants!$A:$E,5,FALSE)","v":{"$error":"#N/A"}},14]
[null,0,{"$nulls":3},{"$f":"VLOOKUP($A41,Participants!$A:$E,4,FALSE)","v":{"$error":"#N/A"}},{"$f":"VLOOKUP($A41,Participants!$A:$E,2,FALSE)","v":{"$error":"#N/A"}},{"$f":"VLOOKUP($A41,Participants!$A:$E,3,FALSE)","v":{"$error":"#N/A"}},{"$f":"VLOOKUP($A41,Participants!$A:$E,5,FALSE)","v":{"$error":"#N/A"}},14]
[null,0,{"$nulls":3},{"$f":"VLOOKUP($A42,Participants!$A:$E,4,FALSE)","v":{"$error":"#N/A"}},{"$f":"VLOOKUP($A42,Participants!$A:$E,2,FALSE)","v":{"$error":"#N/A"}},{"$f":"VLOOKUP($A42,Participants!$A:$E,3,FALSE)","v":{"$error":"#N/A"}},{"$f":"VLOOKUP($A42,Participants!$A:$E,5,FALSE)","v":{"$error":"#N/A"}},14]
[null,0,{"$nulls":3},{"$f":"VLOOKUP($A43,Participants!$A:$E,4,FALSE)","v":{"$error":"#N/A"}},{"$f":"VLOOKUP($A43,Participants!$A:$E,2,FALSE)","v":{"$error":"#N/A"}},{"$f":"VLOOKUP($A43,Participants!$A:$E,3,FALSE)","v":{"$error":"#N/A"}},{"$f":"VLOOKUP($A43,Participants!$A:$E,5,FALSE)","v":{"$error":"#N/A"}},14]
[null,0,{"$nulls":3},{"$f":"VLOOKUP($A44,Participants!$A:$E,4,FALSE)","v":{"$error":"#N/A"}},{"$f":"VLOOKUP($A44,Participants!$A:$E,2,FALSE)","v":{"$error":"#N/A"}},{"$f":"VLOOKUP($A44,Participants!$A:$E,3,FALSE)","v":{"$error":"#N/A"}},{"$f":"VLOOKUP($A44,Participants!$A:$E,5,FALSE)","v":{"$error":"#N/A"}},14]
[null,0,{"$nulls":3},{"$f":"VLOOKUP($A45,Participants!$A:$E,4,FALSE)","v":{"$error":"#N/A"}},{"$f":"VLOOKUP($A45,Participants!$A:$E,2,FALSE)","v":{"$error":"#N/A"}},{"$f":"VLOOKUP($A45,Participants!$A:$E,3,FALSE)","v":{"$error":"#N/A"}},{"$f":"VLOOKUP($A45,Participants!$A:$E,5,FALSE)","v":{"$error":"#N/A"}},14]
[null,0,{"$nulls":3},{"$f":"VLOOKUP($A46,Participants!$A:$E,4,FALSE)","v":{"$error":"#N/A"}},{"$f":"VLOOKUP($A46,Participants!$A:$E,2,FALSE)","v":{"$error":"#N/A"}},{"$f":"VLOOKUP($A46,Participants!$A:$E,3,FALSE)","v":{"$error":"#N/A"}},{"$f":"VLOOKUP($A46,Participants!$A:$E,5,FALSE)","v":{"$error":"#N/A"}},14]
[null,0,{"$nulls":3},{"$f":"VLOOKUP($A47,Participants!$A:$E,4,FALSE)","v":{"$error":"#N/A"}},{"$f":"VLOOKUP($A47,Participants!$A:$E,2,FALSE)","v":{"$error":"#N/A"}},{"$f":"VLOOKUP($A47,Participants!$A:$E,3,FALSE)","v":{"$error":"#N/A"}},{"$f":"VLOOKUP($A47,Participants!$A:$E,5,FALSE)","v":{"$error":"#N/A"}},14]
[null,0,{"$nulls":3},{"$f":"VLOOKUP($A48,Participants!$A:$E,4,FALSE)","v":{"$error":"#N/A"}},{"$f":"VLOOKUP($A48,Participants!$A:$E,2,FALSE)","v":{"$error":"#N/A"}},{"$f":"VLOOKUP($A48,Participants!$A:$E,3,FALSE)","v":{"$error":"#N/A"}},{"$f":"VLOOKUP($A48,Participants!$A:$E,5,FALSE)","v":{"$error":"#N/A"}},14]
[null,0,{"$nulls":3},{"$f":"VLOOKUP($A49,Participants!$A:$E,4,FALSE)","v":{"$error":"#N/A"}},{"$f":"VLOOKUP($A49,Participants!$A:$E,2,FALSE)","v":{"$error":"#N/A"}},{"$f":"VLOOKUP($A49,Participants!$A:$E,3,FALSE)","v":{"$error":"#N/A"}},{"$f":"VLOOKUP($A49,Participants!$A:$E,5,FALSE)","v":{"$error":"#N/A"}},14]
[null,0,{"$nulls":3},{"$f":"VLOOKUP($A50,Participants!$A:$E,4,FALSE)","v":{"$error":"#N/A"}},{"$f":"VLOOKUP($A50,Participants!$A:$E,2,FALSE)","v":{"$error":"#N/A"}},{"$f":"VLOOKUP($A50,Participants!$A:$E,3,FALSE)","v":{"$error":"#N/A"}},{"$f":"VLOOKUP($A50,Participants!$A:$E,5,FALSE)","v":{"$error":"#N/A"}},14]
[null,0,{"$nulls":3},{"$f":"VLOOKUP($A51,Participants!$A:$E,4,FALSE)","v":{"$error":"#N/A"}},{"$f":"VLOOKUP($A51,Participants!$A:$E,2,FALSE)","v":{"$error":"#N/A"}},{"$f":"VLOOKUP($A51,Participants!$A:$E,3,FALSE)","v":{"$error":"#N/A"}},{"$f":"VLOOKUP($A51,Participants!$A:$E,5,FALSE)","v":{"$error":"#N/A"}},14]
[null,0,{"$nulls":3},{"$f":"VLOOKUP($A52,Participants!$A:$E,4,FALSE)","v":{"$error":"#N/A"}},{"$f":"VLOOKUP($A52,Participants!$A:$E,2,FALSE)","v":{"$error":"#N/A"}},{"$f":"VLOOKUP($A52,Participants!$A:$E,3,FALSE)","v":{"$error":"#N/A"}},{"$f":"VLOOKUP($A52,Participants!$A:$E,5,FALSE)","v":{"$error":"#N/A"}},14]
[null,0,{"$nulls":3},{"$f":"VLOOKUP($A53,Participants!$A:$E,4,FALSE)","v":{"$error":"#N/A"}},{"$f":"VLOOKUP($A53,Participants!$A:$E,2,FALSE)","v":{"$error":"#N/A"}},{"$f":"VLOOKUP($A53,Participants!$A:$E,3,FALSE)","v":{"$error":"#N/A"}},{"$f":"VLOOKUP($A53,Participants!$A:$E,5,FALSE)","v":{"$error":"#N/A"}},14]
[null,0,{"$nulls":3},{"$f":"VLOOKUP($A54,Participants!$A:$E,4,FALSE)","v":{"$error":"#N/A"}},{"$f":"VLOOKUP($A54,Participants!$A:$E,2,FALSE)","v":{"$error":"#N/A"}},{"$f":"VLOOKUP($A54,Participants!$A:$E,3,FALSE)","v":{"$error":"#N/A"}},{"$f":"VLOOKUP($A54,Participants!$A:$E,5,FALSE)","v":{"$error":"#N/A"}},14]
[null,0,{"$nulls":3},{"$f":"VLOOKUP($A55,Participants!$A:$E,4,FALSE)","v":{"$error":"#N/A"}},{"$f":"VLOOKUP($A55,Participants!$A:$E,2,FALSE)","v":{"$error":"#N/A"}},{"$f":"VLOOKUP($A55,Participants!$A:$E,3,FALSE)","v":{"$error":"#N/A"}},{"$f":"VLOOKUP($A55,Participants!$A:$E,5,FALSE)","v":{"$error":"#N/A"}},14]
[null,0,{"$nulls":3},{"$f":"VLOOKUP($A56,Participants!$A:$E,4,FALSE)","v":{"$error":"#N/A"}},{"$f":"VLOOKUP($A56,Participants!$A:$E,2,FALSE)","v":{"$error":"#N/A"}},{"$f":"VLOOKUP($A56,Participants!$A:$E,3,FALSE)","v":{"$error":"#N/A"}},{"$f":"VLOOKUP($A56,Participants!$A:$E,5,FALSE)","v":{"$error":"#N/A"}},14]
[null,0,{"$nulls":3},{"$f":"VLOOKUP($A57,Participants!$A:$E,4,FALSE)","v":{"$error":"#N/A"}},{"$f":"VLOOKUP($A57,Participants!$A:$E,2,FALSE)","v":{"$error":"#N/A"}},{"$f":"VLOOKUP($A57,Participants!$A:$E,3,FALSE)","v":{"$error":"#N/A"}},{"$f":"VLOOKUP($A57,Participants!$A:$E,5,FALSE)","v":{"$error":"#N/A"}},14]
[null,0,{"$nulls":3},{"$f":"VLOOKUP($A58,Participants!$A:$E,4,FALSE)","v":{"$error":"#N/A"}},{"$f":"VLOOKUP($A58,Participants!$A:$E,2,FALSE)","v":{"$error":"#N/A"}},{"$f":"VLOOKUP($A58,Participants!$A:$E,3,FALSE)","v":{"$error":"#N/A"}},{"$f":"VLOOKUP($A58,Participants!$A:$E,5,FALSE)","v":{"$error":"#N/A"}},14]
[null,0,{"$nulls":3},{"$f":"VLOOKUP($A59,Participants!$A:$E,4,FALSE)","v":{"$error":"#N/A"}},{"$f":"VLOOKUP($A59,Participants!$A:$E,2,FALSE)","v":{"$error":"#N/A"}},{"$f":"VLOOKUP($A59,Participants!$A:$E,3,FALSE)","v":{"$error":"#N/A"}},{"$f":"VLOOKUP($A59,Participants!$A:$E,5,FALSE)","v":{"$error":"#N/A"}},14]
[null,0,{"$nulls":3},{"$f":"VLOOKUP($A60,Participants!$A:$E,4,FALSE)","v":{"$error":"#N/A"}},{"$f":"VLOOKUP($A60,Participants!$A:$E,2,FALSE)","v":{"$error":"#N/A"}},{"$f":"VLOOKUP($A60,Participants!$A:$E,3,FALSE)","v":{"$error":"#N/A"}},{"$f":"VLOOKUP($A60,Participants!$A:$E,5,FALSE)","v":{"$error":"#N/A"}},14]
[null,0,{"$nulls":3},{"$f":"VLOOKUP($A61,Participants!$A:$E,4,FALSE)","v":{"$error":"#N/A"}},{"$f":"VLOOKUP($A61,Participants!$A:$E,2,FALSE)","v":{"$error":"#N/A"}},{"$f":"VLOOKUP($A61,Participants!$A:$E,3,FALSE)","v":{"$error":"#N/A"}},{"$f":"VLOOKUP($A61,Participants!$A:$E,5,FALSE)","v":{"$error":"#N/A"}},14]
[null,0,{"$nulls":3},{"$f":"VLOOKUP($A62,Participants!$A:$E,4,FALSE)","v":{"$error":"#N/A"}},{"$f":"VLOOKUP($A62,Participants!$A:$E,2,FALSE)","v":{"$error":"#N/A"}},{"$f":"VLOOKUP($A62,Participants!$A:$E,3,FALSE)","v":{"$error":"#N/A"}},{"$f":"VLOOKUP($A62,Participants!$A:$E,5,FALSE)","v":{"$error":"#N/A"}},14]
[null,0,{"$nulls":3},{"$f":"VLOOKUP($A63,Participants!$A:$E,4,FALSE)","v":{"$error":"#N/A"}},{"$f":"VLOOKUP($A63,Participants!$A:$E,2,FALSE)","v":{"$error":"#N/A"}},{"$f":"VLOOKUP($A63,Participants!$A:$E,3,FALSE)","v":{"$error":"#N/A"}},{"$f":"VLOOKUP($A63,Participants!$A:$E,5,FALSE)","v":{"$error":"#N/A"}},14]
[null,0,{"$nulls":3},{"$f":"VLOOKUP($A64,Participants!$A:$E,4,FALSE)","v":{"$error":"#N/A"}},{"$f":"VLOOKUP($A64,Participants!$A:$E,2,FALSE)","v":{"$error":"#N/A"}},{"$f":"VLOOKUP($A64,Participants!$A:$E,3,FALSE)","v":{"$error":"#N/A"}},{"$f":"VLOOKUP($A64,Participants!$A:$E,5,FALSE)","v":{"$error":"#N/A"}},14]
[null,0,{"$nulls":3},{"$f":"VLOOKUP($A65,Participants!$A:$E,4,FALSE)","v":{"$error":"#N/A"}},{"$f":"VLOOKUP($A65,Participants!$A:$E,2,FALSE)","v":{"$error":"#N/A"}},{"$f":"VLOOKUP($A65,Participants!$A:$E,3,FALSE)","v":{"$error":"#N/A"}},{"$f":"VLOOKUP($A65,Participants!$A:$E,5,FALSE)","v":{"$error":"#N/A"}},14]
[null,0,{"$nulls":3},{"$f":"VLOOKUP($A66,Participants!$A:$E,4,FALSE)","v":{"$error":"#N/A"}},{"$f":"VLOOKUP($A66,Participants!$A:$E,2,FALSE)","v":{"$error":"#N/A"}},{"$f":"VLOOKUP($A66,Participants!$A:$E,3,FALSE)","v":{"$error":"#N/A"}},{"$f":"VLOOKUP($A66,Participants!$A:$E,5,FALSE)","v":{"$error":"#N/A"}},14]
[null,{"$f":"MAX(C67:E67)","v":0},{"$nulls":3},{"$f":"VLOOKUP($A67,Participants!$A:$E,4,FALSE)","v":{"$error":"#N/A"}},{"$f":"VLOOKUP($A67,Participants!$A:$E,2,FALSE)","v":{"$error":"#N/A"}},{"$f":"VLOOKUP($A67,Participants!$A:$E,3,FALSE)","v":{"$error":"#N/A"}},{"$f":"VLOOKUP($A67,Participants!$A:$E,5,FALSE)","v":{"$error":"#N/A"}},{"$f":"RANK(B67,$B$1:$B$97,0)","v":14}]
[null,0,{"$nulls":3},{"$f":"VLOOKUP($A68,Participants!$A:$E,4,FALSE)","v":{"$error":"#N/A"}},{"$f":"VLOOKUP($A68,Participants!$A:$E,2,FALSE)","v":{"$error":"#N/A"}},{"$f":"VLOOKUP($A68,Participants!$A:$E,3,FALSE)","v":{"$error":"#N/A"}},{"$f":"VLOOKUP($A68,Participants!$A:$E,5,FALSE)","v":{"$error":"#N/A"}},14]
[null,0,{"$nulls":3},{"$f":"VLOOKUP($A69,Participants!$A:$E,4,FALSE)","v":{"$error":"#N/A"}},{"$f":"VLOOKUP($A69,Participants!$A:$E,2,FALSE)","v":{"$error":"#N/A"}},{"$f":"VLOOKUP($A69,Participants!$A:$E,3,FALSE)","v":{"$error":"#N/A"}},{"$f":"VLOOKUP($A69,Participants!$A:$E,5,FALSE)","v":{"$error":"#N/A"}},14]
[null,0,{"$nulls":3},{"$f":"VLOOKUP($A70,Participants!$A:$E,4,FALSE)","v":{"$error":"#N/A"}},{"$f":"VLOOKUP($A70,Participants!$A:$E,2,FALSE)","v":{"$error":"#N/A"}},{"$f":"VLOOKUP($A70,Participants!$A:$E,3,FALSE)","v":{"$error":"#N/A"}},{"$f":"VLOOKUP($A70,Participants!$A:$E,5,FALSE)","v":{"$error":"#N/A"}},14]
[null,0,{"$nulls":3},{"$f":"VLOOKUP($A71,Participants!$A:$E,4,FALSE)","v":{"$error":"#N/A"}},{"$f":"VLOOKUP($A71,Participants!$A:$E,2,FALSE)","v":{"$error":"#N/A"}},{"$f":"VLOOKUP($A71,Participants!$A:$E,3,FALSE)","v":{"$error":"#N/A"}},{"$f":"VLOOKUP($A71,Participants!$A:$E,5,FALSE)","v":{"$error":"#N/A"}},14]
[null,0,{"$nulls":3},{"$f":"VLOOKUP($A72,Participants!$A:$E,4,FALSE)","v":{"$error":"#N/A"}},{"$f":"VLOOKUP($A72,Participants!$A:$E,2,FALSE)","v":{"$error":"#N/A"}},{"$f":"VLOOKUP($A72,Participants!$A:$E,3,FALSE)","v":{"$error":"#N/A"}},{"$f":"VLOOKUP($A72,Participants!$A:$E,5,FALSE)","v":{"$error":"#N/A"}},14]
[null,0,{"$nulls":3},{"$f":"VLOOKUP($A73,Participants!$A:$E,4,FALSE)","v":{"$error":"#N/A"}},{"$f":"VLOOKUP($A73,Participants!$A:$E,2,FALSE)","v":{"$error":"#N/A"}},{"$f":"VLOOKUP($A73,Participants!$A:$E,3,FALSE)","v":{"$error":"#N/A"}},{"$f":"VLOOKUP($A73,Participants!$A:$E,5,FALSE)","v":{"$error":"#N/A"}},14]
[null,0,{"$nulls":3},{"$f":"VLOOKUP($A74,Participants!$A:$E,4,FALSE)","v":{"$error":"#N/A"}},{"$f":"VLOOKUP($A74,Participants!$A:$E,2,FALSE)","v":{"$error":"#N/A"}},{"$f":"VLOOKUP($A74,Participants!$A:$E,3,FALSE)","v":{"$error":"#N/A"}},{"$f":"VLOOKUP($A74,Participants!$A:$E,5,FALSE)","v":{"$error":"#N/A"}},14]
[null,0,{"$nulls":3},{"$f":"VLOOKUP($A75,Participants!$A:$E,4,FALSE)","v":{"$error":"#N/A"}},{"$f":"VLOOKUP($A75,Participants!$A:$E,2,FALSE)","v":{"$error":"#N/A"}},{"$f":"VLOOKUP($A75,Participants!$A:$E,3,FALSE)","v":{"$error":"#N/A"}},{"$f":"VLOOKUP($A75,Participants!$A:$E,5,FALSE)","v":{"$error":"#N/A"}},14]
[null,0,{"$nulls":3},{"$f":"VLOOKUP($A76,Participants!$A:$E,4,FALSE)","v":{"$error":"#N/A"}},{"$f":"VLOOKUP($A76,Participants!$A:$E,2,FALSE)","v":{"$error":"#N/A"}},{"$f":"VLOOKUP($A76,Participants!$A:$E,3,FALSE)","v":{"$error":"#N/A"}},{"$f":"VLOOKUP($A76,Participants!$A:$E,5,FALSE)","v":{"$error":"#N/A"}},14]
[null,0,{"$nulls":3},{"$f":"VLOOKUP($A77,Participants!$A:$E,4,FALSE)","v":{"$error":"#N/A"}},{"$f":"VLOOKUP($A77,Participants!$A:$E,2,FALSE)","v":{"$error":"#N/A"}},{"$f":"VLOOKUP($A77,Participants!$A:$E,3,FALSE)","v":{"$error":"#N/A"}},{"$f":"VLOOKUP($A77,Participants!$A:$E,5,FALSE)","v":{"$error":"#N/A"}},14]
[null,0,{"$nulls":3},{"$f":"VLOOKUP($A78,Participants!$A:$E,4,FALSE)","v":{"$error":"#N/A"}},{"$f":"VLOOKUP($A78,Participants!$A:$E,2,FALSE)","v":{"$error":"#N/A"}},{"$f":"VLOOKUP($A78,Participants!$A:$E,3,FALSE)","v":{"$error":"#N/A"}},{"$f":"VLOOKUP($A78,Participants!$A:$E,5,FALSE)","v":{"$error":"#N/A"}},14]
[null,0,{"$nulls":3},{"$f":"VLOOKUP($A79,Participants!$A:$E,4,FALSE)","v":{"$error":"#N/A"}},{"$f":"VLOOKUP($A79,Participants!$A:$E,2,FALSE)","v":{"$error":"#N/A"}},{"$f":"VLOOKUP($A79,Participants!$A:$E,3,FALSE)","v":{"$error":"#N/A"}},{"$f":"VLOOKUP($A79,Participants!$A:$E,5,FALSE)","v":{"$error":"#N/A"}},14]
[null,0,{"$nulls":3},{"$f":"VLOOKUP($A80,Participants!$A:$E,4,FALSE)","v":{"$error":"#N/A"}},{"$f":"VLOOKUP($A80,Participants!$A:$E,2,FALSE)","v":{"$error":"#N/A"}},{"$f":"VLOOKUP($A80,Participants!$A:$E,3,FALSE)","v":{"$error":"#N/A"}},{"$f":"VLOOKUP($A80,Participants!$A:$E,5,FALSE)","v":{"$error":"#N/A"}},14]
[null,0,{"$nulls":3},{"$f":"VLOOKUP($A81,Participants!$A:$E,4,FALSE)","v":{"$error":"#N/A"}},{"$f":"VLOOKUP($A81,Participants!$A:$E,2,FALSE)","v":{"$error":"#N/A"}},{"$f":"VLOOKUP($A81,Participants!$A:$E,3,FALSE)","v":{"$error":"#N/A"}},{"$f":"VLOOKUP($A81,Participants!$A:$E,5,FALSE)","v":{"$error":"#N/A"}},14]
[null,0,{"$nulls":3},{"$f":"VLOOKUP($A82,Participants!$A:$E,4,FALSE)","v":{"$error":"#N/A"}},{"$f":"VLOOKUP($A82,Participants!$A:$E,2,FALSE)","v":{"$error":"#N/A"}},{"$f":"VLOOKUP($A82,Participants!$A:$E,3,FALSE)","v":{"$error":"#N/A"}},{"$f":"VLOOKUP($A82,Participants!$A:$E,5,FALSE)","v":{"$error":"#N/A"}},14]
[null,0,{"$nulls":3},{"$f":"VLOOKUP($A83,Participants!$A:$E,4,FALSE)","v":{"$error":"#N/A"}},{"$f":"VLOOKUP($A83,Participants!$A:$E,2,FALSE)","v":{"$error":"#N/A"}},{"$f":"VLOOKUP($A83,Participants!$A:$E,3,FALSE)","v":{"$error":"#N/A"}},{"$f":"VLOOKUP($A83,Participants!$A:$E,5,FALSE)","v":{"$error":"#N/A"}},14]
[null,0,{"$nulls":3},{"$f":"VLOOKUP($A84,Participants!$A:$E,4,FALSE)","v":{"$error":"#N/A"}},{"$f":"VLOOKUP($A84,Participants!$A:$E,2,FALSE)","v":{"$error":"#N/A"}},{"$f":"VLOOKUP($A84,Participants!$A:$E,3,FALSE)","v":{"$error":"#N/A"}},{"$f":"VLOOKUP($A84,Participants!$A:$E,5,FALSE)","v":{"$error":"#N/A"}},14]
[null,0,{"$nulls":3},{"$f":"VLOOKUP($A85,Participants!$A:$E,4,FALSE)","v":{"$error":"#N/A"}},{"$f":"VLOOKUP($A85,Participants!$A:$E,2,FALSE)","v":{"$error":"#N/A"}},{"$f":"VLOOKUP($A85,Participants!$A:$E,3,FALSE)","v":{"$error":"#N/A"}},{"$f":"VLOOKUP($A85,Participants!$A:$E,5,FALSE)","v":{"$error":"#N/A"}},14]
[null,0,{"$nulls":3},{"$f":"VLOOKUP($A86,Participants!$A:$E,4,FALSE)","v":{"$error":"#N/A"}},{"$f":"VLOOKUP($A86,Participants!$A:$E,2,FALSE)","v":{"$error":"#N/A"}},{"$f":"VLOOKUP($A86,Participants!$A:$E,3,FALSE)","v":{"$error":"#N/A"}},{"$f":"VLOOKUP($A86,Participants!$A:$E,5,FALSE)","v":{"$error":"#N/A"}},14]
[null,0,{"$nulls":3},{"$f":"VLOOKUP($A87,Participants!$A:$E,4,FALSE)","v":{"$error":"#N/A"}},{"$f":"VLOOKUP($A87,Participants!$A:$E,2,FALSE)","v":{"$error":"#N/A"}},{"$f":"VLOOKUP($A87,Participants!$A:$E,3,FALSE)","v":{"$error":"#N/A"}},{"$f":"VLOOKUP($A87,Participants!$A:$E,5,FALSE)","v":{"$error":"#N/A"}},14]
[null,0,{"$nulls":3},{"$f":"VLOOKUP($A88,Participants!$A:$E,4,FALSE)","v":{"$error":"#N/A"}},{"$f":"VLOOKUP($A88,Participants!$A:$E,2,FALSE)","v":{"$error":"#N/A"}},{"$f":"VLOOKUP($A88,Participants!$A:$E,3,FALSE)","v":{"$error":"#N/A"}},{"$f":"VLOOKUP($A88,Participants!$A:$E,5,FALSE)","v":{"$error":"#N/A"}},14]
[null,0,{"$nulls":3},{"$f":"VLOOKUP($A89,Participants!$A:$E,4,FALSE)","v":{"$error":"#N/A"}},{"$f":"VLOOKUP($A89,Participants!$A:$E,2,FALSE)","v":{"$error":"#N/A"}},{"$f":"VLOOKUP($A89,Participants!$A:$E,3,FALSE)","v":{"$error":"#N/A"}},{"$f":"VLOOKUP($A89,Participants!$A:$E,5,FALSE)","v":{"$error":"#N/A"}},14]
[null,0,{"$nulls":3},{"$f":"VLOOKUP($A90,Participants!$A:$E,4,FALSE)","v":{"$error":"#N/A"}},{"$f":"VLOOKUP($A90,Participants!$A:$E,2,FALSE)","v":{"$error":"#N/A"}},{"$f":"VLOOKUP($A90,Participants!$A:$E,3,FALSE)","v":{"$error":"#N/A"}},{"$f":"VLOOKUP($A90,Participants!$A:$E,5,FALSE)","v":{"$error":"#N/A"}},14]
[null,0,{"$nulls":3},{"$f":"VLOOKUP($A91,Participants!$A:$E,4,FALSE)","v":{"$error":"#N/A"}},{"$f":"VLOOKUP($A91,Participants!$A:$E,2,FALSE)","v":{"$error":"#N/A"}},{"$f":"VLOOKUP($A91,Participants!$A:$E,3,FALSE)","v":{"$error":"#N/A"}},{"$f":"VLOOKUP($A91,Participants!$A:$E,5,FALSE)","v":{"$error":"#N/A"}},14]
[null,0,{"$nulls":3},{"$f":"VLOOKUP($A92,Participants!$A:$E,4,FALSE)","v":{"$error":"#N/A"}},{"$f":"VLOOKUP($A92,Participants!$A:$E,2,FALSE)","v":{"$error":"#N/A"}},{"$f":"VLOOKUP($A92,Participants!$A:$E,3,FALSE)","v":{"$error":"#N/A"}},{"$f":"VLOOKUP($A92,Participants!$A:$E,5,FALSE)","v":{"$error":"#N/A"}},14]
[null,0,{"$nulls":3},{"$f":"VLOOKUP($A93,Participants!$A:$E,4,FALSE)","v":{"$error":"#N/A"}},{"$f":"VLOOKUP($A93,Participants!$A:$E,2,FALSE)","v":{"$error":"#N/A"}},{"$f":"VLOOKUP($A93,Participants!$A:$E,3,FALSE)","v":{"$error":"#N/A"}},{"$f":"VLOOKUP($A93,Participants!$A:$E,5,FALSE)","v":{"$error":"#N/A"}},14]
[null,0,{"$nulls":3},{"$f":"VLOOKUP($A94,Participants!$A:$E,4,FALSE)","v":{"$error":"#N/A"}},{"$f":"VLOOKUP($A94,Participants!$A:$E,2,FALSE)","v":{"$error":"#N/A"}},{"$f":"VLOOKUP($A94,Participants!$A:$E,3,FALSE)","v":{"$error":"#N/A"}},{"$f":"VLOOKUP($A94,Participants!$A:$E,5,FALSE)","v":{"$error":"#N/A"}},14]
[null,0,{"$nulls":3},{"$f":"VLOOKUP($A95,Participants!$A:$E,4,FALSE)","v":{"$error":"#N/A"}},{"$f":"VLOOKUP($A95,Participants!$A:$E,2,FALSE)","v":{"$error":"#N/A"}},{"$f":"VLOOKUP($A95,Participants!$A:$E,3,FALSE)","v":{"$error":"#N/A"}},{"$f":"VLOOKUP($A95,Participants!$A:$E,5,FALSE)","v":{"$error":"#N/A"}},14]
[null,0,{"$nulls":3},{"$f":"VLOOKUP($A96,Participants!$A:$E,4,FALSE)","v":{"$error":"#N/A"}},{"$f":"VLOOKUP($A96,Participants!$A:$E,2,FALSE)","v":{"$error":"#N/A"}},{"$f":"VLOOKUP($A96,Participants!$A:$E,3,FALSE)","v":{"$error":"#N/A"}},{"$f":"VLOOKUP($A96,Participants!$A:$E,5,FALSE)","v":{"$error":"#N/A"}},14]
[null,0,{"$nulls":3},{"$f":"VLOOKUP($A97,Participants!$A:$E,4,FALSE)","v":{"$error":"#N/A"}},{"$f":"VLOOKUP($A97,Participants!$A:$E,2,FALSE)","v":{"$error":"#N/A"}},{"$f":"VLOOKUP($A97,Participants!$A:$E,3,FALSE)","v":{"$error":"#N/A"}},{"$f":"VLOOKUP($A97,Participants!$A:$E,5,FALSE)","v":{"$error":"#N/A"}},14]
[null,0,{"$nulls":3},{"$f":"VLOOKUP($A98,Participants!$A:$E,4,FALSE)","v":{"$error":"#N/A"}},{"$f":"VLOOKUP($A98,Participants!$A:$E,2,FALSE)","v":{"$error":"#N/A"}},{"$f":"VLOOKUP($A98,Participants!$A:$E,3,FALSE)","v":{"$error":"#N/A"}},{"$f":"VLOOKUP($A98,Participants!$A:$E,5,FALSE)","v":{"$error":"#N/A"}},14]
[null,0,{"$nulls":3},{"$f":"VLOOKUP($A99,Participants!$A:$E,4,FALSE)","v":{"$error":"#N/A"}},{"$f":"VLOOKUP($A99,Participants!$A:$E,2,FALSE)","v":{"$error":"#N/A"}},{"$f":"VLOOKUP($A99,Participants!$A:$E,3,FALSE)","v":{"$error":"#N/A"}},{"$f":"VLOOKUP($A99,Participants!$A:$E,5,FALSE)","v":{"$error":"#N/A"}},14]
[null,0,{"$nulls":3},{"$f":"VLOOKUP($A100,Participants!$A:$E,4,FALSE)","v":{"$error":"#N/A"}},{"$f":"VLOOKUP($A100,Participants!$A:$E,2,FALSE)","v":{"$error":"#N/A"}},{"$f":"VLOOKUP($A100,Participants!$A:$E,3,FALSE)","v":{"$error":"#N/A"}},{"$f":"VLOOKUP($A100,Participants!$A:$E,5,FALSE)","v":{"$error":"#N/A"}},14]
[null,0,{"$nulls":3},{"$f":"VLOOKUP($A101,Participants!$A:$E,4,FALSE)","v":{"$error":"#N/A"}},{"$f":"VLOOKUP($A101,Participants!$A:$E,2,FALSE)","v":{"$error":"#N/A"}},{"$f":"VLOOKUP($A101,Participants!$A:$E,3,FALSE)","v":{"$error":"#N/A"}},{"$f":"VLOOKUP($A101,Participants!$A:$E,5,FALSE)","v":{"$error":"#N/A"}},14]
[null,0]

{"sheet":"HighJump 4th Boys","index":13,"n_rows":101,"n_cols":13,"rows_kept":101}
["Bib","Enter Best Only\nEnter 10 ft 3 3/4 in as 1003.75","Grade","FName","Lname","School","Overall Place",{"$nulls":5},"Return to Schedule of Events"]
[309,306,{"$f":"VLOOKUP($A2,[1]Participants!$A:$E,4,FALSE)","v":4},{"$f":"VLOOKUP($A2,[1]Participants!$A:$E,2,FALSE)","v":"Vince"},{"$f":"VLOOKUP($A2,[1]Participants!$A:$E,3,FALSE)","v":"Uberta"},{"$f":"VLOOKUP($A2,Participants!$A:$E,5,FALSE)","v":"St. Barnabas"},{"$f":"RANK(B2,$B$1:$B$97,0)","v":2}]
[285,"NH",{"$f":"VLOOKUP($A3,[1]Participants!$A:$E,4,FALSE)","v":4},{"$f":"VLOOKUP($A3,[1]Participants!$A:$E,2,FALSE)","v":"Drake"},{"$f":"VLOOKUP($A3,[1]Participants!$A:$E,3,FALSE)","v":"Lally"},{"$f":"VLOOKUP($A3,Participants!$A:$E,5,FALSE)","v":"St. Barnabas"},{"$f":"RANK(B3,$B$1:$B$97,0)","v":{"$error":"#VALUE!"}},{"$nulls":5},"Add or Update Participants"]
[279,308,{"$f":"VLOOKUP($A4,[1]Participants!$A:$E,4,FALSE)","v":4},{"$f":"VLOOKUP($A4,[1]Participants!$A:$E,2,FALSE)","v":"Jeremiah"},{"$f":"VLOOKUP($A4,[1]Participants!$A:$E,3,FALSE)","v":"Evans"},{"$f":"VLOOKUP($A4,Participants!$A:$E,5,FALSE)","v":"St. Barnabas"},1,{"$nulls":5},"Overall Place and Points"]
[178,304,{"$f":"VLOOKUP($A5,[1]Participants!$A:$E,4,FALSE)","v":3},{"$f":"VLOOKUP($A5,[1]Participants!$A:$E,2,FALSE)","v":"Bo"},{"$f":"VLOOKUP($A5,[1]Participants!$A:$E,3,FALSE)","v":"Huff"},{"$f":"VLOOKUP($A5,Participants!$A:$E,5,FALSE)","v":"SSFC"},6]
[154,300,{"$f":"VLOOKUP($A6,[1]Participants!$A:$E,4,FALSE)","v":4},{"$f":"VLOOKUP($A6,[1]Participants!$A:$E,2,FALSE)","v":"Lucas"},{"$f":"VLOOKUP($A6,[1]Participants!$A:$E,3,FALSE)","v":"Back"},{"$f":"VLOOKUP($A6,Participants!$A:$E,5,FALSE)","v":"SSFC"},8]
[176,"NH",{"$f":"VLOOKUP($A7,[1]Participants!$A:$E,4,FALSE)","v":4},{"$f":"VLOOKUP($A7,[1]Participants!$A:$E,2,FALSE)","v":"Charlie"},{"$f":"VLOOKUP($A7,[1]Participants!$A:$E,3,FALSE)","v":"Hazard"},{"$f":"VLOOKUP($A7,Participants!$A:$E,5,FALSE)","v":"SSFC"},{"$error":"#VALUE!"}]
[214,304,{"$f":"VLOOKUP($A8,[1]Participants!$A:$E,4,FALSE)","v":3},{"$f":"VLOOKUP($A8,[1]Participants!$A:$E,2,FALSE)","v":"Alex"},{"$f":"VLOOKUP($A8,[1]Participants!$A:$E,3,FALSE)","v":"Woodburn"},{"$f":"VLOOKUP($A8,Participants!$A:$E,5,FALSE)","v":"SSFC"},6]
[175,"NH",{"$f":"VLOOKUP($A9,[1]Participants!$A:$E,4,FALSE)","v":4},{"$f":"VLOOKUP($A9,[1]Participants!$A:$E,2,FALSE)","v":"Alex"},{"$f":"VLOOKUP($A9,[1]Participants!$A:$E,3,FALSE)","v":"Hazard"},{"$f":"VLOOKUP($A9,Participants!$A:$E,5,FALSE)","v":"SSFC"},{"$error":"#VALUE!"}]
[36,306,{"$f":"VLOOKUP($A10,[1]Participants!$A:$E,4,FALSE)","v":4},{"$f":"VLOOKUP($A10,[1]Participants!$A:$E,2,FALSE)","v":"Mickey"},{"$f":"VLOOKUP($A10,[1]Participants!$A:$E,3,FALSE)","v":"Flynn"},{"$f":"VLOOKUP($A10,Participants!$A:$E,5,FALSE)","v":"St Jude"},2]
[67,306,{"$f":"VLOOKUP($A11,[1]Participants!$A:$E,4,FALSE)","v":3},{"$f":"VLOOKUP($A11,[1]Participants!$A:$E,2,FALSE)","v":"Mac"},{"$f":"VLOOKUP($A11,[1]Participants!$A:$E,3,FALSE)","v":"Kramer"},{"$f":"VLOOKUP($A11,Participants!$A:$E,5,FALSE)","v":"St Jude"},2]
[79,306,{"$f":"VLOOKUP($A12,[1]Participants!$A:$E,4,FALSE)","v":4},{"$f":"VLOOKUP($A12,[1]Participants!$A:$E,2,FALSE)","v":"Isaac"},{"$f":"VLOOKUP($A12,[1]Participants!$A:$E,3,FALSE)","v":"Mappes"},{"$f":"VLOOKUP($A12,Participants!$A:$E,5,FALSE)","v":"St Jude"},2]
[267,"NH",{"$f":"VLOOKUP($A13,[1]Participants!$A:$E,4,FALSE)","v":4},{"$f":"VLOOKUP($A13,[1]Participants!$A:$E,2,FALSE)","v":"Lee"},{"$f":"VLOOKUP($A13,[1]Participants!$A:$E,3,FALSE)","v":"Stepp"},{"$f":"VLOOKUP($A13,Participants!$A:$E,5,FALSE)","v":"United We Run"},{"$error":"#VALUE!"}]
[142,"NH",{"$f":"VLOOKUP($A14,[1]Participants!$A:$E,4,FALSE)","v":3},{"$f":"VLOOKUP($A14,[1]Participants!$A:$E,2,FALSE)","v":"Luis-Enrique"},{"$f":"VLOOKUP($A14,[1]Participants!$A:$E,3,FALSE)","v":"Corona"},{"$f":"VLOOKUP($A14,Participants!$A:$E,5,FALSE)","v":"OLG"},{"$error":"#VALUE!"}]
[225,"NH",{"$f":"VLOOKUP($A15,[1]Participants!$A:$E,4,FALSE)","v":4},{"$f":"VLOOKUP($A15,[1]Participants!$A:$E,2,FALSE)","v":"Caleb"},{"$f":"VLOOKUP($A15,[1]Participants!$A:$E,3,FALSE)","v":"Brunson"},{"$f":"VLOOKUP($A15,Participants!$A:$E,5,FALSE)","v":"United We Run"},{"$error":"#VALUE!"}]
[null,null,{"$f":"VLOOKUP($A16,[1]Participants!$A:$E,4,FALSE)","v":{"$error":"#N/A"}},{"$f":"VLOOKUP($A16,[1]Participants!$A:$E,2,FALSE)","v":{"$error":"#N/A"}},{"$f":"VLOOKUP($A16,[1]Participants!$A:$E,3,FALSE)","v":{"$error":"#N/A"}},{"$f":"VLOOKUP($A16,Participants!$A:$E,5,FALSE)","v":{"$error":"#N/A"}},{"$error":"#N/A"}]
[null,null,{"$f":"VLOOKUP($A17,[1]Participants!$A:$E,4,FALSE)","v":{"$error":"#N/A"}},{"$f":"VLOOKUP($A17,[1]Participants!$A:$E,2,FALSE)","v":{"$error":"#N/A"}},{"$f":"VLOOKUP($A17,[1]Participants!$A:$E,3,FALSE)","v":{"$error":"#N/A"}},{"$f":"VLOOKUP($A17,Participants!$A:$E,5,FALSE)","v":{"$error":"#N/A"}},{"$error":"#N/A"}]
[null,null,{"$f":"VLOOKUP($A18,[1]Participants!$A:$E,4,FALSE)","v":{"$error":"#N/A"}},{"$f":"VLOOKUP($A18,[1]Participants!$A:$E,2,FALSE)","v":{"$error":"#N/A"}},{"$f":"VLOOKUP($A18,[1]Participants!$A:$E,3,FALSE)","v":{"$error":"#N/A"}},{"$f":"VLOOKUP($A18,Participants!$A:$E,5,FALSE)","v":{"$error":"#N/A"}},{"$error":"#N/A"}]
[null,null,{"$f":"VLOOKUP($A19,[1]Participants!$A:$E,4,FALSE)","v":{"$error":"#N/A"}},{"$f":"VLOOKUP($A19,[1]Participants!$A:$E,2,FALSE)","v":{"$error":"#N/A"}},{"$f":"VLOOKUP($A19,[1]Participants!$A:$E,3,FALSE)","v":{"$error":"#N/A"}},{"$f":"VLOOKUP($A19,Participants!$A:$E,5,FALSE)","v":{"$error":"#N/A"}},{"$error":"#N/A"}]
[null,null,{"$f":"VLOOKUP($A20,[1]Participants!$A:$E,4,FALSE)","v":{"$error":"#N/A"}},{"$f":"VLOOKUP($A20,[1]Participants!$A:$E,2,FALSE)","v":{"$error":"#N/A"}},{"$f":"VLOOKUP($A20,[1]Participants!$A:$E,3,FALSE)","v":{"$error":"#N/A"}},{"$f":"VLOOKUP($A20,Participants!$A:$E,5,FALSE)","v":{"$error":"#N/A"}},{"$error":"#N/A"}]
[null,null,{"$f":"VLOOKUP($A21,[1]Participants!$A:$E,4,FALSE)","v":{"$error":"#N/A"}},{"$f":"VLOOKUP($A21,[1]Participants!$A:$E,2,FALSE)","v":{"$error":"#N/A"}},{"$f":"VLOOKUP($A21,[1]Participants!$A:$E,3,FALSE)","v":{"$error":"#N/A"}},{"$f":"VLOOKUP($A21,Participants!$A:$E,5,FALSE)","v":{"$error":"#N/A"}},{"$error":"#N/A"}]
[null,null,{"$f":"VLOOKUP($A22,[1]Participants!$A:$E,4,FALSE)","v":{"$error":"#N/A"}},{"$f":"VLOOKUP($A22,[1]Participants!$A:$E,2,FALSE)","v":{"$error":"#N/A"}},{"$f":"VLOOKUP($A22,[1]Participants!$A:$E,3,FALSE)","v":{"$error":"#N/A"}},{"$f":"VLOOKUP($A22,Participants!$A:$E,5,FALSE)","v":{"$error":"#N/A"}},{"$error":"#N/A"}]
[null,null,{"$f":"VLOOKUP($A23,[1]Participants!$A:$E,4,FALSE)","v":{"$error":"#N/A"}},{"$f":"VLOOKUP($A23,[1]Participants!$A:$E,2,FALSE)","v":{"$error":"#N/A"}},{"$f":"VLOOKUP($A23,[1]Participants!$A:$E,3,FALSE)","v":{"$error":"#N/A"}},{"$f":"VLOOKUP($A23,Participants!$A:$E,5,FALSE)","v":{"$error":"#N/A"}},{"$error":"#N/A"}]
[null,null,{"$f":"VLOOKUP($A24,[1]Participants!$A:$E,4,FALSE)","v":{"$error":"#N/A"}},{"$f":"VLOOKUP($A24,[1]Participants!$A:$E,2,FALSE)","v":{"$error":"#N/A"}},{"$f":"VLOOKUP($A24,[1]Participants!$A:$E,3,FALSE)","v":{"$error":"#N/A"}},{"$f":"VLOOKUP($A24,Participants!$A:$E,5,FALSE)","v":{"$error":"#N/A"}},{"$error":"#N/A"}]
[null,null,{"$f":"VLOOKUP($A25,[1]Participants!$A:$E,4,FALSE)","v":{"$error":"#N/A"}},{"$f":"VLOOKUP($A25,[1]Participants!$A:$E,2,FALSE)","v":{"$error":"#N/A"}},{"$f":"VLOOKUP($A25,[1]Participants!$A:$E,3,FALSE)","v":{"$error":"#N/A"}},{"$f":"VLOOKUP($A25,Participants!$A:$E,5,FALSE)","v":{"$error":"#N/A"}},{"$error":"#N/A"}]
[null,null,{"$f":"VLOOKUP($A26,[1]Participants!$A:$E,4,FALSE)","v":{"$error":"#N/A"}},{"$f":"VLOOKUP($A26,[1]Participants!$A:$E,2,FALSE)","v":{"$error":"#N/A"}},{"$f":"VLOOKUP($A26,[1]Participants!$A:$E,3,FALSE)","v":{"$error":"#N/A"}},{"$f":"VLOOKUP($A26,Participants!$A:$E,5,FALSE)","v":{"$error":"#N/A"}},{"$error":"#N/A"}]
[null,null,{"$f":"VLOOKUP($A27,[1]Participants!$A:$E,4,FALSE)","v":{"$error":"#N/A"}},{"$f":"VLOOKUP($A27,[1]Participants!$A:$E,2,FALSE)","v":{"$error":"#N/A"}},{"$f":"VLOOKUP($A27,[1]Participants!$A:$E,3,FALSE)","v":{"$error":"#N/A"}},{"$f":"VLOOKUP($A27,Participants!$A:$E,5,FALSE)","v":{"$error":"#N/A"}},{"$error":"#N/A"}]
[null,null,{"$f":"VLOOKUP($A28,[1]Participants!$A:$E,4,FALSE)","v":{"$error":"#N/A"}},{"$f":"VLOOKUP($A28,[1]Participants!$A:$E,2,FALSE)","v":{"$error":"#N/A"}},{"$f":"VLOOKUP($A28,[1]Participants!$A:$E,3,FALSE)","v":{"$error":"#N/A"}},{"$f":"VLOOKUP($A28,Participants!$A:$E,5,FALSE)","v":{"$error":"#N/A"}},{"$error":"#N/A"}]
[null,null,{"$f":"VLOOKUP($A29,[1]Participants!$A:$E,4,FALSE)","v":{"$error":"#N/A"}},{"$f":"VLOOKUP($A29,[1]Participants!$A:$E,2,FALSE)","v":{"$error":"#N/A"}},{"$f":"VLOOKUP($A29,[1]Participants!$A:$E,3,FALSE)","v":{"$error":"#N/A"}},{"$f":"VLOOKUP($A29,Participants!$A:$E,5,FALSE)","v":{"$error":"#N/A"}},{"$error":"#N/A"}]
[null,null,{"$f":"VLOOKUP($A30,[1]Participants!$A:$E,4,FALSE)","v":{"$error":"#N/A"}},{"$f":"VLOOKUP($A30,[1]Participants!$A:$E,2,FALSE)","v":{"$error":"#N/A"}},{"$f":"VLOOKUP($A30,[1]Participants!$A:$E,3,FALSE)","v":{"$error":"#N/A"}},{"$f":"VLOOKUP($A30,Participants!$A:$E,5,FALSE)","v":{"$error":"#N/A"}},{"$error":"#N/A"}]
[null,null,{"$f":"VLOOKUP($A31,[1]Participants!$A:$E,4,FALSE)","v":{"$error":"#N/A"}},{"$f":"VLOOKUP($A31,[1]Participants!$A:$E,2,FALSE)","v":{"$error":"#N/A"}},{"$f":"VLOOKUP($A31,[1]Participants!$A:$E,3,FALSE)","v":{"$error":"#N/A"}},{"$f":"VLOOKUP($A31,Participants!$A:$E,5,FALSE)","v":{"$error":"#N/A"}},{"$error":"#N/A"}]
[null,null,{"$f":"VLOOKUP($A32,[1]Participants!$A:$E,4,FALSE)","v":{"$error":"#N/A"}},{"$f":"VLOOKUP($A32,[1]Participants!$A:$E,2,FALSE)","v":{"$error":"#N/A"}},{"$f":"VLOOKUP($A32,[1]Participants!$A:$E,3,FALSE)","v":{"$error":"#N/A"}},{"$f":"VLOOKUP($A32,Participants!$A:$E,5,FALSE)","v":{"$error":"#N/A"}},{"$error":"#N/A"}]
[null,null,{"$f":"VLOOKUP($A33,[1]Participants!$A:$E,4,FALSE)","v":{"$error":"#N/A"}},{"$f":"VLOOKUP($A33,[1]Participants!$A:$E,2,FALSE)","v":{"$error":"#N/A"}},{"$f":"VLOOKUP($A33,[1]Participants!$A:$E,3,FALSE)","v":{"$error":"#N/A"}},{"$f":"VLOOKUP($A33,Participants!$A:$E,5,FALSE)","v":{"$error":"#N/A"}},{"$error":"#N/A"}]
[null,null,{"$f":"VLOOKUP($A34,[1]Participants!$A:$E,4,FALSE)","v":{"$error":"#N/A"}},{"$f":"VLOOKUP($A34,[1]Participants!$A:$E,2,FALSE)","v":{"$error":"#N/A"}},{"$f":"VLOOKUP($A34,[1]Participants!$A:$E,3,FALSE)","v":{"$error":"#N/A"}},{"$f":"VLOOKUP($A34,Participants!$A:$E,5,FALSE)","v":{"$error":"#N/A"}},{"$error":"#N/A"}]
[null,null,{"$f":"VLOOKUP($A35,[1]Participants!$A:$E,4,FALSE)","v":{"$error":"#N/A"}},{"$f":"VLOOKUP($A35,[1]Participants!$A:$E,2,FALSE)","v":{"$error":"#N/A"}},{"$f":"VLOOKUP($A35,[1]Participants!$A:$E,3,FALSE)","v":{"$error":"#N/A"}},{"$f":"VLOOKUP($A35,Participants!$A:$E,5,FALSE)","v":{"$error":"#N/A"}},{"$error":"#N/A"}]
[null,null,{"$f":"VLOOKUP($A36,[1]Participants!$A:$E,4,FALSE)","v":{"$error":"#N/A"}},{"$f":"VLOOKUP($A36,[1]Participants!$A:$E,2,FALSE)","v":{"$error":"#N/A"}},{"$f":"VLOOKUP($A36,[1]Participants!$A:$E,3,FALSE)","v":{"$error":"#N/A"}},{"$f":"VLOOKUP($A36,Participants!$A:$E,5,FALSE)","v":{"$error":"#N/A"}},{"$error":"#N/A"}]
[null,null,{"$f":"VLOOKUP($A37,[1]Participants!$A:$E,4,FALSE)","v":{"$error":"#N/A"}},{"$f":"VLOOKUP($A37,[1]Participants!$A:$E,2,FALSE)","v":{"$error":"#N/A"}},{"$f":"VLOOKUP($A37,[1]Participants!$A:$E,3,FALSE)","v":{"$error":"#N/A"}},{"$f":"VLOOKUP($A37,Participants!$A:$E,5,FALSE)","v":{"$error":"#N/A"}},{"$error":"#N/A"}]
[null,null,{"$f":"VLOOKUP($A38,[1]Participants!$A:$E,4,FALSE)","v":{"$error":"#N/A"}},{"$f":"VLOOKUP($A38,[1]Participants!$A:$E,2,FALSE)","v":{"$error":"#N/A"}},{"$f":"VLOOKUP($A38,[1]Participants!$A:$E,3,FALSE)","v":{"$error":"#N/A"}},{"$f":"VLOOKUP($A38,Participants!$A:$E,5,FALSE)","v":{"$error":"#N/A"}},{"$error":"#N/A"}]
[null,null,{"$f":"VLOOKUP($A39,[1]Participants!$A:$E,4,FALSE)","v":{"$error":"#N/A"}},{"$f":"VLOOKUP($A39,[1]Participants!$A:$E,2,FALSE)","v":{"$error":"#N/A"}},{"$f":"VLOOKUP($A39,[1]Participants!$A:$E,3,FALSE)","v":{"$error":"#N/A"}},{"$f":"VLOOKUP($A39,Participants!$A:$E,5,FALSE)","v":{"$error":"#N/A"}},{"$error":"#N/A"}]
[null,null,{"$f":"VLOOKUP($A40,[1]Participants!$A:$E,4,FALSE)","v":{"$error":"#N/A"}},{"$f":"VLOOKUP($A40,[1]Participants!$A:$E,2,FALSE)","v":{"$error":"#N/A"}},{"$f":"VLOOKUP($A40,[1]Participants!$A:$E,3,FALSE)","v":{"$error":"#N/A"}},{"$f":"VLOOKUP($A40,Participants!$A:$E,5,FALSE)","v":{"$error":"#N/A"}},{"$error":"#N/A"}]
[null,null,{"$f":"VLOOKUP($A41,[1]Participants!$A:$E,4,FALSE)","v":{"$error":"#N/A"}},{"$f":"VLOOKUP($A41,[1]Participants!$A:$E,2,FALSE)","v":{"$error":"#N/A"}},{"$f":"VLOOKUP($A41,[1]Participants!$A:$E,3,FALSE)","v":{"$error":"#N/A"}},{"$f":"VLOOKUP($A41,Participants!$A:$E,5,FALSE)","v":{"$error":"#N/A"}},{"$error":"#N/A"}]
[null,null,{"$f":"VLOOKUP($A42,[1]Participants!$A:$E,4,FALSE)","v":{"$error":"#N/A"}},{"$f":"VLOOKUP($A42,[1]Participants!$A:$E,2,FALSE)","v":{"$error":"#N/A"}},{"$f":"VLOOKUP($A42,[1]Participants!$A:$E,3,FALSE)","v":{"$error":"#N/A"}},{"$f":"VLOOKUP($A42,Participants!$A:$E,5,FALSE)","v":{"$error":"#N/A"}},{"$error":"#N/A"}]
[null,null,{"$f":"VLOOKUP($A43,[1]Participants!$A:$E,4,FALSE)","v":{"$error":"#N/A"}},{"$f":"VLOOKUP($A43,[1]Participants!$A:$E,2,FALSE)","v":{"$error":"#N/A"}},{"$f":"VLOOKUP($A43,[1]Participants!$A:$E,3,FALSE)","v":{"$error":"#N/A"}},{"$f":"VLOOKUP($A43,Participants!$A:$E,5,FALSE)","v":{"$error":"#N/A"}},{"$error":"#N/A"}]
[null,null,{"$f":"VLOOKUP($A44,[1]Participants!$A:$E,4,FALSE)","v":{"$error":"#N/A"}},{"$f":"VLOOKUP($A44,[1]Participants!$A:$E,2,FALSE)","v":{"$error":"#N/A"}},{"$f":"VLOOKUP($A44,[1]Participants!$A:$E,3,FALSE)","v":{"$error":"#N/A"}},{"$f":"VLOOKUP($A44,Participants!$A:$E,5,FALSE)","v":{"$error":"#N/A"}},{"$error":"#N/A"}]
[null,null,{"$f":"VLOOKUP($A45,[1]Participants!$A:$E,4,FALSE)","v":{"$error":"#N/A"}},{"$f":"VLOOKUP($A45,[1]Participants!$A:$E,2,FALSE)","v":{"$error":"#N/A"}},{"$f":"VLOOKUP($A45,[1]Participants!$A:$E,3,FALSE)","v":{"$error":"#N/A"}},{"$f":"VLOOKUP($A45,Participants!$A:$E,5,FALSE)","v":{"$error":"#N/A"}},{"$error":"#N/A"}]
[null,null,{"$f":"VLOOKUP($A46,[1]Participants!$A:$E,4,FALSE)","v":{"$error":"#N/A"}},{"$f":"VLOOKUP($A46,[1]Participants!$A:$E,2,FALSE)","v":{"$error":"#N/A"}},{"$f":"VLOOKUP($A46,[1]Participants!$A:$E,3,FALSE)","v":{"$error":"#N/A"}},{"$f":"VLOOKUP($A46,Participants!$A:$E,5,FALSE)","v":{"$error":"#N/A"}},{"$error":"#N/A"}]
[null,null,{"$f":"VLOOKUP($A47,[1]Participants!$A:$E,4,FALSE)","v":{"$error":"#N/A"}},{"$f":"VLOOKUP($A47,[1]Participants!$A:$E,2,FALSE)","v":{"$error":"#N/A"}},{"$f":"VLOOKUP($A47,[1]Participants!$A:$E,3,FALSE)","v":{"$error":"#N/A"}},{"$f":"VLOOKUP($A47,Participants!$A:$E,5,FALSE)","v":{"$error":"#N/A"}},{"$error":"#N/A"}]
[null,null,{"$f":"VLOOKUP($A48,[1]Participants!$A:$E,4,FALSE)","v":{"$error":"#N/A"}},{"$f":"VLOOKUP($A48,[1]Participants!$A:$E,2,FALSE)","v":{"$error":"#N/A"}},{"$f":"VLOOKUP($A48,[1]Participants!$A:$E,3,FALSE)","v":{"$error":"#N/A"}},{"$f":"VLOOKUP($A48,Participants!$A:$E,5,FALSE)","v":{"$error":"#N/A"}},{"$error":"#N/A"}]
[null,null,{"$f":"VLOOKUP($A49,[1]Participants!$A:$E,4,FALSE)","v":{"$error":"#N/A"}},{"$f":"VLOOKUP($A49,[1]Participants!$A:$E,2,FALSE)","v":{"$error":"#N/A"}},{"$f":"VLOOKUP($A49,[1]Participants!$A:$E,3,FALSE)","v":{"$error":"#N/A"}},{"$f":"VLOOKUP($A49,Participants!$A:$E,5,FALSE)","v":{"$error":"#N/A"}},{"$error":"#N/A"}]
[null,null,{"$f":"VLOOKUP($A50,[1]Participants!$A:$E,4,FALSE)","v":{"$error":"#N/A"}},{"$f":"VLOOKUP($A50,[1]Participants!$A:$E,2,FALSE)","v":{"$error":"#N/A"}},{"$f":"VLOOKUP($A50,[1]Participants!$A:$E,3,FALSE)","v":{"$error":"#N/A"}},{"$f":"VLOOKUP($A50,Participants!$A:$E,5,FALSE)","v":{"$error":"#N/A"}},{"$error":"#N/A"}]
[null,null,{"$f":"VLOOKUP($A51,[1]Participants!$A:$E,4,FALSE)","v":{"$error":"#N/A"}},{"$f":"VLOOKUP($A51,[1]Participants!$A:$E,2,FALSE)","v":{"$error":"#N/A"}},{"$f":"VLOOKUP($A51,[1]Participants!$A:$E,3,FALSE)","v":{"$error":"#N/A"}},{"$f":"VLOOKUP($A51,Participants!$A:$E,5,FALSE)","v":{"$error":"#N/A"}},{"$error":"#N/A"}]
[null,null,{"$f":"VLOOKUP($A52,[1]Participants!$A:$E,4,FALSE)","v":{"$error":"#N/A"}},{"$f":"VLOOKUP($A52,[1]Participants!$A:$E,2,FALSE)","v":{"$error":"#N/A"}},{"$f":"VLOOKUP($A52,[1]Participants!$A:$E,3,FALSE)","v":{"$error":"#N/A"}},{"$f":"VLOOKUP($A52,Participants!$A:$E,5,FALSE)","v":{"$error":"#N/A"}},{"$error":"#N/A"}]
[null,null,{"$f":"VLOOKUP($A53,[1]Participants!$A:$E,4,FALSE)","v":{"$error":"#N/A"}},{"$f":"VLOOKUP($A53,[1]Participants!$A:$E,2,FALSE)","v":{"$error":"#N/A"}},{"$f":"VLOOKUP($A53,[1]Participants!$A:$E,3,FALSE)","v":{"$error":"#N/A"}},{"$f":"VLOOKUP($A53,Participants!$A:$E,5,FALSE)","v":{"$error":"#N/A"}},{"$error":"#N/A"}]
[null,null,{"$f":"VLOOKUP($A54,[1]Participants!$A:$E,4,FALSE)","v":{"$error":"#N/A"}},{"$f":"VLOOKUP($A54,[1]Participants!$A:$E,2,FALSE)","v":{"$error":"#N/A"}},{"$f":"VLOOKUP($A54,[1]Participants!$A:$E,3,FALSE)","v":{"$error":"#N/A"}},{"$f":"VLOOKUP($A54,Participants!$A:$E,5,FALSE)","v":{"$error":"#N/A"}},{"$error":"#N/A"}]
[null,null,{"$f":"VLOOKUP($A55,[1]Participants!$A:$E,4,FALSE)","v":{"$error":"#N/A"}},{"$f":"VLOOKUP($A55,[1]Participants!$A:$E,2,FALSE)","v":{"$error":"#N/A"}},{"$f":"VLOOKUP($A55,[1]Participants!$A:$E,3,FALSE)","v":{"$error":"#N/A"}},{"$f":"VLOOKUP($A55,Participants!$A:$E,5,FALSE)","v":{"$error":"#N/A"}},{"$error":"#N/A"}]
[null,null,{"$f":"VLOOKUP($A56,[1]Participants!$A:$E,4,FALSE)","v":{"$error":"#N/A"}},{"$f":"VLOOKUP($A56,[1]Participants!$A:$E,2,FALSE)","v":{"$error":"#N/A"}},{"$f":"VLOOKUP($A56,[1]Participants!$A:$E,3,FALSE)","v":{"$error":"#N/A"}},{"$f":"VLOOKUP($A56,Participants!$A:$E,5,FALSE)","v":{"$error":"#N/A"}},{"$error":"#N/A"}]
[null,null,{"$f":"VLOOKUP($A57,[1]Participants!$A:$E,4,FALSE)","v":{"$error":"#N/A"}},{"$f":"VLOOKUP($A57,[1]Participants!$A:$E,2,FALSE)","v":{"$error":"#N/A"}},{"$f":"VLOOKUP($A57,[1]Participants!$A:$E,3,FALSE)","v":{"$error":"#N/A"}},{"$f":"VLOOKUP($A57,Participants!$A:$E,5,FALSE)","v":{"$error":"#N/A"}},{"$error":"#N/A"}]
[null,null,{"$f":"VLOOKUP($A58,[1]Participants!$A:$E,4,FALSE)","v":{"$error":"#N/A"}},{"$f":"VLOOKUP($A58,[1]Participants!$A:$E,2,FALSE)","v":{"$error":"#N/A"}},{"$f":"VLOOKUP($A58,[1]Participants!$A:$E,3,FALSE)","v":{"$error":"#N/A"}},{"$f":"VLOOKUP($A58,Participants!$A:$E,5,FALSE)","v":{"$error":"#N/A"}},{"$error":"#N/A"}]
[null,null,{"$f":"VLOOKUP($A59,[1]Participants!$A:$E,4,FALSE)","v":{"$error":"#N/A"}},{"$f":"VLOOKUP($A59,[1]Participants!$A:$E,2,FALSE)","v":{"$error":"#N/A"}},{"$f":"VLOOKUP($A59,[1]Participants!$A:$E,3,FALSE)","v":{"$error":"#N/A"}},{"$f":"VLOOKUP($A59,Participants!$A:$E,5,FALSE)","v":{"$error":"#N/A"}},{"$error":"#N/A"}]
[null,null,{"$f":"VLOOKUP($A60,[1]Participants!$A:$E,4,FALSE)","v":{"$error":"#N/A"}},{"$f":"VLOOKUP($A60,[1]Participants!$A:$E,2,FALSE)","v":{"$error":"#N/A"}},{"$f":"VLOOKUP($A60,[1]Participants!$A:$E,3,FALSE)","v":{"$error":"#N/A"}},{"$f":"VLOOKUP($A60,Participants!$A:$E,5,FALSE)","v":{"$error":"#N/A"}},{"$error":"#N/A"}]
[null,null,{"$f":"VLOOKUP($A61,[1]Participants!$A:$E,4,FALSE)","v":{"$error":"#N/A"}},{"$f":"VLOOKUP($A61,[1]Participants!$A:$E,2,FALSE)","v":{"$error":"#N/A"}},{"$f":"VLOOKUP($A61,[1]Participants!$A:$E,3,FALSE)","v":{"$error":"#N/A"}},{"$f":"VLOOKUP($A61,Participants!$A:$E,5,FALSE)","v":{"$error":"#N/A"}},{"$error":"#N/A"}]
[null,null,{"$f":"VLOOKUP($A62,[1]Participants!$A:$E,4,FALSE)","v":{"$error":"#N/A"}},{"$f":"VLOOKUP($A62,[1]Participants!$A:$E,2,FALSE)","v":{"$error":"#N/A"}},{"$f":"VLOOKUP($A62,[1]Participants!$A:$E,3,FALSE)","v":{"$error":"#N/A"}},{"$f":"VLOOKUP($A62,Participants!$A:$E,5,FALSE)","v":{"$error":"#N/A"}},{"$error":"#N/A"}]
[null,null,{"$f":"VLOOKUP($A63,[1]Participants!$A:$E,4,FALSE)","v":{"$error":"#N/A"}},{"$f":"VLOOKUP($A63,[1]Participants!$A:$E,2,FALSE)","v":{"$error":"#N/A"}},{"$f":"VLOOKUP($A63,[1]Participants!$A:$E,3,FALSE)","v":{"$error":"#N/A"}},{"$f":"VLOOKUP($A63,Participants!$A:$E,5,FALSE)","v":{"$error":"#N/A"}},{"$error":"#N/A"}]
[null,null,{"$f":"VLOOKUP($A64,[1]Participants!$A:$E,4,FALSE)","v":{"$error":"#N/A"}},{"$f":"VLOOKUP($A64,[1]Participants!$A:$E,2,FALSE)","v":{"$error":"#N/A"}},{"$f":"VLOOKUP($A64,[1]Participants!$A:$E,3,FALSE)","v":{"$error":"#N/A"}},{"$f":"VLOOKUP($A64,Participants!$A:$E,5,FALSE)","v":{"$error":"#N/A"}},{"$error":"#N/A"}]
[null,null,{"$f":"VLOOKUP($A65,[1]Participants!$A:$E,4,FALSE)","v":{"$error":"#N/A"}},{"$f":"VLOOKUP($A65,[1]Participants!$A:$E,2,FALSE)","v":{"$error":"#N/A"}},{"$f":"VLOOKUP($A65,[1]Participants!$A:$E,3,FALSE)","v":{"$error":"#N/A"}},{"$f":"VLOOKUP($A65,Participants!$A:$E,5,FALSE)","v":{"$error":"#N/A"}},{"$error":"#N/A"}]
[null,null,{"$f":"VLOOKUP($A66,[1]Participants!$A:$E,4,FALSE)","v":{"$error":"#N/A"}},{"$f":"VLOOKUP($A66,[1]Participants!$A:$E,2,FALSE)","v":{"$error":"#N/A"}},{"$f":"VLOOKUP($A66,[1]Participants!$A:$E,3,FALSE)","v":{"$error":"#N/A"}},{"$f":"VLOOKUP($A66,Participants!$A:$E,5,FALSE)","v":{"$error":"#N/A"}},{"$error":"#N/A"}]
[null,null,{"$f":"VLOOKUP($A67,[1]Participants!$A:$E,4,FALSE)","v":{"$error":"#N/A"}},{"$f":"VLOOKUP($A67,[1]Participants!$A:$E,2,FALSE)","v":{"$error":"#N/A"}},{"$f":"VLOOKUP($A67,[1]Participants!$A:$E,3,FALSE)","v":{"$error":"#N/A"}},{"$f":"VLOOKUP($A67,Participants!$A:$E,5,FALSE)","v":{"$error":"#N/A"}},{"$f":"RANK(B67,$B$1:$B$97,0)","v":{"$error":"#N/A"}}]
[null,null,{"$f":"VLOOKUP($A68,[1]Participants!$A:$E,4,FALSE)","v":{"$error":"#N/A"}},{"$f":"VLOOKUP($A68,[1]Participants!$A:$E,2,FALSE)","v":{"$error":"#N/A"}},{"$f":"VLOOKUP($A68,[1]Participants!$A:$E,3,FALSE)","v":{"$error":"#N/A"}},{"$f":"VLOOKUP($A68,Participants!$A:$E,5,FALSE)","v":{"$error":"#N/A"}},{"$error":"#N/A"}]
[null,null,{"$f":"VLOOKUP($A69,[1]Participants!$A:$E,4,FALSE)","v":{"$error":"#N/A"}},{"$f":"VLOOKUP($A69,[1]Participants!$A:$E,2,FALSE)","v":{"$error":"#N/A"}},{"$f":"VLOOKUP($A69,[1]Participants!$A:$E,3,FALSE)","v":{"$error":"#N/A"}},{"$f":"VLOOKUP($A69,Participants!$A:$E,5,FALSE)","v":{"$error":"#N/A"}},{"$error":"#N/A"}]
[null,null,{"$f":"VLOOKUP($A70,[1]Participants!$A:$E,4,FALSE)","v":{"$error":"#N/A"}},{"$f":"VLOOKUP($A70,[1]Participants!$A:$E,2,FALSE)","v":{"$error":"#N/A"}},{"$f":"VLOOKUP($A70,[1]Participants!$A:$E,3,FALSE)","v":{"$error":"#N/A"}},{"$f":"VLOOKUP($A70,Participants!$A:$E,5,FALSE)","v":{"$error":"#N/A"}},{"$error":"#N/A"}]
[null,null,{"$f":"VLOOKUP($A71,[1]Participants!$A:$E,4,FALSE)","v":{"$error":"#N/A"}},{"$f":"VLOOKUP($A71,[1]Participants!$A:$E,2,FALSE)","v":{"$error":"#N/A"}},{"$f":"VLOOKUP($A71,[1]Participants!$A:$E,3,FALSE)","v":{"$error":"#N/A"}},{"$f":"VLOOKUP($A71,Participants!$A:$E,5,FALSE)","v":{"$error":"#N/A"}},{"$error":"#N/A"}]
[null,null,{"$f":"VLOOKUP($A72,[1]Participants!$A:$E,4,FALSE)","v":{"$error":"#N/A"}},{"$f":"VLOOKUP($A72,[1]Participants!$A:$E,2,FALSE)","v":{"$error":"#N/A"}},{"$f":"VLOOKUP($A72,[1]Participants!$A:$E,3,FALSE)","v":{"$error":"#N/A"}},{"$f":"VLOOKUP($A72,Participants!$A:$E,5,FALSE)","v":{"$error":"#N/A"}},{"$error":"#N/A"}]
[null,null,{"$f":"VLOOKUP($A73,[1]Participants!$A:$E,4,FALSE)","v":{"$error":"#N/A"}},{"$f":"VLOOKUP($A73,[1]Participants!$A:$E,2,FALSE)","v":{"$error":"#N/A"}},{"$f":"VLOOKUP($A73,[1]Participants!$A:$E,3,FALSE)","v":{"$error":"#N/A"}},{"$f":"VLOOKUP($A73,Participants!$A:$E,5,FALSE)","v":{"$error":"#N/A"}},{"$error":"#N/A"}]
[null,null,{"$f":"VLOOKUP($A74,[1]Participants!$A:$E,4,FALSE)","v":{"$error":"#N/A"}},{"$f":"VLOOKUP($A74,[1]Participants!$A:$E,2,FALSE)","v":{"$error":"#N/A"}},{"$f":"VLOOKUP($A74,[1]Participants!$A:$E,3,FALSE)","v":{"$error":"#N/A"}},{"$f":"VLOOKUP($A74,Participants!$A:$E,5,FALSE)","v":{"$error":"#N/A"}},{"$error":"#N/A"}]
[null,null,{"$f":"VLOOKUP($A75,[1]Participants!$A:$E,4,FALSE)","v":{"$error":"#N/A"}},{"$f":"VLOOKUP($A75,[1]Participants!$A:$E,2,FALSE)","v":{"$error":"#N/A"}},{"$f":"VLOOKUP($A75,[1]Participants!$A:$E,3,FALSE)","v":{"$error":"#N/A"}},{"$f":"VLOOKUP($A75,Participants!$A:$E,5,FALSE)","v":{"$error":"#N/A"}},{"$error":"#N/A"}]
[null,null,{"$f":"VLOOKUP($A76,[1]Participants!$A:$E,4,FALSE)","v":{"$error":"#N/A"}},{"$f":"VLOOKUP($A76,[1]Participants!$A:$E,2,FALSE)","v":{"$error":"#N/A"}},{"$f":"VLOOKUP($A76,[1]Participants!$A:$E,3,FALSE)","v":{"$error":"#N/A"}},{"$f":"VLOOKUP($A76,Participants!$A:$E,5,FALSE)","v":{"$error":"#N/A"}},{"$error":"#N/A"}]
[null,null,{"$f":"VLOOKUP($A77,[1]Participants!$A:$E,4,FALSE)","v":{"$error":"#N/A"}},{"$f":"VLOOKUP($A77,[1]Participants!$A:$E,2,FALSE)","v":{"$error":"#N/A"}},{"$f":"VLOOKUP($A77,[1]Participants!$A:$E,3,FALSE)","v":{"$error":"#N/A"}},{"$f":"VLOOKUP($A77,Participants!$A:$E,5,FALSE)","v":{"$error":"#N/A"}},{"$error":"#N/A"}]
[null,null,{"$f":"VLOOKUP($A78,[1]Participants!$A:$E,4,FALSE)","v":{"$error":"#N/A"}},{"$f":"VLOOKUP($A78,[1]Participants!$A:$E,2,FALSE)","v":{"$error":"#N/A"}},{"$f":"VLOOKUP($A78,[1]Participants!$A:$E,3,FALSE)","v":{"$error":"#N/A"}},{"$f":"VLOOKUP($A78,Participants!$A:$E,5,FALSE)","v":{"$error":"#N/A"}},{"$error":"#N/A"}]
[null,null,{"$f":"VLOOKUP($A79,[1]Participants!$A:$E,4,FALSE)","v":{"$error":"#N/A"}},{"$f":"VLOOKUP($A79,[1]Participants!$A:$E,2,FALSE)","v":{"$error":"#N/A"}},{"$f":"VLOOKUP($A79,[1]Participants!$A:$E,3,FALSE)","v":{"$error":"#N/A"}},{"$f":"VLOOKUP($A79,Participants!$A:$E,5,FALSE)","v":{"$error":"#N/A"}},{"$error":"#N/A"}]
[null,null,{"$f":"VLOOKUP($A80,[1]Participants!$A:$E,4,FALSE)","v":{"$error":"#N/A"}},{"$f":"VLOOKUP($A80,[1]Participants!$A:$E,2,FALSE)","v":{"$error":"#N/A"}},{"$f":"VLOOKUP($A80,[1]Participants!$A:$E,3,FALSE)","v":{"$error":"#N/A"}},{"$f":"VLOOKUP($A80,Participants!$A:$E,5,FALSE)","v":{"$error":"#N/A"}},{"$error":"#N/A"}]
[null,null,{"$f":"VLOOKUP($A81,[1]Participants!$A:$E,4,FALSE)","v":{"$error":"#N/A"}},{"$f":"VLOOKUP($A81,[1]Participants!$A:$E,2,FALSE)","v":{"$error":"#N/A"}},{"$f":"VLOOKUP($A81,[1]Participants!$A:$E,3,FALSE)","v":{"$error":"#N/A"}},{"$f":"VLOOKUP($A81,Participants!$A:$E,5,FALSE)","v":{"$error":"#N/A"}},{"$error":"#N/A"}]
[null,null,{"$f":"VLOOKUP($A82,[1]Participants!$A:$E,4,FALSE)","v":{"$error":"#N/A"}},{"$f":"VLOOKUP($A82,[1]Participants!$A:$E,2,FALSE)","v":{"$error":"#N/A"}},{"$f":"VLOOKUP($A82,[1]Participants!$A:$E,3,FALSE)","v":{"$error":"#N/A"}},{"$f":"VLOOKUP($A82,Participants!$A:$E,5,FALSE)","v":{"$error":"#N/A"}},{"$error":"#N/A"}]
[null,null,{"$f":"VLOOKUP($A83,[1]Participants!$A:$E,4,FALSE)","v":{"$error":"#N/A"}},{"$f":"VLOOKUP($A83,[1]Participants!$A:$E,2,FALSE)","v":{"$error":"#N/A"}},{"$f":"VLOOKUP($A83,[1]Participants!$A:$E,3,FALSE)","v":{"$error":"#N/A"}},{"$f":"VLOOKUP($A83,Participants!$A:$E,5,FALSE)","v":{"$error":"#N/A"}},{"$error":"#N/A"}]
[null,null,{"$f":"VLOOKUP($A84,[1]Participants!$A:$E,4,FALSE)","v":{"$error":"#N/A"}},{"$f":"VLOOKUP($A84,[1]Participants!$A:$E,2,FALSE)","v":{"$error":"#N/A"}},{"$f":"VLOOKUP($A84,[1]Participants!$A:$E,3,FALSE)","v":{"$error":"#N/A"}},{"$f":"VLOOKUP($A84,Participants!$A:$E,5,FALSE)","v":{"$error":"#N/A"}},{"$error":"#N/A"}]
[null,null,{"$f":"VLOOKUP($A85,[1]Participants!$A:$E,4,FALSE)","v":{"$error":"#N/A"}},{"$f":"VLOOKUP($A85,[1]Participants!$A:$E,2,FALSE)","v":{"$error":"#N/A"}},{"$f":"VLOOKUP($A85,[1]Participants!$A:$E,3,FALSE)","v":{"$error":"#N/A"}},{"$f":"VLOOKUP($A85,Participants!$A:$E,5,FALSE)","v":{"$error":"#N/A"}},{"$error":"#N/A"}]
[null,null,{"$f":"VLOOKUP($A86,[1]Participants!$A:$E,4,FALSE)","v":{"$error":"#N/A"}},{"$f":"VLOOKUP($A86,[1]Participants!$A:$E,2,FALSE)","v":{"$error":"#N/A"}},{"$f":"VLOOKUP($A86,[1]Participants!$A:$E,3,FALSE)","v":{"$error":"#N/A"}},{"$f":"VLOOKUP($A86,Participants!$A:$E,5,FALSE)","v":{"$error":"#N/A"}},{"$error":"#N/A"}]
[null,null,{"$f":"VLOOKUP($A87,[1]Participants!$A:$E,4,FALSE)","v":{"$error":"#N/A"}},{"$f":"VLOOKUP($A87,[1]Participants!$A:$E,2,FALSE)","v":{"$error":"#N/A"}},{"$f":"VLOOKUP($A87,[1]Participants!$A:$E,3,FALSE)","v":{"$error":"#N/A"}},{"$f":"VLOOKUP($A87,Participants!$A:$E,5,FALSE)","v":{"$error":"#N/A"}},{"$error":"#N/A"}]
[null,null,{"$f":"VLOOKUP($A88,[1]Participants!$A:$E,4,FALSE)","v":{"$error":"#N/A"}},{"$f":"VLOOKUP($A88,[1]Participants!$A:$E,2,FALSE)","v":{"$error":"#N/A"}},{"$f":"VLOOKUP($A88,[1]Participants!$A:$E,3,FALSE)","v":{"$error":"#N/A"}},{"$f":"VLOOKUP($A88,Participants!$A:$E,5,FALSE)","v":{"$error":"#N/A"}},{"$error":"#N/A"}]
[null,null,{"$f":"VLOOKUP($A89,[1]Participants!$A:$E,4,FALSE)","v":{"$error":"#N/A"}},{"$f":"VLOOKUP($A89,[1]Participants!$A:$E,2,FALSE)","v":{"$error":"#N/A"}},{"$f":"VLOOKUP($A89,[1]Participants!$A:$E,3,FALSE)","v":{"$error":"#N/A"}},{"$f":"VLOOKUP($A89,Participants!$A:$E,5,FALSE)","v":{"$error":"#N/A"}},{"$error":"#N/A"}]
[null,null,{"$f":"VLOOKUP($A90,[1]Participants!$A:$E,4,FALSE)","v":{"$error":"#N/A"}},{"$f":"VLOOKUP($A90,[1]Participants!$A:$E,2,FALSE)","v":{"$error":"#N/A"}},{"$f":"VLOOKUP($A90,[1]Participants!$A:$E,3,FALSE)","v":{"$error":"#N/A"}},{"$f":"VLOOKUP($A90,Participants!$A:$E,5,FALSE)","v":{"$error":"#N/A"}},{"$error":"#N/A"}]
[null,null,{"$f":"VLOOKUP($A91,[1]Participants!$A:$E,4,FALSE)","v":{"$error":"#N/A"}},{"$f":"VLOOKUP($A91,[1]Participants!$A:$E,2,FALSE)","v":{"$error":"#N/A"}},{"$f":"VLOOKUP($A91,[1]Participants!$A:$E,3,FALSE)","v":{"$error":"#N/A"}},{"$f":"VLOOKUP($A91,Participants!$A:$E,5,FALSE)","v":{"$error":"#N/A"}},{"$error":"#N/A"}]
[null,null,{"$f":"VLOOKUP($A92,[1]Participants!$A:$E,4,FALSE)","v":{"$error":"#N/A"}},{"$f":"VLOOKUP($A92,[1]Participants!$A:$E,2,FALSE)","v":{"$error":"#N/A"}},{"$f":"VLOOKUP($A92,[1]Participants!$A:$E,3,FALSE)","v":{"$error":"#N/A"}},{"$f":"VLOOKUP($A92,Participants!$A:$E,5,FALSE)","v":{"$error":"#N/A"}},{"$error":"#N/A"}]
[null,null,{"$f":"VLOOKUP($A93,[1]Participants!$A:$E,4,FALSE)","v":{"$error":"#N/A"}},{"$f":"VLOOKUP($A93,[1]Participants!$A:$E,2,FALSE)","v":{"$error":"#N/A"}},{"$f":"VLOOKUP($A93,[1]Participants!$A:$E,3,FALSE)","v":{"$error":"#N/A"}},{"$f":"VLOOKUP($A93,Participants!$A:$E,5,FALSE)","v":{"$error":"#N/A"}},{"$error":"#N/A"}]
[null,null,{"$f":"VLOOKUP($A94,[1]Participants!$A:$E,4,FALSE)","v":{"$error":"#N/A"}},{"$f":"VLOOKUP($A94,[1]Participants!$A:$E,2,FALSE)","v":{"$error":"#N/A"}},{"$f":"VLOOKUP($A94,[1]Participants!$A:$E,3,FALSE)","v":{"$error":"#N/A"}},{"$f":"VLOOKUP($A94,Participants!$A:$E,5,FALSE)","v":{"$error":"#N/A"}},{"$error":"#N/A"}]
[null,null,{"$f":"VLOOKUP($A95,[1]Participants!$A:$E,4,FALSE)","v":{"$error":"#N/A"}},{"$f":"VLOOKUP($A95,[1]Participants!$A:$E,2,FALSE)","v":{"$error":"#N/A"}},{"$f":"VLOOKUP($A95,[1]Participants!$A:$E,3,FALSE)","v":{"$error":"#N/A"}},{"$f":"VLOOKUP($A95,Participants!$A:$E,5,FALSE)","v":{"$error":"#N/A"}},{"$error":"#N/A"}]
[null,null,{"$f":"VLOOKUP($A96,[1]Participants!$A:$E,4,FALSE)","v":{"$error":"#N/A"}},{"$f":"VLOOKUP($A96,[1]Participants!$A:$E,2,FALSE)","v":{"$error":"#N/A"}},{"$f":"VLOOKUP($A96,[1]Participants!$A:$E,3,FALSE)","v":{"$error":"#N/A"}},{"$f":"VLOOKUP($A96,Participants!$A:$E,5,FALSE)","v":{"$error":"#N/A"}},{"$error":"#N/A"}]
[null,null,{"$f":"VLOOKUP($A97,[1]Participants!$A:$E,4,FALSE)","v":{"$error":"#N/A"}},{"$f":"VLOOKUP($A97,[1]Participants!$A:$E,2,FALSE)","v":{"$error":"#N/A"}},{"$f":"VLOOKUP($A97,[1]Participants!$A:$E,3,FALSE)","v":{"$error":"#N/A"}},{"$f":"VLOOKUP($A97,Participants!$A:$E,5,FALSE)","v":{"$error":"#N/A"}},{"$error":"#N/A"}]
[null,null,{"$f":"VLOOKUP($A98,[1]Participants!$A:$E,4,FALSE)","v":{"$error":"#N/A"}},{"$f":"VLOOKUP($A98,[1]Participants!$A:$E,2,FALSE)","v":{"$error":"#N/A"}},{"$f":"VLOOKUP($A98,[1]Participants!$A:$E,3,FALSE)","v":{"$error":"#N/A"}},{"$f":"VLOOKUP($A98,Participants!$A:$E,5,FALSE)","v":{"$error":"#N/A"}},{"$error":"#N/A"}]
[null,null,{"$f":"VLOOKUP($A99,[1]Participants!$A:$E,4,FALSE)","v":{"$error":"#N/A"}},{"$f":"VLOOKUP($A99,[1]Participants!$A:$E,2,FALSE)","v":{"$error":"#N/A"}},{"$f":"VLOOKUP($A99,[1]Participants!$A:$E,3,FALSE)","v":{"$error":"#N/A"}},{"$f":"VLOOKUP($A99,Participants!$A:$E,5,FALSE)","v":{"$error":"#N/A"}},{"$error":"#N/A"}]
[null,null,{"$f":"VLOOKUP($A100,[1]Participants!$A:$E,4,FALSE)","v":{"$error":"#N/A"}},{"$f":"VLOOKUP($A100,[1]Participants!$A:$E,2,FALSE)","v":{"$error":"#N/A"}},{"$f":"VLOOKUP($A100,[1]Participants!$A:$E,3,FALSE)","v":{"$error":"#N/A"}},{"$f":"VLOOKUP($A100,Participants!$A:$E,5,FALSE)","v":{"$error":"#N/A"}},{"$error":"#N/A"}]
[null,null,{"$f":"VLOOKUP($A101,[1]Participants!$A:$E,4,FALSE)","v":{"$error":"#N/A"}},{"$f":"VLOOKUP($A101,[1]Participants!$A:$E,2,FALSE)","v":{"$error":"#N/A"}},{"$f":"VLOOKUP($A101,[1]Participants!$A:$E,3,FALSE)","v":{"$error":"#N/A"}},{"$f":"VLOOKUP($A101,Participants!$A:$E,5,FALSE)","v":{"$error":"#N/A"}},{"$error":"#N/A"}]

{"sheet":"400 56 Boys","index":14,"n_rows":42,"n_cols":13,"rows_kept":42}
["Bib","HeatOrder",null,"Time","Grade","FName","Lname","School","Heat","Heat Place","Overall Place",null,"Return to Schedule of Events"]
[14,"Lap 1","00:01:14.200","00:01:14.200",{"$f":"VLOOKUP($A2,Participants!$A:$E,4,FALSE)","v":6},{"$f":"VLOOKUP($A2,Participants!$A:$E,2,FALSE)","v":"Jim"},{"$f":"VLOOKUP($A2,Participants!$A:$E,3,FALSE)","v":"Buchmeier"},{"$f":"VLOOKUP($A2,Participants!$A:$E,5,FALSE)","v":"St Jude"},1,{"$f":"RANK(D2,IF(I2=1,$D$2:$D$7,),1)","v":1},{"$f":"RANK(D2,$D$2:$D$100,1)","v":1}]
[129,"Lap 2","00:00:02.760","00:01:16.970",{"$f":"VLOOKUP($A3,Participants!$A:$E,4,FALSE)","v":6},{"$f":"VLOOKUP($A3,Participants!$A:$E,2,FALSE)","v":"Gabriel"},{"$f":"VLOOKUP($A3,Participants!$A:$E,3,FALSE)","v":"Sulit"},{"$f":"VLOOKUP($A3,Participants!$A:$E,5,FALSE)","v":"St Jude"},1,{"$f":"RANK(D3,IF(I3=1,$D$2:$D$7,),1)","v":2},{"$f":"RANK(D3,$D$2:$D$100,1)","v":2},null,"Add or Update Participants"]
[232,"Lap 3","00:00:01.520","00:01:18.490",{"$f":"VLOOKUP($A4,Participants!$A:$E,4,FALSE)","v":6},{"$f":"VLOOKUP($A4,Participants!$A:$E,2,FALSE)","v":"Joe"},{"$f":"VLOOKUP($A4,Participants!$A:$E,3,FALSE)","v":"Egan"},{"$f":"VLOOKUP($A4,Participants!$A:$E,5,FALSE)","v":"United We Run"},1,3,4,null,"Overall Place and Points"]
[145,"Lap 4","00:00:05.090","00:01:23.590",{"$f":"VLOOKUP($A5,Participants!$A:$E,4,FALSE)","v":6},{"$f":"VLOOKUP($A5,Participants!$A:$E,2,FALSE)","v":"John"},{"$f":"VLOOKUP($A5,Participants!$A:$E,3,FALSE)","v":"Seguin"},{"$f":"VLOOKUP($A5,Participants!$A:$E,5,FALSE)","v":"OLG"},1,4,6]
[289,"Lap 5","00:00:03.200","00:01:26.790",{"$f":"VLOOKUP($A6,Participants!$A:$E,4,FALSE)","v":6},{"$f":"VLOOKUP($A6,Participants!$A:$E,2,FALSE)","v":"Joseph"},{"$f":"VLOOKUP($A6,Participants!$A:$E,3,FALSE)","v":"McCoy"},{"$f":"VLOOKUP($A6,Participants!$A:$E,5,FALSE)","v":"St. Barnabas"},1,5,8]
[218,"Lap 6","00:00:04.770","00:01:31.570",{"$f":"VLOOKUP($A7,Participants!$A:$E,4,FALSE)","v":5},{"$f":"VLOOKUP($A7,Participants!$A:$E,2,FALSE)","v":"Tucker"},{"$f":"VLOOKUP($A7,Participants!$A:$E,3,FALSE)","v":"Young"},{"$f":"VLOOKUP($A7,Participants!$A:$E,5,FALSE)","v":"SSFC"},1,6,9]
[]
[222,"Lap 1","00:01:18.170","00:01:18.170",{"$f":"VLOOKUP($A9,Participants!$A:$E,4,FALSE)","v":6},{"$f":"VLOOKUP($A9,Participants!$A:$E,2,FALSE)","v":"Jack"},{"$f":"VLOOKUP($A9,Participants!$A:$E,3,FALSE)","v":"Andrews"},{"$f":"VLOOKUP($A9,Participants!$A:$E,5,FALSE)","v":"United We Run"},2,{"$f":"RANK(D9,IF(I9=2,$D$9:$D$14,),1)","v":1},3]
[88,"Lap 2","00:00:04.190","00:01:22.370",{"$f":"VLOOKUP($A10,Participants!$A:$E,4,FALSE)","v":6},{"$f":"VLOOKUP($A10,Participants!$A:$E,2,FALSE)","v":"Andrew"},{"$f":"VLOOKUP($A10,Participants!$A:$E,3,FALSE)","v":"McMichael"},{"$f":"VLOOKUP($A10,Participants!$A:$E,5,FALSE)","v":"St Jude"},2,2,5]
[205,"Lap 3","00:00:04.010","00:01:26.390",{"$f":"VLOOKUP($A11,Participants!$A:$E,4,FALSE)","v":6},{"$f":"VLOOKUP($A11,Participants!$A:$E,2,FALSE)","v":"Isaac"},{"$f":"VLOOKUP($A11,Participants!$A:$E,3,FALSE)","v":"Timberlake"},{"$f":"VLOOKUP($A11,Participants!$A:$E,5,FALSE)","v":"SSFC"},2,3,7]
[301,"Lap 4","00:00:07.590","00:01:33.980",{"$f":"VLOOKUP($A12,Participants!$A:$E,4,FALSE)","v":5},{"$f":"VLOOKUP($A12,Participants!$A:$E,2,FALSE)","v":"Jonah"},{"$f":"VLOOKUP($A12,Participants!$A:$E,3,FALSE)","v":"Roell"},{"$f":"VLOOKUP($A12,Participants!$A:$E,5,FALSE)","v":"St. Barnabas"},2,4,10]
[{"$nulls":4},{"$f":"VLOOKUP($A13,Participants!$A:$E,4,FALSE)","v":{"$error":"#N/A"}},{"$f":"VLOOKUP($A13,Participants!$A:$E,2,FALSE)","v":{"$error":"#N/A"}},{"$f":"VLOOKUP($A13,Participants!$A:$E,3,FALSE)","v":{"$error":"#N/A"}},{"$f":"VLOOKUP($A13,Participants!$A:$E,5,FALSE)","v":{"$error":"#N/A"}},2,{"$error":"#N/A"},{"$error":"#N/A"}]
[{"$nulls":4},{"$f":"VLOOKUP($A14,Participants!$A:$E,4,FALSE)","v":{"$error":"#N/A"}},{"$f":"VLOOKUP($A14,Participants!$A:$E,2,FALSE)","v":{"$error":"#N/A"}},{"$f":"VLOOKUP($A14,Participants!$A:$E,3,FALSE)","v":{"$error":"#N/A"}},{"$f":"VLOOKUP($A14,Participants!$A:$E,5,FALSE)","v":{"$error":"#N/A"}},2,{"$error":"#N/A"},{"$error":"#N/A"}]
[]
[{"$nulls":4},{"$f":"VLOOKUP($A16,Participants!$A:$E,4,FALSE)","v":{"$error":"#N/A"}},{"$f":"VLOOKUP($A16,Participants!$A:$E,2,FALSE)","v":{"$error":"#N/A"}},{"$f":"VLOOKUP($A16,Participants!$A:$E,3,FALSE)","v":{"$error":"#N/A"}},{"$f":"VLOOKUP($A16,Participants!$A:$E,5,FALSE)","v":{"$error":"#N/A"}},3,{"$f":"RANK(D16,IF(I16=3,$D$16:$D$21,),1)","v":{"$error":"#N/A"}},{"$error":"#N/A"}]
[{"$nulls":4},{"$f":"VLOOKUP($A17,Participants!$A:$E,4,FALSE)","v":{"$error":"#N/A"}},{"$f":"VLOOKUP($A17,Participants!$A:$E,2,FALSE)","v":{"$error":"#N/A"}},{"$f":"VLOOKUP($A17,Participants!$A:$E,3,FALSE)","v":{"$error":"#N/A"}},{"$f":"VLOOKUP($A17,Participants!$A:$E,5,FALSE)","v":{"$error":"#N/A"}},3,{"$error":"#N/A"},{"$error":"#N/A"}]
[{"$nulls":4},{"$f":"VLOOKUP($A18,Participants!$A:$E,4,FALSE)","v":{"$error":"#N/A"}},{"$f":"VLOOKUP($A18,Participants!$A:$E,2,FALSE)","v":{"$error":"#N/A"}},{"$f":"VLOOKUP($A18,Participants!$A:$E,3,FALSE)","v":{"$error":"#N/A"}},{"$f":"VLOOKUP($A18,Participants!$A:$E,5,FALSE)","v":{"$error":"#N/A"}},3,{"$error":"#N/A"},{"$error":"#N/A"}]
[{"$nulls":4},{"$f":"VLOOKUP($A19,Participants!$A:$E,4,FALSE)","v":{"$error":"#N/A"}},{"$f":"VLOOKUP($A19,Participants!$A:$E,2,FALSE)","v":{"$error":"#N/A"}},{"$f":"VLOOKUP($A19,Participants!$A:$E,3,FALSE)","v":{"$error":"#N/A"}},{"$f":"VLOOKUP($A19,Participants!$A:$E,5,FALSE)","v":{"$error":"#N/A"}},3,{"$error":"#N/A"},{"$error":"#N/A"}]
[{"$nulls":4},{"$f":"VLOOKUP($A20,Participants!$A:$E,4,FALSE)","v":{"$error":"#N/A"}},{"$f":"VLOOKUP($A20,Participants!$A:$E,2,FALSE)","v":{"$error":"#N/A"}},{"$f":"VLOOKUP($A20,Participants!$A:$E,3,FALSE)","v":{"$error":"#N/A"}},{"$f":"VLOOKUP($A20,Participants!$A:$E,5,FALSE)","v":{"$error":"#N/A"}},3,{"$error":"#N/A"},{"$error":"#N/A"}]
[{"$nulls":4},{"$f":"VLOOKUP($A21,Participants!$A:$E,4,FALSE)","v":{"$error":"#N/A"}},{"$f":"VLOOKUP($A21,Participants!$A:$E,2,FALSE)","v":{"$error":"#N/A"}},{"$f":"VLOOKUP($A21,Participants!$A:$E,3,FALSE)","v":{"$error":"#N/A"}},{"$f":"VLOOKUP($A21,Participants!$A:$E,5,FALSE)","v":{"$error":"#N/A"}},3,{"$error":"#N/A"},{"$error":"#N/A"}]
[]
[{"$nulls":4},{"$f":"VLOOKUP($A23,Participants!$A:$E,4,FALSE)","v":{"$error":"#N/A"}},{"$f":"VLOOKUP($A23,Participants!$A:$E,2,FALSE)","v":{"$error":"#N/A"}},{"$f":"VLOOKUP($A23,Participants!$A:$E,3,FALSE)","v":{"$error":"#N/A"}},{"$f":"VLOOKUP($A23,Participants!$A:$E,5,FALSE)","v":{"$error":"#N/A"}},4,{"$f":"RANK(D23,IF(I23=4,$D$23:$D$28,),1)","v":{"$error":"#N/A"}},{"$error":"#N/A"}]
[{"$nulls":4},{"$f":"VLOOKUP($A24,Participants!$A:$E,4,FALSE)","v":{"$error":"#N/A"}},{"$f":"VLOOKUP($A24,Participants!$A:$E,2,FALSE)","v":{"$error":"#N/A"}},{"$f":"VLOOKUP($A24,Participants!$A:$E,3,FALSE)","v":{"$error":"#N/A"}},{"$f":"VLOOKUP($A24,Participants!$A:$E,5,FALSE)","v":{"$error":"#N/A"}},4,{"$error":"#N/A"},{"$error":"#N/A"}]
[{"$nulls":4},{"$f":"VLOOKUP($A25,Participants!$A:$E,4,FALSE)","v":{"$error":"#N/A"}},{"$f":"VLOOKUP($A25,Participants!$A:$E,2,FALSE)","v":{"$error":"#N/A"}},{"$f":"VLOOKUP($A25,Participants!$A:$E,3,FALSE)","v":{"$error":"#N/A"}},{"$f":"VLOOKUP($A25,Participants!$A:$E,5,FALSE)","v":{"$error":"#N/A"}},4,{"$error":"#N/A"},{"$error":"#N/A"}]
[{"$nulls":4},{"$f":"VLOOKUP($A26,Participants!$A:$E,4,FALSE)","v":{"$error":"#N/A"}},{"$f":"VLOOKUP($A26,Participants!$A:$E,2,FALSE)","v":{"$error":"#N/A"}},{"$f":"VLOOKUP($A26,Participants!$A:$E,3,FALSE)","v":{"$error":"#N/A"}},{"$f":"VLOOKUP($A26,Participants!$A:$E,5,FALSE)","v":{"$error":"#N/A"}},4,{"$error":"#N/A"},{"$error":"#N/A"}]
[{"$nulls":4},{"$f":"VLOOKUP($A27,Participants!$A:$E,4,FALSE)","v":{"$error":"#N/A"}},{"$f":"VLOOKUP($A27,Participants!$A:$E,2,FALSE)","v":{"$error":"#N/A"}},{"$f":"VLOOKUP($A27,Participants!$A:$E,3,FALSE)","v":{"$error":"#N/A"}},{"$f":"VLOOKUP($A27,Participants!$A:$E,5,FALSE)","v":{"$error":"#N/A"}},4,{"$error":"#N/A"},{"$error":"#N/A"}]
[{"$nulls":4},{"$f":"VLOOKUP($A28,Participants!$A:$E,4,FALSE)","v":{"$error":"#N/A"}},{"$f":"VLOOKUP($A28,Participants!$A:$E,2,FALSE)","v":{"$error":"#N/A"}},{"$f":"VLOOKUP($A28,Participants!$A:$E,3,FALSE)","v":{"$error":"#N/A"}},{"$f":"VLOOKUP($A28,Participants!$A:$E,5,FALSE)","v":{"$error":"#N/A"}},4,{"$error":"#N/A"},{"$error":"#N/A"}]
[]
[{"$nulls":4},{"$f":"VLOOKUP($A30,Participants!$A:$E,4,FALSE)","v":{"$error":"#N/A"}},{"$f":"VLOOKUP($A30,Participants!$A:$E,2,FALSE)","v":{"$error":"#N/A"}},{"$f":"VLOOKUP($A30,Participants!$A:$E,3,FALSE)","v":{"$error":"#N/A"}},{"$f":"VLOOKUP($A30,Participants!$A:$E,5,FALSE)","v":{"$error":"#N/A"}},5,{"$f":"RANK(D30,IF(I30=5,$D$30:$D$35,),1)","v":{"$error":"#N/A"}},{"$error":"#N/A"}]
[{"$nulls":4},{"$f":"VLOOKUP($A31,Participants!$A:$E,4,FALSE)","v":{"$error":"#N/A"}},{"$f":"VLOOKUP($A31,Participants!$A:$E,2,FALSE)","v":{"$error":"#N/A"}},{"$f":"VLOOKUP($A31,Participants!$A:$E,3,FALSE)","v":{"$error":"#N/A"}},{"$f":"VLOOKUP($A31,Participants!$A:$E,5,FALSE)","v":{"$error":"#N/A"}},5,{"$f":"RANK(D31,IF(I31=5,$D$30:$D$35,),1)","v":{"$error":"#N/A"}},{"$error":"#N/A"}]
[{"$nulls":4},{"$f":"VLOOKUP($A32,Participants!$A:$E,4,FALSE)","v":{"$error":"#N/A"}},{"$f":"VLOOKUP($A32,Participants!$A:$E,2,FALSE)","v":{"$error":"#N/A"}},{"$f":"VLOOKUP($A32,Participants!$A:$E,3,FALSE)","v":{"$error":"#N/A"}},{"$f":"VLOOKUP($A32,Participants!$A:$E,5,FALSE)","v":{"$error":"#N/A"}},5,{"$error":"#N/A"},{"$error":"#N/A"}]
[{"$nulls":4},{"$f":"VLOOKUP($A33,Participants!$A:$E,4,FALSE)","v":{"$error":"#N/A"}},{"$f":"VLOOKUP($A33,Participants!$A:$E,2,FALSE)","v":{"$error":"#N/A"}},{"$f":"VLOOKUP($A33,Participants!$A:$E,3,FALSE)","v":{"$error":"#N/A"}},{"$f":"VLOOKUP($A33,Participants!$A:$E,5,FALSE)","v":{"$error":"#N/A"}},5,{"$error":"#N/A"},{"$error":"#N/A"}]
[{"$nulls":4},{"$f":"VLOOKUP($A34,Participants!$A:$E,4,FALSE)","v":{"$error":"#N/A"}},{"$f":"VLOOKUP($A34,Participants!$A:$E,2,FALSE)","v":{"$error":"#N/A"}},{"$f":"VLOOKUP($A34,Participants!$A:$E,3,FALSE)","v":{"$error":"#N/A"}},{"$f":"VLOOKUP($A34,Participants!$A:$E,5,FALSE)","v":{"$error":"#N/A"}},5,{"$error":"#N/A"},{"$error":"#N/A"}]
[{"$nulls":4},{"$f":"VLOOKUP($A35,Participants!$A:$E,4,FALSE)","v":{"$error":"#N/A"}},{"$f":"VLOOKUP($A35,Participants!$A:$E,2,FALSE)","v":{"$error":"#N/A"}},{"$f":"VLOOKUP($A35,Participants!$A:$E,3,FALSE)","v":{"$error":"#N/A"}},{"$f":"VLOOKUP($A35,Participants!$A:$E,5,FALSE)","v":{"$error":"#N/A"}},5,{"$error":"#N/A"},{"$error":"#N/A"}]
[]
[{"$nulls":4},{"$f":"VLOOKUP($A37,Participants!$A:$E,4,FALSE)","v":{"$error":"#N/A"}},{"$f":"VLOOKUP($A37,Participants!$A:$E,2,FALSE)","v":{"$error":"#N/A"}},{"$f":"VLOOKUP($A37,Participants!$A:$E,3,FALSE)","v":{"$error":"#N/A"}},{"$f":"VLOOKUP($A37,Participants!$A:$E,5,FALSE)","v":{"$error":"#N/A"}},6,{"$f":"RANK(D37,IF(I37=6,$D$37:$D$42,),1)","v":{"$error":"#N/A"}},{"$error":"#N/A"}]
[{"$nulls":4},{"$f":"VLOOKUP($A38,Participants!$A:$E,4,FALSE)","v":{"$error":"#N/A"}},{"$f":"VLOOKUP($A38,Participants!$A:$E,2,FALSE)","v":{"$error":"#N/A"}},{"$f":"VLOOKUP($A38,Participants!$A:$E,3,FALSE)","v":{"$error":"#N/A"}},{"$f":"VLOOKUP($A38,Participants!$A:$E,5,FALSE)","v":{"$error":"#N/A"}},6,{"$f":"RANK(D38,IF(I38=6,$D$37:$D$42,),1)","v":{"$error":"#N/A"}},{"$error":"#N/A"}]
[{"$nulls":4},{"$f":"VLOOKUP($A39,Participants!$A:$E,4,FALSE)","v":{"$error":"#N/A"}},{"$f":"VLOOKUP($A39,Participants!$A:$E,2,FALSE)","v":{"$error":"#N/A"}},{"$f":"VLOOKUP($A39,Participants!$A:$E,3,FALSE)","v":{"$error":"#N/A"}},{"$f":"VLOOKUP($A39,Participants!$A:$E,5,FALSE)","v":{"$error":"#N/A"}},6,{"$error":"#N/A"},{"$error":"#N/A"}]
[{"$nulls":4},{"$f":"VLOOKUP($A40,Participants!$A:$E,4,FALSE)","v":{"$error":"#N/A"}},{"$f":"VLOOKUP($A40,Participants!$A:$E,2,FALSE)","v":{"$error":"#N/A"}},{"$f":"VLOOKUP($A40,Participants!$A:$E,3,FALSE)","v":{"$error":"#N/A"}},{"$f":"VLOOKUP($A40,Participants!$A:$E,5,FALSE)","v":{"$error":"#N/A"}},6,{"$error":"#N/A"},{"$error":"#N/A"}]
[{"$nulls":4},{"$f":"VLOOKUP($A41,Participants!$A:$E,4,FALSE)","v":{"$error":"#N/A"}},{"$f":"VLOOKUP($A41,Participants!$A:$E,2,FALSE)","v":{"$error":"#N/A"}},{"$f":"VLOOKUP($A41,Participants!$A:$E,3,FALSE)","v":{"$error":"#N/A"}},{"$f":"VLOOKUP($A41,Participants!$A:$E,5,FALSE)","v":{"$error":"#N/A"}},6,{"$error":"#N/A"},{"$error":"#N/A"}]
[{"$nulls":4},{"$f":"VLOOKUP($A42,Participants!$A:$E,4,FALSE)","v":{"$error":"#N/A"}},{"$f":"VLOOKUP($A42,Participants!$A:$E,2,FALSE)","v":{"$error":"#N/A"}},{"$f":"VLOOKUP($A42,Participants!$A:$E,3,FALSE)","v":{"$error":"#N/A"}},{"$f":"VLOOKUP($A42,Participants!$A:$E,5,FALSE)","v":{"$error":"#N/A"}},6,{"$error":"#N/A"},{"$error":"#N/A"}]

{"sheet":"50 56 Boys","index":15,"n_rows":42,"n_cols":13,"rows_kept":42}
["Bib","HeatOrder",null,"Time","Grade","FName","Lname","School","Heat","Heat Place","Overall Place",null,"Return to Schedule of Events"]
[3,"Lap 1","00:00:08.010","00:00:08.010",{"$f":"VLOOKUP($A2,Participants!$A:$E,4,FALSE)","v":6},{"$f":"VLOOKUP($A2,Participants!$A:$E,2,FALSE)","v":"Charlie"},{"$f":"VLOOKUP($A2,Participants!$A:$E,3,FALSE)","v":"Allen"},{"$f":"VLOOKUP($A2,Participants!$A:$E,5,FALSE)","v":"St Jude"},1,{"$f":"RANK(D2,IF(I2=1,$D$2:$D$7,),1)","v":1},{"$f":"RANK(D2,$D$2:$D$100,1)","v":4}]
[313,"Lap 2","00:00:00.260","00:00:08.280",{"$f":"VLOOKUP($A3,Participants!$A:$E,4,FALSE)","v":5},{"$f":"VLOOKUP($A3,Participants!$A:$E,2,FALSE)","v":"Benjamin"},{"$f":"VLOOKUP($A3,Participants!$A:$E,3,FALSE)","v":"Woodruff"},{"$f":"VLOOKUP($A3,Participants!$A:$E,5,FALSE)","v":"St. Barnabas"},1,2,{"$f":"RANK(D3,$D$2:$D$100,1)","v":7},null,"Add or Update Participants"]
[205,"Lap 3","00:00:00.630","00:00:08.910",{"$f":"VLOOKUP($A4,Participants!$A:$E,4,FALSE)","v":6},{"$f":"VLOOKUP($A4,Participants!$A:$E,2,FALSE)","v":"Isaac"},{"$f":"VLOOKUP($A4,Participants!$A:$E,3,FALSE)","v":"Timberlake"},{"$f":"VLOOKUP($A4,Participants!$A:$E,5,FALSE)","v":"SSFC"},1,3,13,null,"Overall Place and Points"]
[60,"Lap 4","00:00:00.420","00:00:09.340",{"$f":"VLOOKUP($A5,Participants!$A:$E,4,FALSE)","v":5},{"$f":"VLOOKUP($A5,Participants!$A:$E,2,FALSE)","v":"Tyler"},{"$f":"VLOOKUP($A5,Participants!$A:$E,3,FALSE)","v":"Kedra"},{"$f":"VLOOKUP($A5,Participants!$A:$E,5,FALSE)","v":"St Jude"},1,4,16]
[177,"Lap 5","00:00:00.130","00:00:09.480",{"$f":"VLOOKUP($A6,Participants!$A:$E,4,FALSE)","v":6},{"$f":"VLOOKUP($A6,Participants!$A:$E,2,FALSE)","v":"Zachary"},{"$f":"VLOOKUP($A6,Participants!$A:$E,3,FALSE)","v":"Hellinga"},{"$f":"VLOOKUP($A6,Participants!$A:$E,5,FALSE)","v":"SSFC"},1,5,18]
[290,"Lap 6","00:00:00.090","00:00:09.580",{"$f":"VLOOKUP($A7,Participants!$A:$E,4,FALSE)","v":5},{"$f":"VLOOKUP($A7,Participants!$A:$E,2,FALSE)","v":"Nick"},{"$f":"VLOOKUP($A7,Participants!$A:$E,3,FALSE)","v":"McCoy"},{"$f":"VLOOKUP($A7,Participants!$A:$E,5,FALSE)","v":"St. Barnabas"},1,6,19]
[]
[75,"Lap 1","00:00:08.040","00:00:08.040",{"$f":"VLOOKUP($A9,Participants!$A:$E,4,FALSE)","v":6},{"$f":"VLOOKUP($A9,Participants!$A:$E,2,FALSE)","v":"J R"},{"$f":"VLOOKUP($A9,Participants!$A:$E,3,FALSE)","v":"Link"},{"$f":"VLOOKUP($A9,Participants!$A:$E,5,FALSE)","v":"St Jude"},2,{"$f":"RANK(D9,IF(I9=2,$D$9:$D$14,),1)","v":1},5]
[97,"Lap 2","00:00:00.350","00:00:08.390",{"$f":"VLOOKUP($A10,Participants!$A:$E,4,FALSE)","v":5},{"$f":"VLOOKUP($A10,Participants!$A:$E,2,FALSE)","v":"Evan"},{"$f":"VLOOKUP($A10,Participants!$A:$E,3,FALSE)","v":"Nielsen"},{"$f":"VLOOKUP($A10,Participants!$A:$E,5,FALSE)","v":"St Jude"},2,2,9]
[159,"Lap 3","00:00:00.140","00:00:08.530",{"$f":"VLOOKUP($A11,Participants!$A:$E,4,FALSE)","v":6},{"$f":"VLOOKUP($A11,Participants!$A:$E,2,FALSE)","v":"William"},{"$f":"VLOOKUP($A11,Participants!$A:$E,3,FALSE)","v":"Clark"},{"$f":"VLOOKUP($A11,Participants!$A:$E,5,FALSE)","v":"SSFC"},2,3,10]
[254,"Lap 4","00:00:00.240","00:00:08.780",{"$f":"VLOOKUP($A12,Participants!$A:$E,4,FALSE)","v":6},{"$f":"VLOOKUP($A12,Participants!$A:$E,2,FALSE)","v":"Jonah"},{"$f":"VLOOKUP($A12,Participants!$A:$E,3,FALSE)","v":"Odum"},{"$f":"VLOOKUP($A12,Participants!$A:$E,5,FALSE)","v":"United We Run"},2,4,12]
[289,"Lap 5","00:00:00.140","00:00:08.930",{"$f":"VLOOKUP($A13,Participants!$A:$E,4,FALSE)","v":6},{"$f":"VLOOKUP($A13,Participants!$A:$E,2,FALSE)","v":"Joseph"},{"$f":"VLOOKUP($A13,Participants!$A:$E,3,FALSE)","v":"McCoy"},{"$f":"VLOOKUP($A13,Participants!$A:$E,5,FALSE)","v":"St. Barnabas"},2,5,14]
[{"$nulls":4},{"$f":"VLOOKUP($A14,Participants!$A:$E,4,FALSE)","v":{"$error":"#N/A"}},{"$f":"VLOOKUP($A14,Participants!$A:$E,2,FALSE)","v":{"$error":"#N/A"}},{"$f":"VLOOKUP($A14,Participants!$A:$E,3,FALSE)","v":{"$error":"#N/A"}},{"$f":"VLOOKUP($A14,Participants!$A:$E,5,FALSE)","v":{"$error":"#N/A"}},2,{"$error":"#N/A"},{"$error":"#N/A"}]
[]
[128,"Lap 1","00:00:07.650","00:00:07.650",{"$f":"VLOOKUP($A16,Participants!$A:$E,4,FALSE)","v":5},{"$f":"VLOOKUP($A16,Participants!$A:$E,2,FALSE)","v":"Fiersen"},{"$f":"VLOOKUP($A16,Participants!$A:$E,3,FALSE)","v":"Steele"},{"$f":"VLOOKUP($A16,Participants!$A:$E,5,FALSE)","v":"St Jude"},3,{"$f":"RANK(D16,IF(I16=3,$D$16:$D$21,),1)","v":1},2]
[30,"Lap 2","00:00:00.310","00:00:07.970",{"$f":"VLOOKUP($A17,Participants!$A:$E,4,FALSE)","v":5},{"$f":"VLOOKUP($A17,Participants!$A:$E,2,FALSE)","v":"Owen "},{"$f":"VLOOKUP($A17,Participants!$A:$E,3,FALSE)","v":"Denzer"},{"$f":"VLOOKUP($A17,Participants!$A:$E,5,FALSE)","v":"St Jude"},3,2,3]
[788,"Lap 3","00:00:00.370","00:00:08.350",{"$f":"VLOOKUP($A18,Participants!$A:$E,4,FALSE)","v":5},{"$f":"VLOOKUP($A18,Participants!$A:$E,2,FALSE)","v":"Mason"},{"$f":"VLOOKUP($A18,Participants!$A:$E,3,FALSE)","v":"Carroll"},{"$f":"VLOOKUP($A18,Participants!$A:$E,5,FALSE)","v":"St. Jude"},3,3,8]
[218,"Lap 4","00:00:00.840","00:00:09.190",{"$f":"VLOOKUP($A19,Participants!$A:$E,4,FALSE)","v":5},{"$f":"VLOOKUP($A19,Participants!$A:$E,2,FALSE)","v":"Tucker"},{"$f":"VLOOKUP($A19,Participants!$A:$E,3,FALSE)","v":"Young"},{"$f":"VLOOKUP($A19,Participants!$A:$E,5,FALSE)","v":"SSFC"},3,4,15]
[108,"Lap 5","00:00:00.140","00:00:09.340",{"$f":"VLOOKUP($A20,Participants!$A:$E,4,FALSE)","v":5},{"$f":"VLOOKUP($A20,Participants!$A:$E,2,FALSE)","v":"Nate "},{"$f":"VLOOKUP($A20,Participants!$A:$E,3,FALSE)","v":"Russell"},{"$f":"VLOOKUP($A20,Participants!$A:$E,5,FALSE)","v":"St Jude"},3,5,16]
[{"$nulls":4},{"$f":"VLOOKUP($A21,Participants!$A:$E,4,FALSE)","v":{"$error":"#N/A"}},{"$f":"VLOOKUP($A21,Participants!$A:$E,2,FALSE)","v":{"$error":"#N/A"}},{"$f":"VLOOKUP($A21,Participants!$A:$E,3,FALSE)","v":{"$error":"#N/A"}},{"$f":"VLOOKUP($A21,Participants!$A:$E,5,FALSE)","v":{"$error":"#N/A"}},3,{"$error":"#N/A"},{"$error":"#N/A"}]
[]
[113,"Lap 1","00:00:07.520","00:00:07.520",{"$f":"VLOOKUP($A23,Participants!$A:$E,4,FALSE)","v":5},{"$f":"VLOOKUP($A23,Participants!$A:$E,2,FALSE)","v":"Marcus"},{"$f":"VLOOKUP($A23,Participants!$A:$E,3,FALSE)","v":"Schneider"},{"$f":"VLOOKUP($A23,Participants!$A:$E,5,FALSE)","v":"St Jude"},4,{"$f":"RANK(D23,IF(I23=4,$D$23:$D$28,),1)","v":1},1]
[88,"Lap 2","00:00:00.650","00:00:08.170",{"$f":"VLOOKUP($A24,Participants!$A:$E,4,FALSE)","v":6},{"$f":"VLOOKUP($A24,Participants!$A:$E,2,FALSE)","v":"Andrew"},{"$f":"VLOOKUP($A24,Participants!$A:$E,3,FALSE)","v":"McMichael"},{"$f":"VLOOKUP($A24,Participants!$A:$E,5,FALSE)","v":"St Jude"},4,2,6]
[198,"Lap 3","00:00:00.600","00:00:08.770",{"$f":"VLOOKUP($A25,Participants!$A:$E,4,FALSE)","v":5},{"$f":"VLOOKUP($A25,Participants!$A:$E,2,FALSE)","v":"Luke"},{"$f":"VLOOKUP($A25,Participants!$A:$E,3,FALSE)","v":"Senac"},{"$f":"VLOOKUP($A25,Participants!$A:$E,5,FALSE)","v":"SSFC"},4,3,11]
[null,null,"00:00:02.260",null,{"$f":"VLOOKUP($A26,Participants!$A:$E,4,FALSE)","v":{"$error":"#N/A"}},{"$f":"VLOOKUP($A26,Participants!$A:$E,2,FALSE)","v":{"$error":"#N/A"}},{"$f":"VLOOKUP($A26,Participants!$A:$E,3,FALSE)","v":{"$error":"#N/A"}},{"$f":"VLOOKUP($A26,Participants!$A:$E,5,FALSE)","v":{"$error":"#N/A"}},4,{"$error":"#N/A"},{"$error":"#N/A"}]
[{"$nulls":4},{"$f":"VLOOKUP($A27,Participants!$A:$E,4,FALSE)","v":{"$error":"#N/A"}},{"$f":"VLOOKUP($A27,Participants!$A:$E,2,FALSE)","v":{"$error":"#N/A"}},{"$f":"VLOOKUP($A27,Participants!$A:$E,3,FALSE)","v":{"$error":"#N/A"}},{"$f":"VLOOKUP($A27,Participants!$A:$E,5,FALSE)","v":{"$error":"#N/A"}},4,{"$error":"#N/A"},{"$error":"#N/A"}]
[{"$nulls":4},{"$f":"VLOOKUP($A28,Participants!$A:$E,4,FALSE)","v":{"$error":"#N/A"}},{"$f":"VLOOKUP($A28,Participants!$A:$E,2,FALSE)","v":{"$error":"#N/A"}},{"$f":"VLOOKUP($A28,Participants!$A:$E,3,FALSE)","v":{"$error":"#N/A"}},{"$f":"VLOOKUP($A28,Participants!$A:$E,5,FALSE)","v":{"$error":"#N/A"}},4,{"$error":"#N/A"},{"$error":"#N/A"}]
[]
[{"$nulls":4},{"$f":"VLOOKUP($A30,Participants!$A:$E,4,FALSE)","v":{"$error":"#N/A"}},{"$f":"VLOOKUP($A30,Participants!$A:$E,2,FALSE)","v":{"$error":"#N/A"}},{"$f":"VLOOKUP($A30,Participants!$A:$E,3,FALSE)","v":{"$error":"#N/A"}},{"$f":"VLOOKUP($A30,Participants!$A:$E,5,FALSE)","v":{"$error":"#N/A"}},5,{"$f":"RANK(D30,IF(I30=5,$D$30:$D$35,),1)","v":{"$error":"#N/A"}},{"$error":"#N/A"}]
[{"$nulls":4},{"$f":"VLOOKUP($A31,Participants!$A:$E,4,FALSE)","v":{"$error":"#N/A"}},{"$f":"VLOOKUP($A31,Participants!$A:$E,2,FALSE)","v":{"$error":"#N/A"}},{"$f":"VLOOKUP($A31,Participants!$A:$E,3,FALSE)","v":{"$error":"#N/A"}},{"$f":"VLOOKUP($A31,Participants!$A:$E,5,FALSE)","v":{"$error":"#N/A"}},5,{"$f":"RANK(D31,IF(I31=5,$D$30:$D$35,),1)","v":{"$error":"#N/A"}},{"$error":"#N/A"}]
[{"$nulls":4},{"$f":"VLOOKUP($A32,Participants!$A:$E,4,FALSE)","v":{"$error":"#N/A"}},{"$f":"VLOOKUP($A32,Participants!$A:$E,2,FALSE)","v":{"$error":"#N/A"}},{"$f":"VLOOKUP($A32,Participants!$A:$E,3,FALSE)","v":{"$error":"#N/A"}},{"$f":"VLOOKUP($A32,Participants!$A:$E,5,FALSE)","v":{"$error":"#N/A"}},5,{"$error":"#N/A"},{"$error":"#N/A"}]
[{"$nulls":4},{"$f":"VLOOKUP($A33,Participants!$A:$E,4,FALSE)","v":{"$error":"#N/A"}},{"$f":"VLOOKUP($A33,Participants!$A:$E,2,FALSE)","v":{"$error":"#N/A"}},{"$f":"VLOOKUP($A33,Participants!$A:$E,3,FALSE)","v":{"$error":"#N/A"}},{"$f":"VLOOKUP($A33,Participants!$A:$E,5,FALSE)","v":{"$error":"#N/A"}},5,{"$error":"#N/A"},{"$error":"#N/A"}]
[{"$nulls":4},{"$f":"VLOOKUP($A34,Participants!$A:$E,4,FALSE)","v":{"$error":"#N/A"}},{"$f":"VLOOKUP($A34,Participants!$A:$E,2,FALSE)","v":{"$error":"#N/A"}},{"$f":"VLOOKUP($A34,Participants!$A:$E,3,FALSE)","v":{"$error":"#N/A"}},{"$f":"VLOOKUP($A34,Participants!$A:$E,5,FALSE)","v":{"$error":"#N/A"}},5,{"$error":"#N/A"},{"$error":"#N/A"}]
[{"$nulls":4},{"$f":"VLOOKUP($A35,Participants!$A:$E,4,FALSE)","v":{"$error":"#N/A"}},{"$f":"VLOOKUP($A35,Participants!$A:$E,2,FALSE)","v":{"$error":"#N/A"}},{"$f":"VLOOKUP($A35,Participants!$A:$E,3,FALSE)","v":{"$error":"#N/A"}},{"$f":"VLOOKUP($A35,Participants!$A:$E,5,FALSE)","v":{"$error":"#N/A"}},5,{"$error":"#N/A"},{"$error":"#N/A"}]
[]
[{"$nulls":4},{"$f":"VLOOKUP($A37,Participants!$A:$E,4,FALSE)","v":{"$error":"#N/A"}},{"$f":"VLOOKUP($A37,Participants!$A:$E,2,FALSE)","v":{"$error":"#N/A"}},{"$f":"VLOOKUP($A37,Participants!$A:$E,3,FALSE)","v":{"$error":"#N/A"}},{"$f":"VLOOKUP($A37,Participants!$A:$E,5,FALSE)","v":{"$error":"#N/A"}},6,{"$f":"RANK(D37,IF(I37=6,$D$37:$D$42,),1)","v":{"$error":"#N/A"}},{"$error":"#N/A"}]
[{"$nulls":4},{"$f":"VLOOKUP($A38,Participants!$A:$E,4,FALSE)","v":{"$error":"#N/A"}},{"$f":"VLOOKUP($A38,Participants!$A:$E,2,FALSE)","v":{"$error":"#N/A"}},{"$f":"VLOOKUP($A38,Participants!$A:$E,3,FALSE)","v":{"$error":"#N/A"}},{"$f":"VLOOKUP($A38,Participants!$A:$E,5,FALSE)","v":{"$error":"#N/A"}},6,{"$f":"RANK(D38,IF(I38=6,$D$37:$D$42,),1)","v":{"$error":"#N/A"}},{"$error":"#N/A"}]
[{"$nulls":4},{"$f":"VLOOKUP($A39,Participants!$A:$E,4,FALSE)","v":{"$error":"#N/A"}},{"$f":"VLOOKUP($A39,Participants!$A:$E,2,FALSE)","v":{"$error":"#N/A"}},{"$f":"VLOOKUP($A39,Participants!$A:$E,3,FALSE)","v":{"$error":"#N/A"}},{"$f":"VLOOKUP($A39,Participants!$A:$E,5,FALSE)","v":{"$error":"#N/A"}},6,{"$error":"#N/A"},{"$error":"#N/A"}]
[{"$nulls":4},{"$f":"VLOOKUP($A40,Participants!$A:$E,4,FALSE)","v":{"$error":"#N/A"}},{"$f":"VLOOKUP($A40,Participants!$A:$E,2,FALSE)","v":{"$error":"#N/A"}},{"$f":"VLOOKUP($A40,Participants!$A:$E,3,FALSE)","v":{"$error":"#N/A"}},{"$f":"VLOOKUP($A40,Participants!$A:$E,5,FALSE)","v":{"$error":"#N/A"}},6,{"$error":"#N/A"},{"$error":"#N/A"}]
[{"$nulls":4},{"$f":"VLOOKUP($A41,Participants!$A:$E,4,FALSE)","v":{"$error":"#N/A"}},{"$f":"VLOOKUP($A41,Participants!$A:$E,2,FALSE)","v":{"$error":"#N/A"}},{"$f":"VLOOKUP($A41,Participants!$A:$E,3,FALSE)","v":{"$error":"#N/A"}},{"$f":"VLOOKUP($A41,Participants!$A:$E,5,FALSE)","v":{"$error":"#N/A"}},6,{"$error":"#N/A"},{"$error":"#N/A"}]
[{"$nulls":4},{"$f":"VLOOKUP($A42,Participants!$A:$E,4,FALSE)","v":{"$error":"#N/A"}},{"$f":"VLOOKUP($A42,Participants!$A:$E,2,FALSE)","v":{"$error":"#N/A"}},{"$f":"VLOOKUP($A42,Participants!$A:$E,3,FALSE)","v":{"$error":"#N/A"}},{"$f":"VLOOKUP($A42,Participants!$A:$E,5,FALSE)","v":{"$error":"#N/A"}},6,{"$error":"#N/A"},{"$error":"#N/A"}]

{"sheet":"200 56 Boys","index":16,"n_rows":42,"n_cols":13,"rows_kept":42}
["Bib","HeatOrder",null,"Time","Grade","FName","Lname","School","Heat","Heat Place","Overall Place",null,"Return to Schedule of Events"]
[240,"Lap 1","00:00:30.490","00:00:30.490",{"$f":"VLOOKUP($A2,Participants!$A:$E,4,FALSE)","v":6},{"$f":"VLOOKUP($A2,Participants!$A:$E,2,FALSE)","v":"Alexander"},{"$f":"VLOOKUP($A2,Participants!$A:$E,3,FALSE)","v":"Jarvis"},{"$f":"VLOOKUP($A2,Participants!$A:$E,5,FALSE)","v":"United We Run"},1,{"$f":"RANK(D2,IF(I2=1,$D$2:$D$7,),1)","v":1},{"$f":"RANK(D2,$D$2:$D$100,1)","v":1}]
[14,"Lap 2","00:00:02.540","00:00:33.030",{"$f":"VLOOKUP($A3,Participants!$A:$E,4,FALSE)","v":6},{"$f":"VLOOKUP($A3,Participants!$A:$E,2,FALSE)","v":"Jim"},{"$f":"VLOOKUP($A3,Participants!$A:$E,3,FALSE)","v":"Buchmeier"},{"$f":"VLOOKUP($A3,Participants!$A:$E,5,FALSE)","v":"St Jude"},1,2,3,null,"Add or Update Participants"]
[258,"Lap 3","00:00:00.770","00:00:33.810",{"$f":"VLOOKUP($A4,Participants!$A:$E,4,FALSE)","v":6},{"$f":"VLOOKUP($A4,Participants!$A:$E,2,FALSE)","v":"Jacob"},{"$f":"VLOOKUP($A4,Participants!$A:$E,3,FALSE)","v":"Ready"},{"$f":"VLOOKUP($A4,Participants!$A:$E,5,FALSE)","v":"United We Run"},1,3,4,null,"Overall Place and Points"]
[129,"Lap 4","00:00:01.150","00:00:34.960",{"$f":"VLOOKUP($A5,Participants!$A:$E,4,FALSE)","v":6},{"$f":"VLOOKUP($A5,Participants!$A:$E,2,FALSE)","v":"Gabriel"},{"$f":"VLOOKUP($A5,Participants!$A:$E,3,FALSE)","v":"Sulit"},{"$f":"VLOOKUP($A5,Participants!$A:$E,5,FALSE)","v":"St Jude"},1,4,6]
[313,"Lap 5","00:00:01.390","00:00:36.350",{"$f":"VLOOKUP($A6,Participants!$A:$E,4,FALSE)","v":5},{"$f":"VLOOKUP($A6,Participants!$A:$E,2,FALSE)","v":"Benjamin"},{"$f":"VLOOKUP($A6,Participants!$A:$E,3,FALSE)","v":"Woodruff"},{"$f":"VLOOKUP($A6,Participants!$A:$E,5,FALSE)","v":"St. Barnabas"},1,5,7]
[160,"Lap 6","00:00:10.970","00:00:47.320",{"$f":"VLOOKUP($A7,Participants!$A:$E,4,FALSE)","v":6},{"$f":"VLOOKUP($A7,Participants!$A:$E,2,FALSE)","v":"Jacob"},{"$f":"VLOOKUP($A7,Participants!$A:$E,3,FALSE)","v":"Coppinger"},{"$f":"VLOOKUP($A7,Participants!$A:$E,5,FALSE)","v":"SSFC"},1,6,{"$f":"RANK(D7,$D$2:$D$100,1)","v":14}]
[]
[232,"Lap 1","00:00:36.720","00:00:36.720",{"$f":"VLOOKUP($A9,Participants!$A:$E,4,FALSE)","v":6},{"$f":"VLOOKUP($A9,Participants!$A:$E,2,FALSE)","v":"Joe"},{"$f":"VLOOKUP($A9,Participants!$A:$E,3,FALSE)","v":"Egan"},{"$f":"VLOOKUP($A9,Participants!$A:$E,5,FALSE)","v":"United We Run"},2,{"$f":"RANK(D9,IF(I9=2,$D$9:$D$14,),1)","v":1},{"$f":"RANK(D9,$D$2:$D$100,1)","v":8}]
[222,"Lap 2","00:00:00.390","00:00:37.110",{"$f":"VLOOKUP($A10,Participants!$A:$E,4,FALSE)","v":6},{"$f":"VLOOKUP($A10,Participants!$A:$E,2,FALSE)","v":"Jack"},{"$f":"VLOOKUP($A10,Participants!$A:$E,3,FALSE)","v":"Andrews"},{"$f":"VLOOKUP($A10,Participants!$A:$E,5,FALSE)","v":"United We Run"},2,2,9]
[145,"Lap 3","00:00:01.160","00:00:38.280",{"$f":"VLOOKUP($A11,Participants!$A:$E,4,FALSE)","v":6},{"$f":"VLOOKUP($A11,Participants!$A:$E,2,FALSE)","v":"John"},{"$f":"VLOOKUP($A11,Participants!$A:$E,3,FALSE)","v":"Seguin"},{"$f":"VLOOKUP($A11,Participants!$A:$E,5,FALSE)","v":"OLG"},2,3,11]
[289,"Lap 4","00:00:02.480","00:00:40.760",{"$f":"VLOOKUP($A12,Participants!$A:$E,4,FALSE)","v":6},{"$f":"VLOOKUP($A12,Participants!$A:$E,2,FALSE)","v":"Joseph"},{"$f":"VLOOKUP($A12,Participants!$A:$E,3,FALSE)","v":"McCoy"},{"$f":"VLOOKUP($A12,Participants!$A:$E,5,FALSE)","v":"St. Barnabas"},2,4,12]
[12,"Lap 5","00:00:00.480","00:00:41.250",{"$f":"VLOOKUP($A13,Participants!$A:$E,4,FALSE)","v":5},{"$f":"VLOOKUP($A13,Participants!$A:$E,2,FALSE)","v":"Carter"},{"$f":"VLOOKUP($A13,Participants!$A:$E,3,FALSE)","v":"Bohn"},{"$f":"VLOOKUP($A13,Participants!$A:$E,5,FALSE)","v":"St Jude"},2,5,13]
[{"$nulls":4},{"$f":"VLOOKUP($A14,Participants!$A:$E,4,FALSE)","v":{"$error":"#N/A"}},{"$f":"VLOOKUP($A14,Participants!$A:$E,2,FALSE)","v":{"$error":"#N/A"}},{"$f":"VLOOKUP($A14,Participants!$A:$E,3,FALSE)","v":{"$error":"#N/A"}},{"$f":"VLOOKUP($A14,Participants!$A:$E,5,FALSE)","v":{"$error":"#N/A"}},2,{"$error":"#N/A"},{"$error":"#N/A"}]
[{"$nulls":10},{"$error":"#N/A"}]
[228,"Lap 1","00:00:33.020","00:00:33.020",{"$f":"VLOOKUP($A16,Participants!$A:$E,4,FALSE)","v":5},{"$f":"VLOOKUP($A16,Participants!$A:$E,2,FALSE)","v":"Carson"},{"$f":"VLOOKUP($A16,Participants!$A:$E,3,FALSE)","v":"Clark"},{"$f":"VLOOKUP($A16,Participants!$A:$E,5,FALSE)","v":"United We Run"},3,{"$f":"RANK(D16,IF(I16=3,$D$16:$D$21,),1)","v":1},2]
[265,"Lap 2","00:00:01.570","00:00:34.600",{"$f":"VLOOKUP($A17,Participants!$A:$E,4,FALSE)","v":6},{"$f":"VLOOKUP($A17,Participants!$A:$E,2,FALSE)","v":"Sam"},{"$f":"VLOOKUP($A17,Participants!$A:$E,3,FALSE)","v":"Smith"},{"$f":"VLOOKUP($A17,Participants!$A:$E,5,FALSE)","v":"United We Run"},3,2,5]
[268,"Lap 3","00:00:03.670","00:00:38.270",{"$f":"VLOOKUP($A18,Participants!$A:$E,4,FALSE)","v":5},{"$f":"VLOOKUP($A18,Participants!$A:$E,2,FALSE)","v":"Matthew"},{"$f":"VLOOKUP($A18,Participants!$A:$E,3,FALSE)","v":"Stevens"},{"$f":"VLOOKUP($A18,Participants!$A:$E,5,FALSE)","v":"United We Run"},3,3,10]
[{"$nulls":4},{"$f":"VLOOKUP($A19,Participants!$A:$E,4,FALSE)","v":{"$error":"#N/A"}},{"$f":"VLOOKUP($A19,Participants!$A:$E,2,FALSE)","v":{"$error":"#N/A"}},{"$f":"VLOOKUP($A19,Participants!$A:$E,3,FALSE)","v":{"$error":"#N/A"}},{"$f":"VLOOKUP($A19,Participants!$A:$E,5,FALSE)","v":{"$error":"#N/A"}},3,{"$error":"#N/A"},{"$error":"#N/A"}]
[{"$nulls":4},{"$f":"VLOOKUP($A20,Participants!$A:$E,4,FALSE)","v":{"$error":"#N/A"}},{"$f":"VLOOKUP($A20,Participants!$A:$E,2,FALSE)","v":{"$error":"#N/A"}},{"$f":"VLOOKUP($A20,Participants!$A:$E,3,FALSE)","v":{"$error":"#N/A"}},{"$f":"VLOOKUP($A20,Participants!$A:$E,5,FALSE)","v":{"$error":"#N/A"}},3,{"$error":"#N/A"},{"$error":"#N/A"}]
[{"$nulls":4},{"$f":"VLOOKUP($A21,Participants!$A:$E,4,FALSE)","v":{"$error":"#N/A"}},{"$f":"VLOOKUP($A21,Participants!$A:$E,2,FALSE)","v":{"$error":"#N/A"}},{"$f":"VLOOKUP($A21,Participants!$A:$E,3,FALSE)","v":{"$error":"#N/A"}},{"$f":"VLOOKUP($A21,Participants!$A:$E,5,FALSE)","v":{"$error":"#N/A"}},3,{"$error":"#N/A"},{"$error":"#N/A"}]
[]
[{"$nulls":4},{"$f":"VLOOKUP($A23,Participants!$A:$E,4,FALSE)","v":{"$error":"#N/A"}},{"$f":"VLOOKUP($A23,Participants!$A:$E,2,FALSE)","v":{"$error":"#N/A"}},{"$f":"VLOOKUP($A23,Participants!$A:$E,3,FALSE)","v":{"$error":"#N/A"}},{"$f":"VLOOKUP($A23,Participants!$A:$E,5,FALSE)","v":{"$error":"#N/A"}},4,{"$f":"RANK(D23,IF(I23=4,$D$23:$D$28,),1)","v":{"$error":"#N/A"}},{"$f":"RANK(D23,$D$2:$D$100,1)","v":{"$error":"#N/A"}}]
[{"$nulls":4},{"$f":"VLOOKUP($A24,Participants!$A:$E,4,FALSE)","v":{"$error":"#N/A"}},{"$f":"VLOOKUP($A24,Participants!$A:$E,2,FALSE)","v":{"$error":"#N/A"}},{"$f":"VLOOKUP($A24,Participants!$A:$E,3,FALSE)","v":{"$error":"#N/A"}},{"$f":"VLOOKUP($A24,Participants!$A:$E,5,FALSE)","v":{"$error":"#N/A"}},4,{"$error":"#N/A"},{"$error":"#N/A"}]
[{"$nulls":4},{"$f":"VLOOKUP($A25,Participants!$A:$E,4,FALSE)","v":{"$error":"#N/A"}},{"$f":"VLOOKUP($A25,Participants!$A:$E,2,FALSE)","v":{"$error":"#N/A"}},{"$f":"VLOOKUP($A25,Participants!$A:$E,3,FALSE)","v":{"$error":"#N/A"}},{"$f":"VLOOKUP($A25,Participants!$A:$E,5,FALSE)","v":{"$error":"#N/A"}},4,{"$error":"#N/A"},{"$error":"#N/A"}]
[{"$nulls":4},{"$f":"VLOOKUP($A26,Participants!$A:$E,4,FALSE)","v":{"$error":"#N/A"}},{"$f":"VLOOKUP($A26,Participants!$A:$E,2,FALSE)","v":{"$error":"#N/A"}},{"$f":"VLOOKUP($A26,Participants!$A:$E,3,FALSE)","v":{"$error":"#N/A"}},{"$f":"VLOOKUP($A26,Participants!$A:$E,5,FALSE)","v":{"$error":"#N/A"}},4,{"$error":"#N/A"},{"$error":"#N/A"}]
[{"$nulls":4},{"$f":"VLOOKUP($A27,Participants!$A:$E,4,FALSE)","v":{"$error":"#N/A"}},{"$f":"VLOOKUP($A27,Participants!$A:$E,2,FALSE)","v":{"$error":"#N/A"}},{"$f":"VLOOKUP($A27,Participants!$A:$E,3,FALSE)","v":{"$error":"#N/A"}},{"$f":"VLOOKUP($A27,Participants!$A:$E,5,FALSE)","v":{"$error":"#N/A"}},4,{"$error":"#N/A"},{"$error":"#N/A"}]
[{"$nulls":4},{"$f":"VLOOKUP($A28,Participants!$A:$E,4,FALSE)","v":{"$error":"#N/A"}},{"$f":"VLOOKUP($A28,Participants!$A:$E,2,FALSE)","v":{"$error":"#N/A"}},{"$f":"VLOOKUP($A28,Participants!$A:$E,3,FALSE)","v":{"$error":"#N/A"}},{"$f":"VLOOKUP($A28,Participants!$A:$E,5,FALSE)","v":{"$error":"#N/A"}},4,{"$error":"#N/A"},{"$error":"#N/A"}]
[]
[{"$nulls":4},{"$f":"VLOOKUP($A30,Participants!$A:$E,4,FALSE)","v":{"$error":"#N/A"}},{"$f":"VLOOKUP($A30,Participants!$A:$E,2,FALSE)","v":{"$error":"#N/A"}},{"$f":"VLOOKUP($A30,Participants!$A:$E,3,FALSE)","v":{"$error":"#N/A"}},{"$f":"VLOOKUP($A30,Participants!$A:$E,5,FALSE)","v":{"$error":"#N/A"}},5,{"$f":"RANK(D30,IF(I30=5,$D$30:$D$35,),1)","v":{"$error":"#N/A"}},{"$f":"RANK(D30,$D$2:$D$100,1)","v":{"$error":"#N/A"}}]
[{"$nulls":4},{"$f":"VLOOKUP($A31,Participants!$A:$E,4,FALSE)","v":{"$error":"#N/A"}},{"$f":"VLOOKUP($A31,Participants!$A:$E,2,FALSE)","v":{"$error":"#N/A"}},{"$f":"VLOOKUP($A31,Participants!$A:$E,3,FALSE)","v":{"$error":"#N/A"}},{"$f":"VLOOKUP($A31,Participants!$A:$E,5,FALSE)","v":{"$error":"#N/A"}},5,{"$f":"RANK(D31,IF(I31=5,$D$30:$D$35,),1)","v":{"$error":"#N/A"}},{"$error":"#N/A"}]
[{"$nulls":4},{"$f":"VLOOKUP($A32,Participants!$A:$E,4,FALSE)","v":{"$error":"#N/A"}},{"$f":"VLOOKUP($A32,Participants!$A:$E,2,FALSE)","v":{"$error":"#N/A"}},{"$f":"VLOOKUP($A32,Participants!$A:$E,3,FALSE)","v":{"$error":"#N/A"}},{"$f":"VLOOKUP($A32,Participants!$A:$E,5,FALSE)","v":{"$error":"#N/A"}},5,{"$error":"#N/A"},{"$error":"#N/A"}]
[{"$nulls":4},{"$f":"VLOOKUP($A33,Participants!$A:$E,4,FALSE)","v":{"$error":"#N/A"}},{"$f":"VLOOKUP($A33,Participants!$A:$E,2,FALSE)","v":{"$error":"#N/A"}},{"$f":"VLOOKUP($A33,Participants!$A:$E,3,FALSE)","v":{"$error":"#N/A"}},{"$f":"VLOOKUP($A33,Participants!$A:$E,5,FALSE)","v":{"$error":"#N/A"}},5,{"$error":"#N/A"},{"$error":"#N/A"}]
[{"$nulls":4},{"$f":"VLOOKUP($A34,Participants!$A:$E,4,FALSE)","v":{"$error":"#N/A"}},{"$f":"VLOOKUP($A34,Participants!$A:$E,2,FALSE)","v":{"$error":"#N/A"}},{"$f":"VLOOKUP($A34,Participants!$A:$E,3,FALSE)","v":{"$error":"#N/A"}},{"$f":"VLOOKUP($A34,Participants!$A:$E,5,FALSE)","v":{"$error":"#N/A"}},5,{"$error":"#N/A"},{"$error":"#N/A"}]
[{"$nulls":4},{"$f":"VLOOKUP($A35,Participants!$A:$E,4,FALSE)","v":{"$error":"#N/A"}},{"$f":"VLOOKUP($A35,Participants!$A:$E,2,FALSE)","v":{"$error":"#N/A"}},{"$f":"VLOOKUP($A35,Participants!$A:$E,3,FALSE)","v":{"$error":"#N/A"}},{"$f":"VLOOKUP($A35,Participants!$A:$E,5,FALSE)","v":{"$error":"#N/A"}},5,{"$error":"#N/A"},{"$error":"#N/A"}]
[]
[{"$nulls":4},{"$f":"VLOOKUP($A37,Participants!$A:$E,4,FALSE)","v":{"$error":"#N/A"}},{"$f":"VLOOKUP($A37,Participants!$A:$E,2,FALSE)","v":{"$error":"#N/A"}},{"$f":"VLOOKUP($A37,Participants!$A:$E,3,FALSE)","v":{"$error":"#N/A"}},{"$f":"VLOOKUP($A37,Participants!$A:$E,5,FALSE)","v":{"$error":"#N/A"}},6,{"$f":"RANK(D37,IF(I37=6,$D$37:$D$42,),1)","v":{"$error":"#N/A"}},{"$f":"RANK(D37,$D$2:$D$100,1)","v":{"$error":"#N/A"}}]
[{"$nulls":4},{"$f":"VLOOKUP($A38,Participants!$A:$E,4,FALSE)","v":{"$error":"#N/A"}},{"$f":"VLOOKUP($A38,Participants!$A:$E,2,FALSE)","v":{"$error":"#N/A"}},{"$f":"VLOOKUP($A38,Participants!$A:$E,3,FALSE)","v":{"$error":"#N/A"}},{"$f":"VLOOKUP($A38,Participants!$A:$E,5,FALSE)","v":{"$error":"#N/A"}},6,{"$f":"RANK(D38,IF(I38=6,$D$37:$D$42,),1)","v":{"$error":"#N/A"}},{"$error":"#N/A"}]
[{"$nulls":4},{"$f":"VLOOKUP($A39,Participants!$A:$E,4,FALSE)","v":{"$error":"#N/A"}},{"$f":"VLOOKUP($A39,Participants!$A:$E,2,FALSE)","v":{"$error":"#N/A"}},{"$f":"VLOOKUP($A39,Participants!$A:$E,3,FALSE)","v":{"$error":"#N/A"}},{"$f":"VLOOKUP($A39,Participants!$A:$E,5,FALSE)","v":{"$error":"#N/A"}},6,{"$error":"#N/A"},{"$error":"#N/A"}]
[{"$nulls":4},{"$f":"VLOOKUP($A40,Participants!$A:$E,4,FALSE)","v":{"$error":"#N/A"}},{"$f":"VLOOKUP($A40,Participants!$A:$E,2,FALSE)","v":{"$error":"#N/A"}},{"$f":"VLOOKUP($A40,Participants!$A:$E,3,FALSE)","v":{"$error":"#N/A"}},{"$f":"VLOOKUP($A40,Participants!$A:$E,5,FALSE)","v":{"$error":"#N/A"}},6,{"$error":"#N/A"},{"$error":"#N/A"}]
[{"$nulls":4},{"$f":"VLOOKUP($A41,Participants!$A:$E,4,FALSE)","v":{"$error":"#N/A"}},{"$f":"VLOOKUP($A41,Participants!$A:$E,2,FALSE)","v":{"$error":"#N/A"}},{"$f":"VLOOKUP($A41,Participants!$A:$E,3,FALSE)","v":{"$error":"#N/A"}},{"$f":"VLOOKUP($A41,Participants!$A:$E,5,FALSE)","v":{"$error":"#N/A"}},6,{"$error":"#N/A"},{"$error":"#N/A"}]
[{"$nulls":4},{"$f":"VLOOKUP($A42,Participants!$A:$E,4,FALSE)","v":{"$error":"#N/A"}},{"$f":"VLOOKUP($A42,Participants!$A:$E,2,FALSE)","v":{"$error":"#N/A"}},{"$f":"VLOOKUP($A42,Participants!$A:$E,3,FALSE)","v":{"$error":"#N/A"}},{"$f":"VLOOKUP($A42,Participants!$A:$E,5,FALSE)","v":{"$error":"#N/A"}},6,{"$error":"#N/A"},{"$error":"#N/A"}]

{"sheet":"800 56 Boys","index":17,"n_rows":38,"n_cols":13,"rows_kept":38}
["Bib","HeatOrder",null,"Time","Grade","FName","Lname","School","Heat","Heat Place","Overall Place",null,"Return to Schedule of Events"]
[152,null,null,"00:03:10.310",{"$f":"VLOOKUP($A2,Participants!$A:$E,4,FALSE)","v":6},{"$f":"VLOOKUP($A2,Participants!$A:$E,2,FALSE)","v":"Gabe"},{"$f":"VLOOKUP($A2,Participants!$A:$E,3,FALSE)","v":"Argiris"},{"$f":"VLOOKUP($A2,Participants!$A:$E,5,FALSE)","v":"SSFC"},1,{"$f":"RANK(D2,IF(I2=1,$D$2:$D$38,),1)","v":1},{"$f":"RANK(D2,$D$2:$D$96,1)","v":1}]
[303,null,null,"00:03:37.810",{"$f":"VLOOKUP($A3,Participants!$A:$E,4,FALSE)","v":6},{"$f":"VLOOKUP($A3,Participants!$A:$E,2,FALSE)","v":"Mason"},{"$f":"VLOOKUP($A3,Participants!$A:$E,3,FALSE)","v":"Schnarr"},{"$f":"VLOOKUP($A3,Participants!$A:$E,5,FALSE)","v":"St. Barnabas"},1,{"$f":"RANK(D3,IF(I3=1,$D$2:$D$38,),1)","v":2},2,null,"Add or Update Participants"]
[46,null,null,"00:03:55.370",{"$f":"VLOOKUP($A4,Participants!$A:$E,4,FALSE)","v":6},{"$f":"VLOOKUP($A4,Participants!$A:$E,2,FALSE)","v":"Cesar"},{"$f":"VLOOKUP($A4,Participants!$A:$E,3,FALSE)","v":"Green"},{"$f":"VLOOKUP($A4,Participants!$A:$E,5,FALSE)","v":"St Jude"},1,3,3,null,"Overall Place and Points"]
[{"$nulls":4},{"$f":"VLOOKUP($A5,Participants!$A:$E,4,FALSE)","v":{"$error":"#N/A"}},{"$f":"VLOOKUP($A5,Participants!$A:$E,2,FALSE)","v":{"$error":"#N/A"}},{"$f":"VLOOKUP($A5,Participants!$A:$E,3,FALSE)","v":{"$error":"#N/A"}},{"$f":"VLOOKUP($A5,Participants!$A:$E,5,FALSE)","v":{"$error":"#N/A"}},1,{"$error":"#N/A"},{"$error":"#N/A"}]
[{"$nulls":4},{"$f":"VLOOKUP($A6,Participants!$A:$E,4,FALSE)","v":{"$error":"#N/A"}},{"$f":"VLOOKUP($A6,Participants!$A:$E,2,FALSE)","v":{"$error":"#N/A"}},{"$f":"VLOOKUP($A6,Participants!$A:$E,3,FALSE)","v":{"$error":"#N/A"}},{"$f":"VLOOKUP($A6,Participants!$A:$E,5,FALSE)","v":{"$error":"#N/A"}},1,{"$error":"#N/A"},{"$error":"#N/A"}]
[{"$nulls":4},{"$f":"VLOOKUP($A7,Participants!$A:$E,4,FALSE)","v":{"$error":"#N/A"}},{"$f":"VLOOKUP($A7,Participants!$A:$E,2,FALSE)","v":{"$error":"#N/A"}},{"$f":"VLOOKUP($A7,Participants!$A:$E,3,FALSE)","v":{"$error":"#N/A"}},{"$f":"VLOOKUP($A7,Participants!$A:$E,5,FALSE)","v":{"$error":"#N/A"}},1,{"$error":"#N/A"},{"$error":"#N/A"}]
[{"$nulls":4},{"$f":"VLOOKUP($A8,Participants!$A:$E,4,FALSE)","v":{"$error":"#N/A"}},{"$f":"VLOOKUP($A8,Participants!$A:$E,2,FALSE)","v":{"$error":"#N/A"}},{"$f":"VLOOKUP($A8,Participants!$A:$E,3,FALSE)","v":{"$error":"#N/A"}},{"$f":"VLOOKUP($A8,Participants!$A:$E,5,FALSE)","v":{"$error":"#N/A"}},1,{"$error":"#N/A"},{"$error":"#N/A"}]
[{"$nulls":4},{"$f":"VLOOKUP($A9,Participants!$A:$E,4,FALSE)","v":{"$error":"#N/A"}},{"$f":"VLOOKUP($A9,Participants!$A:$E,2,FALSE)","v":{"$error":"#N/A"}},{"$f":"VLOOKUP($A9,Participants!$A:$E,3,FALSE)","v":{"$error":"#N/A"}},{"$f":"VLOOKUP($A9,Participants!$A:$E,5,FALSE)","v":{"$error":"#N/A"}},1,{"$error":"#N/A"},{"$error":"#N/A"}]
[{"$nulls":4},{"$f":"VLOOKUP($A10,Participants!$A:$E,4,FALSE)","v":{"$error":"#N/A"}},{"$f":"VLOOKUP($A10,Participants!$A:$E,2,FALSE)","v":{"$error":"#N/A"}},{"$f":"VLOOKUP($A10,Participants!$A:$E,3,FALSE)","v":{"$error":"#N/A"}},{"$f":"VLOOKUP($A10,Participants!$A:$E,5,FALSE)","v":{"$error":"#N/A"}},1,{"$error":"#N/A"},{"$error":"#N/A"}]
[{"$nulls":4},{"$f":"VLOOKUP($A11,Participants!$A:$E,4,FALSE)","v":{"$error":"#N/A"}},{"$f":"VLOOKUP($A11,Participants!$A:$E,2,FALSE)","v":{"$error":"#N/A"}},{"$f":"VLOOKUP($A11,Participants!$A:$E,3,FALSE)","v":{"$error":"#N/A"}},{"$f":"VLOOKUP($A11,Participants!$A:$E,5,FALSE)","v":{"$error":"#N/A"}},1,{"$error":"#N/A"},{"$error":"#N/A"}]
[{"$nulls":4},{"$f":"VLOOKUP($A12,Participants!$A:$E,4,FALSE)","v":{"$error":"#N/A"}},{"$f":"VLOOKUP($A12,Participants!$A:$E,2,FALSE)","v":{"$error":"#N/A"}},{"$f":"VLOOKUP($A12,Participants!$A:$E,3,FALSE)","v":{"$error":"#N/A"}},{"$f":"VLOOKUP($A12,Participants!$A:$E,5,FALSE)","v":{"$error":"#N/A"}},1,{"$error":"#N/A"},{"$error":"#N/A"}]
[{"$nulls":4},{"$f":"VLOOKUP($A13,Participants!$A:$E,4,FALSE)","v":{"$error":"#N/A"}},{"$f":"VLOOKUP($A13,Participants!$A:$E,2,FALSE)","v":{"$error":"#N/A"}},{"$f":"VLOOKUP($A13,Participants!$A:$E,3,FALSE)","v":{"$error":"#N/A"}},{"$f":"VLOOKUP($A13,Participants!$A:$E,5,FALSE)","v":{"$error":"#N/A"}},1,{"$error":"#N/A"},{"$error":"#N/A"}]
[{"$nulls":4},{"$f":"VLOOKUP($A14,Participants!$A:$E,4,FALSE)","v":{"$error":"#N/A"}},{"$f":"VLOOKUP($A14,Participants!$A:$E,2,FALSE)","v":{"$error":"#N/A"}},{"$f":"VLOOKUP($A14,Participants!$A:$E,3,FALSE)","v":{"$error":"#N/A"}},{"$f":"VLOOKUP($A14,Participants!$A:$E,5,FALSE)","v":{"$error":"#N/A"}},1,{"$error":"#N/A"},{"$error":"#N/A"}]
[{"$nulls":4},{"$f":"VLOOKUP($A15,Participants!$A:$E,4,FALSE)","v":{"$error":"#N/A"}},{"$f":"VLOOKUP($A15,Participants!$A:$E,2,FALSE)","v":{"$error":"#N/A"}},{"$f":"VLOOKUP($A15,Participants!$A:$E,3,FALSE)","v":{"$error":"#N/A"}},{"$f":"VLOOKUP($A15,Participants!$A:$E,5,FALSE)","v":{"$error":"#N/A"}},1,{"$error":"#N/A"},{"$error":"#N/A"}]
[{"$nulls":4},{"$f":"VLOOKUP($A16,Participants!$A:$E,4,FALSE)","v":{"$error":"#N/A"}},{"$f":"VLOOKUP($A16,Participants!$A:$E,2,FALSE)","v":{"$error":"#N/A"}},{"$f":"VLOOKUP($A16,Participants!$A:$E,3,FALSE)","v":{"$error":"#N/A"}},{"$f":"VLOOKUP($A16,Participants!$A:$E,5,FALSE)","v":{"$error":"#N/A"}},1,{"$error":"#N/A"},{"$error":"#N/A"}]
[{"$nulls":4},{"$f":"VLOOKUP($A17,Participants!$A:$E,4,FALSE)","v":{"$error":"#N/A"}},{"$f":"VLOOKUP($A17,Participants!$A:$E,2,FALSE)","v":{"$error":"#N/A"}},{"$f":"VLOOKUP($A17,Participants!$A:$E,3,FALSE)","v":{"$error":"#N/A"}},{"$f":"VLOOKUP($A17,Participants!$A:$E,5,FALSE)","v":{"$error":"#N/A"}},1,{"$error":"#N/A"},{"$error":"#N/A"}]
[{"$nulls":4},{"$f":"VLOOKUP($A18,Participants!$A:$E,4,FALSE)","v":{"$error":"#N/A"}},{"$f":"VLOOKUP($A18,Participants!$A:$E,2,FALSE)","v":{"$error":"#N/A"}},{"$f":"VLOOKUP($A18,Participants!$A:$E,3,FALSE)","v":{"$error":"#N/A"}},{"$f":"VLOOKUP($A18,Participants!$A:$E,5,FALSE)","v":{"$error":"#N/A"}},1,{"$error":"#N/A"},{"$error":"#N/A"}]
[{"$nulls":4},{"$f":"VLOOKUP($A19,Participants!$A:$E,4,FALSE)","v":{"$error":"#N/A"}},{"$f":"VLOOKUP($A19,Participants!$A:$E,2,FALSE)","v":{"$error":"#N/A"}},{"$f":"VLOOKUP($A19,Participants!$A:$E,3,FALSE)","v":{"$error":"#N/A"}},{"$f":"VLOOKUP($A19,Participants!$A:$E,5,FALSE)","v":{"$error":"#N/A"}},1,{"$error":"#N/A"},{"$error":"#N/A"}]
[{"$nulls":4},{"$f":"VLOOKUP($A20,Participants!$A:$E,4,FALSE)","v":{"$error":"#N/A"}},{"$f":"VLOOKUP($A20,Participants!$A:$E,2,FALSE)","v":{"$error":"#N/A"}},{"$f":"VLOOKUP($A20,Participants!$A:$E,3,FALSE)","v":{"$error":"#N/A"}},{"$f":"VLOOKUP($A20,Participants!$A:$E,5,FALSE)","v":{"$error":"#N/A"}},1,{"$error":"#N/A"},{"$error":"#N/A"}]
[{"$nulls":4},{"$f":"VLOOKUP($A21,Participants!$A:$E,4,FALSE)","v":{"$error":"#N/A"}},{"$f":"VLOOKUP($A21,Participants!$A:$E,2,FALSE)","v":{"$error":"#N/A"}},{"$f":"VLOOKUP($A21,Participants!$A:$E,3,FALSE)","v":{"$error":"#N/A"}},{"$f":"VLOOKUP($A21,Participants!$A:$E,5,FALSE)","v":{"$error":"#N/A"}},1,{"$error":"#N/A"},{"$error":"#N/A"}]
[{"$nulls":4},{"$f":"VLOOKUP($A22,Participants!$A:$E,4,FALSE)","v":{"$error":"#N/A"}},{"$f":"VLOOKUP($A22,Participants!$A:$E,2,FALSE)","v":{"$error":"#N/A"}},{"$f":"VLOOKUP($A22,Participants!$A:$E,3,FALSE)","v":{"$error":"#N/A"}},{"$f":"VLOOKUP($A22,Participants!$A:$E,5,FALSE)","v":{"$error":"#N/A"}},1,{"$error":"#N/A"},{"$error":"#N/A"}]
[{"$nulls":4},{"$f":"VLOOKUP($A23,Participants!$A:$E,4,FALSE)","v":{"$error":"#N/A"}},{"$f":"VLOOKUP($A23,Participants!$A:$E,2,FALSE)","v":{"$error":"#N/A"}},{"$f":"VLOOKUP($A23,Participants!$A:$E,3,FALSE)","v":{"$error":"#N/A"}},{"$f":"VLOOKUP($A23,Participants!$A:$E,5,FALSE)","v":{"$error":"#N/A"}},1,{"$error":"#N/A"},{"$error":"#N/A"}]
[{"$nulls":4},{"$f":"VLOOKUP($A24,Participants!$A:$E,4,FALSE)","v":{"$error":"#N/A"}},{"$f":"VLOOKUP($A24,Participants!$A:$E,2,FALSE)","v":{"$error":"#N/A"}},{"$f":"VLOOKUP($A24,Participants!$A:$E,3,FALSE)","v":{"$error":"#N/A"}},{"$f":"VLOOKUP($A24,Participants!$A:$E,5,FALSE)","v":{"$error":"#N/A"}},1,{"$error":"#N/A"},{"$error":"#N/A"}]
[{"$nulls":4},{"$f":"VLOOKUP($A25,Participants!$A:$E,4,FALSE)","v":{"$error":"#N/A"}},{"$f":"VLOOKUP($A25,Participants!$A:$E,2,FALSE)","v":{"$error":"#N/A"}},{"$f":"VLOOKUP($A25,Participants!$A:$E,3,FALSE)","v":{"$error":"#N/A"}},{"$f":"VLOOKUP($A25,Participants!$A:$E,5,FALSE)","v":{"$error":"#N/A"}},1,{"$error":"#N/A"},{"$error":"#N/A"}]
[{"$nulls":4},{"$f":"VLOOKUP($A26,Participants!$A:$E,4,FALSE)","v":{"$error":"#N/A"}},{"$f":"VLOOKUP($A26,Participants!$A:$E,2,FALSE)","v":{"$error":"#N/A"}},{"$f":"VLOOKUP($A26,Participants!$A:$E,3,FALSE)","v":{"$error":"#N/A"}},{"$f":"VLOOKUP($A26,Participants!$A:$E,5,FALSE)","v":{"$error":"#N/A"}},1,{"$error":"#N/A"},{"$error":"#N/A"}]
[{"$nulls":4},{"$f":"VLOOKUP($A27,Participants!$A:$E,4,FALSE)","v":{"$error":"#N/A"}},{"$f":"VLOOKUP($A27,Participants!$A:$E,2,FALSE)","v":{"$error":"#N/A"}},{"$f":"VLOOKUP($A27,Participants!$A:$E,3,FALSE)","v":{"$error":"#N/A"}},{"$f":"VLOOKUP($A27,Participants!$A:$E,5,FALSE)","v":{"$error":"#N/A"}},1,{"$error":"#N/A"},{"$error":"#N/A"}]
[{"$nulls":4},{"$f":"VLOOKUP($A28,Participants!$A:$E,4,FALSE)","v":{"$error":"#N/A"}},{"$f":"VLOOKUP($A28,Participants!$A:$E,2,FALSE)","v":{"$error":"#N/A"}},{"$f":"VLOOKUP($A28,Participants!$A:$E,3,FALSE)","v":{"$error":"#N/A"}},{"$f":"VLOOKUP($A28,Participants!$A:$E,5,FALSE)","v":{"$error":"#N/A"}},1,{"$error":"#N/A"},{"$error":"#N/A"}]
[{"$nulls":4},{"$f":"VLOOKUP($A29,Participants!$A:$E,4,FALSE)","v":{"$error":"#N/A"}},{"$f":"VLOOKUP($A29,Participants!$A:$E,2,FALSE)","v":{"$error":"#N/A"}},{"$f":"VLOOKUP($A29,Participants!$A:$E,3,FALSE)","v":{"$error":"#N/A"}},{"$f":"VLOOKUP($A29,Participants!$A:$E,5,FALSE)","v":{"$error":"#N/A"}},1,{"$error":"#N/A"},{"$error":"#N/A"}]
[{"$nulls":4},{"$f":"VLOOKUP($A30,Participants!$A:$E,4,FALSE)","v":{"$error":"#N/A"}},{"$f":"VLOOKUP($A30,Participants!$A:$E,2,FALSE)","v":{"$error":"#N/A"}},{"$f":"VLOOKUP($A30,Participants!$A:$E,3,FALSE)","v":{"$error":"#N/A"}},{"$f":"VLOOKUP($A30,Participants!$A:$E,5,FALSE)","v":{"$error":"#N/A"}},1,{"$error":"#N/A"},{"$error":"#N/A"}]
[{"$nulls":4},{"$f":"VLOOKUP($A31,Participants!$A:$E,4,FALSE)","v":{"$error":"#N/A"}},{"$f":"VLOOKUP($A31,Participants!$A:$E,2,FALSE)","v":{"$error":"#N/A"}},{"$f":"VLOOKUP($A31,Participants!$A:$E,3,FALSE)","v":{"$error":"#N/A"}},{"$f":"VLOOKUP($A31,Participants!$A:$E,5,FALSE)","v":{"$error":"#N/A"}},1,{"$error":"#N/A"},{"$error":"#N/A"}]
[{"$nulls":4},{"$f":"VLOOKUP($A32,Participants!$A:$E,4,FALSE)","v":{"$error":"#N/A"}},{"$f":"VLOOKUP($A32,Participants!$A:$E,2,FALSE)","v":{"$error":"#N/A"}},{"$f":"VLOOKUP($A32,Participants!$A:$E,3,FALSE)","v":{"$error":"#N/A"}},{"$f":"VLOOKUP($A32,Participants!$A:$E,5,FALSE)","v":{"$error":"#N/A"}},1,{"$error":"#N/A"},{"$error":"#N/A"}]
[{"$nulls":4},{"$f":"VLOOKUP($A33,Participants!$A:$E,4,FALSE)","v":{"$error":"#N/A"}},{"$f":"VLOOKUP($A33,Participants!$A:$E,2,FALSE)","v":{"$error":"#N/A"}},{"$f":"VLOOKUP($A33,Participants!$A:$E,3,FALSE)","v":{"$error":"#N/A"}},{"$f":"VLOOKUP($A33,Participants!$A:$E,5,FALSE)","v":{"$error":"#N/A"}},1,{"$error":"#N/A"},{"$error":"#N/A"}]
[{"$nulls":4},{"$f":"VLOOKUP($A34,Participants!$A:$E,4,FALSE)","v":{"$error":"#N/A"}},{"$f":"VLOOKUP($A34,Participants!$A:$E,2,FALSE)","v":{"$error":"#N/A"}},{"$f":"VLOOKUP($A34,Participants!$A:$E,3,FALSE)","v":{"$error":"#N/A"}},{"$f":"VLOOKUP($A34,Participants!$A:$E,5,FALSE)","v":{"$error":"#N/A"}},1,{"$error":"#N/A"},{"$error":"#N/A"}]
[{"$nulls":4},{"$f":"VLOOKUP($A35,Participants!$A:$E,4,FALSE)","v":{"$error":"#N/A"}},{"$f":"VLOOKUP($A35,Participants!$A:$E,2,FALSE)","v":{"$error":"#N/A"}},{"$f":"VLOOKUP($A35,Participants!$A:$E,3,FALSE)","v":{"$error":"#N/A"}},{"$f":"VLOOKUP($A35,Participants!$A:$E,5,FALSE)","v":{"$error":"#N/A"}},1,{"$error":"#N/A"},{"$error":"#N/A"}]
[{"$nulls":4},{"$f":"VLOOKUP($A36,Participants!$A:$E,4,FALSE)","v":{"$error":"#N/A"}},{"$f":"VLOOKUP($A36,Participants!$A:$E,2,FALSE)","v":{"$error":"#N/A"}},{"$f":"VLOOKUP($A36,Participants!$A:$E,3,FALSE)","v":{"$error":"#N/A"}},{"$f":"VLOOKUP($A36,Participants!$A:$E,5,FALSE)","v":{"$error":"#N/A"}},1,{"$error":"#N/A"},{"$error":"#N/A"}]
[{"$nulls":4},{"$f":"VLOOKUP($A37,Participants!$A:$E,4,FALSE)","v":{"$error":"#N/A"}},{"$f":"VLOOKUP($A37,Participants!$A:$E,2,FALSE)","v":{"$error":"#N/A"}},{"$f":"VLOOKUP($A37,Participants!$A:$E,3,FALSE)","v":{"$error":"#N/A"}},{"$f":"VLOOKUP($A37,Participants!$A:$E,5,FALSE)","v":{"$error":"#N/A"}},1,{"$error":"#N/A"},{"$error":"#N/A"}]
[{"$nulls":4},{"$f":"VLOOKUP($A38,Participants!$A:$E,4,FALSE)","v":{"$error":"#N/A"}},{"$f":"VLOOKUP($A38,Participants!$A:$E,2,FALSE)","v":{"$error":"#N/A"}},{"$f":"VLOOKUP($A38,Participants!$A:$E,3,FALSE)","v":{"$error":"#N/A"}},{"$f":"VLOOKUP($A38,Participants!$A:$E,5,FALSE)","v":{"$error":"#N/A"}},1,{"$error":"#N/A"},{"$error":"#N/A"}]

{"sheet":"100 56 Boys","index":18,"n_rows":56,"n_cols":13,"rows_kept":56}
["Bib","HeatOrder",null,"Time","Grade","FName","Lname","School","Heat","Heat Place","Overall Place",null,"Return to Schedule of Events"]
[240,"Lap 1","00:00:15.310","00:00:15.310",{"$f":"VLOOKUP($A2,Participants!$A:$E,4,FALSE)","v":6},{"$f":"VLOOKUP($A2,Participants!$A:$E,2,FALSE)","v":"Alexander"},{"$f":"VLOOKUP($A2,Participants!$A:$E,3,FALSE)","v":"Jarvis"},{"$f":"VLOOKUP($A2,Participants!$A:$E,5,FALSE)","v":"United We Run"},1,{"$f":"RANK(D2,IF(I2=1,$D$2:$D$7,),1)","v":1},{"$f":"RANK(D2,$D$2:$D$100,1)","v":2}]
[3,"Lap 2","00:00:01.550","00:00:16.860",{"$f":"VLOOKUP($A3,Participants!$A:$E,4,FALSE)","v":6},{"$f":"VLOOKUP($A3,Participants!$A:$E,2,FALSE)","v":"Charlie"},{"$f":"VLOOKUP($A3,Participants!$A:$E,3,FALSE)","v":"Allen"},{"$f":"VLOOKUP($A3,Participants!$A:$E,5,FALSE)","v":"St Jude"},1,2,{"$f":"RANK(D3,$D$2:$D$100,1)","v":8},null,"Add or Update Participants"]
[159,"Lap 3","00:00:00.560","00:00:17.430",{"$f":"VLOOKUP($A4,Participants!$A:$E,4,FALSE)","v":6},{"$f":"VLOOKUP($A4,Participants!$A:$E,2,FALSE)","v":"William"},{"$f":"VLOOKUP($A4,Participants!$A:$E,3,FALSE)","v":"Clark"},{"$f":"VLOOKUP($A4,Participants!$A:$E,5,FALSE)","v":"SSFC"},1,3,12,null,"Overall Place and Points"]
[141,"Lap 4","00:00:01.300","00:00:18.730",{"$f":"VLOOKUP($A5,Participants!$A:$E,4,FALSE)","v":5},{"$f":"VLOOKUP($A5,Participants!$A:$E,2,FALSE)","v":"Vaylen"},{"$f":"VLOOKUP($A5,Participants!$A:$E,3,FALSE)","v":"Arnold"},{"$f":"VLOOKUP($A5,Participants!$A:$E,5,FALSE)","v":"OLG"},1,4,14]
[60,"Lap 5","00:00:00.760","00:00:19.500",{"$f":"VLOOKUP($A6,Participants!$A:$E,4,FALSE)","v":5},{"$f":"VLOOKUP($A6,Participants!$A:$E,2,FALSE)","v":"Tyler"},{"$f":"VLOOKUP($A6,Participants!$A:$E,3,FALSE)","v":"Kedra"},{"$f":"VLOOKUP($A6,Participants!$A:$E,5,FALSE)","v":"St Jude"},1,5,15]
[290,"Lap 6","00:00:00.270","00:00:19.770",{"$f":"VLOOKUP($A7,Participants!$A:$E,4,FALSE)","v":5},{"$f":"VLOOKUP($A7,Participants!$A:$E,2,FALSE)","v":"Nick"},{"$f":"VLOOKUP($A7,Participants!$A:$E,3,FALSE)","v":"McCoy"},{"$f":"VLOOKUP($A7,Participants!$A:$E,5,FALSE)","v":"St. Barnabas"},1,6,16]
[]
[228,"Lap 1","00:00:15.100","00:00:15.100",{"$f":"VLOOKUP($A9,Participants!$A:$E,4,FALSE)","v":5},{"$f":"VLOOKUP($A9,Participants!$A:$E,2,FALSE)","v":"Carson"},{"$f":"VLOOKUP($A9,Participants!$A:$E,3,FALSE)","v":"Clark"},{"$f":"VLOOKUP($A9,Participants!$A:$E,5,FALSE)","v":"United We Run"},2,{"$f":"RANK(D9,IF(I9=2,$D$9:$D$14,),1)","v":1},1]
[91,"Lap 2","00:00:00.210","00:00:15.310",{"$f":"VLOOKUP($A10,Participants!$A:$E,4,FALSE)","v":6},{"$f":"VLOOKUP($A10,Participants!$A:$E,2,FALSE)","v":"T J"},{"$f":"VLOOKUP($A10,Participants!$A:$E,3,FALSE)","v":"Michalak"},{"$f":"VLOOKUP($A10,Participants!$A:$E,5,FALSE)","v":"St Jude"},2,2,2]
[788,"Lap 3","00:00:01.190","00:00:16.510",{"$f":"VLOOKUP($A11,Participants!$A:$E,4,FALSE)","v":5},{"$f":"VLOOKUP($A11,Participants!$A:$E,2,FALSE)","v":"Mason"},{"$f":"VLOOKUP($A11,Participants!$A:$E,3,FALSE)","v":"Carroll"},{"$f":"VLOOKUP($A11,Participants!$A:$E,5,FALSE)","v":"St. Jude"},2,3,6]
[313,"Lap 4","00:00:00.500","00:00:17.010",{"$f":"VLOOKUP($A12,Participants!$A:$E,4,FALSE)","v":5},{"$f":"VLOOKUP($A12,Participants!$A:$E,2,FALSE)","v":"Benjamin"},{"$f":"VLOOKUP($A12,Participants!$A:$E,3,FALSE)","v":"Woodruff"},{"$f":"VLOOKUP($A12,Participants!$A:$E,5,FALSE)","v":"St. Barnabas"},2,4,9]
[198,"Lap 5","00:00:03.020","00:00:20.040",{"$f":"VLOOKUP($A13,Participants!$A:$E,4,FALSE)","v":5},{"$f":"VLOOKUP($A13,Participants!$A:$E,2,FALSE)","v":"Luke"},{"$f":"VLOOKUP($A13,Participants!$A:$E,3,FALSE)","v":"Senac"},{"$f":"VLOOKUP($A13,Participants!$A:$E,5,FALSE)","v":"SSFC"},2,5,17]
[{"$nulls":4},{"$f":"VLOOKUP($A14,Participants!$A:$E,4,FALSE)","v":{"$error":"#N/A"}},{"$f":"VLOOKUP($A14,Participants!$A:$E,2,FALSE)","v":{"$error":"#N/A"}},{"$f":"VLOOKUP($A14,Participants!$A:$E,3,FALSE)","v":{"$error":"#N/A"}},{"$f":"VLOOKUP($A14,Participants!$A:$E,5,FALSE)","v":{"$error":"#N/A"}},2,{"$error":"#N/A"},{"$error":"#N/A"}]
[]
[258,"Lap 1","00:00:16.760","00:00:16.760",{"$f":"VLOOKUP($A16,Participants!$A:$E,4,FALSE)","v":6},{"$f":"VLOOKUP($A16,Participants!$A:$E,2,FALSE)","v":"Jacob"},{"$f":"VLOOKUP($A16,Participants!$A:$E,3,FALSE)","v":"Ready"},{"$f":"VLOOKUP($A16,Participants!$A:$E,5,FALSE)","v":"United We Run"},3,{"$f":"RANK(D16,IF(I16=3,$D$16:$D$21,),1)","v":1},7]
[97,"Lap 2","00:00:00.390","00:00:17.160",{"$f":"VLOOKUP($A17,Participants!$A:$E,4,FALSE)","v":5},{"$f":"VLOOKUP($A17,Participants!$A:$E,2,FALSE)","v":"Evan"},{"$f":"VLOOKUP($A17,Participants!$A:$E,3,FALSE)","v":"Nielsen"},{"$f":"VLOOKUP($A17,Participants!$A:$E,5,FALSE)","v":"St Jude"},3,2,10]
[113,"Lap 3","00:00:00.250","00:00:17.410",{"$f":"VLOOKUP($A18,Participants!$A:$E,4,FALSE)","v":5},{"$f":"VLOOKUP($A18,Participants!$A:$E,2,FALSE)","v":"Marcus"},{"$f":"VLOOKUP($A18,Participants!$A:$E,3,FALSE)","v":"Schneider"},{"$f":"VLOOKUP($A18,Participants!$A:$E,5,FALSE)","v":"St Jude"},3,3,11]
[232,"Lap 4","00:00:00.160","00:00:17.580",{"$f":"VLOOKUP($A19,Participants!$A:$E,4,FALSE)","v":6},{"$f":"VLOOKUP($A19,Participants!$A:$E,2,FALSE)","v":"Joe"},{"$f":"VLOOKUP($A19,Participants!$A:$E,3,FALSE)","v":"Egan"},{"$f":"VLOOKUP($A19,Participants!$A:$E,5,FALSE)","v":"United We Run"},3,4,13]
[160,"Lap 5","00:00:04.270","00:00:21.850",{"$f":"VLOOKUP($A20,Participants!$A:$E,4,FALSE)","v":6},{"$f":"VLOOKUP($A20,Participants!$A:$E,2,FALSE)","v":"Jacob"},{"$f":"VLOOKUP($A20,Participants!$A:$E,3,FALSE)","v":"Coppinger"},{"$f":"VLOOKUP($A20,Participants!$A:$E,5,FALSE)","v":"SSFC"},3,5,19]
[{"$nulls":4},{"$f":"VLOOKUP($A21,Participants!$A:$E,4,FALSE)","v":{"$error":"#N/A"}},{"$f":"VLOOKUP($A21,Participants!$A:$E,2,FALSE)","v":{"$error":"#N/A"}},{"$f":"VLOOKUP($A21,Participants!$A:$E,3,FALSE)","v":{"$error":"#N/A"}},{"$f":"VLOOKUP($A21,Participants!$A:$E,5,FALSE)","v":{"$error":"#N/A"}},3,{"$error":"#N/A"},{"$error":"#N/A"}]
[]
[128,"Lap 1","00:00:15.610","00:00:15.610",{"$f":"VLOOKUP($A23,Participants!$A:$E,4,FALSE)","v":5},{"$f":"VLOOKUP($A23,Participants!$A:$E,2,FALSE)","v":"Fiersen"},{"$f":"VLOOKUP($A23,Participants!$A:$E,3,FALSE)","v":"Steele"},{"$f":"VLOOKUP($A23,Participants!$A:$E,5,FALSE)","v":"St Jude"},4,{"$f":"RANK(D23,IF(I23=4,$D$23:$D$28,),1)","v":1},4]
[30,"Lap 2","00:00:00.620","00:00:16.240",{"$f":"VLOOKUP($A24,Participants!$A:$E,4,FALSE)","v":5},{"$f":"VLOOKUP($A24,Participants!$A:$E,2,FALSE)","v":"Owen "},{"$f":"VLOOKUP($A24,Participants!$A:$E,3,FALSE)","v":"Denzer"},{"$f":"VLOOKUP($A24,Participants!$A:$E,5,FALSE)","v":"St Jude"},4,2,5]
[108,"Lap 3","00:00:05.050","00:00:21.300",{"$f":"VLOOKUP($A25,Participants!$A:$E,4,FALSE)","v":5},{"$f":"VLOOKUP($A25,Participants!$A:$E,2,FALSE)","v":"Nate "},{"$f":"VLOOKUP($A25,Participants!$A:$E,3,FALSE)","v":"Russell"},{"$f":"VLOOKUP($A25,Participants!$A:$E,5,FALSE)","v":"St Jude"},4,3,18]
[{"$nulls":4},{"$f":"VLOOKUP($A26,Participants!$A:$E,4,FALSE)","v":{"$error":"#N/A"}},{"$f":"VLOOKUP($A26,Participants!$A:$E,2,FALSE)","v":{"$error":"#N/A"}},{"$f":"VLOOKUP($A26,Participants!$A:$E,3,FALSE)","v":{"$error":"#N/A"}},{"$f":"VLOOKUP($A26,Participants!$A:$E,5,FALSE)","v":{"$error":"#N/A"}},4,{"$error":"#N/A"},{"$error":"#N/A"}]
[{"$nulls":4},{"$f":"VLOOKUP($A27,Participants!$A:$E,4,FALSE)","v":{"$error":"#N/A"}},{"$f":"VLOOKUP($A27,Participants!$A:$E,2,FALSE)","v":{"$error":"#N/A"}},{"$f":"VLOOKUP($A27,Participants!$A:$E,3,FALSE)","v":{"$error":"#N/A"}},{"$f":"VLOOKUP($A27,Participants!$A:$E,5,FALSE)","v":{"$error":"#N/A"}},4,{"$error":"#N/A"},{"$error":"#N/A"}]
[{"$nulls":4},{"$f":"VLOOKUP($A28,Participants!$A:$E,4,FALSE)","v":{"$error":"#N/A"}},{"$f":"VLOOKUP($A28,Participants!$A:$E,2,FALSE)","v":{"$error":"#N/A"}},{"$f":"VLOOKUP($A28,Participants!$A:$E,3,FALSE)","v":{"$error":"#N/A"}},{"$f":"VLOOKUP($A28,Participants!$A:$E,5,FALSE)","v":{"$error":"#N/A"}},4,{"$error":"#N/A"},{"$error":"#N/A"}]
[]
[{"$nulls":4},{"$f":"VLOOKUP($A30,Participants!$A:$E,4,FALSE)","v":{"$error":"#N/A"}},{"$f":"VLOOKUP($A30,Participants!$A:$E,2,FALSE)","v":{"$error":"#N/A"}},{"$f":"VLOOKUP($A30,Participants!$A:$E,3,FALSE)","v":{"$error":"#N/A"}},{"$f":"VLOOKUP($A30,Participants!$A:$E,5,FALSE)","v":{"$error":"#N/A"}},5,{"$f":"RANK(D30,IF(I30=5,$D$30:$D$35,),1)","v":{"$error":"#N/A"}},{"$error":"#N/A"}]
[{"$nulls":4},{"$f":"VLOOKUP($A31,Participants!$A:$E,4,FALSE)","v":{"$error":"#N/A"}},{"$f":"VLOOKUP($A31,Participants!$A:$E,2,FALSE)","v":{"$error":"#N/A"}},{"$f":"VLOOKUP($A31,Participants!$A:$E,3,FALSE)","v":{"$error":"#N/A"}},{"$f":"VLOOKUP($A31,Participants!$A:$E,5,FALSE)","v":{"$error":"#N/A"}},5,{"$f":"RANK(D31,IF(I31=5,$D$30:$D$35,),1)","v":{"$error":"#N/A"}},{"$error":"#N/A"}]
[{"$nulls":4},{"$f":"VLOOKUP($A32,Participants!$A:$E,4,FALSE)","v":{"$error":"#N/A"}},{"$f":"VLOOKUP($A32,Participants!$A:$E,2,FALSE)","v":{"$error":"#N/A"}},{"$f":"VLOOKUP($A32,Participants!$A:$E,3,FALSE)","v":{"$error":"#N/A"}},{"$f":"VLOOKUP($A32,Participants!$A:$E,5,FALSE)","v":{"$error":"#N/A"}},5,{"$error":"#N/A"},{"$error":"#N/A"}]
[{"$nulls":4},{"$f":"VLOOKUP($A33,Participants!$A:$E,4,FALSE)","v":{"$error":"#N/A"}},{"$f":"VLOOKUP($A33,Participants!$A:$E,2,FALSE)","v":{"$error":"#N/A"}},{"$f":"VLOOKUP($A33,Participants!$A:$E,3,FALSE)","v":{"$error":"#N/A"}},{"$f":"VLOOKUP($A33,Participants!$A:$E,5,FALSE)","v":{"$error":"#N/A"}},5,{"$error":"#N/A"},{"$error":"#N/A"}]
[{"$nulls":4},{"$f":"VLOOKUP($A34,Participants!$A:$E,4,FALSE)","v":{"$error":"#N/A"}},{"$f":"VLOOKUP($A34,Participants!$A:$E,2,FALSE)","v":{"$error":"#N/A"}},{"$f":"VLOOKUP($A34,Participants!$A:$E,3,FALSE)","v":{"$error":"#N/A"}},{"$f":"VLOOKUP($A34,Participants!$A:$E,5,FALSE)","v":{"$error":"#N/A"}},5,{"$error":"#N/A"},{"$error":"#N/A"}]
[{"$nulls":4},{"$f":"VLOOKUP($A35,Participants!$A:$E,4,FALSE)","v":{"$error":"#N/A"}},{"$f":"VLOOKUP($A35,Participants!$A:$E,2,FALSE)","v":{"$error":"#N/A"}},{"$f":"VLOOKUP($A35,Participants!$A:$E,3,FALSE)","v":{"$error":"#N/A"}},{"$f":"VLOOKUP($A35,Participants!$A:$E,5,FALSE)","v":{"$error":"#N/A"}},5,{"$error":"#N/A"},{"$error":"#N/A"}]
[]
[{"$nulls":4},{"$f":"VLOOKUP($A37,Participants!$A:$E,4,FALSE)","v":{"$error":"#N/A"}},{"$f":"VLOOKUP($A37,Participants!$A:$E,2,FALSE)","v":{"$error":"#N/A"}},{"$f":"VLOOKUP($A37,Participants!$A:$E,3,FALSE)","v":{"$error":"#N/A"}},{"$f":"VLOOKUP($A37,Participants!$A:$E,5,FALSE)","v":{"$error":"#N/A"}},6,{"$f":"RANK(D37,IF(I37=6,$D$37:$D$42,),1)","v":{"$error":"#N/A"}},{"$error":"#N/A"}]
[{"$nulls":4},{"$f":"VLOOKUP($A38,Participants!$A:$E,4,FALSE)","v":{"$error":"#N/A"}},{"$f":"VLOOKUP($A38,Participants!$A:$E,2,FALSE)","v":{"$error":"#N/A"}},{"$f":"VLOOKUP($A38,Participants!$A:$E,3,FALSE)","v":{"$error":"#N/A"}},{"$f":"VLOOKUP($A38,Participants!$A:$E,5,FALSE)","v":{"$error":"#N/A"}},6,{"$f":"RANK(D38,IF(I38=6,$D$37:$D$42,),1)","v":{"$error":"#N/A"}},{"$error":"#N/A"}]
[{"$nulls":4},{"$f":"VLOOKUP($A39,Participants!$A:$E,4,FALSE)","v":{"$error":"#N/A"}},{"$f":"VLOOKUP($A39,Participants!$A:$E,2,FALSE)","v":{"$error":"#N/A"}},{"$f":"VLOOKUP($A39,Participants!$A:$E,3,FALSE)","v":{"$error":"#N/A"}},{"$f":"VLOOKUP($A39,Participants!$A:$E,5,FALSE)","v":{"$error":"#N/A"}},6,{"$error":"#N/A"},{"$error":"#N/A"}]
[{"$nulls":4},{"$f":"VLOOKUP($A40,Participants!$A:$E,4,FALSE)","v":{"$error":"#N/A"}},{"$f":"VLOOKUP($A40,Participants!$A:$E,2,FALSE)","v":{"$error":"#N/A"}},{"$f":"VLOOKUP($A40,Participants!$A:$E,3,FALSE)","v":{"$error":"#N/A"}},{"$f":"VLOOKUP($A40,Participants!$A:$E,5,FALSE)","v":{"$error":"#N/A"}},6,{"$error":"#N/A"},{"$error":"#N/A"}]
[{"$nulls":4},{"$f":"VLOOKUP($A41,Participants!$A:$E,4,FALSE)","v":{"$error":"#N/A"}},{"$f":"VLOOKUP($A41,Participants!$A:$E,2,FALSE)","v":{"$error":"#N/A"}},{"$f":"VLOOKUP($A41,Participants!$A:$E,3,FALSE)","v":{"$error":"#N/A"}},{"$f":"VLOOKUP($A41,Participants!$A:$E,5,FALSE)","v":{"$error":"#N/A"}},6,{"$error":"#N/A"},{"$error":"#N/A"}]
[{"$nulls":4},{"$f":"VLOOKUP($A42,Participants!$A:$E,4,FALSE)","v":{"$error":"#N/A"}},{"$f":"VLOOKUP($A42,Participants!$A:$E,2,FALSE)","v":{"$error":"#N/A"}},{"$f":"VLOOKUP($A42,Participants!$A:$E,3,FALSE)","v":{"$error":"#N/A"}},{"$f":"VLOOKUP($A42,Participants!$A:$E,5,FALSE)","v":{"$error":"#N/A"}},6,{"$error":"#N/A"},{"$error":"#N/A"}]
[]
[{"$nulls":4},{"$f":"VLOOKUP($A44,Participants!$A:$E,4,FALSE)","v":{"$error":"#N/A"}},{"$f":"VLOOKUP($A44,Participants!$A:$E,2,FALSE)","v":{"$error":"#N/A"}},{"$f":"VLOOKUP($A44,Participants!$A:$E,3,FALSE)","v":{"$error":"#N/A"}},{"$f":"VLOOKUP($A44,Participants!$A:$E,5,FALSE)","v":{"$error":"#N/A"}},7,{"$f":"RANK(D44,IF(I44=7,$D$44:$D$49,),1)","v":{"$error":"#N/A"}},{"$f":"RANK(D44,$D$2:$D$100,1)","v":{"$error":"#N/A"}}]
[{"$nulls":4},{"$f":"VLOOKUP($A45,Participants!$A:$E,4,FALSE)","v":{"$error":"#N/A"}},{"$f":"VLOOKUP($A45,Participants!$A:$E,2,FALSE)","v":{"$error":"#N/A"}},{"$f":"VLOOKUP($A45,Participants!$A:$E,3,FALSE)","v":{"$error":"#N/A"}},{"$f":"VLOOKUP($A45,Participants!$A:$E,5,FALSE)","v":{"$error":"#N/A"}},7,{"$f":"RANK(D45,IF(I45=7,$D$44:$D$49,),1)","v":{"$error":"#N/A"}},{"$error":"#N/A"}]
[{"$nulls":4},{"$f":"VLOOKUP($A46,Participants!$A:$E,4,FALSE)","v":{"$error":"#N/A"}},{"$f":"VLOOKUP($A46,Participants!$A:$E,2,FALSE)","v":{"$error":"#N/A"}},{"$f":"VLOOKUP($A46,Participants!$A:$E,3,FALSE)","v":{"$error":"#N/A"}},{"$f":"VLOOKUP($A46,Participants!$A:$E,5,FALSE)","v":{"$error":"#N/A"}},7,{"$error":"#N/A"},{"$error":"#N/A"}]
[{"$nulls":4},{"$f":"VLOOKUP($A47,Participants!$A:$E,4,FALSE)","v":{"$error":"#N/A"}},{"$f":"VLOOKUP($A47,Participants!$A:$E,2,FALSE)","v":{"$error":"#N/A"}},{"$f":"VLOOKUP($A47,Participants!$A:$E,3,FALSE)","v":{"$error":"#N/A"}},{"$f":"VLOOKUP($A47,Participants!$A:$E,5,FALSE)","v":{"$error":"#N/A"}},7,{"$error":"#N/A"},{"$error":"#N/A"}]
[{"$nulls":4},{"$f":"VLOOKUP($A48,Participants!$A:$E,4,FALSE)","v":{"$error":"#N/A"}},{"$f":"VLOOKUP($A48,Participants!$A:$E,2,FALSE)","v":{"$error":"#N/A"}},{"$f":"VLOOKUP($A48,Participants!$A:$E,3,FALSE)","v":{"$error":"#N/A"}},{"$f":"VLOOKUP($A48,Participants!$A:$E,5,FALSE)","v":{"$error":"#N/A"}},7,{"$error":"#N/A"},{"$error":"#N/A"}]
[{"$nulls":4},{"$f":"VLOOKUP($A49,Participants!$A:$E,4,FALSE)","v":{"$error":"#N/A"}},{"$f":"VLOOKUP($A49,Participants!$A:$E,2,FALSE)","v":{"$error":"#N/A"}},{"$f":"VLOOKUP($A49,Participants!$A:$E,3,FALSE)","v":{"$error":"#N/A"}},{"$f":"VLOOKUP($A49,Participants!$A:$E,5,FALSE)","v":{"$error":"#N/A"}},7,{"$error":"#N/A"},{"$error":"#N/A"}]
[]
[{"$nulls":4},{"$f":"VLOOKUP($A51,Participants!$A:$E,4,FALSE)","v":{"$error":"#N/A"}},{"$f":"VLOOKUP($A51,Participants!$A:$E,2,FALSE)","v":{"$error":"#N/A"}},{"$f":"VLOOKUP($A51,Participants!$A:$E,3,FALSE)","v":{"$error":"#N/A"}},{"$f":"VLOOKUP($A51,Participants!$A:$E,5,FALSE)","v":{"$error":"#N/A"}},8,{"$f":"RANK(D51,IF(I51=8,$D$51:$D$56,),1)","v":{"$error":"#N/A"}},{"$f":"RANK(D51,$D$2:$D$100,1)","v":{"$error":"#N/A"}}]
[{"$nulls":4},{"$f":"VLOOKUP($A52,Participants!$A:$E,4,FALSE)","v":{"$error":"#N/A"}},{"$f":"VLOOKUP($A52,Participants!$A:$E,2,FALSE)","v":{"$error":"#N/A"}},{"$f":"VLOOKUP($A52,Participants!$A:$E,3,FALSE)","v":{"$error":"#N/A"}},{"$f":"VLOOKUP($A52,Participants!$A:$E,5,FALSE)","v":{"$error":"#N/A"}},8,{"$f":"RANK(D52,IF(I52=8,$D$51:$D$56,),1)","v":{"$error":"#N/A"}},{"$error":"#N/A"}]
[{"$nulls":4},{"$f":"VLOOKUP($A53,Participants!$A:$E,4,FALSE)","v":{"$error":"#N/A"}},{"$f":"VLOOKUP($A53,Participants!$A:$E,2,FALSE)","v":{"$error":"#N/A"}},{"$f":"VLOOKUP($A53,Participants!$A:$E,3,FALSE)","v":{"$error":"#N/A"}},{"$f":"VLOOKUP($A53,Participants!$A:$E,5,FALSE)","v":{"$error":"#N/A"}},8,{"$error":"#N/A"},{"$error":"#N/A"}]
[{"$nulls":4},{"$f":"VLOOKUP($A54,Participants!$A:$E,4,FALSE)","v":{"$error":"#N/A"}},{"$f":"VLOOKUP($A54,Participants!$A:$E,2,FALSE)","v":{"$error":"#N/A"}},{"$f":"VLOOKUP($A54,Participants!$A:$E,3,FALSE)","v":{"$error":"#N/A"}},{"$f":"VLOOKUP($A54,Participants!$A:$E,5,FALSE)","v":{"$error":"#N/A"}},8,{"$error":"#N/A"},{"$error":"#N/A"}]
[{"$nulls":4},{"$f":"VLOOKUP($A55,Participants!$A:$E,4,FALSE)","v":{"$error":"#N/A"}},{"$f":"VLOOKUP($A55,Participants!$A:$E,2,FALSE)","v":{"$error":"#N/A"}},{"$f":"VLOOKUP($A55,Participants!$A:$E,3,FALSE)","v":{"$error":"#N/A"}},{"$f":"VLOOKUP($A55,Participants!$A:$E,5,FALSE)","v":{"$error":"#N/A"}},8,{"$error":"#N/A"},{"$error":"#N/A"}]
[{"$nulls":4},{"$f":"VLOOKUP($A56,Participants!$A:$E,4,FALSE)","v":{"$error":"#N/A"}},{"$f":"VLOOKUP($A56,Participants!$A:$E,2,FALSE)","v":{"$error":"#N/A"}},{"$f":"VLOOKUP($A56,Participants!$A:$E,3,FALSE)","v":{"$error":"#N/A"}},{"$f":"VLOOKUP($A56,Participants!$A:$E,5,FALSE)","v":{"$error":"#N/A"}},8,{"$error":"#N/A"},{"$error":"#N/A"}]

{"sheet":"Shotput 56 Boys","index":19,"n_rows":101,"n_cols":13,"rows_kept":101}
["Bib","Best Jump\n\nwill calculate\nautomatically","First Jump\n\nEnter 10 ft 3 3/4 in as 1003.75","Second Jump\n\nEnter 10 ft 3 3/4 in as 1003.75","Third Jump\n\nEnter 10 ft 3 3/4 in as 1003.75","Grade","FName","Lname","School","Overall Place",null,null,"Return to Schedule of Events"]
[254,{"$f":"MAX(C2:E2)","v":2003.5},2003.5,null,null,{"$f":"VLOOKUP($A2,Participants!$A:$E,4,FALSE)","v":6},{"$f":"VLOOKUP($A2,Participants!$A:$E,2,FALSE)","v":"Jonah"},{"$f":"VLOOKUP($A2,Participants!$A:$E,3,FALSE)","v":"Odum"},{"$f":"VLOOKUP($A2,Participants!$A:$E,5,FALSE)","v":"United We Run"},{"$f":"RANK(B2,$B$1:$B$97,0)","v":4}]
[91,{"$f":"MAX(C3:E3)","v":2906.25},2906.25,null,null,{"$f":"VLOOKUP($A3,Participants!$A:$E,4,FALSE)","v":6},{"$f":"VLOOKUP($A3,Participants!$A:$E,2,FALSE)","v":"T J"},{"$f":"VLOOKUP($A3,Participants!$A:$E,3,FALSE)","v":"Michalak"},{"$f":"VLOOKUP($A3,Participants!$A:$E,5,FALSE)","v":"St Jude"},{"$f":"RANK(B3,$B$1:$B$97,0)","v":1},null,null,"Add or Update Participants"]
[160,1600.5,1600.5,null,null,{"$f":"VLOOKUP($A4,Participants!$A:$E,4,FALSE)","v":6},{"$f":"VLOOKUP($A4,Participants!$A:$E,2,FALSE)","v":"Jacob"},{"$f":"VLOOKUP($A4,Participants!$A:$E,3,FALSE)","v":"Coppinger"},{"$f":"VLOOKUP($A4,Participants!$A:$E,5,FALSE)","v":"SSFC"},5,null,null,"Overall Place and Points"]
[301,2206.5,2206.5,null,null,{"$f":"VLOOKUP($A5,Participants!$A:$E,4,FALSE)","v":5},{"$f":"VLOOKUP($A5,Participants!$A:$E,2,FALSE)","v":"Jonah"},{"$f":"VLOOKUP($A5,Participants!$A:$E,3,FALSE)","v":"Roell"},{"$f":"VLOOKUP($A5,Participants!$A:$E,5,FALSE)","v":"St. Barnabas"},3]
[177,2500.75,2500.75,null,null,{"$f":"VLOOKUP($A6,Participants!$A:$E,4,FALSE)","v":6},{"$f":"VLOOKUP($A6,Participants!$A:$E,2,FALSE)","v":"Zachary"},{"$f":"VLOOKUP($A6,Participants!$A:$E,3,FALSE)","v":"Hellinga"},{"$f":"VLOOKUP($A6,Participants!$A:$E,5,FALSE)","v":"SSFC"},2]
[null,0,{"$nulls":3},{"$f":"VLOOKUP($A7,Participants!$A:$E,4,FALSE)","v":{"$error":"#N/A"}},{"$f":"VLOOKUP($A7,Participants!$A:$E,2,FALSE)","v":{"$error":"#N/A"}},{"$f":"VLOOKUP($A7,Participants!$A:$E,3,FALSE)","v":{"$error":"#N/A"}},{"$f":"VLOOKUP($A7,Participants!$A:$E,5,FALSE)","v":{"$error":"#N/A"}},6]
[null,0,{"$nulls":3},{"$f":"VLOOKUP($A8,Participants!$A:$E,4,FALSE)","v":{"$error":"#N/A"}},{"$f":"VLOOKUP($A8,Participants!$A:$E,2,FALSE)","v":{"$error":"#N/A"}},{"$f":"VLOOKUP($A8,Participants!$A:$E,3,FALSE)","v":{"$error":"#N/A"}},{"$f":"VLOOKUP($A8,Participants!$A:$E,5,FALSE)","v":{"$error":"#N/A"}},6]
[null,0,{"$nulls":3},{"$f":"VLOOKUP($A9,Participants!$A:$E,4,FALSE)","v":{"$error":"#N/A"}},{"$f":"VLOOKUP($A9,Participants!$A:$E,2,FALSE)","v":{"$error":"#N/A"}},{"$f":"VLOOKUP($A9,Participants!$A:$E,3,FALSE)","v":{"$error":"#N/A"}},{"$f":"VLOOKUP($A9,Participants!$A:$E,5,FALSE)","v":{"$error":"#N/A"}},6]
[null,0,{"$nulls":3},{"$f":"VLOOKUP($A10,Participants!$A:$E,4,FALSE)","v":{"$error":"#N/A"}},{"$f":"VLOOKUP($A10,Participants!$A:$E,2,FALSE)","v":{"$error":"#N/A"}},{"$f":"VLOOKUP($A10,Participants!$A:$E,3,FALSE)","v":{"$error":"#N/A"}},{"$f":"VLOOKUP($A10,Participants!$A:$E,5,FALSE)","v":{"$error":"#N/A"}},6]
[null,0,{"$nulls":3},{"$f":"VLOOKUP($A11,Participants!$A:$E,4,FALSE)","v":{"$error":"#N/A"}},{"$f":"VLOOKUP($A11,Participants!$A:$E,2,FALSE)","v":{"$error":"#N/A"}},{"$f":"VLOOKUP($A11,Participants!$A:$E,3,FALSE)","v":{"$error":"#N/A"}},{"$f":"VLOOKUP($A11,Participants!$A:$E,5,FALSE)","v":{"$error":"#N/A"}},6]
[null,0,{"$nulls":3},{"$f":"VLOOKUP($A12,Participants!$A:$E,4,FALSE)","v":{"$error":"#N/A"}},{"$f":"VLOOKUP($A12,Participants!$A:$E,2,FALSE)","v":{"$error":"#N/A"}},{"$f":"VLOOKUP($A12,Participants!$A:$E,3,FALSE)","v":{"$error":"#N/A"}},{"$f":"VLOOKUP($A12,Participants!$A:$E,5,FALSE)","v":{"$error":"#N/A"}},6]
[null,0,{"$nulls":3},{"$f":"VLOOKUP($A13,Participants!$A:$E,4,FALSE)","v":{"$error":"#N/A"}},{"$f":"VLOOKUP($A13,Participants!$A:$E,2,FALSE)","v":{"$error":"#N/A"}},{"$f":"VLOOKUP($A13,Participants!$A:$E,3,FALSE)","v":{"$error":"#N/A"}},{"$f":"VLOOKUP($A13,Participants!$A:$E,5,FALSE)","v":{"$error":"#N/A"}},6]
[null,0,{"$nulls":3},{"$f":"VLOOKUP($A14,Participants!$A:$E,4,FALSE)","v":{"$error":"#N/A"}},{"$f":"VLOOKUP($A14,Participants!$A:$E,2,FALSE)","v":{"$error":"#N/A"}},{"$f":"VLOOKUP($A14,Participants!$A:$E,3,FALSE)","v":{"$error":"#N/A"}},{"$f":"VLOOKUP($A14,Participants!$A:$E,5,FALSE)","v":{"$error":"#N/A"}},6]
[null,0,{"$nulls":3},{"$f":"VLOOKUP($A15,Participants!$A:$E,4,FALSE)","v":{"$error":"#N/A"}},{"$f":"VLOOKUP($A15,Participants!$A:$E,2,FALSE)","v":{"$error":"#N/A"}},{"$f":"VLOOKUP($A15,Participants!$A:$E,3,FALSE)","v":{"$error":"#N/A"}},{"$f":"VLOOKUP($A15,Participants!$A:$E,5,FALSE)","v":{"$error":"#N/A"}},6]
[null,0,{"$nulls":3},{"$f":"VLOOKUP($A16,Participants!$A:$E,4,FALSE)","v":{"$error":"#N/A"}},{"$f":"VLOOKUP($A16,Participants!$A:$E,2,FALSE)","v":{"$error":"#N/A"}},{"$f":"VLOOKUP($A16,Participants!$A:$E,3,FALSE)","v":{"$error":"#N/A"}},{"$f":"VLOOKUP($A16,Participants!$A:$E,5,FALSE)","v":{"$error":"#N/A"}},6]
[null,0,{"$nulls":3},{"$f":"VLOOKUP($A17,Participants!$A:$E,4,FALSE)","v":{"$error":"#N/A"}},{"$f":"VLOOKUP($A17,Participants!$A:$E,2,FALSE)","v":{"$error":"#N/A"}},{"$f":"VLOOKUP($A17,Participants!$A:$E,3,FALSE)","v":{"$error":"#N/A"}},{"$f":"VLOOKUP($A17,Participants!$A:$E,5,FALSE)","v":{"$error":"#N/A"}},6]
[null,0,{"$nulls":3},{"$f":"VLOOKUP($A18,Participants!$A:$E,4,FALSE)","v":{"$error":"#N/A"}},{"$f":"VLOOKUP($A18,Participants!$A:$E,2,FALSE)","v":{"$error":"#N/A"}},{"$f":"VLOOKUP($A18,Participants!$A:$E,3,FALSE)","v":{"$error":"#N/A"}},{"$f":"VLOOKUP($A18,Participants!$A:$E,5,FALSE)","v":{"$error":"#N/A"}},6]
[null,0,{"$nulls":3},{"$f":"VLOOKUP($A19,Participants!$A:$E,4,FALSE)","v":{"$error":"#N/A"}},{"$f":"VLOOKUP($A19,Participants!$A:$E,2,FALSE)","v":{"$error":"#N/A"}},{"$f":"VLOOKUP($A19,Participants!$A:$E,3,FALSE)","v":{"$error":"#N/A"}},{"$f":"VLOOKUP($A19,Participants!$A:$E,5,FALSE)","v":{"$error":"#N/A"}},6]
[null,0,{"$nulls":3},{"$f":"VLOOKUP($A20,Participants!$A:$E,4,FALSE)","v":{"$error":"#N/A"}},{"$f":"VLOOKUP($A20,Participants!$A:$E,2,FALSE)","v":{"$error":"#N/A"}},{"$f":"VLOOKUP($A20,Participants!$A:$E,3,FALSE)","v":{"$error":"#N/A"}},{"$f":"VLOOKUP($A20,Participants!$A:$E,5,FALSE)","v":{"$error":"#N/A"}},6]
[null,0,{"$nulls":3},{"$f":"VLOOKUP($A21,Participants!$A:$E,4,FALSE)","v":{"$error":"#N/A"}},{"$f":"VLOOKUP($A21,Participants!$A:$E,2,FALSE)","v":{"$error":"#N/A"}},{"$f":"VLOOKUP($A21,Participants!$A:$E,3,FALSE)","v":{"$error":"#N/A"}},{"$f":"VLOOKUP($A21,Participants!$A:$E,5,FALSE)","v":{"$error":"#N/A"}},6]
[null,0,{"$nulls":3},{"$f":"VLOOKUP($A22,Participants!$A:$E,4,FALSE)","v":{"$error":"#N/A"}},{"$f":"VLOOKUP($A22,Participants!$A:$E,2,FALSE)","v":{"$error":"#N/A"}},{"$f":"VLOOKUP($A22,Participants!$A:$E,3,FALSE)","v":{"$error":"#N/A"}},{"$f":"VLOOKUP($A22,Participants!$A:$E,5,FALSE)","v":{"$error":"#N/A"}},6]
[null,0,{"$nulls":3},{"$f":"VLOOKUP($A23,Participants!$A:$E,4,FALSE)","v":{"$error":"#N/A"}},{"$f":"VLOOKUP($A23,Participants!$A:$E,2,FALSE)","v":{"$error":"#N/A"}},{"$f":"VLOOKUP($A23,Participants!$A:$E,3,FALSE)","v":{"$error":"#N/A"}},{"$f":"VLOOKUP($A23,Participants!$A:$E,5,FALSE)","v":{"$error":"#N/A"}},6]
[null,0,{"$nulls":3},{"$f":"VLOOKUP($A24,Participants!$A:$E,4,FALSE)","v":{"$error":"#N/A"}},{"$f":"VLOOKUP($A24,Participants!$A:$E,2,FALSE)","v":{"$error":"#N/A"}},{"$f":"VLOOKUP($A24,Participants!$A:$E,3,FALSE)","v":{"$error":"#N/A"}},{"$f":"VLOOKUP($A24,Participants!$A:$E,5,FALSE)","v":{"$error":"#N/A"}},6]
[null,0,{"$nulls":3},{"$f":"VLOOKUP($A25,Participants!$A:$E,4,FALSE)","v":{"$error":"#N/A"}},{"$f":"VLOOKUP($A25,Participants!$A:$E,2,FALSE)","v":{"$error":"#N/A"}},{"$f":"VLOOKUP($A25,Participants!$A:$E,3,FALSE)","v":{"$error":"#N/A"}},{"$f":"VLOOKUP($A25,Participants!$A:$E,5,FALSE)","v":{"$error":"#N/A"}},6]
[null,0,{"$nulls":3},{"$f":"VLOOKUP($A26,Participants!$A:$E,4,FALSE)","v":{"$error":"#N/A"}},{"$f":"VLOOKUP($A26,Participants!$A:$E,2,FALSE)","v":{"$error":"#N/A"}},{"$f":"VLOOKUP($A26,Participants!$A:$E,3,FALSE)","v":{"$error":"#N/A"}},{"$f":"VLOOKUP($A26,Participants!$A:$E,5,FALSE)","v":{"$error":"#N/A"}},6]
[null,0,{"$nulls":3},{"$f":"VLOOKUP($A27,Participants!$A:$E,4,FALSE)","v":{"$error":"#N/A"}},{"$f":"VLOOKUP($A27,Participants!$A:$E,2,FALSE)","v":{"$error":"#N/A"}},{"$f":"VLOOKUP($A27,Participants!$A:$E,3,FALSE)","v":{"$error":"#N/A"}},{"$f":"VLOOKUP($A27,Participants!$A:$E,5,FALSE)","v":{"$error":"#N/A"}},6]
[null,0,{"$nulls":3},{"$f":"VLOOKUP($A28,Participants!$A:$E,4,FALSE)","v":{"$error":"#N/A"}},{"$f":"VLOOKUP($A28,Participants!$A:$E,2,FALSE)","v":{"$error":"#N/A"}},{"$f":"VLOOKUP($A28,Participants!$A:$E,3,FALSE)","v":{"$error":"#N/A"}},{"$f":"VLOOKUP($A28,Participants!$A:$E,5,FALSE)","v":{"$error":"#N/A"}},6]
[null,0,{"$nulls":3},{"$f":"VLOOKUP($A29,Participants!$A:$E,4,FALSE)","v":{"$error":"#N/A"}},{"$f":"VLOOKUP($A29,Participants!$A:$E,2,FALSE)","v":{"$error":"#N/A"}},{"$f":"VLOOKUP($A29,Participants!$A:$E,3,FALSE)","v":{"$error":"#N/A"}},{"$f":"VLOOKUP($A29,Participants!$A:$E,5,FALSE)","v":{"$error":"#N/A"}},6]
[null,0,{"$nulls":3},{"$f":"VLOOKUP($A30,Participants!$A:$E,4,FALSE)","v":{"$error":"#N/A"}},{"$f":"VLOOKUP($A30,Participants!$A:$E,2,FALSE)","v":{"$error":"#N/A"}},{"$f":"VLOOKUP($A30,Participants!$A:$E,3,FALSE)","v":{"$error":"#N/A"}},{"$f":"VLOOKUP($A30,Participants!$A:$E,5,FALSE)","v":{"$error":"#N/A"}},6]
[null,0,{"$nulls":3},{"$f":"VLOOKUP($A31,Participants!$A:$E,4,FALSE)","v":{"$error":"#N/A"}},{"$f":"VLOOKUP($A31,Participants!$A:$E,2,FALSE)","v":{"$error":"#N/A"}},{"$f":"VLOOKUP($A31,Participants!$A:$E,3,FALSE)","v":{"$error":"#N/A"}},{"$f":"VLOOKUP($A31,Participants!$A:$E,5,FALSE)","v":{"$error":"#N/A"}},6]
[null,0,{"$nulls":3},{"$f":"VLOOKUP($A32,Participants!$A:$E,4,FALSE)","v":{"$error":"#N/A"}},{"$f":"VLOOKUP($A32,Participants!$A:$E,2,FALSE)","v":{"$error":"#N/A"}},{"$f":"VLOOKUP($A32,Participants!$A:$E,3,FALSE)","v":{"$error":"#N/A"}},{"$f":"VLOOKUP($A32,Participants!$A:$E,5,FALSE)","v":{"$error":"#N/A"}},6]
[null,0,{"$nulls":3},{"$f":"VLOOKUP($A33,Participants!$A:$E,4,FALSE)","v":{"$error":"#N/A"}},{"$f":"VLOOKUP($A33,Participants!$A:$E,2,FALSE)","v":{"$error":"#N/A"}},{"$f":"VLOOKUP($A33,Participants!$A:$E,3,FALSE)","v":{"$error":"#N/A"}},{"$f":"VLOOKUP($A33,Participants!$A:$E,5,FALSE)","v":{"$error":"#N/A"}},6]
[null,0,{"$nulls":3},{"$f":"VLOOKUP($A34,Participants!$A:$E,4,FALSE)","v":{"$error":"#N/A"}},{"$f":"VLOOKUP($A34,Participants!$A:$E,2,FALSE)","v":{"$error":"#N/A"}},{"$f":"VLOOKUP($A34,Participants!$A:$E,3,FALSE)","v":{"$error":"#N/A"}},{"$f":"VLOOKUP($A34,Participants!$A:$E,5,FALSE)","v":{"$error":"#N/A"}},6]
[null,0,{"$nulls":3},{"$f":"VLOOKUP($A35,Participants!$A:$E,4,FALSE)","v":{"$error":"#N/A"}},{"$f":"VLOOKUP($A35,Participants!$A:$E,2,FALSE)","v":{"$error":"#N/A"}},{"$f":"VLOOKUP($A35,Participants!$A:$E,3,FALSE)","v":{"$error":"#N/A"}},{"$f":"VLOOKUP($A35,Participants!$A:$E,5,FALSE)","v":{"$error":"#N/A"}},6]
[null,0,{"$nulls":3},{"$f":"VLOOKUP($A36,Participants!$A:$E,4,FALSE)","v":{"$error":"#N/A"}},{"$f":"VLOOKUP($A36,Participants!$A:$E,2,FALSE)","v":{"$error":"#N/A"}},{"$f":"VLOOKUP($A36,Participants!$A:$E,3,FALSE)","v":{"$error":"#N/A"}},{"$f":"VLOOKUP($A36,Participants!$A:$E,5,FALSE)","v":{"$error":"#N/A"}},6]
[null,0,{"$nulls":3},{"$f":"VLOOKUP($A37,Participants!$A:$E,4,FALSE)","v":{"$error":"#N/A"}},{"$f":"VLOOKUP($A37,Participants!$A:$E,2,FALSE)","v":{"$error":"#N/A"}},{"$f":"VLOOKUP($A37,Participants!$A:$E,3,FALSE)","v":{"$error":"#N/A"}},{"$f":"VLOOKUP($A37,Participants!$A:$E,5,FALSE)","v":{"$error":"#N/A"}},6]
[null,0,{"$nulls":3},{"$f":"VLOOKUP($A38,Participants!$A:$E,4,FALSE)","v":{"$error":"#N/A"}},{"$f":"VLOOKUP($A38,Participants!$A:$E,2,FALSE)","v":{"$error":"#N/A"}},{"$f":"VLOOKUP($A38,Participants!$A:$E,3,FALSE)","v":{"$error":"#N/A"}},{"$f":"VLOOKUP($A38,Participants!$A:$E,5,FALSE)","v":{"$error":"#N/A"}},6]
[null,0,{"$nulls":3},{"$f":"VLOOKUP($A39,Participants!$A:$E,4,FALSE)","v":{"$error":"#N/A"}},{"$f":"VLOOKUP($A39,Participants!$A:$E,2,FALSE)","v":{"$error":"#N/A"}},{"$f":"VLOOKUP($A39,Participants!$A:$E,3,FALSE)","v":{"$error":"#N/A"}},{"$f":"VLOOKUP($A39,Participants!$A:$E,5,FALSE)","v":{"$error":"#N/A"}},6]
[null,0,{"$nulls":3},{"$f":"VLOOKUP($A40,Participants!$A:$E,4,FALSE)","v":{"$error":"#N/A"}},{"$f":"VLOOKUP($A40,Participants!$A:$E,2,FALSE)","v":{"$error":"#N/A"}},{"$f":"VLOOKUP($A40,Participants!$A:$E,3,FALSE)","v":{"$error":"#N/A"}},{"$f":"VLOOKUP($A40,Participants!$A:$E,5,FALSE)","v":{"$error":"#N/A"}},6]
[null,0,{"$nulls":3},{"$f":"VLOOKUP($A41,Participants!$A:$E,4,FALSE)","v":{"$error":"#N/A"}},{"$f":"VLOOKUP($A41,Participants!$A:$E,2,FALSE)","v":{"$error":"#N/A"}},{"$f":"VLOOKUP($A41,Participants!$A:$E,3,FALSE)","v":{"$error":"#N/A"}},{"$f":"VLOOKUP($A41,Participants!$A:$E,5,FALSE)","v":{"$error":"#N/A"}},6]
[null,0,{"$nulls":3},{"$f":"VLOOKUP($A42,Participants!$A:$E,4,FALSE)","v":{"$error":"#N/A"}},{"$f":"VLOOKUP($A42,Participants!$A:$E,2,FALSE)","v":{"$error":"#N/A"}},{"$f":"VLOOKUP($A42,Participants!$A:$E,3,FALSE)","v":{"$error":"#N/A"}},{"$f":"VLOOKUP($A42,Participants!$A:$E,5,FALSE)","v":{"$error":"#N/A"}},6]
[null,0,{"$nulls":3},{"$f":"VLOOKUP($A43,Participants!$A:$E,4,FALSE)","v":{"$error":"#N/A"}},{"$f":"VLOOKUP($A43,Participants!$A:$E,2,FALSE)","v":{"$error":"#N/A"}},{"$f":"VLOOKUP($A43,Participants!$A:$E,3,FALSE)","v":{"$error":"#N/A"}},{"$f":"VLOOKUP($A43,Participants!$A:$E,5,FALSE)","v":{"$error":"#N/A"}},6]
[null,0,{"$nulls":3},{"$f":"VLOOKUP($A44,Participants!$A:$E,4,FALSE)","v":{"$error":"#N/A"}},{"$f":"VLOOKUP($A44,Participants!$A:$E,2,FALSE)","v":{"$error":"#N/A"}},{"$f":"VLOOKUP($A44,Participants!$A:$E,3,FALSE)","v":{"$error":"#N/A"}},{"$f":"VLOOKUP($A44,Participants!$A:$E,5,FALSE)","v":{"$error":"#N/A"}},6]
[null,0,{"$nulls":3},{"$f":"VLOOKUP($A45,Participants!$A:$E,4,FALSE)","v":{"$error":"#N/A"}},{"$f":"VLOOKUP($A45,Participants!$A:$E,2,FALSE)","v":{"$error":"#N/A"}},{"$f":"VLOOKUP($A45,Participants!$A:$E,3,FALSE)","v":{"$error":"#N/A"}},{"$f":"VLOOKUP($A45,Participants!$A:$E,5,FALSE)","v":{"$error":"#N/A"}},6]
[null,0,{"$nulls":3},{"$f":"VLOOKUP($A46,Participants!$A:$E,4,FALSE)","v":{"$error":"#N/A"}},{"$f":"VLOOKUP($A46,Participants!$A:$E,2,FALSE)","v":{"$error":"#N/A"}},{"$f":"VLOOKUP($A46,Participants!$A:$E,3,FALSE)","v":{"$error":"#N/A"}},{"$f":"VLOOKUP($A46,Participants!$A:$E,5,FALSE)","v":{"$error":"#N/A"}},6]
[null,0,{"$nulls":3},{"$f":"VLOOKUP($A47,Participants!$A:$E,4,FALSE)","v":{"$error":"#N/A"}},{"$f":"VLOOKUP($A47,Participants!$A:$E,2,FALSE)","v":{"$error":"#N/A"}},{"$f":"VLOOKUP($A47,Participants!$A:$E,3,FALSE)","v":{"$error":"#N/A"}},{"$f":"VLOOKUP($A47,Participants!$A:$E,5,FALSE)","v":{"$error":"#N/A"}},6]
[null,0,{"$nulls":3},{"$f":"VLOOKUP($A48,Participants!$A:$E,4,FALSE)","v":{"$error":"#N/A"}},{"$f":"VLOOKUP($A48,Participants!$A:$E,2,FALSE)","v":{"$error":"#N/A"}},{"$f":"VLOOKUP($A48,Participants!$A:$E,3,FALSE)","v":{"$error":"#N/A"}},{"$f":"VLOOKUP($A48,Participants!$A:$E,5,FALSE)","v":{"$error":"#N/A"}},6]
[null,0,{"$nulls":3},{"$f":"VLOOKUP($A49,Participants!$A:$E,4,FALSE)","v":{"$error":"#N/A"}},{"$f":"VLOOKUP($A49,Participants!$A:$E,2,FALSE)","v":{"$error":"#N/A"}},{"$f":"VLOOKUP($A49,Participants!$A:$E,3,FALSE)","v":{"$error":"#N/A"}},{"$f":"VLOOKUP($A49,Participants!$A:$E,5,FALSE)","v":{"$error":"#N/A"}},6]
[null,0,{"$nulls":3},{"$f":"VLOOKUP($A50,Participants!$A:$E,4,FALSE)","v":{"$error":"#N/A"}},{"$f":"VLOOKUP($A50,Participants!$A:$E,2,FALSE)","v":{"$error":"#N/A"}},{"$f":"VLOOKUP($A50,Participants!$A:$E,3,FALSE)","v":{"$error":"#N/A"}},{"$f":"VLOOKUP($A50,Participants!$A:$E,5,FALSE)","v":{"$error":"#N/A"}},6]
[null,0,{"$nulls":3},{"$f":"VLOOKUP($A51,Participants!$A:$E,4,FALSE)","v":{"$error":"#N/A"}},{"$f":"VLOOKUP($A51,Participants!$A:$E,2,FALSE)","v":{"$error":"#N/A"}},{"$f":"VLOOKUP($A51,Participants!$A:$E,3,FALSE)","v":{"$error":"#N/A"}},{"$f":"VLOOKUP($A51,Participants!$A:$E,5,FALSE)","v":{"$error":"#N/A"}},6]
[null,0,{"$nulls":3},{"$f":"VLOOKUP($A52,Participants!$A:$E,4,FALSE)","v":{"$error":"#N/A"}},{"$f":"VLOOKUP($A52,Participants!$A:$E,2,FALSE)","v":{"$error":"#N/A"}},{"$f":"VLOOKUP($A52,Participants!$A:$E,3,FALSE)","v":{"$error":"#N/A"}},{"$f":"VLOOKUP($A52,Participants!$A:$E,5,FALSE)","v":{"$error":"#N/A"}},6]
[null,0,{"$nulls":3},{"$f":"VLOOKUP($A53,Participants!$A:$E,4,FALSE)","v":{"$error":"#N/A"}},{"$f":"VLOOKUP($A53,Participants!$A:$E,2,FALSE)","v":{"$error":"#N/A"}},{"$f":"VLOOKUP($A53,Participants!$A:$E,3,FALSE)","v":{"$error":"#N/A"}},{"$f":"VLOOKUP($A53,Participants!$A:$E,5,FALSE)","v":{"$error":"#N/A"}},6]
[null,0,{"$nulls":3},{"$f":"VLOOKUP($A54,Participants!$A:$E,4,FALSE)","v":{"$error":"#N/A"}},{"$f":"VLOOKUP($A54,Participants!$A:$E,2,FALSE)","v":{"$error":"#N/A"}},{"$f":"VLOOKUP($A54,Participants!$A:$E,3,FALSE)","v":{"$error":"#N/A"}},{"$f":"VLOOKUP($A54,Participants!$A:$E,5,FALSE)","v":{"$error":"#N/A"}},6]
[null,0,{"$nulls":3},{"$f":"VLOOKUP($A55,Participants!$A:$E,4,FALSE)","v":{"$error":"#N/A"}},{"$f":"VLOOKUP($A55,Participants!$A:$E,2,FALSE)","v":{"$error":"#N/A"}},{"$f":"VLOOKUP($A55,Participants!$A:$E,3,FALSE)","v":{"$error":"#N/A"}},{"$f":"VLOOKUP($A55,Participants!$A:$E,5,FALSE)","v":{"$error":"#N/A"}},6]
[null,0,{"$nulls":3},{"$f":"VLOOKUP($A56,Participants!$A:$E,4,FALSE)","v":{"$error":"#N/A"}},{"$f":"VLOOKUP($A56,Participants!$A:$E,2,FALSE)","v":{"$error":"#N/A"}},{"$f":"VLOOKUP($A56,Participants!$A:$E,3,FALSE)","v":{"$error":"#N/A"}},{"$f":"VLOOKUP($A56,Participants!$A:$E,5,FALSE)","v":{"$error":"#N/A"}},6]
[null,0,{"$nulls":3},{"$f":"VLOOKUP($A57,Participants!$A:$E,4,FALSE)","v":{"$error":"#N/A"}},{"$f":"VLOOKUP($A57,Participants!$A:$E,2,FALSE)","v":{"$error":"#N/A"}},{"$f":"VLOOKUP($A57,Participants!$A:$E,3,FALSE)","v":{"$error":"#N/A"}},{"$f":"VLOOKUP($A57,Participants!$A:$E,5,FALSE)","v":{"$error":"#N/A"}},6]
[null,0,{"$nulls":3},{"$f":"VLOOKUP($A58,Participants!$A:$E,4,FALSE)","v":{"$error":"#N/A"}},{"$f":"VLOOKUP($A58,Participants!$A:$E,2,FALSE)","v":{"$error":"#N/A"}},{"$f":"VLOOKUP($A58,Participants!$A:$E,3,FALSE)","v":{"$error":"#N/A"}},{"$f":"VLOOKUP($A58,Participants!$A:$E,5,FALSE)","v":{"$error":"#N/A"}},6]
[null,0,{"$nulls":3},{"$f":"VLOOKUP($A59,Participants!$A:$E,4,FALSE)","v":{"$error":"#N/A"}},{"$f":"VLOOKUP($A59,Participants!$A:$E,2,FALSE)","v":{"$error":"#N/A"}},{"$f":"VLOOKUP($A59,Participants!$A:$E,3,FALSE)","v":{"$error":"#N/A"}},{"$f":"VLOOKUP($A59,Participants!$A:$E,5,FALSE)","v":{"$error":"#N/A"}},6]
[null,0,{"$nulls":3},{"$f":"VLOOKUP($A60,Participants!$A:$E,4,FALSE)","v":{"$error":"#N/A"}},{"$f":"VLOOKUP($A60,Participants!$A:$E,2,FALSE)","v":{"$error":"#N/A"}},{"$f":"VLOOKUP($A60,Participants!$A:$E,3,FALSE)","v":{"$error":"#N/A"}},{"$f":"VLOOKUP($A60,Participants!$A:$E,5,FALSE)","v":{"$error":"#N/A"}},6]
[null,0,{"$nulls":3},{"$f":"VLOOKUP($A61,Participants!$A:$E,4,FALSE)","v":{"$error":"#N/A"}},{"$f":"VLOOKUP($A61,Participants!$A:$E,2,FALSE)","v":{"$error":"#N/A"}},{"$f":"VLOOKUP($A61,Participants!$A:$E,3,FALSE)","v":{"$error":"#N/A"}},{"$f":"VLOOKUP($A61,Participants!$A:$E,5,FALSE)","v":{"$error":"#N/A"}},6]
[null,0,{"$nulls":3},{"$f":"VLOOKUP($A62,Participants!$A:$E,4,FALSE)","v":{"$error":"#N/A"}},{"$f":"VLOOKUP($A62,Participants!$A:$E,2,FALSE)","v":{"$error":"#N/A"}},{"$f":"VLOOKUP($A62,Participants!$A:$E,3,FALSE)","v":{"$error":"#N/A"}},{"$f":"VLOOKUP($A62,Participants!$A:$E,5,FALSE)","v":{"$error":"#N/A"}},6]
[null,0,{"$nulls":3},{"$f":"VLOOKUP($A63,Participants!$A:$E,4,FALSE)","v":{"$error":"#N/A"}},{"$f":"VLOOKUP($A63,Participants!$A:$E,2,FALSE)","v":{"$error":"#N/A"}},{"$f":"VLOOKUP($A63,Participants!$A:$E,3,FALSE)","v":{"$error":"#N/A"}},{"$f":"VLOOKUP($A63,Participants!$A:$E,5,FALSE)","v":{"$error":"#N/A"}},6]
[null,0,{"$nulls":3},{"$f":"VLOOKUP($A64,Participants!$A:$E,4,FALSE)","v":{"$error":"#N/A"}},{"$f":"VLOOKUP($A64,Participants!$A:$E,2,FALSE)","v":{"$error":"#N/A"}},{"$f":"VLOOKUP($A64,Participants!$A:$E,3,FALSE)","v":{"$error":"#N/A"}},{"$f":"VLOOKUP($A64,Participants!$A:$E,5,FALSE)","v":{"$error":"#N/A"}},6]
[null,0,{"$nulls":3},{"$f":"VLOOKUP($A65,Participants!$A:$E,4,FALSE)","v":{"$error":"#N/A"}},{"$f":"VLOOKUP($A65,Participants!$A:$E,2,FALSE)","v":{"$error":"#N/A"}},{"$f":"VLOOKUP($A65,Participants!$A:$E,3,FALSE)","v":{"$error":"#N/A"}},{"$f":"VLOOKUP($A65,Participants!$A:$E,5,FALSE)","v":{"$error":"#N/A"}},6]
[null,0,{"$nulls":3},{"$f":"VLOOKUP($A66,Participants!$A:$E,4,FALSE)","v":{"$error":"#N/A"}},{"$f":"VLOOKUP($A66,Participants!$A:$E,2,FALSE)","v":{"$error":"#N/A"}},{"$f":"VLOOKUP($A66,Participants!$A:$E,3,FALSE)","v":{"$error":"#N/A"}},{"$f":"VLOOKUP($A66,Participants!$A:$E,5,FALSE)","v":{"$error":"#N/A"}},6]
[null,{"$f":"MAX(C67:E67)","v":0},{"$nulls":3},{"$f":"VLOOKUP($A67,Participants!$A:$E,4,FALSE)","v":{"$error":"#N/A"}},{"$f":"VLOOKUP($A67,Participants!$A:$E,2,FALSE)","v":{"$error":"#N/A"}},{"$f":"VLOOKUP($A67,Participants!$A:$E,3,FALSE)","v":{"$error":"#N/A"}},{"$f":"VLOOKUP($A67,Participants!$A:$E,5,FALSE)","v":{"$error":"#N/A"}},{"$f":"RANK(B67,$B$1:$B$97,0)","v":6}]
[null,0,{"$nulls":3},{"$f":"VLOOKUP($A68,Participants!$A:$E,4,FALSE)","v":{"$error":"#N/A"}},{"$f":"VLOOKUP($A68,Participants!$A:$E,2,FALSE)","v":{"$error":"#N/A"}},{"$f":"VLOOKUP($A68,Participants!$A:$E,3,FALSE)","v":{"$error":"#N/A"}},{"$f":"VLOOKUP($A68,Participants!$A:$E,5,FALSE)","v":{"$error":"#N/A"}},6]
[null,0,{"$nulls":3},{"$f":"VLOOKUP($A69,Participants!$A:$E,4,FALSE)","v":{"$error":"#N/A"}},{"$f":"VLOOKUP($A69,Participants!$A:$E,2,FALSE)","v":{"$error":"#N/A"}},{"$f":"VLOOKUP($A69,Participants!$A:$E,3,FALSE)","v":{"$error":"#N/A"}},{"$f":"VLOOKUP($A69,Participants!$A:$E,5,FALSE)","v":{"$error":"#N/A"}},6]
[null,0,{"$nulls":3},{"$f":"VLOOKUP($A70,Participants!$A:$E,4,FALSE)","v":{"$error":"#N/A"}},{"$f":"VLOOKUP($A70,Participants!$A:$E,2,FALSE)","v":{"$error":"#N/A"}},{"$f":"VLOOKUP($A70,Participants!$A:$E,3,FALSE)","v":{"$error":"#N/A"}},{"$f":"VLOOKUP($A70,Participants!$A:$E,5,FALSE)","v":{"$error":"#N/A"}},6]
[null,0,{"$nulls":3},{"$f":"VLOOKUP($A71,Participants!$A:$E,4,FALSE)","v":{"$error":"#N/A"}},{"$f":"VLOOKUP($A71,Participants!$A:$E,2,FALSE)","v":{"$error":"#N/A"}},{"$f":"VLOOKUP($A71,Participants!$A:$E,3,FALSE)","v":{"$error":"#N/A"}},{"$f":"VLOOKUP($A71,Participants!$A:$E,5,FALSE)","v":{"$error":"#N/A"}},6]
[null,0,{"$nulls":3},{"$f":"VLOOKUP($A72,Participants!$A:$E,4,FALSE)","v":{"$error":"#N/A"}},{"$f":"VLOOKUP($A72,Participants!$A:$E,2,FALSE)","v":{"$error":"#N/A"}},{"$f":"VLOOKUP($A72,Participants!$A:$E,3,FALSE)","v":{"$error":"#N/A"}},{"$f":"VLOOKUP($A72,Participants!$A:$E,5,FALSE)","v":{"$error":"#N/A"}},6]
[null,0,{"$nulls":3},{"$f":"VLOOKUP($A73,Participants!$A:$E,4,FALSE)","v":{"$error":"#N/A"}},{"$f":"VLOOKUP($A73,Participants!$A:$E,2,FALSE)","v":{"$error":"#N/A"}},{"$f":"VLOOKUP($A73,Participants!$A:$E,3,FALSE)","v":{"$error":"#N/A"}},{"$f":"VLOOKUP($A73,Participants!$A:$E,5,FALSE)","v":{"$error":"#N/A"}},6]
[null,0,{"$nulls":3},{"$f":"VLOOKUP($A74,Participants!$A:$E,4,FALSE)","v":{"$error":"#N/A"}},{"$f":"VLOOKUP($A74,Participants!$A:$E,2,FALSE)","v":{"$error":"#N/A"}},{"$f":"VLOOKUP($A74,Participants!$A:$E,3,FALSE)","v":{"$error":"#N/A"}},{"$f":"VLOOKUP($A74,Participants!$A:$E,5,FALSE)","v":{"$error":"#N/A"}},6]
[null,0,{"$nulls":3},{"$f":"VLOOKUP($A75,Participants!$A:$E,4,FALSE)","v":{"$error":"#N/A"}},{"$f":"VLOOKUP($A75,Participants!$A:$E,2,FALSE)","v":{"$error":"#N/A"}},{"$f":"VLOOKUP($A75,Participants!$A:$E,3,FALSE)","v":{"$error":"#N/A"}},{"$f":"VLOOKUP($A75,Participants!$A:$E,5,FALSE)","v":{"$error":"#N/A"}},6]
[null,0,{"$nulls":3},{"$f":"VLOOKUP($A76,Participants!$A:$E,4,FALSE)","v":{"$error":"#N/A"}},{"$f":"VLOOKUP($A76,Participants!$A:$E,2,FALSE)","v":{"$error":"#N/A"}},{"$f":"VLOOKUP($A76,Participants!$A:$E,3,FALSE)","v":{"$error":"#N/A"}},{"$f":"VLOOKUP($A76,Participants!$A:$E,5,FALSE)","v":{"$error":"#N/A"}},6]
[null,0,{"$nulls":3},{"$f":"VLOOKUP($A77,Participants!$A:$E,4,FALSE)","v":{"$error":"#N/A"}},{"$f":"VLOOKUP($A77,Participants!$A:$E,2,FALSE)","v":{"$error":"#N/A"}},{"$f":"VLOOKUP($A77,Participants!$A:$E,3,FALSE)","v":{"$error":"#N/A"}},{"$f":"VLOOKUP($A77,Participants!$A:$E,5,FALSE)","v":{"$error":"#N/A"}},6]
[null,0,{"$nulls":3},{"$f":"VLOOKUP($A78,Participants!$A:$E,4,FALSE)","v":{"$error":"#N/A"}},{"$f":"VLOOKUP($A78,Participants!$A:$E,2,FALSE)","v":{"$error":"#N/A"}},{"$f":"VLOOKUP($A78,Participants!$A:$E,3,FALSE)","v":{"$error":"#N/A"}},{"$f":"VLOOKUP($A78,Participants!$A:$E,5,FALSE)","v":{"$error":"#N/A"}},6]
[null,0,{"$nulls":3},{"$f":"VLOOKUP($A79,Participants!$A:$E,4,FALSE)","v":{"$error":"#N/A"}},{"$f":"VLOOKUP($A79,Participants!$A:$E,2,FALSE)","v":{"$error":"#N/A"}},{"$f":"VLOOKUP($A79,Participants!$A:$E,3,FALSE)","v":{"$error":"#N/A"}},{"$f":"VLOOKUP($A79,Participants!$A:$E,5,FALSE)","v":{"$error":"#N/A"}},6]
[null,0,{"$nulls":3},{"$f":"VLOOKUP($A80,Participants!$A:$E,4,FALSE)","v":{"$error":"#N/A"}},{"$f":"VLOOKUP($A80,Participants!$A:$E,2,FALSE)","v":{"$error":"#N/A"}},{"$f":"VLOOKUP($A80,Participants!$A:$E,3,FALSE)","v":{"$error":"#N/A"}},{"$f":"VLOOKUP($A80,Participants!$A:$E,5,FALSE)","v":{"$error":"#N/A"}},6]
[null,0,{"$nulls":3},{"$f":"VLOOKUP($A81,Participants!$A:$E,4,FALSE)","v":{"$error":"#N/A"}},{"$f":"VLOOKUP($A81,Participants!$A:$E,2,FALSE)","v":{"$error":"#N/A"}},{"$f":"VLOOKUP($A81,Participants!$A:$E,3,FALSE)","v":{"$error":"#N/A"}},{"$f":"VLOOKUP($A81,Participants!$A:$E,5,FALSE)","v":{"$error":"#N/A"}},6]
[null,0,{"$nulls":3},{"$f":"VLOOKUP($A82,Participants!$A:$E,4,FALSE)","v":{"$error":"#N/A"}},{"$f":"VLOOKUP($A82,Participants!$A:$E,2,FALSE)","v":{"$error":"#N/A"}},{"$f":"VLOOKUP($A82,Participants!$A:$E,3,FALSE)","v":{"$error":"#N/A"}},{"$f":"VLOOKUP($A82,Participants!$A:$E,5,FALSE)","v":{"$error":"#N/A"}},6]
[null,0,{"$nulls":3},{"$f":"VLOOKUP($A83,Participants!$A:$E,4,FALSE)","v":{"$error":"#N/A"}},{"$f":"VLOOKUP($A83,Participants!$A:$E,2,FALSE)","v":{"$error":"#N/A"}},{"$f":"VLOOKUP($A83,Participants!$A:$E,3,FALSE)","v":{"$error":"#N/A"}},{"$f":"VLOOKUP($A83,Participants!$A:$E,5,FALSE)","v":{"$error":"#N/A"}},6]
[null,0,{"$nulls":3},{"$f":"VLOOKUP($A84,Participants!$A:$E,4,FALSE)","v":{"$error":"#N/A"}},{"$f":"VLOOKUP($A84,Participants!$A:$E,2,FALSE)","v":{"$error":"#N/A"}},{"$f":"VLOOKUP($A84,Participants!$A:$E,3,FALSE)","v":{"$error":"#N/A"}},{"$f":"VLOOKUP($A84,Participants!$A:$E,5,FALSE)","v":{"$error":"#N/A"}},6]
[null,0,{"$nulls":3},{"$f":"VLOOKUP($A85,Participants!$A:$E,4,FALSE)","v":{"$error":"#N/A"}},{"$f":"VLOOKUP($A85,Participants!$A:$E,2,FALSE)","v":{"$error":"#N/A"}},{"$f":"VLOOKUP($A85,Participants!$A:$E,3,FALSE)","v":{"$error":"#N/A"}},{"$f":"VLOOKUP($A85,Participants!$A:$E,5,FALSE)","v":{"$error":"#N/A"}},6]
[null,0,{"$nulls":3},{"$f":"VLOOKUP($A86,Participants!$A:$E,4,FALSE)","v":{"$error":"#N/A"}},{"$f":"VLOOKUP($A86,Participants!$A:$E,2,FALSE)","v":{"$error":"#N/A"}},{"$f":"VLOOKUP($A86,Participants!$A:$E,3,FALSE)","v":{"$error":"#N/A"}},{"$f":"VLOOKUP($A86,Participants!$A:$E,5,FALSE)","v":{"$error":"#N/A"}},6]
[null,0,{"$nulls":3},{"$f":"VLOOKUP($A87,Participants!$A:$E,4,FALSE)","v":{"$error":"#N/A"}},{"$f":"VLOOKUP($A87,Participants!$A:$E,2,FALSE)","v":{"$error":"#N/A"}},{"$f":"VLOOKUP($A87,Participants!$A:$E,3,FALSE)","v":{"$error":"#N/A"}},{"$f":"VLOOKUP($A87,Participants!$A:$E,5,FALSE)","v":{"$error":"#N/A"}},6]
[null,0,{"$nulls":3},{"$f":"VLOOKUP($A88,Participants!$A:$E,4,FALSE)","v":{"$error":"#N/A"}},{"$f":"VLOOKUP($A88,Participants!$A:$E,2,FALSE)","v":{"$error":"#N/A"}},{"$f":"VLOOKUP($A88,Participants!$A:$E,3,FALSE)","v":{"$error":"#N/A"}},{"$f":"VLOOKUP($A88,Participants!$A:$E,5,FALSE)","v":{"$error":"#N/A"}},6]
[null,0,{"$nulls":3},{"$f":"VLOOKUP($A89,Participants!$A:$E,4,FALSE)","v":{"$error":"#N/A"}},{"$f":"VLOOKUP($A89,Participants!$A:$E,2,FALSE)","v":{"$error":"#N/A"}},{"$f":"VLOOKUP($A89,Participants!$A:$E,3,FALSE)","v":{"$error":"#N/A"}},{"$f":"VLOOKUP($A89,Participants!$A:$E,5,FALSE)","v":{"$error":"#N/A"}},6]
[null,0,{"$nulls":3},{"$f":"VLOOKUP($A90,Participants!$A:$E,4,FALSE)","v":{"$error":"#N/A"}},{"$f":"VLOOKUP($A90,Participants!$A:$E,2,FALSE)","v":{"$error":"#N/A"}},{"$f":"VLOOKUP($A90,Participants!$A:$E,3,FALSE)","v":{"$error":"#N/A"}},{"$f":"VLOOKUP($A90,Participants!$A:$E,5,FALSE)","v":{"$error":"#N/A"}},6]
[null,0,{"$nulls":3},{"$f":"VLOOKUP($A91,Participants!$A:$E,4,FALSE)","v":{"$error":"#N/A"}},{"$f":"VLOOKUP($A91,Participants!$A:$E,2,FALSE)","v":{"$error":"#N/A"}},{"$f":"VLOOKUP($A91,Participants!$A:$E,3,FALSE)","v":{"$error":"#N/A"}},{"$f":"VLOOKUP($A91,Participants!$A:$E,5,FALSE)","v":{"$error":"#N/A"}},6]
[null,0,{"$nulls":3},{"$f":"VLOOKUP($A92,Participants!$A:$E,4,FALSE)","v":{"$error":"#N/A"}},{"$f":"VLOOKUP($A92,Participants!$A:$E,2,FALSE)","v":{"$error":"#N/A"}},{"$f":"VLOOKUP($A92,Participants!$A:$E,3,FALSE)","v":{"$error":"#N/A"}},{"$f":"VLOOKUP($A92,Participants!$A:$E,5,FALSE)","v":{"$error":"#N/A"}},6]
[null,0,{"$nulls":3},{"$f":"VLOOKUP($A93,Participants!$A:$E,4,FALSE)","v":{"$error":"#N/A"}},{"$f":"VLOOKUP($A93,Participants!$A:$E,2,FALSE)","v":{"$error":"#N/A"}},{"$f":"VLOOKUP($A93,Participants!$A:$E,3,FALSE)","v":{"$error":"#N/A"}},{"$f":"VLOOKUP($A93,Participants!$A:$E,5,FALSE)","v":{"$error":"#N/A"}},6]
[null,0,{"$nulls":3},{"$f":"VLOOKUP($A94,Participants!$A:$E,4,FALSE)","v":{"$error":"#N/A"}},{"$f":"VLOOKUP($A94,Participants!$A:$E,2,FALSE)","v":{"$error":"#N/A"}},{"$f":"VLOOKUP($A94,Participants!$A:$E,3,FALSE)","v":{"$error":"#N/A"}},{"$f":"VLOOKUP($A94,Participants!$A:$E,5,FALSE)","v":{"$error":"#N/A"}},6]
[null,0,{"$nulls":3},{"$f":"VLOOKUP($A95,Participants!$A:$E,4,FALSE)","v":{"$error":"#N/A"}},{"$f":"VLOOKUP($A95,Participants!$A:$E,2,FALSE)","v":{"$error":"#N/A"}},{"$f":"VLOOKUP($A95,Participants!$A:$E,3,FALSE)","v":{"$error":"#N/A"}},{"$f":"VLOOKUP($A95,Participants!$A:$E,5,FALSE)","v":{"$error":"#N/A"}},6]
[null,0,{"$nulls":3},{"$f":"VLOOKUP($A96,Participants!$A:$E,4,FALSE)","v":{"$error":"#N/A"}},{"$f":"VLOOKUP($A96,Participants!$A:$E,2,FALSE)","v":{"$error":"#N/A"}},{"$f":"VLOOKUP($A96,Participants!$A:$E,3,FALSE)","v":{"$error":"#N/A"}},{"$f":"VLOOKUP($A96,Participants!$A:$E,5,FALSE)","v":{"$error":"#N/A"}},6]
[null,0,{"$nulls":3},{"$f":"VLOOKUP($A97,Participants!$A:$E,4,FALSE)","v":{"$error":"#N/A"}},{"$f":"VLOOKUP($A97,Participants!$A:$E,2,FALSE)","v":{"$error":"#N/A"}},{"$f":"VLOOKUP($A97,Participants!$A:$E,3,FALSE)","v":{"$error":"#N/A"}},{"$f":"VLOOKUP($A97,Participants!$A:$E,5,FALSE)","v":{"$error":"#N/A"}},6]
[null,0,{"$nulls":3},{"$f":"VLOOKUP($A98,Participants!$A:$E,4,FALSE)","v":{"$error":"#N/A"}},{"$f":"VLOOKUP($A98,Participants!$A:$E,2,FALSE)","v":{"$error":"#N/A"}},{"$f":"VLOOKUP($A98,Participants!$A:$E,3,FALSE)","v":{"$error":"#N/A"}},{"$f":"VLOOKUP($A98,Participants!$A:$E,5,FALSE)","v":{"$error":"#N/A"}},6]
[null,0]
[null,0]
[null,0]

{"sheet":"LongJump 56 Boys","index":20,"n_rows":101,"n_cols":13,"rows_kept":101}
["Bib","Best Jump\n\nwill calculate\nautomatically","First Jump\n\nEnter 10 ft 3 3/4 in as 1003.75","Second Jump\n\nEnter 10 ft 3 3/4 in as 1003.75","Third Jump\n\nEnter 10 ft 3 3/4 in as 1003.75","Grade","FName","Lname","School","Overall Place",null,null,"Return to Schedule of Events"]
[152,{"$f":"MAX(C2:E2)","v":711},611.25,711,703.5,{"$f":"VLOOKUP($A2,Participants!$A:$E,4,FALSE)","v":6},{"$f":"VLOOKUP($A2,Participants!$A:$E,2,FALSE)","v":"Gabe"},{"$f":"VLOOKUP($A2,Participants!$A:$E,3,FALSE)","v":"Argiris"},{"$f":"VLOOKUP($A2,Participants!$A:$E,5,FALSE)","v":"SSFC"},{"$f":"RANK(B2,$B$1:$B$97,0)","v":10}]
[205,{"$f":"MAX(C3:E3)","v":904.5},904.5,805,903.75,{"$f":"VLOOKUP($A3,Participants!$A:$E,4,FALSE)","v":6},{"$f":"VLOOKUP($A3,Participants!$A:$E,2,FALSE)","v":"Isaac"},{"$f":"VLOOKUP($A3,Participants!$A:$E,3,FALSE)","v":"Timberlake"},{"$f":"VLOOKUP($A3,Participants!$A:$E,5,FALSE)","v":"SSFC"},{"$f":"RANK(B3,$B$1:$B$97,0)","v":6},null,null,"Add or Update Participants"]
[218,705.5,702,705.5,702,{"$f":"VLOOKUP($A4,Participants!$A:$E,4,FALSE)","v":5},{"$f":"VLOOKUP($A4,Participants!$A:$E,2,FALSE)","v":"Tucker"},{"$f":"VLOOKUP($A4,Participants!$A:$E,3,FALSE)","v":"Young"},{"$f":"VLOOKUP($A4,Participants!$A:$E,5,FALSE)","v":"SSFC"},13,null,null,"Overall Place and Points"]
[198,610,500.25,501,610,{"$f":"VLOOKUP($A5,Participants!$A:$E,4,FALSE)","v":5},{"$f":"VLOOKUP($A5,Participants!$A:$E,2,FALSE)","v":"Luke"},{"$f":"VLOOKUP($A5,Participants!$A:$E,3,FALSE)","v":"Senac"},{"$f":"VLOOKUP($A5,Participants!$A:$E,5,FALSE)","v":"SSFC"},15]
[60,804,0,804,802.75,{"$f":"VLOOKUP($A6,Participants!$A:$E,4,FALSE)","v":5},{"$f":"VLOOKUP($A6,Participants!$A:$E,2,FALSE)","v":"Tyler"},{"$f":"VLOOKUP($A6,Participants!$A:$E,3,FALSE)","v":"Kedra"},{"$f":"VLOOKUP($A6,Participants!$A:$E,5,FALSE)","v":"St Jude"},9]
[301,704.25,608,508.25,704.25,{"$f":"VLOOKUP($A7,Participants!$A:$E,4,FALSE)","v":5},{"$f":"VLOOKUP($A7,Participants!$A:$E,2,FALSE)","v":"Jonah"},{"$f":"VLOOKUP($A7,Participants!$A:$E,3,FALSE)","v":"Roell"},{"$f":"VLOOKUP($A7,Participants!$A:$E,5,FALSE)","v":"St. Barnabas"},14]
[303,509.75,0,509.75,409.75,{"$f":"VLOOKUP($A8,Participants!$A:$E,4,FALSE)","v":6},{"$f":"VLOOKUP($A8,Participants!$A:$E,2,FALSE)","v":"Mason"},{"$f":"VLOOKUP($A8,Participants!$A:$E,3,FALSE)","v":"Schnarr"},{"$f":"VLOOKUP($A8,Participants!$A:$E,5,FALSE)","v":"St. Barnabas"},18]
[290,604,510.75,510.25,604,{"$f":"VLOOKUP($A9,Participants!$A:$E,4,FALSE)","v":5},{"$f":"VLOOKUP($A9,Participants!$A:$E,2,FALSE)","v":"Nick"},{"$f":"VLOOKUP($A9,Participants!$A:$E,3,FALSE)","v":"McCoy"},{"$f":"VLOOKUP($A9,Participants!$A:$E,5,FALSE)","v":"St. Barnabas"},17]
[97,903.75,808.5,903.75,809.25,{"$f":"VLOOKUP($A10,Participants!$A:$E,4,FALSE)","v":5},{"$f":"VLOOKUP($A10,Participants!$A:$E,2,FALSE)","v":"Evan"},{"$f":"VLOOKUP($A10,Participants!$A:$E,3,FALSE)","v":"Nielsen"},{"$f":"VLOOKUP($A10,Participants!$A:$E,5,FALSE)","v":"St Jude"},7]
[108,606.25,606.25,505.5,505,{"$f":"VLOOKUP($A11,Participants!$A:$E,4,FALSE)","v":5},{"$f":"VLOOKUP($A11,Participants!$A:$E,2,FALSE)","v":"Nate "},{"$f":"VLOOKUP($A11,Participants!$A:$E,3,FALSE)","v":"Russell"},{"$f":"VLOOKUP($A11,Participants!$A:$E,5,FALSE)","v":"St Jude"},16]
[88,708,702.75,708,603.75,{"$f":"VLOOKUP($A12,Participants!$A:$E,4,FALSE)","v":6},{"$f":"VLOOKUP($A12,Participants!$A:$E,2,FALSE)","v":"Andrew"},{"$f":"VLOOKUP($A12,Participants!$A:$E,3,FALSE)","v":"McMichael"},{"$f":"VLOOKUP($A12,Participants!$A:$E,5,FALSE)","v":"St Jude"},11]
[3,901.25,901.25,808,810.25,{"$f":"VLOOKUP($A13,Participants!$A:$E,4,FALSE)","v":6},{"$f":"VLOOKUP($A13,Participants!$A:$E,2,FALSE)","v":"Charlie"},{"$f":"VLOOKUP($A13,Participants!$A:$E,3,FALSE)","v":"Allen"},{"$f":"VLOOKUP($A13,Participants!$A:$E,5,FALSE)","v":"St Jude"},8]
[240,905.75,905.75,905.75,805,{"$f":"VLOOKUP($A14,Participants!$A:$E,4,FALSE)","v":6},{"$f":"VLOOKUP($A14,Participants!$A:$E,2,FALSE)","v":"Alexander"},{"$f":"VLOOKUP($A14,Participants!$A:$E,3,FALSE)","v":"Jarvis"},{"$f":"VLOOKUP($A14,Participants!$A:$E,5,FALSE)","v":"United We Run"},5]
[232,1006,1006,910.25,811.75,{"$f":"VLOOKUP($A15,Participants!$A:$E,4,FALSE)","v":6},{"$f":"VLOOKUP($A15,Participants!$A:$E,2,FALSE)","v":"Joe"},{"$f":"VLOOKUP($A15,Participants!$A:$E,3,FALSE)","v":"Egan"},{"$f":"VLOOKUP($A15,Participants!$A:$E,5,FALSE)","v":"United We Run"},3]
[222,908,810.25,903.75,908,{"$f":"VLOOKUP($A16,Participants!$A:$E,4,FALSE)","v":6},{"$f":"VLOOKUP($A16,Participants!$A:$E,2,FALSE)","v":"Jack"},{"$f":"VLOOKUP($A16,Participants!$A:$E,3,FALSE)","v":"Andrews"},{"$f":"VLOOKUP($A16,Participants!$A:$E,5,FALSE)","v":"United We Run"},4]
[177,708,0,708,0,{"$f":"VLOOKUP($A17,Participants!$A:$E,4,FALSE)","v":6},{"$f":"VLOOKUP($A17,Participants!$A:$E,2,FALSE)","v":"Zachary"},{"$f":"VLOOKUP($A17,Participants!$A:$E,3,FALSE)","v":"Hellinga"},{"$f":"VLOOKUP($A17,Participants!$A:$E,5,FALSE)","v":"SSFC"},11]
[75,1202.75,0,0,1202.75,{"$f":"VLOOKUP($A18,Participants!$A:$E,4,FALSE)","v":6},{"$f":"VLOOKUP($A18,Participants!$A:$E,2,FALSE)","v":"J R"},{"$f":"VLOOKUP($A18,Participants!$A:$E,3,FALSE)","v":"Link"},{"$f":"VLOOKUP($A18,Participants!$A:$E,5,FALSE)","v":"St Jude"},1]
[91,1111.75,1005.5,1105.25,1111.75,{"$f":"VLOOKUP($A19,Participants!$A:$E,4,FALSE)","v":6},{"$f":"VLOOKUP($A19,Participants!$A:$E,2,FALSE)","v":"T J"},{"$f":"VLOOKUP($A19,Participants!$A:$E,3,FALSE)","v":"Michalak"},{"$f":"VLOOKUP($A19,Participants!$A:$E,5,FALSE)","v":"St Jude"},2]
[null,0,{"$nulls":3},{"$f":"VLOOKUP($A20,Participants!$A:$E,4,FALSE)","v":{"$error":"#N/A"}},{"$f":"VLOOKUP($A20,Participants!$A:$E,2,FALSE)","v":{"$error":"#N/A"}},{"$f":"VLOOKUP($A20,Participants!$A:$E,3,FALSE)","v":{"$error":"#N/A"}},{"$f":"VLOOKUP($A20,Participants!$A:$E,5,FALSE)","v":{"$error":"#N/A"}},19]
[null,0,{"$nulls":3},{"$f":"VLOOKUP($A21,Participants!$A:$E,4,FALSE)","v":{"$error":"#N/A"}},{"$f":"VLOOKUP($A21,Participants!$A:$E,2,FALSE)","v":{"$error":"#N/A"}},{"$f":"VLOOKUP($A21,Participants!$A:$E,3,FALSE)","v":{"$error":"#N/A"}},{"$f":"VLOOKUP($A21,Participants!$A:$E,5,FALSE)","v":{"$error":"#N/A"}},19]
[null,0,{"$nulls":3},{"$f":"VLOOKUP($A22,Participants!$A:$E,4,FALSE)","v":{"$error":"#N/A"}},{"$f":"VLOOKUP($A22,Participants!$A:$E,2,FALSE)","v":{"$error":"#N/A"}},{"$f":"VLOOKUP($A22,Participants!$A:$E,3,FALSE)","v":{"$error":"#N/A"}},{"$f":"VLOOKUP($A22,Participants!$A:$E,5,FALSE)","v":{"$error":"#N/A"}},19]
[null,0,{"$nulls":3},{"$f":"VLOOKUP($A23,Participants!$A:$E,4,FALSE)","v":{"$error":"#N/A"}},{"$f":"VLOOKUP($A23,Participants!$A:$E,2,FALSE)","v":{"$error":"#N/A"}},{"$f":"VLOOKUP($A23,Participants!$A:$E,3,FALSE)","v":{"$error":"#N/A"}},{"$f":"VLOOKUP($A23,Participants!$A:$E,5,FALSE)","v":{"$error":"#N/A"}},19]
[null,0,{"$nulls":3},{"$f":"VLOOKUP($A24,Participants!$A:$E,4,FALSE)","v":{"$error":"#N/A"}},{"$f":"VLOOKUP($A24,Participants!$A:$E,2,FALSE)","v":{"$error":"#N/A"}},{"$f":"VLOOKUP($A24,Participants!$A:$E,3,FALSE)","v":{"$error":"#N/A"}},{"$f":"VLOOKUP($A24,Participants!$A:$E,5,FALSE)","v":{"$error":"#N/A"}},19]
[null,0,{"$nulls":3},{"$f":"VLOOKUP($A25,Participants!$A:$E,4,FALSE)","v":{"$error":"#N/A"}},{"$f":"VLOOKUP($A25,Participants!$A:$E,2,FALSE)","v":{"$error":"#N/A"}},{"$f":"VLOOKUP($A25,Participants!$A:$E,3,FALSE)","v":{"$error":"#N/A"}},{"$f":"VLOOKUP($A25,Participants!$A:$E,5,FALSE)","v":{"$error":"#N/A"}},19]
[null,0,{"$nulls":3},{"$f":"VLOOKUP($A26,Participants!$A:$E,4,FALSE)","v":{"$error":"#N/A"}},{"$f":"VLOOKUP($A26,Participants!$A:$E,2,FALSE)","v":{"$error":"#N/A"}},{"$f":"VLOOKUP($A26,Participants!$A:$E,3,FALSE)","v":{"$error":"#N/A"}},{"$f":"VLOOKUP($A26,Participants!$A:$E,5,FALSE)","v":{"$error":"#N/A"}},19]
[null,0,{"$nulls":3},{"$f":"VLOOKUP($A27,Participants!$A:$E,4,FALSE)","v":{"$error":"#N/A"}},{"$f":"VLOOKUP($A27,Participants!$A:$E,2,FALSE)","v":{"$error":"#N/A"}},{"$f":"VLOOKUP($A27,Participants!$A:$E,3,FALSE)","v":{"$error":"#N/A"}},{"$f":"VLOOKUP($A27,Participants!$A:$E,5,FALSE)","v":{"$error":"#N/A"}},19]
[null,0,{"$nulls":3},{"$f":"VLOOKUP($A28,Participants!$A:$E,4,FALSE)","v":{"$error":"#N/A"}},{"$f":"VLOOKUP($A28,Participants!$A:$E,2,FALSE)","v":{"$error":"#N/A"}},{"$f":"VLOOKUP($A28,Participants!$A:$E,3,FALSE)","v":{"$error":"#N/A"}},{"$f":"VLOOKUP($A28,Participants!$A:$E,5,FALSE)","v":{"$error":"#N/A"}},19]
[null,0,{"$nulls":3},{"$f":"VLOOKUP($A29,Participants!$A:$E,4,FALSE)","v":{"$error":"#N/A"}},{"$f":"VLOOKUP($A29,Participants!$A:$E,2,FALSE)","v":{"$error":"#N/A"}},{"$f":"VLOOKUP($A29,Participants!$A:$E,3,FALSE)","v":{"$error":"#N/A"}},{"$f":"VLOOKUP($A29,Participants!$A:$E,5,FALSE)","v":{"$error":"#N/A"}},19]
[null,0,{"$nulls":3},{"$f":"VLOOKUP($A30,Participants!$A:$E,4,FALSE)","v":{"$error":"#N/A"}},{"$f":"VLOOKUP($A30,Participants!$A:$E,2,FALSE)","v":{"$error":"#N/A"}},{"$f":"VLOOKUP($A30,Participants!$A:$E,3,FALSE)","v":{"$error":"#N/A"}},{"$f":"VLOOKUP($A30,Participants!$A:$E,5,FALSE)","v":{"$error":"#N/A"}},19]
[null,0,{"$nulls":3},{"$f":"VLOOKUP($A31,Participants!$A:$E,4,FALSE)","v":{"$error":"#N/A"}},{"$f":"VLOOKUP($A31,Participants!$A:$E,2,FALSE)","v":{"$error":"#N/A"}},{"$f":"VLOOKUP($A31,Participants!$A:$E,3,FALSE)","v":{"$error":"#N/A"}},{"$f":"VLOOKUP($A31,Participants!$A:$E,5,FALSE)","v":{"$error":"#N/A"}},19]
[null,0,{"$nulls":3},{"$f":"VLOOKUP($A32,Participants!$A:$E,4,FALSE)","v":{"$error":"#N/A"}},{"$f":"VLOOKUP($A32,Participants!$A:$E,2,FALSE)","v":{"$error":"#N/A"}},{"$f":"VLOOKUP($A32,Participants!$A:$E,3,FALSE)","v":{"$error":"#N/A"}},{"$f":"VLOOKUP($A32,Participants!$A:$E,5,FALSE)","v":{"$error":"#N/A"}},19]
[null,0,{"$nulls":3},{"$f":"VLOOKUP($A33,Participants!$A:$E,4,FALSE)","v":{"$error":"#N/A"}},{"$f":"VLOOKUP($A33,Participants!$A:$E,2,FALSE)","v":{"$error":"#N/A"}},{"$f":"VLOOKUP($A33,Participants!$A:$E,3,FALSE)","v":{"$error":"#N/A"}},{"$f":"VLOOKUP($A33,Participants!$A:$E,5,FALSE)","v":{"$error":"#N/A"}},19]
[null,0,{"$nulls":3},{"$f":"VLOOKUP($A34,Participants!$A:$E,4,FALSE)","v":{"$error":"#N/A"}},{"$f":"VLOOKUP($A34,Participants!$A:$E,2,FALSE)","v":{"$error":"#N/A"}},{"$f":"VLOOKUP($A34,Participants!$A:$E,3,FALSE)","v":{"$error":"#N/A"}},{"$f":"VLOOKUP($A34,Participants!$A:$E,5,FALSE)","v":{"$error":"#N/A"}},19]
[null,0,{"$nulls":3},{"$f":"VLOOKUP($A35,Participants!$A:$E,4,FALSE)","v":{"$error":"#N/A"}},{"$f":"VLOOKUP($A35,Participants!$A:$E,2,FALSE)","v":{"$error":"#N/A"}},{"$f":"VLOOKUP($A35,Participants!$A:$E,3,FALSE)","v":{"$error":"#N/A"}},{"$f":"VLOOKUP($A35,Participants!$A:$E,5,FALSE)","v":{"$error":"#N/A"}},19]
[null,0,{"$nulls":3},{"$f":"VLOOKUP($A36,Participants!$A:$E,4,FALSE)","v":{"$error":"#N/A"}},{"$f":"VLOOKUP($A36,Participants!$A:$E,2,FALSE)","v":{"$error":"#N/A"}},{"$f":"VLOOKUP($A36,Participants!$A:$E,3,FALSE)","v":{"$error":"#N/A"}},{"$f":"VLOOKUP($A36,Participants!$A:$E,5,FALSE)","v":{"$error":"#N/A"}},19]
[null,0,{"$nulls":3},{"$f":"VLOOKUP($A37,Participants!$A:$E,4,FALSE)","v":{"$error":"#N/A"}},{"$f":"VLOOKUP($A37,Participants!$A:$E,2,FALSE)","v":{"$error":"#N/A"}},{"$f":"VLOOKUP($A37,Participants!$A:$E,3,FALSE)","v":{"$error":"#N/A"}},{"$f":"VLOOKUP($A37,Participants!$A:$E,5,FALSE)","v":{"$error":"#N/A"}},19]
[null,0,{"$nulls":3},{"$f":"VLOOKUP($A38,Participants!$A:$E,4,FALSE)","v":{"$error":"#N/A"}},{"$f":"VLOOKUP($A38,Participants!$A:$E,2,FALSE)","v":{"$error":"#N/A"}},{"$f":"VLOOKUP($A38,Participants!$A:$E,3,FALSE)","v":{"$error":"#N/A"}},{"$f":"VLOOKUP($A38,Participants!$A:$E,5,FALSE)","v":{"$error":"#N/A"}},19]
[null,0,{"$nulls":3},{"$f":"VLOOKUP($A39,Participants!$A:$E,4,FALSE)","v":{"$error":"#N/A"}},{"$f":"VLOOKUP($A39,Participants!$A:$E,2,FALSE)","v":{"$error":"#N/A"}},{"$f":"VLOOKUP($A39,Participants!$A:$E,3,FALSE)","v":{"$error":"#N/A"}},{"$f":"VLOOKUP($A39,Participants!$A:$E,5,FALSE)","v":{"$error":"#N/A"}},19]
[null,0,{"$nulls":3},{"$f":"VLOOKUP($A40,Participants!$A:$E,4,FALSE)","v":{"$error":"#N/A"}},{"$f":"VLOOKUP($A40,Participants!$A:$E,2,FALSE)","v":{"$error":"#N/A"}},{"$f":"VLOOKUP($A40,Participants!$A:$E,3,FALSE)","v":{"$error":"#N/A"}},{"$f":"VLOOKUP($A40,Participants!$A:$E,5,FALSE)","v":{"$error":"#N/A"}},19]
[null,0,{"$nulls":3},{"$f":"VLOOKUP($A41,Participants!$A:$E,4,FALSE)","v":{"$error":"#N/A"}},{"$f":"VLOOKUP($A41,Participants!$A:$E,2,FALSE)","v":{"$error":"#N/A"}},{"$f":"VLOOKUP($A41,Participants!$A:$E,3,FALSE)","v":{"$error":"#N/A"}},{"$f":"VLOOKUP($A41,Participants!$A:$E,5,FALSE)","v":{"$error":"#N/A"}},19]
[null,0,{"$nulls":3},{"$f":"VLOOKUP($A42,Participants!$A:$E,4,FALSE)","v":{"$error":"#N/A"}},{"$f":"VLOOKUP($A42,Participants!$A:$E,2,FALSE)","v":{"$error":"#N/A"}},{"$f":"VLOOKUP($A42,Participants!$A:$E,3,FALSE)","v":{"$error":"#N/A"}},{"$f":"VLOOKUP($A42,Participants!$A:$E,5,FALSE)","v":{"$error":"#N/A"}},19]
[null,0,{"$nulls":3},{"$f":"VLOOKUP($A43,Participants!$A:$E,4,FALSE)","v":{"$error":"#N/A"}},{"$f":"VLOOKUP($A43,Participants!$A:$E,2,FALSE)","v":{"$error":"#N/A"}},{"$f":"VLOOKUP($A43,Participants!$A:$E,3,FALSE)","v":{"$error":"#N/A"}},{"$f":"VLOOKUP($A43,Participants!$A:$E,5,FALSE)","v":{"$error":"#N/A"}},19]
[null,0,{"$nulls":3},{"$f":"VLOOKUP($A44,Participants!$A:$E,4,FALSE)","v":{"$error":"#N/A"}},{"$f":"VLOOKUP($A44,Participants!$A:$E,2,FALSE)","v":{"$error":"#N/A"}},{"$f":"VLOOKUP($A44,Participants!$A:$E,3,FALSE)","v":{"$error":"#N/A"}},{"$f":"VLOOKUP($A44,Participants!$A:$E,5,FALSE)","v":{"$error":"#N/A"}},19]
[null,0,{"$nulls":3},{"$f":"VLOOKUP($A45,Participants!$A:$E,4,FALSE)","v":{"$error":"#N/A"}},{"$f":"VLOOKUP($A45,Participants!$A:$E,2,FALSE)","v":{"$error":"#N/A"}},{"$f":"VLOOKUP($A45,Participants!$A:$E,3,FALSE)","v":{"$error":"#N/A"}},{"$f":"VLOOKUP($A45,Participants!$A:$E,5,FALSE)","v":{"$error":"#N/A"}},19]
[null,0,{"$nulls":3},{"$f":"VLOOKUP($A46,Participants!$A:$E,4,FALSE)","v":{"$error":"#N/A"}},{"$f":"VLOOKUP($A46,Participants!$A:$E,2,FALSE)","v":{"$error":"#N/A"}},{"$f":"VLOOKUP($A46,Participants!$A:$E,3,FALSE)","v":{"$error":"#N/A"}},{"$f":"VLOOKUP($A46,Participants!$A:$E,5,FALSE)","v":{"$error":"#N/A"}},19]
[null,0,{"$nulls":3},{"$f":"VLOOKUP($A47,Participants!$A:$E,4,FALSE)","v":{"$error":"#N/A"}},{"$f":"VLOOKUP($A47,Participants!$A:$E,2,FALSE)","v":{"$error":"#N/A"}},{"$f":"VLOOKUP($A47,Participants!$A:$E,3,FALSE)","v":{"$error":"#N/A"}},{"$f":"VLOOKUP($A47,Participants!$A:$E,5,FALSE)","v":{"$error":"#N/A"}},19]
[null,0,{"$nulls":3},{"$f":"VLOOKUP($A48,Participants!$A:$E,4,FALSE)","v":{"$error":"#N/A"}},{"$f":"VLOOKUP($A48,Participants!$A:$E,2,FALSE)","v":{"$error":"#N/A"}},{"$f":"VLOOKUP($A48,Participants!$A:$E,3,FALSE)","v":{"$error":"#N/A"}},{"$f":"VLOOKUP($A48,Participants!$A:$E,5,FALSE)","v":{"$error":"#N/A"}},19]
[null,0,{"$nulls":3},{"$f":"VLOOKUP($A49,Participants!$A:$E,4,FALSE)","v":{"$error":"#N/A"}},{"$f":"VLOOKUP($A49,Participants!$A:$E,2,FALSE)","v":{"$error":"#N/A"}},{"$f":"VLOOKUP($A49,Participants!$A:$E,3,FALSE)","v":{"$error":"#N/A"}},{"$f":"VLOOKUP($A49,Participants!$A:$E,5,FALSE)","v":{"$error":"#N/A"}},19]
[null,0,{"$nulls":3},{"$f":"VLOOKUP($A50,Participants!$A:$E,4,FALSE)","v":{"$error":"#N/A"}},{"$f":"VLOOKUP($A50,Participants!$A:$E,2,FALSE)","v":{"$error":"#N/A"}},{"$f":"VLOOKUP($A50,Participants!$A:$E,3,FALSE)","v":{"$error":"#N/A"}},{"$f":"VLOOKUP($A50,Participants!$A:$E,5,FALSE)","v":{"$error":"#N/A"}},19]
[null,0,{"$nulls":3},{"$f":"VLOOKUP($A51,Participants!$A:$E,4,FALSE)","v":{"$error":"#N/A"}},{"$f":"VLOOKUP($A51,Participants!$A:$E,2,FALSE)","v":{"$error":"#N/A"}},{"$f":"VLOOKUP($A51,Participants!$A:$E,3,FALSE)","v":{"$error":"#N/A"}},{"$f":"VLOOKUP($A51,Participants!$A:$E,5,FALSE)","v":{"$error":"#N/A"}},19]
[null,0,{"$nulls":3},{"$f":"VLOOKUP($A52,Participants!$A:$E,4,FALSE)","v":{"$error":"#N/A"}},{"$f":"VLOOKUP($A52,Participants!$A:$E,2,FALSE)","v":{"$error":"#N/A"}},{"$f":"VLOOKUP($A52,Participants!$A:$E,3,FALSE)","v":{"$error":"#N/A"}},{"$f":"VLOOKUP($A52,Participants!$A:$E,5,FALSE)","v":{"$error":"#N/A"}},19]
[null,0,{"$nulls":3},{"$f":"VLOOKUP($A53,Participants!$A:$E,4,FALSE)","v":{"$error":"#N/A"}},{"$f":"VLOOKUP($A53,Participants!$A:$E,2,FALSE)","v":{"$error":"#N/A"}},{"$f":"VLOOKUP($A53,Participants!$A:$E,3,FALSE)","v":{"$error":"#N/A"}},{"$f":"VLOOKUP($A53,Participants!$A:$E,5,FALSE)","v":{"$error":"#N/A"}},19]
[null,0,{"$nulls":3},{"$f":"VLOOKUP($A54,Participants!$A:$E,4,FALSE)","v":{"$error":"#N/A"}},{"$f":"VLOOKUP($A54,Participants!$A:$E,2,FALSE)","v":{"$error":"#N/A"}},{"$f":"VLOOKUP($A54,Participants!$A:$E,3,FALSE)","v":{"$error":"#N/A"}},{"$f":"VLOOKUP($A54,Participants!$A:$E,5,FALSE)","v":{"$error":"#N/A"}},19]
[null,0,{"$nulls":3},{"$f":"VLOOKUP($A55,Participants!$A:$E,4,FALSE)","v":{"$error":"#N/A"}},{"$f":"VLOOKUP($A55,Participants!$A:$E,2,FALSE)","v":{"$error":"#N/A"}},{"$f":"VLOOKUP($A55,Participants!$A:$E,3,FALSE)","v":{"$error":"#N/A"}},{"$f":"VLOOKUP($A55,Participants!$A:$E,5,FALSE)","v":{"$error":"#N/A"}},19]
[null,0,{"$nulls":3},{"$f":"VLOOKUP($A56,Participants!$A:$E,4,FALSE)","v":{"$error":"#N/A"}},{"$f":"VLOOKUP($A56,Participants!$A:$E,2,FALSE)","v":{"$error":"#N/A"}},{"$f":"VLOOKUP($A56,Participants!$A:$E,3,FALSE)","v":{"$error":"#N/A"}},{"$f":"VLOOKUP($A56,Participants!$A:$E,5,FALSE)","v":{"$error":"#N/A"}},19]
[null,0,{"$nulls":3},{"$f":"VLOOKUP($A57,Participants!$A:$E,4,FALSE)","v":{"$error":"#N/A"}},{"$f":"VLOOKUP($A57,Participants!$A:$E,2,FALSE)","v":{"$error":"#N/A"}},{"$f":"VLOOKUP($A57,Participants!$A:$E,3,FALSE)","v":{"$error":"#N/A"}},{"$f":"VLOOKUP($A57,Participants!$A:$E,5,FALSE)","v":{"$error":"#N/A"}},19]
[null,0,{"$nulls":3},{"$f":"VLOOKUP($A58,Participants!$A:$E,4,FALSE)","v":{"$error":"#N/A"}},{"$f":"VLOOKUP($A58,Participants!$A:$E,2,FALSE)","v":{"$error":"#N/A"}},{"$f":"VLOOKUP($A58,Participants!$A:$E,3,FALSE)","v":{"$error":"#N/A"}},{"$f":"VLOOKUP($A58,Participants!$A:$E,5,FALSE)","v":{"$error":"#N/A"}},19]
[null,0,{"$nulls":3},{"$f":"VLOOKUP($A59,Participants!$A:$E,4,FALSE)","v":{"$error":"#N/A"}},{"$f":"VLOOKUP($A59,Participants!$A:$E,2,FALSE)","v":{"$error":"#N/A"}},{"$f":"VLOOKUP($A59,Participants!$A:$E,3,FALSE)","v":{"$error":"#N/A"}},{"$f":"VLOOKUP($A59,Participants!$A:$E,5,FALSE)","v":{"$error":"#N/A"}},19]
[null,0,{"$nulls":3},{"$f":"VLOOKUP($A60,Participants!$A:$E,4,FALSE)","v":{"$error":"#N/A"}},{"$f":"VLOOKUP($A60,Participants!$A:$E,2,FALSE)","v":{"$error":"#N/A"}},{"$f":"VLOOKUP($A60,Participants!$A:$E,3,FALSE)","v":{"$error":"#N/A"}},{"$f":"VLOOKUP($A60,Participants!$A:$E,5,FALSE)","v":{"$error":"#N/A"}},19]
[null,0,{"$nulls":3},{"$f":"VLOOKUP($A61,Participants!$A:$E,4,FALSE)","v":{"$error":"#N/A"}},{"$f":"VLOOKUP($A61,Participants!$A:$E,2,FALSE)","v":{"$error":"#N/A"}},{"$f":"VLOOKUP($A61,Participants!$A:$E,3,FALSE)","v":{"$error":"#N/A"}},{"$f":"VLOOKUP($A61,Participants!$A:$E,5,FALSE)","v":{"$error":"#N/A"}},19]
[null,0,{"$nulls":3},{"$f":"VLOOKUP($A62,Participants!$A:$E,4,FALSE)","v":{"$error":"#N/A"}},{"$f":"VLOOKUP($A62,Participants!$A:$E,2,FALSE)","v":{"$error":"#N/A"}},{"$f":"VLOOKUP($A62,Participants!$A:$E,3,FALSE)","v":{"$error":"#N/A"}},{"$f":"VLOOKUP($A62,Participants!$A:$E,5,FALSE)","v":{"$error":"#N/A"}},19]
[null,0,{"$nulls":3},{"$f":"VLOOKUP($A63,Participants!$A:$E,4,FALSE)","v":{"$error":"#N/A"}},{"$f":"VLOOKUP($A63,Participants!$A:$E,2,FALSE)","v":{"$error":"#N/A"}},{"$f":"VLOOKUP($A63,Participants!$A:$E,3,FALSE)","v":{"$error":"#N/A"}},{"$f":"VLOOKUP($A63,Participants!$A:$E,5,FALSE)","v":{"$error":"#N/A"}},19]
[null,0,{"$nulls":3},{"$f":"VLOOKUP($A64,Participants!$A:$E,4,FALSE)","v":{"$error":"#N/A"}},{"$f":"VLOOKUP($A64,Participants!$A:$E,2,FALSE)","v":{"$error":"#N/A"}},{"$f":"VLOOKUP($A64,Participants!$A:$E,3,FALSE)","v":{"$error":"#N/A"}},{"$f":"VLOOKUP($A64,Participants!$A:$E,5,FALSE)","v":{"$error":"#N/A"}},19]
[null,0,{"$nulls":3},{"$f":"VLOOKUP($A65,Participants!$A:$E,4,FALSE)","v":{"$error":"#N/A"}},{"$f":"VLOOKUP($A65,Participants!$A:$E,2,FALSE)","v":{"$error":"#N/A"}},{"$f":"VLOOKUP($A65,Participants!$A:$E,3,FALSE)","v":{"$error":"#N/A"}},{"$f":"VLOOKUP($A65,Participants!$A:$E,5,FALSE)","v":{"$error":"#N/A"}},19]
[null,0,{"$nulls":3},{"$f":"VLOOKUP($A66,Participants!$A:$E,4,FALSE)","v":{"$error":"#N/A"}},{"$f":"VLOOKUP($A66,Participants!$A:$E,2,FALSE)","v":{"$error":"#N/A"}},{"$f":"VLOOKUP($A66,Participants!$A:$E,3,FALSE)","v":{"$error":"#N/A"}},{"$f":"VLOOKUP($A66,Participants!$A:$E,5,FALSE)","v":{"$error":"#N/A"}},19]
[null,{"$f":"MAX(C67:E67)","v":0},{"$nulls":3},{"$f":"VLOOKUP($A67,Participants!$A:$E,4,FALSE)","v":{"$error":"#N/A"}},{"$f":"VLOOKUP($A67,Participants!$A:$E,2,FALSE)","v":{"$error":"#N/A"}},{"$f":"VLOOKUP($A67,Participants!$A:$E,3,FALSE)","v":{"$error":"#N/A"}},{"$f":"VLOOKUP($A67,Participants!$A:$E,5,FALSE)","v":{"$error":"#N/A"}},{"$f":"RANK(B67,$B$1:$B$97,0)","v":19}]
[null,0,{"$nulls":3},{"$f":"VLOOKUP($A68,Participants!$A:$E,4,FALSE)","v":{"$error":"#N/A"}},{"$f":"VLOOKUP($A68,Participants!$A:$E,2,FALSE)","v":{"$error":"#N/A"}},{"$f":"VLOOKUP($A68,Participants!$A:$E,3,FALSE)","v":{"$error":"#N/A"}},{"$f":"VLOOKUP($A68,Participants!$A:$E,5,FALSE)","v":{"$error":"#N/A"}},19]
[null,0,{"$nulls":3},{"$f":"VLOOKUP($A69,Participants!$A:$E,4,FALSE)","v":{"$error":"#N/A"}},{"$f":"VLOOKUP($A69,Participants!$A:$E,2,FALSE)","v":{"$error":"#N/A"}},{"$f":"VLOOKUP($A69,Participants!$A:$E,3,FALSE)","v":{"$error":"#N/A"}},{"$f":"VLOOKUP($A69,Participants!$A:$E,5,FALSE)","v":{"$error":"#N/A"}},19]
[null,0,{"$nulls":3},{"$f":"VLOOKUP($A70,Participants!$A:$E,4,FALSE)","v":{"$error":"#N/A"}},{"$f":"VLOOKUP($A70,Participants!$A:$E,2,FALSE)","v":{"$error":"#N/A"}},{"$f":"VLOOKUP($A70,Participants!$A:$E,3,FALSE)","v":{"$error":"#N/A"}},{"$f":"VLOOKUP($A70,Participants!$A:$E,5,FALSE)","v":{"$error":"#N/A"}},19]
[null,0,{"$nulls":3},{"$f":"VLOOKUP($A71,Participants!$A:$E,4,FALSE)","v":{"$error":"#N/A"}},{"$f":"VLOOKUP($A71,Participants!$A:$E,2,FALSE)","v":{"$error":"#N/A"}},{"$f":"VLOOKUP($A71,Participants!$A:$E,3,FALSE)","v":{"$error":"#N/A"}},{"$f":"VLOOKUP($A71,Participants!$A:$E,5,FALSE)","v":{"$error":"#N/A"}},19]
[null,0,{"$nulls":3},{"$f":"VLOOKUP($A72,Participants!$A:$E,4,FALSE)","v":{"$error":"#N/A"}},{"$f":"VLOOKUP($A72,Participants!$A:$E,2,FALSE)","v":{"$error":"#N/A"}},{"$f":"VLOOKUP($A72,Participants!$A:$E,3,FALSE)","v":{"$error":"#N/A"}},{"$f":"VLOOKUP($A72,Participants!$A:$E,5,FALSE)","v":{"$error":"#N/A"}},19]
[null,0,{"$nulls":3},{"$f":"VLOOKUP($A73,Participants!$A:$E,4,FALSE)","v":{"$error":"#N/A"}},{"$f":"VLOOKUP($A73,Participants!$A:$E,2,FALSE)","v":{"$error":"#N/A"}},{"$f":"VLOOKUP($A73,Participants!$A:$E,3,FALSE)","v":{"$error":"#N/A"}},{"$f":"VLOOKUP($A73,Participants!$A:$E,5,FALSE)","v":{"$error":"#N/A"}},19]
[null,0,{"$nulls":3},{"$f":"VLOOKUP($A74,Participants!$A:$E,4,FALSE)","v":{"$error":"#N/A"}},{"$f":"VLOOKUP($A74,Participants!$A:$E,2,FALSE)","v":{"$error":"#N/A"}},{"$f":"VLOOKUP($A74,Participants!$A:$E,3,FALSE)","v":{"$error":"#N/A"}},{"$f":"VLOOKUP($A74,Participants!$A:$E,5,FALSE)","v":{"$error":"#N/A"}},19]
[null,0,{"$nulls":3},{"$f":"VLOOKUP($A75,Participants!$A:$E,4,FALSE)","v":{"$error":"#N/A"}},{"$f":"VLOOKUP($A75,Participants!$A:$E,2,FALSE)","v":{"$error":"#N/A"}},{"$f":"VLOOKUP($A75,Participants!$A:$E,3,FALSE)","v":{"$error":"#N/A"}},{"$f":"VLOOKUP($A75,Participants!$A:$E,5,FALSE)","v":{"$error":"#N/A"}},19]
[null,0,{"$nulls":3},{"$f":"VLOOKUP($A76,Participants!$A:$E,4,FALSE)","v":{"$error":"#N/A"}},{"$f":"VLOOKUP($A76,Participants!$A:$E,2,FALSE)","v":{"$error":"#N/A"}},{"$f":"VLOOKUP($A76,Participants!$A:$E,3,FALSE)","v":{"$error":"#N/A"}},{"$f":"VLOOKUP($A76,Participants!$A:$E,5,FALSE)","v":{"$error":"#N/A"}},19]
[null,0,{"$nulls":3},{"$f":"VLOOKUP($A77,Participants!$A:$E,4,FALSE)","v":{"$error":"#N/A"}},{"$f":"VLOOKUP($A77,Participants!$A:$E,2,FALSE)","v":{"$error":"#N/A"}},{"$f":"VLOOKUP($A77,Participants!$A:$E,3,FALSE)","v":{"$error":"#N/A"}},{"$f":"VLOOKUP($A77,Participants!$A:$E,5,FALSE)","v":{"$error":"#N/A"}},19]
[null,0,{"$nulls":3},{"$f":"VLOOKUP($A78,Participants!$A:$E,4,FALSE)","v":{"$error":"#N/A"}},{"$f":"VLOOKUP($A78,Participants!$A:$E,2,FALSE)","v":{"$error":"#N/A"}},{"$f":"VLOOKUP($A78,Participants!$A:$E,3,FALSE)","v":{"$error":"#N/A"}},{"$f":"VLOOKUP($A78,Participants!$A:$E,5,FALSE)","v":{"$error":"#N/A"}},19]
[null,0,{"$nulls":3},{"$f":"VLOOKUP($A79,Participants!$A:$E,4,FALSE)","v":{"$error":"#N/A"}},{"$f":"VLOOKUP($A79,Participants!$A:$E,2,FALSE)","v":{"$error":"#N/A"}},{"$f":"VLOOKUP($A79,Participants!$A:$E,3,FALSE)","v":{"$error":"#N/A"}},{"$f":"VLOOKUP($A79,Participants!$A:$E,5,FALSE)","v":{"$error":"#N/A"}},19]
[null,0,{"$nulls":3},{"$f":"VLOOKUP($A80,Participants!$A:$E,4,FALSE)","v":{"$error":"#N/A"}},{"$f":"VLOOKUP($A80,Participants!$A:$E,2,FALSE)","v":{"$error":"#N/A"}},{"$f":"VLOOKUP($A80,Participants!$A:$E,3,FALSE)","v":{"$error":"#N/A"}},{"$f":"VLOOKUP($A80,Participants!$A:$E,5,FALSE)","v":{"$error":"#N/A"}},19]
[null,0,{"$nulls":3},{"$f":"VLOOKUP($A81,Participants!$A:$E,4,FALSE)","v":{"$error":"#N/A"}},{"$f":"VLOOKUP($A81,Participants!$A:$E,2,FALSE)","v":{"$error":"#N/A"}},{"$f":"VLOOKUP($A81,Participants!$A:$E,3,FALSE)","v":{"$error":"#N/A"}},{"$f":"VLOOKUP($A81,Participants!$A:$E,5,FALSE)","v":{"$error":"#N/A"}},19]
[null,0,{"$nulls":3},{"$f":"VLOOKUP($A82,Participants!$A:$E,4,FALSE)","v":{"$error":"#N/A"}},{"$f":"VLOOKUP($A82,Participants!$A:$E,2,FALSE)","v":{"$error":"#N/A"}},{"$f":"VLOOKUP($A82,Participants!$A:$E,3,FALSE)","v":{"$error":"#N/A"}},{"$f":"VLOOKUP($A82,Participants!$A:$E,5,FALSE)","v":{"$error":"#N/A"}},19]
[null,0,{"$nulls":3},{"$f":"VLOOKUP($A83,Participants!$A:$E,4,FALSE)","v":{"$error":"#N/A"}},{"$f":"VLOOKUP($A83,Participants!$A:$E,2,FALSE)","v":{"$error":"#N/A"}},{"$f":"VLOOKUP($A83,Participants!$A:$E,3,FALSE)","v":{"$error":"#N/A"}},{"$f":"VLOOKUP($A83,Participants!$A:$E,5,FALSE)","v":{"$error":"#N/A"}},19]
[null,0,{"$nulls":3},{"$f":"VLOOKUP($A84,Participants!$A:$E,4,FALSE)","v":{"$error":"#N/A"}},{"$f":"VLOOKUP($A84,Participants!$A:$E,2,FALSE)","v":{"$error":"#N/A"}},{"$f":"VLOOKUP($A84,Participants!$A:$E,3,FALSE)","v":{"$error":"#N/A"}},{"$f":"VLOOKUP($A84,Participants!$A:$E,5,FALSE)","v":{"$error":"#N/A"}},19]
[null,0,{"$nulls":3},{"$f":"VLOOKUP($A85,Participants!$A:$E,4,FALSE)","v":{"$error":"#N/A"}},{"$f":"VLOOKUP($A85,Participants!$A:$E,2,FALSE)","v":{"$error":"#N/A"}},{"$f":"VLOOKUP($A85,Participants!$A:$E,3,FALSE)","v":{"$error":"#N/A"}},{"$f":"VLOOKUP($A85,Participants!$A:$E,5,FALSE)","v":{"$error":"#N/A"}},19]
[null,0,{"$nulls":3},{"$f":"VLOOKUP($A86,Participants!$A:$E,4,FALSE)","v":{"$error":"#N/A"}},{"$f":"VLOOKUP($A86,Participants!$A:$E,2,FALSE)","v":{"$error":"#N/A"}},{"$f":"VLOOKUP($A86,Participants!$A:$E,3,FALSE)","v":{"$error":"#N/A"}},{"$f":"VLOOKUP($A86,Participants!$A:$E,5,FALSE)","v":{"$error":"#N/A"}},19]
[null,0,{"$nulls":3},{"$f":"VLOOKUP($A87,Participants!$A:$E,4,FALSE)","v":{"$error":"#N/A"}},{"$f":"VLOOKUP($A87,Participants!$A:$E,2,FALSE)","v":{"$error":"#N/A"}},{"$f":"VLOOKUP($A87,Participants!$A:$E,3,FALSE)","v":{"$error":"#N/A"}},{"$f":"VLOOKUP($A87,Participants!$A:$E,5,FALSE)","v":{"$error":"#N/A"}},19]
[null,0,{"$nulls":3},{"$f":"VLOOKUP($A88,Participants!$A:$E,4,FALSE)","v":{"$error":"#N/A"}},{"$f":"VLOOKUP($A88,Participants!$A:$E,2,FALSE)","v":{"$error":"#N/A"}},{"$f":"VLOOKUP($A88,Participants!$A:$E,3,FALSE)","v":{"$error":"#N/A"}},{"$f":"VLOOKUP($A88,Participants!$A:$E,5,FALSE)","v":{"$error":"#N/A"}},19]
[null,0,{"$nulls":3},{"$f":"VLOOKUP($A89,Participants!$A:$E,4,FALSE)","v":{"$error":"#N/A"}},{"$f":"VLOOKUP($A89,Participants!$A:$E,2,FALSE)","v":{"$error":"#N/A"}},{"$f":"VLOOKUP($A89,Participants!$A:$E,3,FALSE)","v":{"$error":"#N/A"}},{"$f":"VLOOKUP($A89,Participants!$A:$E,5,FALSE)","v":{"$error":"#N/A"}},19]
[null,0,{"$nulls":3},{"$f":"VLOOKUP($A90,Participants!$A:$E,4,FALSE)","v":{"$error":"#N/A"}},{"$f":"VLOOKUP($A90,Participants!$A:$E,2,FALSE)","v":{"$error":"#N/A"}},{"$f":"VLOOKUP($A90,Participants!$A:$E,3,FALSE)","v":{"$error":"#N/A"}},{"$f":"VLOOKUP($A90,Participants!$A:$E,5,FALSE)","v":{"$error":"#N/A"}},19]
[null,0,{"$nulls":3},{"$f":"VLOOKUP($A91,Participants!$A:$E,4,FALSE)","v":{"$error":"#N/A"}},{"$f":"VLOOKUP($A91,Participants!$A:$E,2,FALSE)","v":{"$error":"#N/A"}},{"$f":"VLOOKUP($A91,Participants!$A:$E,3,FALSE)","v":{"$error":"#N/A"}},{"$f":"VLOOKUP($A91,Participants!$A:$E,5,FALSE)","v":{"$error":"#N/A"}},19]
[null,0,{"$nulls":3},{"$f":"VLOOKUP($A92,Participants!$A:$E,4,FALSE)","v":{"$error":"#N/A"}},{"$f":"VLOOKUP($A92,Participants!$A:$E,2,FALSE)","v":{"$error":"#N/A"}},{"$f":"VLOOKUP($A92,Participants!$A:$E,3,FALSE)","v":{"$error":"#N/A"}},{"$f":"VLOOKUP($A92,Participants!$A:$E,5,FALSE)","v":{"$error":"#N/A"}},19]
[null,0,{"$nulls":3},{"$f":"VLOOKUP($A93,Participants!$A:$E,4,FALSE)","v":{"$error":"#N/A"}},{"$f":"VLOOKUP($A93,Participants!$A:$E,2,FALSE)","v":{"$error":"#N/A"}},{"$f":"VLOOKUP($A93,Participants!$A:$E,3,FALSE)","v":{"$error":"#N/A"}},{"$f":"VLOOKUP($A93,Participants!$A:$E,5,FALSE)","v":{"$error":"#N/A"}},19]
[null,0,{"$nulls":3},{"$f":"VLOOKUP($A94,Participants!$A:$E,4,FALSE)","v":{"$error":"#N/A"}},{"$f":"VLOOKUP($A94,Participants!$A:$E,2,FALSE)","v":{"$error":"#N/A"}},{"$f":"VLOOKUP($A94,Participants!$A:$E,3,FALSE)","v":{"$error":"#N/A"}},{"$f":"VLOOKUP($A94,Participants!$A:$E,5,FALSE)","v":{"$error":"#N/A"}},19]
[null,0,{"$nulls":3},{"$f":"VLOOKUP($A95,Participants!$A:$E,4,FALSE)","v":{"$error":"#N/A"}},{"$f":"VLOOKUP($A95,Participants!$A:$E,2,FALSE)","v":{"$error":"#N/A"}},{"$f":"VLOOKUP($A95,Participants!$A:$E,3,FALSE)","v":{"$error":"#N/A"}},{"$f":"VLOOKUP($A95,Participants!$A:$E,5,FALSE)","v":{"$error":"#N/A"}},19]
[null,0,{"$nulls":3},{"$f":"VLOOKUP($A96,Participants!$A:$E,4,FALSE)","v":{"$error":"#N/A"}},{"$f":"VLOOKUP($A96,Participants!$A:$E,2,FALSE)","v":{"$error":"#N/A"}},{"$f":"VLOOKUP($A96,Participants!$A:$E,3,FALSE)","v":{"$error":"#N/A"}},{"$f":"VLOOKUP($A96,Participants!$A:$E,5,FALSE)","v":{"$error":"#N/A"}},19]
[null,0,{"$nulls":3},{"$f":"VLOOKUP($A97,Participants!$A:$E,4,FALSE)","v":{"$error":"#N/A"}},{"$f":"VLOOKUP($A97,Participants!$A:$E,2,FALSE)","v":{"$error":"#N/A"}},{"$f":"VLOOKUP($A97,Participants!$A:$E,3,FALSE)","v":{"$error":"#N/A"}},{"$f":"VLOOKUP($A97,Participants!$A:$E,5,FALSE)","v":{"$error":"#N/A"}},19]
[null,0,{"$nulls":3},{"$f":"VLOOKUP($A98,Participants!$A:$E,4,FALSE)","v":{"$error":"#N/A"}},{"$f":"VLOOKUP($A98,Participants!$A:$E,2,FALSE)","v":{"$error":"#N/A"}},{"$f":"VLOOKUP($A98,Participants!$A:$E,3,FALSE)","v":{"$error":"#N/A"}},{"$f":"VLOOKUP($A98,Participants!$A:$E,5,FALSE)","v":{"$error":"#N/A"}},19]
[null,0,{"$nulls":3},{"$f":"VLOOKUP($A99,Participants!$A:$E,4,FALSE)","v":{"$error":"#N/A"}},{"$f":"VLOOKUP($A99,Participants!$A:$E,2,FALSE)","v":{"$error":"#N/A"}},{"$f":"VLOOKUP($A99,Participants!$A:$E,3,FALSE)","v":{"$error":"#N/A"}},{"$f":"VLOOKUP($A99,Participants!$A:$E,5,FALSE)","v":{"$error":"#N/A"}},19]
[null,0,{"$nulls":3},{"$f":"VLOOKUP($A100,Participants!$A:$E,4,FALSE)","v":{"$error":"#N/A"}},{"$f":"VLOOKUP($A100,Participants!$A:$E,2,FALSE)","v":{"$error":"#N/A"}},{"$f":"VLOOKUP($A100,Participants!$A:$E,3,FALSE)","v":{"$error":"#N/A"}},{"$f":"VLOOKUP($A100,Participants!$A:$E,5,FALSE)","v":{"$error":"#N/A"}},19]
[null,0,{"$nulls":3},{"$f":"VLOOKUP($A101,Participants!$A:$E,4,FALSE)","v":{"$error":"#N/A"}},{"$f":"VLOOKUP($A101,Participants!$A:$E,2,FALSE)","v":{"$error":"#N/A"}},{"$f":"VLOOKUP($A101,Participants!$A:$E,3,FALSE)","v":{"$error":"#N/A"}},{"$f":"VLOOKUP($A101,Participants!$A:$E,5,FALSE)","v":{"$error":"#N/A"}},19]

{"sheet":"HighJump 56 Boys","index":21,"n_rows":101,"n_cols":13,"rows_kept":101}
["Bib","Best Jump\n\nwill calculate\nautomatically","First Jump\n\nEnter 10 ft 3 3/4 in as 1003.75","Second Jump\n\nEnter 10 ft 3 3/4 in as 1003.75","Third Jump\n\nEnter 10 ft 3 3/4 in as 1003.75","Grade","FName","Lname","School","Overall Place","Points",null,"Return to Schedule of Events"]
[160,"NH",{"$nulls":3},{"$f":"VLOOKUP($A2,Participants!$A:$E,4,FALSE)","v":6},{"$f":"VLOOKUP($A2,Participants!$A:$E,2,FALSE)","v":"Jacob"},{"$f":"VLOOKUP($A2,Participants!$A:$E,3,FALSE)","v":"Coppinger"},{"$f":"VLOOKUP($A2,Participants!$A:$E,5,FALSE)","v":"SSFC"},{"$f":"RANK(B2,$B$1:$B$97,0)","v":{"$error":"#VALUE!"}}]
[75,310,{"$nulls":3},{"$f":"VLOOKUP($A3,Participants!$A:$E,4,FALSE)","v":6},{"$f":"VLOOKUP($A3,Participants!$A:$E,2,FALSE)","v":"J R"},{"$f":"VLOOKUP($A3,Participants!$A:$E,3,FALSE)","v":"Link"},{"$f":"VLOOKUP($A3,Participants!$A:$E,5,FALSE)","v":"St Jude"},{"$f":"RANK(B3,$B$1:$B$97,0)","v":4},null,null,"Add or Update Participants"]
[129,310.002,"WINS TIE-FEWER ATTEMPTS @3'10",null,null,{"$f":"VLOOKUP($A4,Participants!$A:$E,4,FALSE)","v":6},{"$f":"VLOOKUP($A4,Participants!$A:$E,2,FALSE)","v":"Gabriel"},{"$f":"VLOOKUP($A4,Participants!$A:$E,3,FALSE)","v":"Sulit"},{"$f":"VLOOKUP($A4,Participants!$A:$E,5,FALSE)","v":"St Jude"},3,null,null,"Overall Place and Points"]
[90,308,{"$nulls":3},{"$f":"VLOOKUP($A5,Participants!$A:$E,4,FALSE)","v":3},{"$f":"VLOOKUP($A5,Participants!$A:$E,2,FALSE)","v":"Suri "},{"$f":"VLOOKUP($A5,Participants!$A:$E,3,FALSE)","v":"Mejia-Herrera"},{"$f":"VLOOKUP($A5,Participants!$A:$E,5,FALSE)","v":"St Jude"},5]
[14,400,{"$nulls":3},{"$f":"VLOOKUP($A6,Participants!$A:$E,4,FALSE)","v":6},{"$f":"VLOOKUP($A6,Participants!$A:$E,2,FALSE)","v":"Jim"},{"$f":"VLOOKUP($A6,Participants!$A:$E,3,FALSE)","v":"Buchmeier"},{"$f":"VLOOKUP($A6,Participants!$A:$E,5,FALSE)","v":"St Jude"},2]
[91,402,{"$nulls":3},{"$f":"VLOOKUP($A7,Participants!$A:$E,4,FALSE)","v":6},{"$f":"VLOOKUP($A7,Participants!$A:$E,2,FALSE)","v":"T J"},{"$f":"VLOOKUP($A7,Participants!$A:$E,3,FALSE)","v":"Michalak"},{"$f":"VLOOKUP($A7,Participants!$A:$E,5,FALSE)","v":"St Jude"},1]
[null,{"$f":"MAX(C8:E8)","v":0},{"$nulls":3},{"$f":"VLOOKUP($A8,Participants!$A:$E,4,FALSE)","v":{"$error":"#N/A"}},{"$f":"VLOOKUP($A8,Participants!$A:$E,2,FALSE)","v":{"$error":"#N/A"}},{"$f":"VLOOKUP($A8,Participants!$A:$E,3,FALSE)","v":{"$error":"#N/A"}},{"$f":"VLOOKUP($A8,Participants!$A:$E,5,FALSE)","v":{"$error":"#N/A"}},6]
[null,0,{"$nulls":3},{"$f":"VLOOKUP($A9,Participants!$A:$E,4,FALSE)","v":{"$error":"#N/A"}},{"$f":"VLOOKUP($A9,Participants!$A:$E,2,FALSE)","v":{"$error":"#N/A"}},{"$f":"VLOOKUP($A9,Participants!$A:$E,3,FALSE)","v":{"$error":"#N/A"}},{"$f":"VLOOKUP($A9,Participants!$A:$E,5,FALSE)","v":{"$error":"#N/A"}},6]
[null,0,{"$nulls":3},{"$f":"VLOOKUP($A10,Participants!$A:$E,4,FALSE)","v":{"$error":"#N/A"}},{"$f":"VLOOKUP($A10,Participants!$A:$E,2,FALSE)","v":{"$error":"#N/A"}},{"$f":"VLOOKUP($A10,Participants!$A:$E,3,FALSE)","v":{"$error":"#N/A"}},{"$f":"VLOOKUP($A10,Participants!$A:$E,5,FALSE)","v":{"$error":"#N/A"}},6]
[null,0,{"$nulls":3},{"$f":"VLOOKUP($A11,Participants!$A:$E,4,FALSE)","v":{"$error":"#N/A"}},{"$f":"VLOOKUP($A11,Participants!$A:$E,2,FALSE)","v":{"$error":"#N/A"}},{"$f":"VLOOKUP($A11,Participants!$A:$E,3,FALSE)","v":{"$error":"#N/A"}},{"$f":"VLOOKUP($A11,Participants!$A:$E,5,FALSE)","v":{"$error":"#N/A"}},6]
[null,0,{"$nulls":3},{"$f":"VLOOKUP($A12,Participants!$A:$E,4,FALSE)","v":{"$error":"#N/A"}},{"$f":"VLOOKUP($A12,Participants!$A:$E,2,FALSE)","v":{"$error":"#N/A"}},{"$f":"VLOOKUP($A12,Participants!$A:$E,3,FALSE)","v":{"$error":"#N/A"}},{"$f":"VLOOKUP($A12,Participants!$A:$E,5,FALSE)","v":{"$error":"#N/A"}},6]
[null,0,{"$nulls":3},{"$f":"VLOOKUP($A13,Participants!$A:$E,4,FALSE)","v":{"$error":"#N/A"}},{"$f":"VLOOKUP($A13,Participants!$A:$E,2,FALSE)","v":{"$error":"#N/A"}},{"$f":"VLOOKUP($A13,Participants!$A:$E,3,FALSE)","v":{"$error":"#N/A"}},{"$f":"VLOOKUP($A13,Participants!$A:$E,5,FALSE)","v":{"$error":"#N/A"}},6]
[null,0,{"$nulls":3},{"$f":"VLOOKUP($A14,Participants!$A:$E,4,FALSE)","v":{"$error":"#N/A"}},{"$f":"VLOOKUP($A14,Participants!$A:$E,2,FALSE)","v":{"$error":"#N/A"}},{"$f":"VLOOKUP($A14,Participants!$A:$E,3,FALSE)","v":{"$error":"#N/A"}},{"$f":"VLOOKUP($A14,Participants!$A:$E,5,FALSE)","v":{"$error":"#N/A"}},6]
[null,0,{"$nulls":3},{"$f":"VLOOKUP($A15,Participants!$A:$E,4,FALSE)","v":{"$error":"#N/A"}},{"$f":"VLOOKUP($A15,Participants!$A:$E,2,FALSE)","v":{"$error":"#N/A"}},{"$f":"VLOOKUP($A15,Participants!$A:$E,3,FALSE)","v":{"$error":"#N/A"}},{"$f":"VLOOKUP($A15,Participants!$A:$E,5,FALSE)","v":{"$error":"#N/A"}},6]
[null,0,{"$nulls":3},{"$f":"VLOOKUP($A16,Participants!$A:$E,4,FALSE)","v":{"$error":"#N/A"}},{"$f":"VLOOKUP($A16,Participants!$A:$E,2,FALSE)","v":{"$error":"#N/A"}},{"$f":"VLOOKUP($A16,Participants!$A:$E,3,FALSE)","v":{"$error":"#N/A"}},{"$f":"VLOOKUP($A16,Participants!$A:$E,5,FALSE)","v":{"$error":"#N/A"}},6]
[null,0,{"$nulls":3},{"$f":"VLOOKUP($A17,Participants!$A:$E,4,FALSE)","v":{"$error":"#N/A"}},{"$f":"VLOOKUP($A17,Participants!$A:$E,2,FALSE)","v":{"$error":"#N/A"}},{"$f":"VLOOKUP($A17,Participants!$A:$E,3,FALSE)","v":{"$error":"#N/A"}},{"$f":"VLOOKUP($A17,Participants!$A:$E,5,FALSE)","v":{"$error":"#N/A"}},6]
[null,0,{"$nulls":3},{"$f":"VLOOKUP($A18,Participants!$A:$E,4,FALSE)","v":{"$error":"#N/A"}},{"$f":"VLOOKUP($A18,Participants!$A:$E,2,FALSE)","v":{"$error":"#N/A"}},{"$f":"VLOOKUP($A18,Participants!$A:$E,3,FALSE)","v":{"$error":"#N/A"}},{"$f":"VLOOKUP($A18,Participants!$A:$E,5,FALSE)","v":{"$error":"#N/A"}},6]
[null,0,{"$nulls":3},{"$f":"VLOOKUP($A19,Participants!$A:$E,4,FALSE)","v":{"$error":"#N/A"}},{"$f":"VLOOKUP($A19,Participants!$A:$E,2,FALSE)","v":{"$error":"#N/A"}},{"$f":"VLOOKUP($A19,Participants!$A:$E,3,FALSE)","v":{"$error":"#N/A"}},{"$f":"VLOOKUP($A19,Participants!$A:$E,5,FALSE)","v":{"$error":"#N/A"}},6]
[null,0,{"$nulls":3},{"$f":"VLOOKUP($A20,Participants!$A:$E,4,FALSE)","v":{"$error":"#N/A"}},{"$f":"VLOOKUP($A20,Participants!$A:$E,2,FALSE)","v":{"$error":"#N/A"}},{"$f":"VLOOKUP($A20,Participants!$A:$E,3,FALSE)","v":{"$error":"#N/A"}},{"$f":"VLOOKUP($A20,Participants!$A:$E,5,FALSE)","v":{"$error":"#N/A"}},6]
[null,0,{"$nulls":3},{"$f":"VLOOKUP($A21,Participants!$A:$E,4,FALSE)","v":{"$error":"#N/A"}},{"$f":"VLOOKUP($A21,Participants!$A:$E,2,FALSE)","v":{"$error":"#N/A"}},{"$f":"VLOOKUP($A21,Participants!$A:$E,3,FALSE)","v":{"$error":"#N/A"}},{"$f":"VLOOKUP($A21,Participants!$A:$E,5,FALSE)","v":{"$error":"#N/A"}},6]
[null,0,{"$nulls":3},{"$f":"VLOOKUP($A22,Participants!$A:$E,4,FALSE)","v":{"$error":"#N/A"}},{"$f":"VLOOKUP($A22,Participants!$A:$E,2,FALSE)","v":{"$error":"#N/A"}},{"$f":"VLOOKUP($A22,Participants!$A:$E,3,FALSE)","v":{"$error":"#N/A"}},{"$f":"VLOOKUP($A22,Participants!$A:$E,5,FALSE)","v":{"$error":"#N/A"}},6]
[null,0,{"$nulls":3},{"$f":"VLOOKUP($A23,Participants!$A:$E,4,FALSE)","v":{"$error":"#N/A"}},{"$f":"VLOOKUP($A23,Participants!$A:$E,2,FALSE)","v":{"$error":"#N/A"}},{"$f":"VLOOKUP($A23,Participants!$A:$E,3,FALSE)","v":{"$error":"#N/A"}},{"$f":"VLOOKUP($A23,Participants!$A:$E,5,FALSE)","v":{"$error":"#N/A"}},6]
[null,0,{"$nulls":3},{"$f":"VLOOKUP($A24,Participants!$A:$E,4,FALSE)","v":{"$error":"#N/A"}},{"$f":"VLOOKUP($A24,Participants!$A:$E,2,FALSE)","v":{"$error":"#N/A"}},{"$f":"VLOOKUP($A24,Participants!$A:$E,3,FALSE)","v":{"$error":"#N/A"}},{"$f":"VLOOKUP($A24,Participants!$A:$E,5,FALSE)","v":{"$error":"#N/A"}},6]
[null,0,{"$nulls":3},{"$f":"VLOOKUP($A25,Participants!$A:$E,4,FALSE)","v":{"$error":"#N/A"}},{"$f":"VLOOKUP($A25,Participants!$A:$E,2,FALSE)","v":{"$error":"#N/A"}},{"$f":"VLOOKUP($A25,Participants!$A:$E,3,FALSE)","v":{"$error":"#N/A"}},{"$f":"VLOOKUP($A25,Participants!$A:$E,5,FALSE)","v":{"$error":"#N/A"}},6]
[null,0,{"$nulls":3},{"$f":"VLOOKUP($A26,Participants!$A:$E,4,FALSE)","v":{"$error":"#N/A"}},{"$f":"VLOOKUP($A26,Participants!$A:$E,2,FALSE)","v":{"$error":"#N/A"}},{"$f":"VLOOKUP($A26,Participants!$A:$E,3,FALSE)","v":{"$error":"#N/A"}},{"$f":"VLOOKUP($A26,Participants!$A:$E,5,FALSE)","v":{"$error":"#N/A"}},6]
[null,0,{"$nulls":3},{"$f":"VLOOKUP($A27,Participants!$A:$E,4,FALSE)","v":{"$error":"#N/A"}},{"$f":"VLOOKUP($A27,Participants!$A:$E,2,FALSE)","v":{"$error":"#N/A"}},{"$f":"VLOOKUP($A27,Participants!$A:$E,3,FALSE)","v":{"$error":"#N/A"}},{"$f":"VLOOKUP($A27,Participants!$A:$E,5,FALSE)","v":{"$error":"#N/A"}},6]
[null,0,{"$nulls":3},{"$f":"VLOOKUP($A28,Participants!$A:$E,4,FALSE)","v":{"$error":"#N/A"}},{"$f":"VLOOKUP($A28,Participants!$A:$E,2,FALSE)","v":{"$error":"#N/A"}},{"$f":"VLOOKUP($A28,Participants!$A:$E,3,FALSE)","v":{"$error":"#N/A"}},{"$f":"VLOOKUP($A28,Participants!$A:$E,5,FALSE)","v":{"$error":"#N/A"}},6]
[null,0,{"$nulls":3},{"$f":"VLOOKUP($A29,Participants!$A:$E,4,FALSE)","v":{"$error":"#N/A"}},{"$f":"VLOOKUP($A29,Participants!$A:$E,2,FALSE)","v":{"$error":"#N/A"}},{"$f":"VLOOKUP($A29,Participants!$A:$E,3,FALSE)","v":{"$error":"#N/A"}},{"$f":"VLOOKUP($A29,Participants!$A:$E,5,FALSE)","v":{"$error":"#N/A"}},6]
[null,0,{"$nulls":3},{"$f":"VLOOKUP($A30,Participants!$A:$E,4,FALSE)","v":{"$error":"#N/A"}},{"$f":"VLOOKUP($A30,Participants!$A:$E,2,FALSE)","v":{"$error":"#N/A"}},{"$f":"VLOOKUP($A30,Participants!$A:$E,3,FALSE)","v":{"$error":"#N/A"}},{"$f":"VLOOKUP($A30,Participants!$A:$E,5,FALSE)","v":{"$error":"#N/A"}},6]
[null,0,{"$nulls":3},{"$f":"VLOOKUP($A31,Participants!$A:$E,4,FALSE)","v":{"$error":"#N/A"}},{"$f":"VLOOKUP($A31,Participants!$A:$E,2,FALSE)","v":{"$error":"#N/A"}},{"$f":"VLOOKUP($A31,Participants!$A:$E,3,FALSE)","v":{"$error":"#N/A"}},{"$f":"VLOOKUP($A31,Participants!$A:$E,5,FALSE)","v":{"$error":"#N/A"}},6]
[null,0,{"$nulls":3},{"$f":"VLOOKUP($A32,Participants!$A:$E,4,FALSE)","v":{"$error":"#N/A"}},{"$f":"VLOOKUP($A32,Participants!$A:$E,2,FALSE)","v":{"$error":"#N/A"}},{"$f":"VLOOKUP($A32,Participants!$A:$E,3,FALSE)","v":{"$error":"#N/A"}},{"$f":"VLOOKUP($A32,Participants!$A:$E,5,FALSE)","v":{"$error":"#N/A"}},6]
[null,0,{"$nulls":3},{"$f":"VLOOKUP($A33,Participants!$A:$E,4,FALSE)","v":{"$error":"#N/A"}},{"$f":"VLOOKUP($A33,Participants!$A:$E,2,FALSE)","v":{"$error":"#N/A"}},{"$f":"VLOOKUP($A33,Participants!$A:$E,3,FALSE)","v":{"$error":"#N/A"}},{"$f":"VLOOKUP($A33,Participants!$A:$E,5,FALSE)","v":{"$error":"#N/A"}},6]
[null,0,{"$nulls":3},{"$f":"VLOOKUP($A34,Participants!$A:$E,4,FALSE)","v":{"$error":"#N/A"}},{"$f":"VLOOKUP($A34,Participants!$A:$E,2,FALSE)","v":{"$error":"#N/A"}},{"$f":"VLOOKUP($A34,Participants!$A:$E,3,FALSE)","v":{"$error":"#N/A"}},{"$f":"VLOOKUP($A34,Participants!$A:$E,5,FALSE)","v":{"$error":"#N/A"}},6]
[null,0,{"$nulls":3},{"$f":"VLOOKUP($A35,Participants!$A:$E,4,FALSE)","v":{"$error":"#N/A"}},{"$f":"VLOOKUP($A35,Participants!$A:$E,2,FALSE)","v":{"$error":"#N/A"}},{"$f":"VLOOKUP($A35,Participants!$A:$E,3,FALSE)","v":{"$error":"#N/A"}},{"$f":"VLOOKUP($A35,Participants!$A:$E,5,FALSE)","v":{"$error":"#N/A"}},6]
[null,0,{"$nulls":3},{"$f":"VLOOKUP($A36,Participants!$A:$E,4,FALSE)","v":{"$error":"#N/A"}},{"$f":"VLOOKUP($A36,Participants!$A:$E,2,FALSE)","v":{"$error":"#N/A"}},{"$f":"VLOOKUP($A36,Participants!$A:$E,3,FALSE)","v":{"$error":"#N/A"}},{"$f":"VLOOKUP($A36,Participants!$A:$E,5,FALSE)","v":{"$error":"#N/A"}},6]
[null,0,{"$nulls":3},{"$f":"VLOOKUP($A37,Participants!$A:$E,4,FALSE)","v":{"$error":"#N/A"}},{"$f":"VLOOKUP($A37,Participants!$A:$E,2,FALSE)","v":{"$error":"#N/A"}},{"$f":"VLOOKUP($A37,Participants!$A:$E,3,FALSE)","v":{"$error":"#N/A"}},{"$f":"VLOOKUP($A37,Participants!$A:$E,5,FALSE)","v":{"$error":"#N/A"}},6]
[null,0,{"$nulls":3},{"$f":"VLOOKUP($A38,Participants!$A:$E,4,FALSE)","v":{"$error":"#N/A"}},{"$f":"VLOOKUP($A38,Participants!$A:$E,2,FALSE)","v":{"$error":"#N/A"}},{"$f":"VLOOKUP($A38,Participants!$A:$E,3,FALSE)","v":{"$error":"#N/A"}},{"$f":"VLOOKUP($A38,Participants!$A:$E,5,FALSE)","v":{"$error":"#N/A"}},6]
[null,0,{"$nulls":3},{"$f":"VLOOKUP($A39,Participants!$A:$E,4,FALSE)","v":{"$error":"#N/A"}},{"$f":"VLOOKUP($A39,Participants!$A:$E,2,FALSE)","v":{"$error":"#N/A"}},{"$f":"VLOOKUP($A39,Participants!$A:$E,3,FALSE)","v":{"$error":"#N/A"}},{"$f":"VLOOKUP($A39,Participants!$A:$E,5,FALSE)","v":{"$error":"#N/A"}},6]
[null,0,{"$nulls":3},{"$f":"VLOOKUP($A40,Participants!$A:$E,4,FALSE)","v":{"$error":"#N/A"}},{"$f":"VLOOKUP($A40,Participants!$A:$E,2,FALSE)","v":{"$error":"#N/A"}},{"$f":"VLOOKUP($A40,Participants!$A:$E,3,FALSE)","v":{"$error":"#N/A"}},{"$f":"VLOOKUP($A40,Participants!$A:$E,5,FALSE)","v":{"$error":"#N/A"}},6]
[null,0,{"$nulls":3},{"$f":"VLOOKUP($A41,Participants!$A:$E,4,FALSE)","v":{"$error":"#N/A"}},{"$f":"VLOOKUP($A41,Participants!$A:$E,2,FALSE)","v":{"$error":"#N/A"}},{"$f":"VLOOKUP($A41,Participants!$A:$E,3,FALSE)","v":{"$error":"#N/A"}},{"$f":"VLOOKUP($A41,Participants!$A:$E,5,FALSE)","v":{"$error":"#N/A"}},6]
[null,0,{"$nulls":3},{"$f":"VLOOKUP($A42,Participants!$A:$E,4,FALSE)","v":{"$error":"#N/A"}},{"$f":"VLOOKUP($A42,Participants!$A:$E,2,FALSE)","v":{"$error":"#N/A"}},{"$f":"VLOOKUP($A42,Participants!$A:$E,3,FALSE)","v":{"$error":"#N/A"}},{"$f":"VLOOKUP($A42,Participants!$A:$E,5,FALSE)","v":{"$error":"#N/A"}},6]
[null,0,{"$nulls":3},{"$f":"VLOOKUP($A43,Participants!$A:$E,4,FALSE)","v":{"$error":"#N/A"}},{"$f":"VLOOKUP($A43,Participants!$A:$E,2,FALSE)","v":{"$error":"#N/A"}},{"$f":"VLOOKUP($A43,Participants!$A:$E,3,FALSE)","v":{"$error":"#N/A"}},{"$f":"VLOOKUP($A43,Participants!$A:$E,5,FALSE)","v":{"$error":"#N/A"}},6]
[null,0,{"$nulls":3},{"$f":"VLOOKUP($A44,Participants!$A:$E,4,FALSE)","v":{"$error":"#N/A"}},{"$f":"VLOOKUP($A44,Participants!$A:$E,2,FALSE)","v":{"$error":"#N/A"}},{"$f":"VLOOKUP($A44,Participants!$A:$E,3,FALSE)","v":{"$error":"#N/A"}},{"$f":"VLOOKUP($A44,Participants!$A:$E,5,FALSE)","v":{"$error":"#N/A"}},6]
[null,0,{"$nulls":3},{"$f":"VLOOKUP($A45,Participants!$A:$E,4,FALSE)","v":{"$error":"#N/A"}},{"$f":"VLOOKUP($A45,Participants!$A:$E,2,FALSE)","v":{"$error":"#N/A"}},{"$f":"VLOOKUP($A45,Participants!$A:$E,3,FALSE)","v":{"$error":"#N/A"}},{"$f":"VLOOKUP($A45,Participants!$A:$E,5,FALSE)","v":{"$error":"#N/A"}},6]
[null,0,{"$nulls":3},{"$f":"VLOOKUP($A46,Participants!$A:$E,4,FALSE)","v":{"$error":"#N/A"}},{"$f":"VLOOKUP($A46,Participants!$A:$E,2,FALSE)","v":{"$error":"#N/A"}},{"$f":"VLOOKUP($A46,Participants!$A:$E,3,FALSE)","v":{"$error":"#N/A"}},{"$f":"VLOOKUP($A46,Participants!$A:$E,5,FALSE)","v":{"$error":"#N/A"}},6]
[null,0,{"$nulls":3},{"$f":"VLOOKUP($A47,Participants!$A:$E,4,FALSE)","v":{"$error":"#N/A"}},{"$f":"VLOOKUP($A47,Participants!$A:$E,2,FALSE)","v":{"$error":"#N/A"}},{"$f":"VLOOKUP($A47,Participants!$A:$E,3,FALSE)","v":{"$error":"#N/A"}},{"$f":"VLOOKUP($A47,Participants!$A:$E,5,FALSE)","v":{"$error":"#N/A"}},6]
[null,0,{"$nulls":3},{"$f":"VLOOKUP($A48,Participants!$A:$E,4,FALSE)","v":{"$error":"#N/A"}},{"$f":"VLOOKUP($A48,Participants!$A:$E,2,FALSE)","v":{"$error":"#N/A"}},{"$f":"VLOOKUP($A48,Participants!$A:$E,3,FALSE)","v":{"$error":"#N/A"}},{"$f":"VLOOKUP($A48,Participants!$A:$E,5,FALSE)","v":{"$error":"#N/A"}},6]
[null,0,{"$nulls":3},{"$f":"VLOOKUP($A49,Participants!$A:$E,4,FALSE)","v":{"$error":"#N/A"}},{"$f":"VLOOKUP($A49,Participants!$A:$E,2,FALSE)","v":{"$error":"#N/A"}},{"$f":"VLOOKUP($A49,Participants!$A:$E,3,FALSE)","v":{"$error":"#N/A"}},{"$f":"VLOOKUP($A49,Participants!$A:$E,5,FALSE)","v":{"$error":"#N/A"}},6]
[null,0,{"$nulls":3},{"$f":"VLOOKUP($A50,Participants!$A:$E,4,FALSE)","v":{"$error":"#N/A"}},{"$f":"VLOOKUP($A50,Participants!$A:$E,2,FALSE)","v":{"$error":"#N/A"}},{"$f":"VLOOKUP($A50,Participants!$A:$E,3,FALSE)","v":{"$error":"#N/A"}},{"$f":"VLOOKUP($A50,Participants!$A:$E,5,FALSE)","v":{"$error":"#N/A"}},6]
[null,0,{"$nulls":3},{"$f":"VLOOKUP($A51,Participants!$A:$E,4,FALSE)","v":{"$error":"#N/A"}},{"$f":"VLOOKUP($A51,Participants!$A:$E,2,FALSE)","v":{"$error":"#N/A"}},{"$f":"VLOOKUP($A51,Participants!$A:$E,3,FALSE)","v":{"$error":"#N/A"}},{"$f":"VLOOKUP($A51,Participants!$A:$E,5,FALSE)","v":{"$error":"#N/A"}},6]
[null,0,{"$nulls":3},{"$f":"VLOOKUP($A52,Participants!$A:$E,4,FALSE)","v":{"$error":"#N/A"}},{"$f":"VLOOKUP($A52,Participants!$A:$E,2,FALSE)","v":{"$error":"#N/A"}},{"$f":"VLOOKUP($A52,Participants!$A:$E,3,FALSE)","v":{"$error":"#N/A"}},{"$f":"VLOOKUP($A52,Participants!$A:$E,5,FALSE)","v":{"$error":"#N/A"}},6]
[null,0,{"$nulls":3},{"$f":"VLOOKUP($A53,Participants!$A:$E,4,FALSE)","v":{"$error":"#N/A"}},{"$f":"VLOOKUP($A53,Participants!$A:$E,2,FALSE)","v":{"$error":"#N/A"}},{"$f":"VLOOKUP($A53,Participants!$A:$E,3,FALSE)","v":{"$error":"#N/A"}},{"$f":"VLOOKUP($A53,Participants!$A:$E,5,FALSE)","v":{"$error":"#N/A"}},6]
[null,0,{"$nulls":3},{"$f":"VLOOKUP($A54,Participants!$A:$E,4,FALSE)","v":{"$error":"#N/A"}},{"$f":"VLOOKUP($A54,Participants!$A:$E,2,FALSE)","v":{"$error":"#N/A"}},{"$f":"VLOOKUP($A54,Participants!$A:$E,3,FALSE)","v":{"$error":"#N/A"}},{"$f":"VLOOKUP($A54,Participants!$A:$E,5,FALSE)","v":{"$error":"#N/A"}},6]
[null,0,{"$nulls":3},{"$f":"VLOOKUP($A55,Participants!$A:$E,4,FALSE)","v":{"$error":"#N/A"}},{"$f":"VLOOKUP($A55,Participants!$A:$E,2,FALSE)","v":{"$error":"#N/A"}},{"$f":"VLOOKUP($A55,Participants!$A:$E,3,FALSE)","v":{"$error":"#N/A"}},{"$f":"VLOOKUP($A55,Participants!$A:$E,5,FALSE)","v":{"$error":"#N/A"}},6]
[null,0,{"$nulls":3},{"$f":"VLOOKUP($A56,Participants!$A:$E,4,FALSE)","v":{"$error":"#N/A"}},{"$f":"VLOOKUP($A56,Participants!$A:$E,2,FALSE)","v":{"$error":"#N/A"}},{"$f":"VLOOKUP($A56,Participants!$A:$E,3,FALSE)","v":{"$error":"#N/A"}},{"$f":"VLOOKUP($A56,Participants!$A:$E,5,FALSE)","v":{"$error":"#N/A"}},6]
[null,0,{"$nulls":3},{"$f":"VLOOKUP($A57,Participants!$A:$E,4,FALSE)","v":{"$error":"#N/A"}},{"$f":"VLOOKUP($A57,Participants!$A:$E,2,FALSE)","v":{"$error":"#N/A"}},{"$f":"VLOOKUP($A57,Participants!$A:$E,3,FALSE)","v":{"$error":"#N/A"}},{"$f":"VLOOKUP($A57,Participants!$A:$E,5,FALSE)","v":{"$error":"#N/A"}},6]
[null,0,{"$nulls":3},{"$f":"VLOOKUP($A58,Participants!$A:$E,4,FALSE)","v":{"$error":"#N/A"}},{"$f":"VLOOKUP($A58,Participants!$A:$E,2,FALSE)","v":{"$error":"#N/A"}},{"$f":"VLOOKUP($A58,Participants!$A:$E,3,FALSE)","v":{"$error":"#N/A"}},{"$f":"VLOOKUP($A58,Participants!$A:$E,5,FALSE)","v":{"$error":"#N/A"}},6]
[null,0,{"$nulls":3},{"$f":"VLOOKUP($A59,Participants!$A:$E,4,FALSE)","v":{"$error":"#N/A"}},{"$f":"VLOOKUP($A59,Participants!$A:$E,2,FALSE)","v":{"$error":"#N/A"}},{"$f":"VLOOKUP($A59,Participants!$A:$E,3,FALSE)","v":{"$error":"#N/A"}},{"$f":"VLOOKUP($A59,Participants!$A:$E,5,FALSE)","v":{"$error":"#N/A"}},6]
[null,0,{"$nulls":3},{"$f":"VLOOKUP($A60,Participants!$A:$E,4,FALSE)","v":{"$error":"#N/A"}},{"$f":"VLOOKUP($A60,Participants!$A:$E,2,FALSE)","v":{"$error":"#N/A"}},{"$f":"VLOOKUP($A60,Participants!$A:$E,3,FALSE)","v":{"$error":"#N/A"}},{"$f":"VLOOKUP($A60,Participants!$A:$E,5,FALSE)","v":{"$error":"#N/A"}},6]
[null,0,{"$nulls":3},{"$f":"VLOOKUP($A61,Participants!$A:$E,4,FALSE)","v":{"$error":"#N/A"}},{"$f":"VLOOKUP($A61,Participants!$A:$E,2,FALSE)","v":{"$error":"#N/A"}},{"$f":"VLOOKUP($A61,Participants!$A:$E,3,FALSE)","v":{"$error":"#N/A"}},{"$f":"VLOOKUP($A61,Participants!$A:$E,5,FALSE)","v":{"$error":"#N/A"}},6]
[null,0,{"$nulls":3},{"$f":"VLOOKUP($A62,Participants!$A:$E,4,FALSE)","v":{"$error":"#N/A"}},{"$f":"VLOOKUP($A62,Participants!$A:$E,2,FALSE)","v":{"$error":"#N/A"}},{"$f":"VLOOKUP($A62,Participants!$A:$E,3,FALSE)","v":{"$error":"#N/A"}},{"$f":"VLOOKUP($A62,Participants!$A:$E,5,FALSE)","v":{"$error":"#N/A"}},6]
[null,0,{"$nulls":3},{"$f":"VLOOKUP($A63,Participants!$A:$E,4,FALSE)","v":{"$error":"#N/A"}},{"$f":"VLOOKUP($A63,Participants!$A:$E,2,FALSE)","v":{"$error":"#N/A"}},{"$f":"VLOOKUP($A63,Participants!$A:$E,3,FALSE)","v":{"$error":"#N/A"}},{"$f":"VLOOKUP($A63,Participants!$A:$E,5,FALSE)","v":{"$error":"#N/A"}},6]
[null,0,{"$nulls":3},{"$f":"VLOOKUP($A64,Participants!$A:$E,4,FALSE)","v":{"$error":"#N/A"}},{"$f":"VLOOKUP($A64,Participants!$A:$E,2,FALSE)","v":{"$error":"#N/A"}},{"$f":"VLOOKUP($A64,Participants!$A:$E,3,FALSE)","v":{"$error":"#N/A"}},{"$f":"VLOOKUP($A64,Participants!$A:$E,5,FALSE)","v":{"$error":"#N/A"}},6]
[null,0,{"$nulls":3},{"$f":"VLOOKUP($A65,Participants!$A:$E,4,FALSE)","v":{"$error":"#N/A"}},{"$f":"VLOOKUP($A65,Participants!$A:$E,2,FALSE)","v":{"$error":"#N/A"}},{"$f":"VLOOKUP($A65,Participants!$A:$E,3,FALSE)","v":{"$error":"#N/A"}},{"$f":"VLOOKUP($A65,Participants!$A:$E,5,FALSE)","v":{"$error":"#N/A"}},6]
[null,0,{"$nulls":3},{"$f":"VLOOKUP($A66,Participants!$A:$E,4,FALSE)","v":{"$error":"#N/A"}},{"$f":"VLOOKUP($A66,Participants!$A:$E,2,FALSE)","v":{"$error":"#N/A"}},{"$f":"VLOOKUP($A66,Participants!$A:$E,3,FALSE)","v":{"$error":"#N/A"}},{"$f":"VLOOKUP($A66,Participants!$A:$E,5,FALSE)","v":{"$error":"#N/A"}},6]
[null,0,{"$nulls":3},{"$f":"VLOOKUP($A67,Participants!$A:$E,4,FALSE)","v":{"$error":"#N/A"}},{"$f":"VLOOKUP($A67,Participants!$A:$E,2,FALSE)","v":{"$error":"#N/A"}},{"$f":"VLOOKUP($A67,Participants!$A:$E,3,FALSE)","v":{"$error":"#N/A"}},{"$f":"VLOOKUP($A67,Participants!$A:$E,5,FALSE)","v":{"$error":"#N/A"}},{"$f":"RANK(B67,$B$1:$B$97,0)","v":6}]
[null,0,{"$nulls":3},{"$f":"VLOOKUP($A68,Participants!$A:$E,4,FALSE)","v":{"$error":"#N/A"}},{"$f":"VLOOKUP($A68,Participants!$A:$E,2,FALSE)","v":{"$error":"#N/A"}},{"$f":"VLOOKUP($A68,Participants!$A:$E,3,FALSE)","v":{"$error":"#N/A"}},{"$f":"VLOOKUP($A68,Participants!$A:$E,5,FALSE)","v":{"$error":"#N/A"}},6]
[null,0,{"$nulls":3},{"$f":"VLOOKUP($A69,Participants!$A:$E,4,FALSE)","v":{"$error":"#N/A"}},{"$f":"VLOOKUP($A69,Participants!$A:$E,2,FALSE)","v":{"$error":"#N/A"}},{"$f":"VLOOKUP($A69,Participants!$A:$E,3,FALSE)","v":{"$error":"#N/A"}},{"$f":"VLOOKUP($A69,Participants!$A:$E,5,FALSE)","v":{"$error":"#N/A"}},6]
[null,0,{"$nulls":3},{"$f":"VLOOKUP($A70,Participants!$A:$E,4,FALSE)","v":{"$error":"#N/A"}},{"$f":"VLOOKUP($A70,Participants!$A:$E,2,FALSE)","v":{"$error":"#N/A"}},{"$f":"VLOOKUP($A70,Participants!$A:$E,3,FALSE)","v":{"$error":"#N/A"}},{"$f":"VLOOKUP($A70,Participants!$A:$E,5,FALSE)","v":{"$error":"#N/A"}},6]
[null,0,{"$nulls":3},{"$f":"VLOOKUP($A71,Participants!$A:$E,4,FALSE)","v":{"$error":"#N/A"}},{"$f":"VLOOKUP($A71,Participants!$A:$E,2,FALSE)","v":{"$error":"#N/A"}},{"$f":"VLOOKUP($A71,Participants!$A:$E,3,FALSE)","v":{"$error":"#N/A"}},{"$f":"VLOOKUP($A71,Participants!$A:$E,5,FALSE)","v":{"$error":"#N/A"}},6]
[null,{"$f":"MAX(C72:E72)","v":0},{"$nulls":3},{"$f":"VLOOKUP($A72,Participants!$A:$E,4,FALSE)","v":{"$error":"#N/A"}},{"$f":"VLOOKUP($A72,Participants!$A:$E,2,FALSE)","v":{"$error":"#N/A"}},{"$f":"VLOOKUP($A72,Participants!$A:$E,3,FALSE)","v":{"$error":"#N/A"}},{"$f":"VLOOKUP($A72,Participants!$A:$E,5,FALSE)","v":{"$error":"#N/A"}},6]
[null,0,{"$nulls":3},{"$f":"VLOOKUP($A73,Participants!$A:$E,4,FALSE)","v":{"$error":"#N/A"}},{"$f":"VLOOKUP($A73,Participants!$A:$E,2,FALSE)","v":{"$error":"#N/A"}},{"$f":"VLOOKUP($A73,Participants!$A:$E,3,FALSE)","v":{"$error":"#N/A"}},{"$f":"VLOOKUP($A73,Participants!$A:$E,5,FALSE)","v":{"$error":"#N/A"}},6]
[null,0,{"$nulls":3},{"$f":"VLOOKUP($A74,Participants!$A:$E,4,FALSE)","v":{"$error":"#N/A"}},{"$f":"VLOOKUP($A74,Participants!$A:$E,2,FALSE)","v":{"$error":"#N/A"}},{"$f":"VLOOKUP($A74,Participants!$A:$E,3,FALSE)","v":{"$error":"#N/A"}},{"$f":"VLOOKUP($A74,Participants!$A:$E,5,FALSE)","v":{"$error":"#N/A"}},6]
[null,0,{"$nulls":3},{"$f":"VLOOKUP($A75,Participants!$A:$E,4,FALSE)","v":{"$error":"#N/A"}},{"$f":"VLOOKUP($A75,Participants!$A:$E,2,FALSE)","v":{"$error":"#N/A"}},{"$f":"VLOOKUP($A75,Participants!$A:$E,3,FALSE)","v":{"$error":"#N/A"}},{"$f":"VLOOKUP($A75,Participants!$A:$E,5,FALSE)","v":{"$error":"#N/A"}},6]
[null,0,{"$nulls":3},{"$f":"VLOOKUP($A76,Participants!$A:$E,4,FALSE)","v":{"$error":"#N/A"}},{"$f":"VLOOKUP($A76,Participants!$A:$E,2,FALSE)","v":{"$error":"#N/A"}},{"$f":"VLOOKUP($A76,Participants!$A:$E,3,FALSE)","v":{"$error":"#N/A"}},{"$f":"VLOOKUP($A76,Participants!$A:$E,5,FALSE)","v":{"$error":"#N/A"}},6]
[null,0,{"$nulls":3},{"$f":"VLOOKUP($A77,Participants!$A:$E,4,FALSE)","v":{"$error":"#N/A"}},{"$f":"VLOOKUP($A77,Participants!$A:$E,2,FALSE)","v":{"$error":"#N/A"}},{"$f":"VLOOKUP($A77,Participants!$A:$E,3,FALSE)","v":{"$error":"#N/A"}},{"$f":"VLOOKUP($A77,Participants!$A:$E,5,FALSE)","v":{"$error":"#N/A"}},6]
[null,0,{"$nulls":3},{"$f":"VLOOKUP($A78,Participants!$A:$E,4,FALSE)","v":{"$error":"#N/A"}},{"$f":"VLOOKUP($A78,Participants!$A:$E,2,FALSE)","v":{"$error":"#N/A"}},{"$f":"VLOOKUP($A78,Participants!$A:$E,3,FALSE)","v":{"$error":"#N/A"}},{"$f":"VLOOKUP($A78,Participants!$A:$E,5,FALSE)","v":{"$error":"#N/A"}},6]
[null,0,{"$nulls":3},{"$f":"VLOOKUP($A79,Participants!$A:$E,4,FALSE)","v":{"$error":"#N/A"}},{"$f":"VLOOKUP($A79,Participants!$A:$E,2,FALSE)","v":{"$error":"#N/A"}},{"$f":"VLOOKUP($A79,Participants!$A:$E,3,FALSE)","v":{"$error":"#N/A"}},{"$f":"VLOOKUP($A79,Participants!$A:$E,5,FALSE)","v":{"$error":"#N/A"}},6]
[null,0,{"$nulls":3},{"$f":"VLOOKUP($A80,Participants!$A:$E,4,FALSE)","v":{"$error":"#N/A"}},{"$f":"VLOOKUP($A80,Participants!$A:$E,2,FALSE)","v":{"$error":"#N/A"}},{"$f":"VLOOKUP($A80,Participants!$A:$E,3,FALSE)","v":{"$error":"#N/A"}},{"$f":"VLOOKUP($A80,Participants!$A:$E,5,FALSE)","v":{"$error":"#N/A"}},6]
[null,0,{"$nulls":3},{"$f":"VLOOKUP($A81,Participants!$A:$E,4,FALSE)","v":{"$error":"#N/A"}},{"$f":"VLOOKUP($A81,Participants!$A:$E,2,FALSE)","v":{"$error":"#N/A"}},{"$f":"VLOOKUP($A81,Participants!$A:$E,3,FALSE)","v":{"$error":"#N/A"}},{"$f":"VLOOKUP($A81,Participants!$A:$E,5,FALSE)","v":{"$error":"#N/A"}},6]
[null,0,{"$nulls":3},{"$f":"VLOOKUP($A82,Participants!$A:$E,4,FALSE)","v":{"$error":"#N/A"}},{"$f":"VLOOKUP($A82,Participants!$A:$E,2,FALSE)","v":{"$error":"#N/A"}},{"$f":"VLOOKUP($A82,Participants!$A:$E,3,FALSE)","v":{"$error":"#N/A"}},{"$f":"VLOOKUP($A82,Participants!$A:$E,5,FALSE)","v":{"$error":"#N/A"}},6]
[null,0,{"$nulls":3},{"$f":"VLOOKUP($A83,Participants!$A:$E,4,FALSE)","v":{"$error":"#N/A"}},{"$f":"VLOOKUP($A83,Participants!$A:$E,2,FALSE)","v":{"$error":"#N/A"}},{"$f":"VLOOKUP($A83,Participants!$A:$E,3,FALSE)","v":{"$error":"#N/A"}},{"$f":"VLOOKUP($A83,Participants!$A:$E,5,FALSE)","v":{"$error":"#N/A"}},6]
[null,0,{"$nulls":3},{"$f":"VLOOKUP($A84,Participants!$A:$E,4,FALSE)","v":{"$error":"#N/A"}},{"$f":"VLOOKUP($A84,Participants!$A:$E,2,FALSE)","v":{"$error":"#N/A"}},{"$f":"VLOOKUP($A84,Participants!$A:$E,3,FALSE)","v":{"$error":"#N/A"}},{"$f":"VLOOKUP($A84,Participants!$A:$E,5,FALSE)","v":{"$error":"#N/A"}},6]
[null,0,{"$nulls":3},{"$f":"VLOOKUP($A85,Participants!$A:$E,4,FALSE)","v":{"$error":"#N/A"}},{"$f":"VLOOKUP($A85,Participants!$A:$E,2,FALSE)","v":{"$error":"#N/A"}},{"$f":"VLOOKUP($A85,Participants!$A:$E,3,FALSE)","v":{"$error":"#N/A"}},{"$f":"VLOOKUP($A85,Participants!$A:$E,5,FALSE)","v":{"$error":"#N/A"}},6]
[null,0,{"$nulls":3},{"$f":"VLOOKUP($A86,Participants!$A:$E,4,FALSE)","v":{"$error":"#N/A"}},{"$f":"VLOOKUP($A86,Participants!$A:$E,2,FALSE)","v":{"$error":"#N/A"}},{"$f":"VLOOKUP($A86,Participants!$A:$E,3,FALSE)","v":{"$error":"#N/A"}},{"$f":"VLOOKUP($A86,Participants!$A:$E,5,FALSE)","v":{"$error":"#N/A"}},6]
[null,0,{"$nulls":3},{"$f":"VLOOKUP($A87,Participants!$A:$E,4,FALSE)","v":{"$error":"#N/A"}},{"$f":"VLOOKUP($A87,Participants!$A:$E,2,FALSE)","v":{"$error":"#N/A"}},{"$f":"VLOOKUP($A87,Participants!$A:$E,3,FALSE)","v":{"$error":"#N/A"}},{"$f":"VLOOKUP($A87,Participants!$A:$E,5,FALSE)","v":{"$error":"#N/A"}},6]
[null,0,{"$nulls":3},{"$f":"VLOOKUP($A88,Participants!$A:$E,4,FALSE)","v":{"$error":"#N/A"}},{"$f":"VLOOKUP($A88,Participants!$A:$E,2,FALSE)","v":{"$error":"#N/A"}},{"$f":"VLOOKUP($A88,Participants!$A:$E,3,FALSE)","v":{"$error":"#N/A"}},{"$f":"VLOOKUP($A88,Participants!$A:$E,5,FALSE)","v":{"$error":"#N/A"}},6]
[null,0,{"$nulls":3},{"$f":"VLOOKUP($A89,Participants!$A:$E,4,FALSE)","v":{"$error":"#N/A"}},{"$f":"VLOOKUP($A89,Participants!$A:$E,2,FALSE)","v":{"$error":"#N/A"}},{"$f":"VLOOKUP($A89,Participants!$A:$E,3,FALSE)","v":{"$error":"#N/A"}},{"$f":"VLOOKUP($A89,Participants!$A:$E,5,FALSE)","v":{"$error":"#N/A"}},6]
[null,0,{"$nulls":3},{"$f":"VLOOKUP($A90,Participants!$A:$E,4,FALSE)","v":{"$error":"#N/A"}},{"$f":"VLOOKUP($A90,Participants!$A:$E,2,FALSE)","v":{"$error":"#N/A"}},{"$f":"VLOOKUP($A90,Participants!$A:$E,3,FALSE)","v":{"$error":"#N/A"}},{"$f":"VLOOKUP($A90,Participants!$A:$E,5,FALSE)","v":{"$error":"#N/A"}},6]
[null,0,{"$nulls":3},{"$f":"VLOOKUP($A91,Participants!$A:$E,4,FALSE)","v":{"$error":"#N/A"}},{"$f":"VLOOKUP($A91,Participants!$A:$E,2,FALSE)","v":{"$error":"#N/A"}},{"$f":"VLOOKUP($A91,Participants!$A:$E,3,FALSE)","v":{"$error":"#N/A"}},{"$f":"VLOOKUP($A91,Participants!$A:$E,5,FALSE)","v":{"$error":"#N/A"}},6]
[null,0,{"$nulls":3},{"$f":"VLOOKUP($A92,Participants!$A:$E,4,FALSE)","v":{"$error":"#N/A"}},{"$f":"VLOOKUP($A92,Participants!$A:$E,2,FALSE)","v":{"$error":"#N/A"}},{"$f":"VLOOKUP($A92,Participants!$A:$E,3,FALSE)","v":{"$error":"#N/A"}},{"$f":"VLOOKUP($A92,Participants!$A:$E,5,FALSE)","v":{"$error":"#N/A"}},6]
[null,0,{"$nulls":3},{"$f":"VLOOKUP($A93,Participants!$A:$E,4,FALSE)","v":{"$error":"#N/A"}},{"$f":"VLOOKUP($A93,Participants!$A:$E,2,FALSE)","v":{"$error":"#N/A"}},{"$f":"VLOOKUP($A93,Participants!$A:$E,3,FALSE)","v":{"$error":"#N/A"}},{"$f":"VLOOKUP($A93,Participants!$A:$E,5,FALSE)","v":{"$error":"#N/A"}},6]
[null,0,{"$nulls":3},{"$f":"VLOOKUP($A94,Participants!$A:$E,4,FALSE)","v":{"$error":"#N/A"}},{"$f":"VLOOKUP($A94,Participants!$A:$E,2,FALSE)","v":{"$error":"#N/A"}},{"$f":"VLOOKUP($A94,Participants!$A:$E,3,FALSE)","v":{"$error":"#N/A"}},{"$f":"VLOOKUP($A94,Participants!$A:$E,5,FALSE)","v":{"$error":"#N/A"}},6]
[null,0,{"$nulls":3},{"$f":"VLOOKUP($A95,Participants!$A:$E,4,FALSE)","v":{"$error":"#N/A"}},{"$f":"VLOOKUP($A95,Participants!$A:$E,2,FALSE)","v":{"$error":"#N/A"}},{"$f":"VLOOKUP($A95,Participants!$A:$E,3,FALSE)","v":{"$error":"#N/A"}},{"$f":"VLOOKUP($A95,Participants!$A:$E,5,FALSE)","v":{"$error":"#N/A"}},6]
[null,0,{"$nulls":3},{"$f":"VLOOKUP($A96,Participants!$A:$E,4,FALSE)","v":{"$error":"#N/A"}},{"$f":"VLOOKUP($A96,Participants!$A:$E,2,FALSE)","v":{"$error":"#N/A"}},{"$f":"VLOOKUP($A96,Participants!$A:$E,3,FALSE)","v":{"$error":"#N/A"}},{"$f":"VLOOKUP($A96,Participants!$A:$E,5,FALSE)","v":{"$error":"#N/A"}},6]
[null,0,{"$nulls":3},{"$f":"VLOOKUP($A97,Participants!$A:$E,4,FALSE)","v":{"$error":"#N/A"}},{"$f":"VLOOKUP($A97,Participants!$A:$E,2,FALSE)","v":{"$error":"#N/A"}},{"$f":"VLOOKUP($A97,Participants!$A:$E,3,FALSE)","v":{"$error":"#N/A"}},{"$f":"VLOOKUP($A97,Participants!$A:$E,5,FALSE)","v":{"$error":"#N/A"}},6]
[null,0,{"$nulls":3},{"$f":"VLOOKUP($A98,Participants!$A:$E,4,FALSE)","v":{"$error":"#N/A"}},{"$f":"VLOOKUP($A98,Participants!$A:$E,2,FALSE)","v":{"$error":"#N/A"}},{"$f":"VLOOKUP($A98,Participants!$A:$E,3,FALSE)","v":{"$error":"#N/A"}},{"$f":"VLOOKUP($A98,Participants!$A:$E,5,FALSE)","v":{"$error":"#N/A"}},6]
[null,0,{"$nulls":3},{"$f":"VLOOKUP($A99,Participants!$A:$E,4,FALSE)","v":{"$error":"#N/A"}},{"$f":"VLOOKUP($A99,Participants!$A:$E,2,FALSE)","v":{"$error":"#N/A"}},{"$f":"VLOOKUP($A99,Participants!$A:$E,3,FALSE)","v":{"$error":"#N/A"}},{"$f":"VLOOKUP($A99,Participants!$A:$E,5,FALSE)","v":{"$error":"#N/A"}},6]
[null,0,{"$nulls":3},{"$f":"VLOOKUP($A100,Participants!$A:$E,4,FALSE)","v":{"$error":"#N/A"}},{"$f":"VLOOKUP($A100,Participants!$A:$E,2,FALSE)","v":{"$error":"#N/A"}},{"$f":"VLOOKUP($A100,Participants!$A:$E,3,FALSE)","v":{"$error":"#N/A"}},{"$f":"VLOOKUP($A100,Participants!$A:$E,5,FALSE)","v":{"$error":"#N/A"}},6]
[null,0,{"$nulls":3},{"$f":"VLOOKUP($A101,Participants!$A:$E,4,FALSE)","v":{"$error":"#N/A"}},{"$f":"VLOOKUP($A101,Participants!$A:$E,2,FALSE)","v":{"$error":"#N/A"}},{"$f":"VLOOKUP($A101,Participants!$A:$E,3,FALSE)","v":{"$error":"#N/A"}},{"$f":"VLOOKUP($A101,Participants!$A:$E,5,FALSE)","v":{"$error":"#N/A"}},6]

{"sheet":"Hurdles Cadet Boys","index":22,"n_rows":42,"n_cols":13,"rows_kept":42}
["Bib","HeatOrder",null,"Time","Grade","FName","Lname","School","Heat","Heat Place","Overall Place",null,"Return to Schedule of Events"]
[43,"Lap 1","00:00:20.730","00:00:20.730",{"$f":"VLOOKUP($A2,Participants!$A:$E,4,FALSE)","v":8},{"$f":"VLOOKUP($A2,Participants!$A:$E,2,FALSE)","v":"Eli"},{"$f":"VLOOKUP($A2,Participants!$A:$E,3,FALSE)","v":"Goers"},{"$f":"VLOOKUP($A2,Participants!$A:$E,5,FALSE)","v":"St Jude"},1,{"$f":"RANK(D2,IF(I2=1,$D$2:$D$7,),1)","v":1},{"$f":"RANK(D2,$D$2:$D$100,1)","v":1}]
[15,"Lap 2","00:00:00.710","00:00:21.440",{"$f":"VLOOKUP($A3,Participants!$A:$E,4,FALSE)","v":8},{"$f":"VLOOKUP($A3,Participants!$A:$E,2,FALSE)","v":"Joe"},{"$f":"VLOOKUP($A3,Participants!$A:$E,3,FALSE)","v":"Buckel"},{"$f":"VLOOKUP($A3,Participants!$A:$E,5,FALSE)","v":"St Jude"},1,2,{"$f":"RANK(D3,$D$2:$D$100,1)","v":2},null,"Add or Update Participants"]
[312,"Lap 3","00:00:00.160","00:00:21.600",{"$f":"VLOOKUP($A4,Participants!$A:$E,4,FALSE)","v":7},{"$f":"VLOOKUP($A4,Participants!$A:$E,2,FALSE)","v":"Andrew"},{"$f":"VLOOKUP($A4,Participants!$A:$E,3,FALSE)","v":"Woodruff"},{"$f":"VLOOKUP($A4,Participants!$A:$E,5,FALSE)","v":"St. Barnabas"},1,3,3,null,"Overall Place and Points"]
[33,"Lap 4","00:00:04.490","00:00:26.100",{"$f":"VLOOKUP($A5,Participants!$A:$E,4,FALSE)","v":8},{"$f":"VLOOKUP($A5,Participants!$A:$E,2,FALSE)","v":"Jaun"},{"$f":"VLOOKUP($A5,Participants!$A:$E,3,FALSE)","v":"Escibedo"},{"$f":"VLOOKUP($A5,Participants!$A:$E,5,FALSE)","v":"St Jude"},1,4,4]
[{"$nulls":4},{"$f":"VLOOKUP($A6,Participants!$A:$E,4,FALSE)","v":{"$error":"#N/A"}},{"$f":"VLOOKUP($A6,Participants!$A:$E,2,FALSE)","v":{"$error":"#N/A"}},{"$f":"VLOOKUP($A6,Participants!$A:$E,3,FALSE)","v":{"$error":"#N/A"}},{"$f":"VLOOKUP($A6,Participants!$A:$E,5,FALSE)","v":{"$error":"#N/A"}},1,{"$error":"#N/A"},{"$error":"#N/A"}]
[{"$nulls":4},{"$f":"VLOOKUP($A7,Participants!$A:$E,4,FALSE)","v":{"$error":"#N/A"}},{"$f":"VLOOKUP($A7,Participants!$A:$E,2,FALSE)","v":{"$error":"#N/A"}},{"$f":"VLOOKUP($A7,Participants!$A:$E,3,FALSE)","v":{"$error":"#N/A"}},{"$f":"VLOOKUP($A7,Participants!$A:$E,5,FALSE)","v":{"$error":"#N/A"}},1,{"$error":"#N/A"},{"$error":"#N/A"}]
[{"$nulls":10},{"$error":"#N/A"}]
[{"$nulls":4},{"$f":"VLOOKUP($A9,Participants!$A:$E,4,FALSE)","v":{"$error":"#N/A"}},{"$f":"VLOOKUP($A9,Participants!$A:$E,2,FALSE)","v":{"$error":"#N/A"}},{"$f":"VLOOKUP($A9,Participants!$A:$E,3,FALSE)","v":{"$error":"#N/A"}},{"$f":"VLOOKUP($A9,Participants!$A:$E,5,FALSE)","v":{"$error":"#N/A"}},2,{"$f":"RANK(D9,IF(I9=2,$D$9:$D$14,),1)","v":{"$error":"#N/A"}},{"$error":"#N/A"}]
[{"$nulls":4},{"$f":"VLOOKUP($A10,Participants!$A:$E,4,FALSE)","v":{"$error":"#N/A"}},{"$f":"VLOOKUP($A10,Participants!$A:$E,2,FALSE)","v":{"$error":"#N/A"}},{"$f":"VLOOKUP($A10,Participants!$A:$E,3,FALSE)","v":{"$error":"#N/A"}},{"$f":"VLOOKUP($A10,Participants!$A:$E,5,FALSE)","v":{"$error":"#N/A"}},2,{"$error":"#N/A"},{"$error":"#N/A"}]
[{"$nulls":4},{"$f":"VLOOKUP($A11,Participants!$A:$E,4,FALSE)","v":{"$error":"#N/A"}},{"$f":"VLOOKUP($A11,Participants!$A:$E,2,FALSE)","v":{"$error":"#N/A"}},{"$f":"VLOOKUP($A11,Participants!$A:$E,3,FALSE)","v":{"$error":"#N/A"}},{"$f":"VLOOKUP($A11,Participants!$A:$E,5,FALSE)","v":{"$error":"#N/A"}},2,{"$error":"#N/A"},{"$error":"#N/A"}]
[{"$nulls":4},{"$f":"VLOOKUP($A12,Participants!$A:$E,4,FALSE)","v":{"$error":"#N/A"}},{"$f":"VLOOKUP($A12,Participants!$A:$E,2,FALSE)","v":{"$error":"#N/A"}},{"$f":"VLOOKUP($A12,Participants!$A:$E,3,FALSE)","v":{"$error":"#N/A"}},{"$f":"VLOOKUP($A12,Participants!$A:$E,5,FALSE)","v":{"$error":"#N/A"}},2,{"$error":"#N/A"},{"$error":"#N/A"}]
[{"$nulls":4},{"$f":"VLOOKUP($A13,Participants!$A:$E,4,FALSE)","v":{"$error":"#N/A"}},{"$f":"VLOOKUP($A13,Participants!$A:$E,2,FALSE)","v":{"$error":"#N/A"}},{"$f":"VLOOKUP($A13,Participants!$A:$E,3,FALSE)","v":{"$error":"#N/A"}},{"$f":"VLOOKUP($A13,Participants!$A:$E,5,FALSE)","v":{"$error":"#N/A"}},2,{"$error":"#N/A"},{"$error":"#N/A"}]
[{"$nulls":4},{"$f":"VLOOKUP($A14,Participants!$A:$E,4,FALSE)","v":{"$error":"#N/A"}},{"$f":"VLOOKUP($A14,Participants!$A:$E,2,FALSE)","v":{"$error":"#N/A"}},{"$f":"VLOOKUP($A14,Participants!$A:$E,3,FALSE)","v":{"$error":"#N/A"}},{"$f":"VLOOKUP($A14,Participants!$A:$E,5,FALSE)","v":{"$error":"#N/A"}},2,{"$error":"#N/A"},{"$error":"#N/A"}]
[]
[{"$nulls":4},{"$f":"VLOOKUP($A16,Participants!$A:$E,4,FALSE)","v":{"$error":"#N/A"}},{"$f":"VLOOKUP($A16,Participants!$A:$E,2,FALSE)","v":{"$error":"#N/A"}},{"$f":"VLOOKUP($A16,Participants!$A:$E,3,FALSE)","v":{"$error":"#N/A"}},{"$f":"VLOOKUP($A16,Participants!$A:$E,5,FALSE)","v":{"$error":"#N/A"}},3,{"$f":"RANK(D16,IF(I16=3,$D$16:$D$21,),1)","v":{"$error":"#N/A"}},{"$error":"#N/A"}]
[{"$nulls":4},{"$f":"VLOOKUP($A17,Participants!$A:$E,4,FALSE)","v":{"$error":"#N/A"}},{"$f":"VLOOKUP($A17,Participants!$A:$E,2,FALSE)","v":{"$error":"#N/A"}},{"$f":"VLOOKUP($A17,Participants!$A:$E,3,FALSE)","v":{"$error":"#N/A"}},{"$f":"VLOOKUP($A17,Participants!$A:$E,5,FALSE)","v":{"$error":"#N/A"}},3,{"$error":"#N/A"},{"$error":"#N/A"}]
[{"$nulls":4},{"$f":"VLOOKUP($A18,Participants!$A:$E,4,FALSE)","v":{"$error":"#N/A"}},{"$f":"VLOOKUP($A18,Participants!$A:$E,2,FALSE)","v":{"$error":"#N/A"}},{"$f":"VLOOKUP($A18,Participants!$A:$E,3,FALSE)","v":{"$error":"#N/A"}},{"$f":"VLOOKUP($A18,Participants!$A:$E,5,FALSE)","v":{"$error":"#N/A"}},3,{"$error":"#N/A"},{"$error":"#N/A"}]
[{"$nulls":4},{"$f":"VLOOKUP($A19,Participants!$A:$E,4,FALSE)","v":{"$error":"#N/A"}},{"$f":"VLOOKUP($A19,Participants!$A:$E,2,FALSE)","v":{"$error":"#N/A"}},{"$f":"VLOOKUP($A19,Participants!$A:$E,3,FALSE)","v":{"$error":"#N/A"}},{"$f":"VLOOKUP($A19,Participants!$A:$E,5,FALSE)","v":{"$error":"#N/A"}},3,{"$error":"#N/A"},{"$error":"#N/A"}]
[{"$nulls":4},{"$f":"VLOOKUP($A20,Participants!$A:$E,4,FALSE)","v":{"$error":"#N/A"}},{"$f":"VLOOKUP($A20,Participants!$A:$E,2,FALSE)","v":{"$error":"#N/A"}},{"$f":"VLOOKUP($A20,Participants!$A:$E,3,FALSE)","v":{"$error":"#N/A"}},{"$f":"VLOOKUP($A20,Participants!$A:$E,5,FALSE)","v":{"$error":"#N/A"}},3,{"$error":"#N/A"},{"$error":"#N/A"}]
[{"$nulls":4},{"$f":"VLOOKUP($A21,Participants!$A:$E,4,FALSE)","v":{"$error":"#N/A"}},{"$f":"VLOOKUP($A21,Participants!$A:$E,2,FALSE)","v":{"$error":"#N/A"}},{"$f":"VLOOKUP($A21,Participants!$A:$E,3,FALSE)","v":{"$error":"#N/A"}},{"$f":"VLOOKUP($A21,Participants!$A:$E,5,FALSE)","v":{"$error":"#N/A"}},3,{"$error":"#N/A"},{"$error":"#N/A"}]
[]
[{"$nulls":4},{"$f":"VLOOKUP($A23,Participants!$A:$E,4,FALSE)","v":{"$error":"#N/A"}},{"$f":"VLOOKUP($A23,Participants!$A:$E,2,FALSE)","v":{"$error":"#N/A"}},{"$f":"VLOOKUP($A23,Participants!$A:$E,3,FALSE)","v":{"$error":"#N/A"}},{"$f":"VLOOKUP($A23,Participants!$A:$E,5,FALSE)","v":{"$error":"#N/A"}},4,{"$f":"RANK(D23,IF(I23=4,$D$23:$D$28,),1)","v":{"$error":"#N/A"}},{"$error":"#N/A"}]
[{"$nulls":4},{"$f":"VLOOKUP($A24,Participants!$A:$E,4,FALSE)","v":{"$error":"#N/A"}},{"$f":"VLOOKUP($A24,Participants!$A:$E,2,FALSE)","v":{"$error":"#N/A"}},{"$f":"VLOOKUP($A24,Participants!$A:$E,3,FALSE)","v":{"$error":"#N/A"}},{"$f":"VLOOKUP($A24,Participants!$A:$E,5,FALSE)","v":{"$error":"#N/A"}},4,{"$error":"#N/A"},{"$error":"#N/A"}]
[{"$nulls":4},{"$f":"VLOOKUP($A25,Participants!$A:$E,4,FALSE)","v":{"$error":"#N/A"}},{"$f":"VLOOKUP($A25,Participants!$A:$E,2,FALSE)","v":{"$error":"#N/A"}},{"$f":"VLOOKUP($A25,Participants!$A:$E,3,FALSE)","v":{"$error":"#N/A"}},{"$f":"VLOOKUP($A25,Participants!$A:$E,5,FALSE)","v":{"$error":"#N/A"}},4,{"$error":"#N/A"},{"$error":"#N/A"}]
[{"$nulls":4},{"$f":"VLOOKUP($A26,Participants!$A:$E,4,FALSE)","v":{"$error":"#N/A"}},{"$f":"VLOOKUP($A26,Participants!$A:$E,2,FALSE)","v":{"$error":"#N/A"}},{"$f":"VLOOKUP($A26,Participants!$A:$E,3,FALSE)","v":{"$error":"#N/A"}},{"$f":"VLOOKUP($A26,Participants!$A:$E,5,FALSE)","v":{"$error":"#N/A"}},4,{"$error":"#N/A"},{"$error":"#N/A"}]
[{"$nulls":4},{"$f":"VLOOKUP($A27,Participants!$A:$E,4,FALSE)","v":{"$error":"#N/A"}},{"$f":"VLOOKUP($A27,Participants!$A:$E,2,FALSE)","v":{"$error":"#N/A"}},{"$f":"VLOOKUP($A27,Participants!$A:$E,3,FALSE)","v":{"$error":"#N/A"}},{"$f":"VLOOKUP($A27,Participants!$A:$E,5,FALSE)","v":{"$error":"#N/A"}},4,{"$error":"#N/A"},{"$error":"#N/A"}]
[{"$nulls":4},{"$f":"VLOOKUP($A28,Participants!$A:$E,4,FALSE)","v":{"$error":"#N/A"}},{"$f":"VLOOKUP($A28,Participants!$A:$E,2,FALSE)","v":{"$error":"#N/A"}},{"$f":"VLOOKUP($A28,Participants!$A:$E,3,FALSE)","v":{"$error":"#N/A"}},{"$f":"VLOOKUP($A28,Participants!$A:$E,5,FALSE)","v":{"$error":"#N/A"}},4,{"$error":"#N/A"},{"$error":"#N/A"}]
[]
[{"$nulls":4},{"$f":"VLOOKUP($A30,Participants!$A:$E,4,FALSE)","v":{"$error":"#N/A"}},{"$f":"VLOOKUP($A30,Participants!$A:$E,2,FALSE)","v":{"$error":"#N/A"}},{"$f":"VLOOKUP($A30,Participants!$A:$E,3,FALSE)","v":{"$error":"#N/A"}},{"$f":"VLOOKUP($A30,Participants!$A:$E,5,FALSE)","v":{"$error":"#N/A"}},5,{"$f":"RANK(D30,IF(I30=5,$D$30:$D$35,),1)","v":{"$error":"#N/A"}},{"$error":"#N/A"}]
[{"$nulls":4},{"$f":"VLOOKUP($A31,Participants!$A:$E,4,FALSE)","v":{"$error":"#N/A"}},{"$f":"VLOOKUP($A31,Participants!$A:$E,2,FALSE)","v":{"$error":"#N/A"}},{"$f":"VLOOKUP($A31,Participants!$A:$E,3,FALSE)","v":{"$error":"#N/A"}},{"$f":"VLOOKUP($A31,Participants!$A:$E,5,FALSE)","v":{"$error":"#N/A"}},5,{"$f":"RANK(D31,IF(I31=5,$D$30:$D$35,),1)","v":{"$error":"#N/A"}},{"$error":"#N/A"}]
[{"$nulls":4},{"$f":"VLOOKUP($A32,Participants!$A:$E,4,FALSE)","v":{"$error":"#N/A"}},{"$f":"VLOOKUP($A32,Participants!$A:$E,2,FALSE)","v":{"$error":"#N/A"}},{"$f":"VLOOKUP($A32,Participants!$A:$E,3,FALSE)","v":{"$error":"#N/A"}},{"$f":"VLOOKUP($A32,Participants!$A:$E,5,FALSE)","v":{"$error":"#N/A"}},5,{"$error":"#N/A"},{"$error":"#N/A"}]
[{"$nulls":4},{"$f":"VLOOKUP($A33,Participants!$A:$E,4,FALSE)","v":{"$error":"#N/A"}},{"$f":"VLOOKUP($A33,Participants!$A:$E,2,FALSE)","v":{"$error":"#N/A"}},{"$f":"VLOOKUP($A33,Participants!$A:$E,3,FALSE)","v":{"$error":"#N/A"}},{"$f":"VLOOKUP($A33,Participants!$A:$E,5,FALSE)","v":{"$error":"#N/A"}},5,{"$error":"#N/A"},{"$error":"#N/A"}]
[{"$nulls":4},{"$f":"VLOOKUP($A34,Participants!$A:$E,4,FALSE)","v":{"$error":"#N/A"}},{"$f":"VLOOKUP($A34,Participants!$A:$E,2,FALSE)","v":{"$error":"#N/A"}},{"$f":"VLOOKUP($A34,Participants!$A:$E,3,FALSE)","v":{"$error":"#N/A"}},{"$f":"VLOOKUP($A34,Participants!$A:$E,5,FALSE)","v":{"$error":"#N/A"}},5,{"$error":"#N/A"},{"$error":"#N/A"}]
[{"$nulls":4},{"$f":"VLOOKUP($A35,Participants!$A:$E,4,FALSE)","v":{"$error":"#N/A"}},{"$f":"VLOOKUP($A35,Participants!$A:$E,2,FALSE)","v":{"$error":"#N/A"}},{"$f":"VLOOKUP($A35,Participants!$A:$E,3,FALSE)","v":{"$error":"#N/A"}},{"$f":"VLOOKUP($A35,Participants!$A:$E,5,FALSE)","v":{"$error":"#N/A"}},5,{"$error":"#N/A"},{"$error":"#N/A"}]
[]
[{"$nulls":4},{"$f":"VLOOKUP($A37,Participants!$A:$E,4,FALSE)","v":{"$error":"#N/A"}},{"$f":"VLOOKUP($A37,Participants!$A:$E,2,FALSE)","v":{"$error":"#N/A"}},{"$f":"VLOOKUP($A37,Participants!$A:$E,3,FALSE)","v":{"$error":"#N/A"}},{"$f":"VLOOKUP($A37,Participants!$A:$E,5,FALSE)","v":{"$error":"#N/A"}},6,{"$f":"RANK(D37,IF(I37=6,$D$37:$D$42,),1)","v":{"$error":"#N/A"}},{"$error":"#N/A"}]
[{"$nulls":4},{"$f":"VLOOKUP($A38,Participants!$A:$E,4,FALSE)","v":{"$error":"#N/A"}},{"$f":"VLOOKUP($A38,Participants!$A:$E,2,FALSE)","v":{"$error":"#N/A"}},{"$f":"VLOOKUP($A38,Participants!$A:$E,3,FALSE)","v":{"$error":"#N/A"}},{"$f":"VLOOKUP($A38,Participants!$A:$E,5,FALSE)","v":{"$error":"#N/A"}},6,{"$f":"RANK(D38,IF(I38=6,$D$37:$D$42,),1)","v":{"$error":"#N/A"}},{"$error":"#N/A"}]
[{"$nulls":4},{"$f":"VLOOKUP($A39,Participants!$A:$E,4,FALSE)","v":{"$error":"#N/A"}},{"$f":"VLOOKUP($A39,Participants!$A:$E,2,FALSE)","v":{"$error":"#N/A"}},{"$f":"VLOOKUP($A39,Participants!$A:$E,3,FALSE)","v":{"$error":"#N/A"}},{"$f":"VLOOKUP($A39,Participants!$A:$E,5,FALSE)","v":{"$error":"#N/A"}},6,{"$error":"#N/A"},{"$error":"#N/A"}]
[{"$nulls":4},{"$f":"VLOOKUP($A40,Participants!$A:$E,4,FALSE)","v":{"$error":"#N/A"}},{"$f":"VLOOKUP($A40,Participants!$A:$E,2,FALSE)","v":{"$error":"#N/A"}},{"$f":"VLOOKUP($A40,Participants!$A:$E,3,FALSE)","v":{"$error":"#N/A"}},{"$f":"VLOOKUP($A40,Participants!$A:$E,5,FALSE)","v":{"$error":"#N/A"}},6,{"$error":"#N/A"},{"$error":"#N/A"}]
[{"$nulls":4},{"$f":"VLOOKUP($A41,Participants!$A:$E,4,FALSE)","v":{"$error":"#N/A"}},{"$f":"VLOOKUP($A41,Participants!$A:$E,2,FALSE)","v":{"$error":"#N/A"}},{"$f":"VLOOKUP($A41,Participants!$A:$E,3,FALSE)","v":{"$error":"#N/A"}},{"$f":"VLOOKUP($A41,Participants!$A:$E,5,FALSE)","v":{"$error":"#N/A"}},6,{"$error":"#N/A"},{"$error":"#N/A"}]
[{"$nulls":4},{"$f":"VLOOKUP($A42,Participants!$A:$E,4,FALSE)","v":{"$error":"#N/A"}},{"$f":"VLOOKUP($A42,Participants!$A:$E,2,FALSE)","v":{"$error":"#N/A"}},{"$f":"VLOOKUP($A42,Participants!$A:$E,3,FALSE)","v":{"$error":"#N/A"}},{"$f":"VLOOKUP($A42,Participants!$A:$E,5,FALSE)","v":{"$error":"#N/A"}},6,{"$error":"#N/A"},{"$error":"#N/A"}]

{"sheet":"200 Cadet Boys","index":23,"n_rows":42,"n_cols":13,"rows_kept":42}
["Bib","HeatOrder",null,"Time","Grade","FName","Lname","School","Heat","Heat Place","Overall Place",null,"Return to Schedule of Events"]
[246,"Lap 1","00:00:30.280","00:00:30.280",{"$f":"VLOOKUP($A2,Participants!$A:$E,4,FALSE)","v":8},{"$f":"VLOOKUP($A2,Participants!$A:$E,2,FALSE)","v":"Nicholas"},{"$f":"VLOOKUP($A2,Participants!$A:$E,3,FALSE)","v":"Martin"},{"$f":"VLOOKUP($A2,Participants!$A:$E,5,FALSE)","v":"United We Run"},1,{"$f":"RANK(D2,IF(I2=1,$D$2:$D$7,),1)","v":1},{"$f":"RANK(D2,$D$2:$D$100,1)","v":3}]
[58,"Lap 2","00:00:00.690","00:00:30.970",{"$f":"VLOOKUP($A3,Participants!$A:$E,4,FALSE)","v":8},{"$f":"VLOOKUP($A3,Participants!$A:$E,2,FALSE)","v":"Jacob"},{"$f":"VLOOKUP($A3,Participants!$A:$E,3,FALSE)","v":"Johnson"},{"$f":"VLOOKUP($A3,Participants!$A:$E,5,FALSE)","v":"St Jude"},1,2,4,null,"Add or Update Participants"]
[78,"Lap 3","00:00:01.320","00:00:32.290",{"$f":"VLOOKUP($A4,Participants!$A:$E,4,FALSE)","v":7},{"$f":"VLOOKUP($A4,Participants!$A:$E,2,FALSE)","v":"Alex"},{"$f":"VLOOKUP($A4,Participants!$A:$E,3,FALSE)","v":"Maled"},{"$f":"VLOOKUP($A4,Participants!$A:$E,5,FALSE)","v":"St Jude"},1,3,5,null,"Overall Place and Points"]
[274,"Lap 4","00:00:00.750","00:00:33.040",{"$f":"VLOOKUP($A5,Participants!$A:$E,4,FALSE)","v":7},{"$f":"VLOOKUP($A5,Participants!$A:$E,2,FALSE)","v":"Brady"},{"$f":"VLOOKUP($A5,Participants!$A:$E,3,FALSE)","v":"Beaupre"},{"$f":"VLOOKUP($A5,Participants!$A:$E,5,FALSE)","v":"St. Barnabas"},1,4,6]
[183,"Lap 5","00:00:01.410","00:00:34.450",{"$f":"VLOOKUP($A6,Participants!$A:$E,4,FALSE)","v":7},{"$f":"VLOOKUP($A6,Participants!$A:$E,2,FALSE)","v":"Logan"},{"$f":"VLOOKUP($A6,Participants!$A:$E,3,FALSE)","v":"Linder"},{"$f":"VLOOKUP($A6,Participants!$A:$E,5,FALSE)","v":"SSFC"},1,5,9]
[{"$nulls":4},{"$f":"VLOOKUP($A7,Participants!$A:$E,4,FALSE)","v":{"$error":"#N/A"}},{"$f":"VLOOKUP($A7,Participants!$A:$E,2,FALSE)","v":{"$error":"#N/A"}},{"$f":"VLOOKUP($A7,Participants!$A:$E,3,FALSE)","v":{"$error":"#N/A"}},{"$f":"VLOOKUP($A7,Participants!$A:$E,5,FALSE)","v":{"$error":"#N/A"}},1,{"$error":"#N/A"},{"$error":"#N/A"}]
[]
[179,"Lap 1","00:00:29.670","00:00:29.670",{"$f":"VLOOKUP($A9,Participants!$A:$E,4,FALSE)","v":7},{"$f":"VLOOKUP($A9,Participants!$A:$E,2,FALSE)","v":"Cole"},{"$f":"VLOOKUP($A9,Participants!$A:$E,3,FALSE)","v":"Huff"},{"$f":"VLOOKUP($A9,Participants!$A:$E,5,FALSE)","v":"SSFC"},2,{"$f":"RANK(D9,IF(I9=2,$D$9:$D$14,),1)","v":1},{"$f":"RANK(D9,$D$2:$D$100,1)","v":1}]
[130,"Lap 2","00:00:00.310","00:00:29.980",{"$f":"VLOOKUP($A10,Participants!$A:$E,4,FALSE)","v":8},{"$f":"VLOOKUP($A10,Participants!$A:$E,2,FALSE)","v":"Patrick"},{"$f":"VLOOKUP($A10,Participants!$A:$E,3,FALSE)","v":"Tiernan"},{"$f":"VLOOKUP($A10,Participants!$A:$E,5,FALSE)","v":"St Jude"},2,2,2]
[61,"Lap 3","00:00:03.570","00:00:33.550",{"$f":"VLOOKUP($A11,Participants!$A:$E,4,FALSE)","v":7},{"$f":"VLOOKUP($A11,Participants!$A:$E,2,FALSE)","v":"Aedyn"},{"$f":"VLOOKUP($A11,Participants!$A:$E,3,FALSE)","v":"Kingston"},{"$f":"VLOOKUP($A11,Participants!$A:$E,5,FALSE)","v":"St Jude"},2,3,7]
[164,"Lap 4","00:00:00.750","00:00:34.310",{"$f":"VLOOKUP($A12,Participants!$A:$E,4,FALSE)","v":7},{"$f":"VLOOKUP($A12,Participants!$A:$E,2,FALSE)","v":"Tanner"},{"$f":"VLOOKUP($A12,Participants!$A:$E,3,FALSE)","v":"Cox"},{"$f":"VLOOKUP($A12,Participants!$A:$E,5,FALSE)","v":"SSFC"},2,4,8]
[789,"Lap 5","00:00:04.780","00:00:39.100",{"$f":"VLOOKUP($A13,Participants!$A:$E,4,FALSE)","v":7},{"$f":"VLOOKUP($A13,Participants!$A:$E,2,FALSE)","v":"Noah"},{"$f":"VLOOKUP($A13,Participants!$A:$E,3,FALSE)","v":"Clark"},{"$f":"VLOOKUP($A13,Participants!$A:$E,5,FALSE)","v":"St. Jude"},2,5,10]
[{"$nulls":4},{"$f":"VLOOKUP($A14,Participants!$A:$E,4,FALSE)","v":{"$error":"#N/A"}},{"$f":"VLOOKUP($A14,Participants!$A:$E,2,FALSE)","v":{"$error":"#N/A"}},{"$f":"VLOOKUP($A14,Participants!$A:$E,3,FALSE)","v":{"$error":"#N/A"}},{"$f":"VLOOKUP($A14,Participants!$A:$E,5,FALSE)","v":{"$error":"#N/A"}},2,{"$error":"#N/A"},{"$error":"#N/A"}]
[]
[{"$nulls":4},{"$f":"VLOOKUP($A16,Participants!$A:$E,4,FALSE)","v":{"$error":"#N/A"}},{"$f":"VLOOKUP($A16,Participants!$A:$E,2,FALSE)","v":{"$error":"#N/A"}},{"$f":"VLOOKUP($A16,Participants!$A:$E,3,FALSE)","v":{"$error":"#N/A"}},{"$f":"VLOOKUP($A16,Participants!$A:$E,5,FALSE)","v":{"$error":"#N/A"}},3,{"$f":"RANK(D16,IF(I16=3,$D$16:$D$21,),1)","v":{"$error":"#N/A"}},{"$f":"RANK(D16,$D$2:$D$100,1)","v":{"$error":"#N/A"}}]
[{"$nulls":4},{"$f":"VLOOKUP($A17,Participants!$A:$E,4,FALSE)","v":{"$error":"#N/A"}},{"$f":"VLOOKUP($A17,Participants!$A:$E,2,FALSE)","v":{"$error":"#N/A"}},{"$f":"VLOOKUP($A17,Participants!$A:$E,3,FALSE)","v":{"$error":"#N/A"}},{"$f":"VLOOKUP($A17,Participants!$A:$E,5,FALSE)","v":{"$error":"#N/A"}},3,{"$error":"#N/A"},{"$error":"#N/A"}]
[{"$nulls":4},{"$f":"VLOOKUP($A18,Participants!$A:$E,4,FALSE)","v":{"$error":"#N/A"}},{"$f":"VLOOKUP($A18,Participants!$A:$E,2,FALSE)","v":{"$error":"#N/A"}},{"$f":"VLOOKUP($A18,Participants!$A:$E,3,FALSE)","v":{"$error":"#N/A"}},{"$f":"VLOOKUP($A18,Participants!$A:$E,5,FALSE)","v":{"$error":"#N/A"}},3,{"$error":"#N/A"},{"$error":"#N/A"}]
[{"$nulls":4},{"$f":"VLOOKUP($A19,Participants!$A:$E,4,FALSE)","v":{"$error":"#N/A"}},{"$f":"VLOOKUP($A19,Participants!$A:$E,2,FALSE)","v":{"$error":"#N/A"}},{"$f":"VLOOKUP($A19,Participants!$A:$E,3,FALSE)","v":{"$error":"#N/A"}},{"$f":"VLOOKUP($A19,Participants!$A:$E,5,FALSE)","v":{"$error":"#N/A"}},3,{"$error":"#N/A"},{"$error":"#N/A"}]
[{"$nulls":4},{"$f":"VLOOKUP($A20,Participants!$A:$E,4,FALSE)","v":{"$error":"#N/A"}},{"$f":"VLOOKUP($A20,Participants!$A:$E,2,FALSE)","v":{"$error":"#N/A"}},{"$f":"VLOOKUP($A20,Participants!$A:$E,3,FALSE)","v":{"$error":"#N/A"}},{"$f":"VLOOKUP($A20,Participants!$A:$E,5,FALSE)","v":{"$error":"#N/A"}},3,{"$error":"#N/A"},{"$error":"#N/A"}]
[{"$nulls":4},{"$f":"VLOOKUP($A21,Participants!$A:$E,4,FALSE)","v":{"$error":"#N/A"}},{"$f":"VLOOKUP($A21,Participants!$A:$E,2,FALSE)","v":{"$error":"#N/A"}},{"$f":"VLOOKUP($A21,Participants!$A:$E,3,FALSE)","v":{"$error":"#N/A"}},{"$f":"VLOOKUP($A21,Participants!$A:$E,5,FALSE)","v":{"$error":"#N/A"}},3,{"$error":"#N/A"},{"$error":"#N/A"}]
[]
[{"$nulls":4},{"$f":"VLOOKUP($A23,Participants!$A:$E,4,FALSE)","v":{"$error":"#N/A"}},{"$f":"VLOOKUP($A23,Participants!$A:$E,2,FALSE)","v":{"$error":"#N/A"}},{"$f":"VLOOKUP($A23,Participants!$A:$E,3,FALSE)","v":{"$error":"#N/A"}},{"$f":"VLOOKUP($A23,Participants!$A:$E,5,FALSE)","v":{"$error":"#N/A"}},4,{"$f":"RANK(D23,IF(I23=4,$D$23:$D$28,),1)","v":{"$error":"#N/A"}},{"$f":"RANK(D23,$D$2:$D$100,1)","v":{"$error":"#N/A"}}]
[{"$nulls":4},{"$f":"VLOOKUP($A24,Participants!$A:$E,4,FALSE)","v":{"$error":"#N/A"}},{"$f":"VLOOKUP($A24,Participants!$A:$E,2,FALSE)","v":{"$error":"#N/A"}},{"$f":"VLOOKUP($A24,Participants!$A:$E,3,FALSE)","v":{"$error":"#N/A"}},{"$f":"VLOOKUP($A24,Participants!$A:$E,5,FALSE)","v":{"$error":"#N/A"}},4,{"$error":"#N/A"},{"$error":"#N/A"}]
[{"$nulls":4},{"$f":"VLOOKUP($A25,Participants!$A:$E,4,FALSE)","v":{"$error":"#N/A"}},{"$f":"VLOOKUP($A25,Participants!$A:$E,2,FALSE)","v":{"$error":"#N/A"}},{"$f":"VLOOKUP($A25,Participants!$A:$E,3,FALSE)","v":{"$error":"#N/A"}},{"$f":"VLOOKUP($A25,Participants!$A:$E,5,FALSE)","v":{"$error":"#N/A"}},4,{"$error":"#N/A"},{"$error":"#N/A"}]
[{"$nulls":4},{"$f":"VLOOKUP($A26,Participants!$A:$E,4,FALSE)","v":{"$error":"#N/A"}},{"$f":"VLOOKUP($A26,Participants!$A:$E,2,FALSE)","v":{"$error":"#N/A"}},{"$f":"VLOOKUP($A26,Participants!$A:$E,3,FALSE)","v":{"$error":"#N/A"}},{"$f":"VLOOKUP($A26,Participants!$A:$E,5,FALSE)","v":{"$error":"#N/A"}},4,{"$error":"#N/A"},{"$error":"#N/A"}]
[{"$nulls":4},{"$f":"VLOOKUP($A27,Participants!$A:$E,4,FALSE)","v":{"$error":"#N/A"}},{"$f":"VLOOKUP($A27,Participants!$A:$E,2,FALSE)","v":{"$error":"#N/A"}},{"$f":"VLOOKUP($A27,Participants!$A:$E,3,FALSE)","v":{"$error":"#N/A"}},{"$f":"VLOOKUP($A27,Participants!$A:$E,5,FALSE)","v":{"$error":"#N/A"}},4,{"$error":"#N/A"},{"$error":"#N/A"}]
[{"$nulls":4},{"$f":"VLOOKUP($A28,Participants!$A:$E,4,FALSE)","v":{"$error":"#N/A"}},{"$f":"VLOOKUP($A28,Participants!$A:$E,2,FALSE)","v":{"$error":"#N/A"}},{"$f":"VLOOKUP($A28,Participants!$A:$E,3,FALSE)","v":{"$error":"#N/A"}},{"$f":"VLOOKUP($A28,Participants!$A:$E,5,FALSE)","v":{"$error":"#N/A"}},4,{"$error":"#N/A"},{"$error":"#N/A"}]
[]
[{"$nulls":4},{"$f":"VLOOKUP($A30,Participants!$A:$E,4,FALSE)","v":{"$error":"#N/A"}},{"$f":"VLOOKUP($A30,Participants!$A:$E,2,FALSE)","v":{"$error":"#N/A"}},{"$f":"VLOOKUP($A30,Participants!$A:$E,3,FALSE)","v":{"$error":"#N/A"}},{"$f":"VLOOKUP($A30,Participants!$A:$E,5,FALSE)","v":{"$error":"#N/A"}},5,{"$f":"RANK(D30,IF(I30=5,$D$30:$D$35,),1)","v":{"$error":"#N/A"}},{"$f":"RANK(D30,$D$2:$D$100,1)","v":{"$error":"#N/A"}}]
[{"$nulls":4},{"$f":"VLOOKUP($A31,Participants!$A:$E,4,FALSE)","v":{"$error":"#N/A"}},{"$f":"VLOOKUP($A31,Participants!$A:$E,2,FALSE)","v":{"$error":"#N/A"}},{"$f":"VLOOKUP($A31,Participants!$A:$E,3,FALSE)","v":{"$error":"#N/A"}},{"$f":"VLOOKUP($A31,Participants!$A:$E,5,FALSE)","v":{"$error":"#N/A"}},5,{"$f":"RANK(D31,IF(I31=5,$D$30:$D$35,),1)","v":{"$error":"#N/A"}},{"$error":"#N/A"}]
[{"$nulls":4},{"$f":"VLOOKUP($A32,Participants!$A:$E,4,FALSE)","v":{"$error":"#N/A"}},{"$f":"VLOOKUP($A32,Participants!$A:$E,2,FALSE)","v":{"$error":"#N/A"}},{"$f":"VLOOKUP($A32,Participants!$A:$E,3,FALSE)","v":{"$error":"#N/A"}},{"$f":"VLOOKUP($A32,Participants!$A:$E,5,FALSE)","v":{"$error":"#N/A"}},5,{"$error":"#N/A"},{"$error":"#N/A"}]
[{"$nulls":4},{"$f":"VLOOKUP($A33,Participants!$A:$E,4,FALSE)","v":{"$error":"#N/A"}},{"$f":"VLOOKUP($A33,Participants!$A:$E,2,FALSE)","v":{"$error":"#N/A"}},{"$f":"VLOOKUP($A33,Participants!$A:$E,3,FALSE)","v":{"$error":"#N/A"}},{"$f":"VLOOKUP($A33,Participants!$A:$E,5,FALSE)","v":{"$error":"#N/A"}},5,{"$error":"#N/A"},{"$error":"#N/A"}]
[{"$nulls":4},{"$f":"VLOOKUP($A34,Participants!$A:$E,4,FALSE)","v":{"$error":"#N/A"}},{"$f":"VLOOKUP($A34,Participants!$A:$E,2,FALSE)","v":{"$error":"#N/A"}},{"$f":"VLOOKUP($A34,Participants!$A:$E,3,FALSE)","v":{"$error":"#N/A"}},{"$f":"VLOOKUP($A34,Participants!$A:$E,5,FALSE)","v":{"$error":"#N/A"}},5,{"$error":"#N/A"},{"$error":"#N/A"}]
[{"$nulls":4},{"$f":"VLOOKUP($A35,Participants!$A:$E,4,FALSE)","v":{"$error":"#N/A"}},{"$f":"VLOOKUP($A35,Participants!$A:$E,2,FALSE)","v":{"$error":"#N/A"}},{"$f":"VLOOKUP($A35,Participants!$A:$E,3,FALSE)","v":{"$error":"#N/A"}},{"$f":"VLOOKUP($A35,Participants!$A:$E,5,FALSE)","v":{"$error":"#N/A"}},5,{"$error":"#N/A"},{"$error":"#N/A"}]
[]
[{"$nulls":4},{"$f":"VLOOKUP($A37,Participants!$A:$E,4,FALSE)","v":{"$error":"#N/A"}},{"$f":"VLOOKUP($A37,Participants!$A:$E,2,FALSE)","v":{"$error":"#N/A"}},{"$f":"VLOOKUP($A37,Participants!$A:$E,3,FALSE)","v":{"$error":"#N/A"}},{"$f":"VLOOKUP($A37,Participants!$A:$E,5,FALSE)","v":{"$error":"#N/A"}},6,{"$f":"RANK(D37,IF(I37=6,$D$37:$D$42,),1)","v":{"$error":"#N/A"}},{"$f":"RANK(D37,$D$2:$D$100,1)","v":{"$error":"#N/A"}}]
[{"$nulls":4},{"$f":"VLOOKUP($A38,Participants!$A:$E,4,FALSE)","v":{"$error":"#N/A"}},{"$f":"VLOOKUP($A38,Participants!$A:$E,2,FALSE)","v":{"$error":"#N/A"}},{"$f":"VLOOKUP($A38,Participants!$A:$E,3,FALSE)","v":{"$error":"#N/A"}},{"$f":"VLOOKUP($A38,Participants!$A:$E,5,FALSE)","v":{"$error":"#N/A"}},6,{"$f":"RANK(D38,IF(I38=6,$D$37:$D$42,),1)","v":{"$error":"#N/A"}},{"$error":"#N/A"}]
[{"$nulls":4},{"$f":"VLOOKUP($A39,Participants!$A:$E,4,FALSE)","v":{"$error":"#N/A"}},{"$f":"VLOOKUP($A39,Participants!$A:$E,2,FALSE)","v":{"$error":"#N/A"}},{"$f":"VLOOKUP($A39,Participants!$A:$E,3,FALSE)","v":{"$error":"#N/A"}},{"$f":"VLOOKUP($A39,Participants!$A:$E,5,FALSE)","v":{"$error":"#N/A"}},6,{"$error":"#N/A"},{"$error":"#N/A"}]
[{"$nulls":4},{"$f":"VLOOKUP($A40,Participants!$A:$E,4,FALSE)","v":{"$error":"#N/A"}},{"$f":"VLOOKUP($A40,Participants!$A:$E,2,FALSE)","v":{"$error":"#N/A"}},{"$f":"VLOOKUP($A40,Participants!$A:$E,3,FALSE)","v":{"$error":"#N/A"}},{"$f":"VLOOKUP($A40,Participants!$A:$E,5,FALSE)","v":{"$error":"#N/A"}},6,{"$error":"#N/A"},{"$error":"#N/A"}]
[{"$nulls":4},{"$f":"VLOOKUP($A41,Participants!$A:$E,4,FALSE)","v":{"$error":"#N/A"}},{"$f":"VLOOKUP($A41,Participants!$A:$E,2,FALSE)","v":{"$error":"#N/A"}},{"$f":"VLOOKUP($A41,Participants!$A:$E,3,FALSE)","v":{"$error":"#N/A"}},{"$f":"VLOOKUP($A41,Participants!$A:$E,5,FALSE)","v":{"$error":"#N/A"}},6,{"$error":"#N/A"},{"$error":"#N/A"}]
[{"$nulls":4},{"$f":"VLOOKUP($A42,Participants!$A:$E,4,FALSE)","v":{"$error":"#N/A"}},{"$f":"VLOOKUP($A42,Participants!$A:$E,2,FALSE)","v":{"$error":"#N/A"}},{"$f":"VLOOKUP($A42,Participants!$A:$E,3,FALSE)","v":{"$error":"#N/A"}},{"$f":"VLOOKUP($A42,Participants!$A:$E,5,FALSE)","v":{"$error":"#N/A"}},6,{"$error":"#N/A"},{"$error":"#N/A"}]

{"sheet":"400 Cadet Boys","index":24,"n_rows":42,"n_cols":13,"rows_kept":42}
["Bib","HeatOrder",null,"Time","Grade","FName","Lname","School","Heat","Heat Place","Overall Place",null,"Return to Schedule of Events"]
[143,"Lap 1","00:01:05.880","00:01:05.880",{"$f":"VLOOKUP($A2,Participants!$A:$E,4,FALSE)","v":8},{"$f":"VLOOKUP($A2,Participants!$A:$E,2,FALSE)","v":"Nick"},{"$f":"VLOOKUP($A2,Participants!$A:$E,3,FALSE)","v":"Jackson"},{"$f":"VLOOKUP($A2,Participants!$A:$E,5,FALSE)","v":"OLG"},1,{"$f":"RANK(D2,IF(I2=1,$D$2:$D$7,),1)","v":1},{"$f":"RANK(D2,$D$2:$D$100,1)","v":2}]
[72,"Lap 2","00:00:00.540","00:01:06.420",{"$f":"VLOOKUP($A3,Participants!$A:$E,4,FALSE)","v":7},{"$f":"VLOOKUP($A3,Participants!$A:$E,2,FALSE)","v":"Xavier"},{"$f":"VLOOKUP($A3,Participants!$A:$E,3,FALSE)","v":"Lawrie"},{"$f":"VLOOKUP($A3,Participants!$A:$E,5,FALSE)","v":"St Jude"},1,2,{"$f":"RANK(D3,$D$2:$D$100,1)","v":3},null,"Add or Update Participants"]
[282,"Lap 3","00:00:00.920","00:01:07.350",{"$f":"VLOOKUP($A4,Participants!$A:$E,4,FALSE)","v":7},{"$f":"VLOOKUP($A4,Participants!$A:$E,2,FALSE)","v":"Liam"},{"$f":"VLOOKUP($A4,Participants!$A:$E,3,FALSE)","v":"Kidwell"},{"$f":"VLOOKUP($A4,Participants!$A:$E,5,FALSE)","v":"St. Barnabas"},1,3,4,null,"Overall Place and Points"]
[212,"Lap 4","00:00:01.420","00:01:08.780",{"$f":"VLOOKUP($A5,Participants!$A:$E,4,FALSE)","v":8},{"$f":"VLOOKUP($A5,Participants!$A:$E,2,FALSE)","v":"John"},{"$f":"VLOOKUP($A5,Participants!$A:$E,3,FALSE)","v":"Wagner"},{"$f":"VLOOKUP($A5,Participants!$A:$E,5,FALSE)","v":"SSFC"},1,4,5]
[239,"Lap 5","00:00:04","00:01:12.790",{"$f":"VLOOKUP($A6,Participants!$A:$E,4,FALSE)","v":8},{"$f":"VLOOKUP($A6,Participants!$A:$E,2,FALSE)","v":"Anthony"},{"$f":"VLOOKUP($A6,Participants!$A:$E,3,FALSE)","v":"Ianni"},{"$f":"VLOOKUP($A6,Participants!$A:$E,5,FALSE)","v":"United We Run"},1,5,6]
[84,"Lap 6","00:00:01.710","00:01:14.500",{"$f":"VLOOKUP($A7,Participants!$A:$E,4,FALSE)","v":8},{"$f":"VLOOKUP($A7,Participants!$A:$E,2,FALSE)","v":"Will"},{"$f":"VLOOKUP($A7,Participants!$A:$E,3,FALSE)","v":"May"},{"$f":"VLOOKUP($A7,Participants!$A:$E,5,FALSE)","v":"St Jude"},1,6,9]
[]
[210,"Lap 1","00:01:05.690","00:01:05.690",{"$f":"VLOOKUP($A9,Participants!$A:$E,4,FALSE)","v":8},{"$f":"VLOOKUP($A9,Participants!$A:$E,2,FALSE)","v":"Sam"},{"$f":"VLOOKUP($A9,Participants!$A:$E,3,FALSE)","v":"Vaught"},{"$f":"VLOOKUP($A9,Participants!$A:$E,5,FALSE)","v":"SSFC"},2,{"$f":"RANK(D9,IF(I9=2,$D$9:$D$14,),1)","v":1},1]
[76,"Lap 2","00:00:07.770","00:01:13.460",{"$f":"VLOOKUP($A10,Participants!$A:$E,4,FALSE)","v":8},{"$f":"VLOOKUP($A10,Participants!$A:$E,2,FALSE)","v":"Brayan"},{"$f":"VLOOKUP($A10,Participants!$A:$E,3,FALSE)","v":"Lopez"},{"$f":"VLOOKUP($A10,Participants!$A:$E,5,FALSE)","v":"St Jude"},2,2,7]
[61,"Lap 3","00:00:01.010","00:01:14.470",{"$f":"VLOOKUP($A11,Participants!$A:$E,4,FALSE)","v":7},{"$f":"VLOOKUP($A11,Participants!$A:$E,2,FALSE)","v":"Aedyn"},{"$f":"VLOOKUP($A11,Participants!$A:$E,3,FALSE)","v":"Kingston"},{"$f":"VLOOKUP($A11,Participants!$A:$E,5,FALSE)","v":"St Jude"},2,3,8]
[789,"Lap 4","00:00:08.160","00:01:22.640",{"$f":"VLOOKUP($A12,Participants!$A:$E,4,FALSE)","v":7},{"$f":"VLOOKUP($A12,Participants!$A:$E,2,FALSE)","v":"Noah"},{"$f":"VLOOKUP($A12,Participants!$A:$E,3,FALSE)","v":"Clark"},{"$f":"VLOOKUP($A12,Participants!$A:$E,5,FALSE)","v":"St. Jude"},2,4,10]
[44,"Lap 5","00:00:00.970","00:01:23.620",{"$f":"VLOOKUP($A13,Participants!$A:$E,4,FALSE)","v":8},{"$f":"VLOOKUP($A13,Participants!$A:$E,2,FALSE)","v":"Fabrizio"},{"$f":"VLOOKUP($A13,Participants!$A:$E,3,FALSE)","v":"Gomez"},{"$f":"VLOOKUP($A13,Participants!$A:$E,5,FALSE)","v":"St Jude"},2,5,11]
[{"$nulls":4},{"$f":"VLOOKUP($A14,Participants!$A:$E,4,FALSE)","v":{"$error":"#N/A"}},{"$f":"VLOOKUP($A14,Participants!$A:$E,2,FALSE)","v":{"$error":"#N/A"}},{"$f":"VLOOKUP($A14,Participants!$A:$E,3,FALSE)","v":{"$error":"#N/A"}},{"$f":"VLOOKUP($A14,Participants!$A:$E,5,FALSE)","v":{"$error":"#N/A"}},2,{"$error":"#N/A"},{"$error":"#N/A"}]
[]
[{"$nulls":4},{"$f":"VLOOKUP($A16,Participants!$A:$E,4,FALSE)","v":{"$error":"#N/A"}},{"$f":"VLOOKUP($A16,Participants!$A:$E,2,FALSE)","v":{"$error":"#N/A"}},{"$f":"VLOOKUP($A16,Participants!$A:$E,3,FALSE)","v":{"$error":"#N/A"}},{"$f":"VLOOKUP($A16,Participants!$A:$E,5,FALSE)","v":{"$error":"#N/A"}},3,{"$f":"RANK(D16,IF(I16=3,$D$16:$D$21,),1)","v":{"$error":"#N/A"}},{"$error":"#N/A"}]
[{"$nulls":4},{"$f":"VLOOKUP($A17,Participants!$A:$E,4,FALSE)","v":{"$error":"#N/A"}},{"$f":"VLOOKUP($A17,Participants!$A:$E,2,FALSE)","v":{"$error":"#N/A"}},{"$f":"VLOOKUP($A17,Participants!$A:$E,3,FALSE)","v":{"$error":"#N/A"}},{"$f":"VLOOKUP($A17,Participants!$A:$E,5,FALSE)","v":{"$error":"#N/A"}},3,{"$error":"#N/A"},{"$error":"#N/A"}]
[{"$nulls":4},{"$f":"VLOOKUP($A18,Participants!$A:$E,4,FALSE)","v":{"$error":"#N/A"}},{"$f":"VLOOKUP($A18,Participants!$A:$E,2,FALSE)","v":{"$error":"#N/A"}},{"$f":"VLOOKUP($A18,Participants!$A:$E,3,FALSE)","v":{"$error":"#N/A"}},{"$f":"VLOOKUP($A18,Participants!$A:$E,5,FALSE)","v":{"$error":"#N/A"}},3,{"$error":"#N/A"},{"$error":"#N/A"}]
[{"$nulls":4},{"$f":"VLOOKUP($A19,Participants!$A:$E,4,FALSE)","v":{"$error":"#N/A"}},{"$f":"VLOOKUP($A19,Participants!$A:$E,2,FALSE)","v":{"$error":"#N/A"}},{"$f":"VLOOKUP($A19,Participants!$A:$E,3,FALSE)","v":{"$error":"#N/A"}},{"$f":"VLOOKUP($A19,Participants!$A:$E,5,FALSE)","v":{"$error":"#N/A"}},3,{"$error":"#N/A"},{"$error":"#N/A"}]
[{"$nulls":4},{"$f":"VLOOKUP($A20,Participants!$A:$E,4,FALSE)","v":{"$error":"#N/A"}},{"$f":"VLOOKUP($A20,Participants!$A:$E,2,FALSE)","v":{"$error":"#N/A"}},{"$f":"VLOOKUP($A20,Participants!$A:$E,3,FALSE)","v":{"$error":"#N/A"}},{"$f":"VLOOKUP($A20,Participants!$A:$E,5,FALSE)","v":{"$error":"#N/A"}},3,{"$error":"#N/A"},{"$error":"#N/A"}]
[{"$nulls":4},{"$f":"VLOOKUP($A21,Participants!$A:$E,4,FALSE)","v":{"$error":"#N/A"}},{"$f":"VLOOKUP($A21,Participants!$A:$E,2,FALSE)","v":{"$error":"#N/A"}},{"$f":"VLOOKUP($A21,Participants!$A:$E,3,FALSE)","v":{"$error":"#N/A"}},{"$f":"VLOOKUP($A21,Participants!$A:$E,5,FALSE)","v":{"$error":"#N/A"}},3,{"$error":"#N/A"},{"$error":"#N/A"}]
[]
[{"$nulls":4},{"$f":"VLOOKUP($A23,Participants!$A:$E,4,FALSE)","v":{"$error":"#N/A"}},{"$f":"VLOOKUP($A23,Participants!$A:$E,2,FALSE)","v":{"$error":"#N/A"}},{"$f":"VLOOKUP($A23,Participants!$A:$E,3,FALSE)","v":{"$error":"#N/A"}},{"$f":"VLOOKUP($A23,Participants!$A:$E,5,FALSE)","v":{"$error":"#N/A"}},4,{"$f":"RANK(D23,IF(I23=4,$D$23:$D$28,),1)","v":{"$error":"#N/A"}},{"$error":"#N/A"}]
[{"$nulls":4},{"$f":"VLOOKUP($A24,Participants!$A:$E,4,FALSE)","v":{"$error":"#N/A"}},{"$f":"VLOOKUP($A24,Participants!$A:$E,2,FALSE)","v":{"$error":"#N/A"}},{"$f":"VLOOKUP($A24,Participants!$A:$E,3,FALSE)","v":{"$error":"#N/A"}},{"$f":"VLOOKUP($A24,Participants!$A:$E,5,FALSE)","v":{"$error":"#N/A"}},4,{"$error":"#N/A"},{"$error":"#N/A"}]
[{"$nulls":4},{"$f":"VLOOKUP($A25,Participants!$A:$E,4,FALSE)","v":{"$error":"#N/A"}},{"$f":"VLOOKUP($A25,Participants!$A:$E,2,FALSE)","v":{"$error":"#N/A"}},{"$f":"VLOOKUP($A25,Participants!$A:$E,3,FALSE)","v":{"$error":"#N/A"}},{"$f":"VLOOKUP($A25,Participants!$A:$E,5,FALSE)","v":{"$error":"#N/A"}},4,{"$error":"#N/A"},{"$error":"#N/A"}]
[{"$nulls":4},{"$f":"VLOOKUP($A26,Participants!$A:$E,4,FALSE)","v":{"$error":"#N/A"}},{"$f":"VLOOKUP($A26,Participants!$A:$E,2,FALSE)","v":{"$error":"#N/A"}},{"$f":"VLOOKUP($A26,Participants!$A:$E,3,FALSE)","v":{"$error":"#N/A"}},{"$f":"VLOOKUP($A26,Participants!$A:$E,5,FALSE)","v":{"$error":"#N/A"}},4,{"$error":"#N/A"},{"$error":"#N/A"}]
[{"$nulls":4},{"$f":"VLOOKUP($A27,Participants!$A:$E,4,FALSE)","v":{"$error":"#N/A"}},{"$f":"VLOOKUP($A27,Participants!$A:$E,2,FALSE)","v":{"$error":"#N/A"}},{"$f":"VLOOKUP($A27,Participants!$A:$E,3,FALSE)","v":{"$error":"#N/A"}},{"$f":"VLOOKUP($A27,Participants!$A:$E,5,FALSE)","v":{"$error":"#N/A"}},4,{"$error":"#N/A"},{"$error":"#N/A"}]
[{"$nulls":4},{"$f":"VLOOKUP($A28,Participants!$A:$E,4,FALSE)","v":{"$error":"#N/A"}},{"$f":"VLOOKUP($A28,Participants!$A:$E,2,FALSE)","v":{"$error":"#N/A"}},{"$f":"VLOOKUP($A28,Participants!$A:$E,3,FALSE)","v":{"$error":"#N/A"}},{"$f":"VLOOKUP($A28,Participants!$A:$E,5,FALSE)","v":{"$error":"#N/A"}},4,{"$error":"#N/A"},{"$error":"#N/A"}]
[]
[{"$nulls":4},{"$f":"VLOOKUP($A30,Participants!$A:$E,4,FALSE)","v":{"$error":"#N/A"}},{"$f":"VLOOKUP($A30,Participants!$A:$E,2,FALSE)","v":{"$error":"#N/A"}},{"$f":"VLOOKUP($A30,Participants!$A:$E,3,FALSE)","v":{"$error":"#N/A"}},{"$f":"VLOOKUP($A30,Participants!$A:$E,5,FALSE)","v":{"$error":"#N/A"}},5,{"$f":"RANK(D30,IF(I30=5,$D$30:$D$35,),1)","v":{"$error":"#N/A"}},{"$error":"#N/A"}]
[{"$nulls":4},{"$f":"VLOOKUP($A31,Participants!$A:$E,4,FALSE)","v":{"$error":"#N/A"}},{"$f":"VLOOKUP($A31,Participants!$A:$E,2,FALSE)","v":{"$error":"#N/A"}},{"$f":"VLOOKUP($A31,Participants!$A:$E,3,FALSE)","v":{"$error":"#N/A"}},{"$f":"VLOOKUP($A31,Participants!$A:$E,5,FALSE)","v":{"$error":"#N/A"}},5,{"$f":"RANK(D31,IF(I31=5,$D$30:$D$35,),1)","v":{"$error":"#N/A"}},{"$error":"#N/A"}]
[{"$nulls":4},{"$f":"VLOOKUP($A32,Participants!$A:$E,4,FALSE)","v":{"$error":"#N/A"}},{"$f":"VLOOKUP($A32,Participants!$A:$E,2,FALSE)","v":{"$error":"#N/A"}},{"$f":"VLOOKUP($A32,Participants!$A:$E,3,FALSE)","v":{"$error":"#N/A"}},{"$f":"VLOOKUP($A32,Participants!$A:$E,5,FALSE)","v":{"$error":"#N/A"}},5,{"$error":"#N/A"},{"$error":"#N/A"}]
[{"$nulls":4},{"$f":"VLOOKUP($A33,Participants!$A:$E,4,FALSE)","v":{"$error":"#N/A"}},{"$f":"VLOOKUP($A33,Participants!$A:$E,2,FALSE)","v":{"$error":"#N/A"}},{"$f":"VLOOKUP($A33,Participants!$A:$E,3,FALSE)","v":{"$error":"#N/A"}},{"$f":"VLOOKUP($A33,Participants!$A:$E,5,FALSE)","v":{"$error":"#N/A"}},5,{"$error":"#N/A"},{"$error":"#N/A"}]
[{"$nulls":4},{"$f":"VLOOKUP($A34,Participants!$A:$E,4,FALSE)","v":{"$error":"#N/A"}},{"$f":"VLOOKUP($A34,Participants!$A:$E,2,FALSE)","v":{"$error":"#N/A"}},{"$f":"VLOOKUP($A34,Participants!$A:$E,3,FALSE)","v":{"$error":"#N/A"}},{"$f":"VLOOKUP($A34,Participants!$A:$E,5,FALSE)","v":{"$error":"#N/A"}},5,{"$error":"#N/A"},{"$error":"#N/A"}]
[{"$nulls":4},{"$f":"VLOOKUP($A35,Participants!$A:$E,4,FALSE)","v":{"$error":"#N/A"}},{"$f":"VLOOKUP($A35,Participants!$A:$E,2,FALSE)","v":{"$error":"#N/A"}},{"$f":"VLOOKUP($A35,Participants!$A:$E,3,FALSE)","v":{"$error":"#N/A"}},{"$f":"VLOOKUP($A35,Participants!$A:$E,5,FALSE)","v":{"$error":"#N/A"}},5,{"$error":"#N/A"},{"$error":"#N/A"}]
[]
[{"$nulls":4},{"$f":"VLOOKUP($A37,Participants!$A:$E,4,FALSE)","v":{"$error":"#N/A"}},{"$f":"VLOOKUP($A37,Participants!$A:$E,2,FALSE)","v":{"$error":"#N/A"}},{"$f":"VLOOKUP($A37,Participants!$A:$E,3,FALSE)","v":{"$error":"#N/A"}},{"$f":"VLOOKUP($A37,Participants!$A:$E,5,FALSE)","v":{"$error":"#N/A"}},6,{"$f":"RANK(D37,IF(I37=6,$D$37:$D$42,),1)","v":{"$error":"#N/A"}},{"$error":"#N/A"}]
[{"$nulls":4},{"$f":"VLOOKUP($A38,Participants!$A:$E,4,FALSE)","v":{"$error":"#N/A"}},{"$f":"VLOOKUP($A38,Participants!$A:$E,2,FALSE)","v":{"$error":"#N/A"}},{"$f":"VLOOKUP($A38,Participants!$A:$E,3,FALSE)","v":{"$error":"#N/A"}},{"$f":"VLOOKUP($A38,Participants!$A:$E,5,FALSE)","v":{"$error":"#N/A"}},6,{"$f":"RANK(D38,IF(I38=6,$D$37:$D$42,),1)","v":{"$error":"#N/A"}},{"$error":"#N/A"}]
[{"$nulls":4},{"$f":"VLOOKUP($A39,Participants!$A:$E,4,FALSE)","v":{"$error":"#N/A"}},{"$f":"VLOOKUP($A39,Participants!$A:$E,2,FALSE)","v":{"$error":"#N/A"}},{"$f":"VLOOKUP($A39,Participants!$A:$E,3,FALSE)","v":{"$error":"#N/A"}},{"$f":"VLOOKUP($A39,Participants!$A:$E,5,FALSE)","v":{"$error":"#N/A"}},6,{"$error":"#N/A"},{"$error":"#N/A"}]
[{"$nulls":4},{"$f":"VLOOKUP($A40,Participants!$A:$E,4,FALSE)","v":{"$error":"#N/A"}},{"$f":"VLOOKUP($A40,Participants!$A:$E,2,FALSE)","v":{"$error":"#N/A"}},{"$f":"VLOOKUP($A40,Participants!$A:$E,3,FALSE)","v":{"$error":"#N/A"}},{"$f":"VLOOKUP($A40,Participants!$A:$E,5,FALSE)","v":{"$error":"#N/A"}},6,{"$error":"#N/A"},{"$error":"#N/A"}]
[{"$nulls":4},{"$f":"VLOOKUP($A41,Participants!$A:$E,4,FALSE)","v":{"$error":"#N/A"}},{"$f":"VLOOKUP($A41,Participants!$A:$E,2,FALSE)","v":{"$error":"#N/A"}},{"$f":"VLOOKUP($A41,Participants!$A:$E,3,FALSE)","v":{"$error":"#N/A"}},{"$f":"VLOOKUP($A41,Participants!$A:$E,5,FALSE)","v":{"$error":"#N/A"}},6,{"$error":"#N/A"},{"$error":"#N/A"}]
[{"$nulls":4},{"$f":"VLOOKUP($A42,Participants!$A:$E,4,FALSE)","v":{"$error":"#N/A"}},{"$f":"VLOOKUP($A42,Participants!$A:$E,2,FALSE)","v":{"$error":"#N/A"}},{"$f":"VLOOKUP($A42,Participants!$A:$E,3,FALSE)","v":{"$error":"#N/A"}},{"$f":"VLOOKUP($A42,Participants!$A:$E,5,FALSE)","v":{"$error":"#N/A"}},6,{"$error":"#N/A"},{"$error":"#N/A"}]

{"sheet":"800 Cadet Boys","index":25,"n_rows":36,"n_cols":13,"rows_kept":36}
["Bib","HeatOrder",null,"Time","Grade","FName","Lname","School","Heat","Heat Place","Overall Place",null,"Return to Schedule of Events"]
[163,null,"00:01:20.480","00:02:29.120",{"$f":"VLOOKUP($A2,Participants!$A:$E,4,FALSE)","v":7},{"$f":"VLOOKUP($A2,Participants!$A:$E,2,FALSE)","v":"Cameron"},{"$f":"VLOOKUP($A2,Participants!$A:$E,3,FALSE)","v":"Cox"},{"$f":"VLOOKUP($A2,Participants!$A:$E,5,FALSE)","v":"SSFC"},1,null,1]
[59,null,"00:00:18.040","00:02:47.160",{"$f":"VLOOKUP($A3,Participants!$A:$E,4,FALSE)","v":7},{"$f":"VLOOKUP($A3,Participants!$A:$E,2,FALSE)","v":"Ben "},{"$f":"VLOOKUP($A3,Participants!$A:$E,3,FALSE)","v":"Kauffman"},{"$f":"VLOOKUP($A3,Participants!$A:$E,5,FALSE)","v":"St Jude"},1,null,2,null,"Add or Update Participants"]
[212,null,"00:00:05.680","00:02:52.850",{"$f":"VLOOKUP($A4,Participants!$A:$E,4,FALSE)","v":8},{"$f":"VLOOKUP($A4,Participants!$A:$E,2,FALSE)","v":"John"},{"$f":"VLOOKUP($A4,Participants!$A:$E,3,FALSE)","v":"Wagner"},{"$f":"VLOOKUP($A4,Participants!$A:$E,5,FALSE)","v":"SSFC"},1,null,3,null,"Overall Place and Points"]
[15,null,"00:00:00.190","00:02:53.040",{"$f":"VLOOKUP($A5,Participants!$A:$E,4,FALSE)","v":8},{"$f":"VLOOKUP($A5,Participants!$A:$E,2,FALSE)","v":"Joe"},{"$f":"VLOOKUP($A5,Participants!$A:$E,3,FALSE)","v":"Buckel"},{"$f":"VLOOKUP($A5,Participants!$A:$E,5,FALSE)","v":"St Jude"},1,null,4]
[17,null,"00:00:02.170","00:02:55.220",{"$f":"VLOOKUP($A6,Participants!$A:$E,4,FALSE)","v":7},{"$f":"VLOOKUP($A6,Participants!$A:$E,2,FALSE)","v":"Emmett"},{"$f":"VLOOKUP($A6,Participants!$A:$E,3,FALSE)","v":"Burkhardt"},{"$f":"VLOOKUP($A6,Participants!$A:$E,5,FALSE)","v":"St Jude"},1,null,5]
[789,null,"00:00:36.800","00:03:32.020",{"$f":"VLOOKUP($A7,Participants!$A:$E,4,FALSE)","v":7},{"$f":"VLOOKUP($A7,Participants!$A:$E,2,FALSE)","v":"Noah"},{"$f":"VLOOKUP($A7,Participants!$A:$E,3,FALSE)","v":"Clark"},{"$f":"VLOOKUP($A7,Participants!$A:$E,5,FALSE)","v":"St. Jude"},1,null,6]
[{"$nulls":4},{"$f":"VLOOKUP($A8,Participants!$A:$E,4,FALSE)","v":{"$error":"#N/A"}},{"$f":"VLOOKUP($A8,Participants!$A:$E,2,FALSE)","v":{"$error":"#N/A"}},{"$f":"VLOOKUP($A8,Participants!$A:$E,3,FALSE)","v":{"$error":"#N/A"}},{"$f":"VLOOKUP($A8,Participants!$A:$E,5,FALSE)","v":{"$error":"#N/A"}},1,{"$f":"RANK(#REF!,IF(I8=1,$D$2:$D$374,),1)","v":{"$error":"#REF!"}},{"$f":"RANK(#REF!,$D$2:$D$92,1)","v":{"$error":"#REF!"}}]
[{"$nulls":4},{"$f":"VLOOKUP($A9,Participants!$A:$E,4,FALSE)","v":{"$error":"#N/A"}},{"$f":"VLOOKUP($A9,Participants!$A:$E,2,FALSE)","v":{"$error":"#N/A"}},{"$f":"VLOOKUP($A9,Participants!$A:$E,3,FALSE)","v":{"$error":"#N/A"}},{"$f":"VLOOKUP($A9,Participants!$A:$E,5,FALSE)","v":{"$error":"#N/A"}},1,{"$f":"RANK(#REF!,IF(I9=1,$D$2:$D$374,),1)","v":{"$error":"#REF!"}},{"$f":"RANK(#REF!,$D$2:$D$92,1)","v":{"$error":"#REF!"}}]
[{"$nulls":4},{"$f":"VLOOKUP($A10,Participants!$A:$E,4,FALSE)","v":{"$error":"#N/A"}},{"$f":"VLOOKUP($A10,Participants!$A:$E,2,FALSE)","v":{"$error":"#N/A"}},{"$f":"VLOOKUP($A10,Participants!$A:$E,3,FALSE)","v":{"$error":"#N/A"}},{"$f":"VLOOKUP($A10,Participants!$A:$E,5,FALSE)","v":{"$error":"#N/A"}},1,{"$f":"RANK(D8,IF(I10=1,$D$2:$D$374,),1)","v":{"$error":"#N/A"}},{"$f":"RANK(D8,$D$2:$D$92,1)","v":{"$error":"#N/A"}}]
[{"$nulls":4},{"$f":"VLOOKUP($A11,Participants!$A:$E,4,FALSE)","v":{"$error":"#N/A"}},{"$f":"VLOOKUP($A11,Participants!$A:$E,2,FALSE)","v":{"$error":"#N/A"}},{"$f":"VLOOKUP($A11,Participants!$A:$E,3,FALSE)","v":{"$error":"#N/A"}},{"$f":"VLOOKUP($A11,Participants!$A:$E,5,FALSE)","v":{"$error":"#N/A"}},1,{"$error":"#N/A"},{"$error":"#N/A"}]
[{"$nulls":4},{"$f":"VLOOKUP($A12,Participants!$A:$E,4,FALSE)","v":{"$error":"#N/A"}},{"$f":"VLOOKUP($A12,Participants!$A:$E,2,FALSE)","v":{"$error":"#N/A"}},{"$f":"VLOOKUP($A12,Participants!$A:$E,3,FALSE)","v":{"$error":"#N/A"}},{"$f":"VLOOKUP($A12,Participants!$A:$E,5,FALSE)","v":{"$error":"#N/A"}},1,{"$error":"#N/A"},{"$error":"#N/A"}]
[{"$nulls":4},{"$f":"VLOOKUP($A13,Participants!$A:$E,4,FALSE)","v":{"$error":"#N/A"}},{"$f":"VLOOKUP($A13,Participants!$A:$E,2,FALSE)","v":{"$error":"#N/A"}},{"$f":"VLOOKUP($A13,Participants!$A:$E,3,FALSE)","v":{"$error":"#N/A"}},{"$f":"VLOOKUP($A13,Participants!$A:$E,5,FALSE)","v":{"$error":"#N/A"}},1,{"$error":"#N/A"},{"$error":"#N/A"}]
[{"$nulls":4},{"$f":"VLOOKUP($A14,Participants!$A:$E,4,FALSE)","v":{"$error":"#N/A"}},{"$f":"VLOOKUP($A14,Participants!$A:$E,2,FALSE)","v":{"$error":"#N/A"}},{"$f":"VLOOKUP($A14,Participants!$A:$E,3,FALSE)","v":{"$error":"#N/A"}},{"$f":"VLOOKUP($A14,Participants!$A:$E,5,FALSE)","v":{"$error":"#N/A"}},1,{"$error":"#N/A"},{"$error":"#N/A"}]
[{"$nulls":4},{"$f":"VLOOKUP($A15,Participants!$A:$E,4,FALSE)","v":{"$error":"#N/A"}},{"$f":"VLOOKUP($A15,Participants!$A:$E,2,FALSE)","v":{"$error":"#N/A"}},{"$f":"VLOOKUP($A15,Participants!$A:$E,3,FALSE)","v":{"$error":"#N/A"}},{"$f":"VLOOKUP($A15,Participants!$A:$E,5,FALSE)","v":{"$error":"#N/A"}},1,{"$error":"#N/A"},{"$error":"#N/A"}]
[{"$nulls":4},{"$f":"VLOOKUP($A16,Participants!$A:$E,4,FALSE)","v":{"$error":"#N/A"}},{"$f":"VLOOKUP($A16,Participants!$A:$E,2,FALSE)","v":{"$error":"#N/A"}},{"$f":"VLOOKUP($A16,Participants!$A:$E,3,FALSE)","v":{"$error":"#N/A"}},{"$f":"VLOOKUP($A16,Participants!$A:$E,5,FALSE)","v":{"$error":"#N/A"}},1,{"$error":"#N/A"},{"$error":"#N/A"}]
[{"$nulls":4},{"$f":"VLOOKUP($A17,Participants!$A:$E,4,FALSE)","v":{"$error":"#N/A"}},{"$f":"VLOOKUP($A17,Participants!$A:$E,2,FALSE)","v":{"$error":"#N/A"}},{"$f":"VLOOKUP($A17,Participants!$A:$E,3,FALSE)","v":{"$error":"#N/A"}},{"$f":"VLOOKUP($A17,Participants!$A:$E,5,FALSE)","v":{"$error":"#N/A"}},1,{"$error":"#N/A"},{"$error":"#N/A"}]
[{"$nulls":4},{"$f":"VLOOKUP($A18,Participants!$A:$E,4,FALSE)","v":{"$error":"#N/A"}},{"$f":"VLOOKUP($A18,Participants!$A:$E,2,FALSE)","v":{"$error":"#N/A"}},{"$f":"VLOOKUP($A18,Participants!$A:$E,3,FALSE)","v":{"$error":"#N/A"}},{"$f":"VLOOKUP($A18,Participants!$A:$E,5,FALSE)","v":{"$error":"#N/A"}},1,{"$error":"#N/A"},{"$error":"#N/A"}]
[{"$nulls":4},{"$f":"VLOOKUP($A19,Participants!$A:$E,4,FALSE)","v":{"$error":"#N/A"}},{"$f":"VLOOKUP($A19,Participants!$A:$E,2,FALSE)","v":{"$error":"#N/A"}},{"$f":"VLOOKUP($A19,Participants!$A:$E,3,FALSE)","v":{"$error":"#N/A"}},{"$f":"VLOOKUP($A19,Participants!$A:$E,5,FALSE)","v":{"$error":"#N/A"}},1,{"$error":"#N/A"},{"$error":"#N/A"}]
[{"$nulls":4},{"$f":"VLOOKUP($A20,Participants!$A:$E,4,FALSE)","v":{"$error":"#N/A"}},{"$f":"VLOOKUP($A20,Participants!$A:$E,2,FALSE)","v":{"$error":"#N/A"}},{"$f":"VLOOKUP($A20,Participants!$A:$E,3,FALSE)","v":{"$error":"#N/A"}},{"$f":"VLOOKUP($A20,Participants!$A:$E,5,FALSE)","v":{"$error":"#N/A"}},1,{"$error":"#N/A"},{"$error":"#N/A"}]
[{"$nulls":4},{"$f":"VLOOKUP($A21,Participants!$A:$E,4,FALSE)","v":{"$error":"#N/A"}},{"$f":"VLOOKUP($A21,Participants!$A:$E,2,FALSE)","v":{"$error":"#N/A"}},{"$f":"VLOOKUP($A21,Participants!$A:$E,3,FALSE)","v":{"$error":"#N/A"}},{"$f":"VLOOKUP($A21,Participants!$A:$E,5,FALSE)","v":{"$error":"#N/A"}},1,{"$error":"#N/A"},{"$error":"#N/A"}]
[{"$nulls":4},{"$f":"VLOOKUP($A22,Participants!$A:$E,4,FALSE)","v":{"$error":"#N/A"}},{"$f":"VLOOKUP($A22,Participants!$A:$E,2,FALSE)","v":{"$error":"#N/A"}},{"$f":"VLOOKUP($A22,Participants!$A:$E,3,FALSE)","v":{"$error":"#N/A"}},{"$f":"VLOOKUP($A22,Participants!$A:$E,5,FALSE)","v":{"$error":"#N/A"}},1,{"$error":"#N/A"},{"$error":"#N/A"}]
[{"$nulls":4},{"$f":"VLOOKUP($A23,Participants!$A:$E,4,FALSE)","v":{"$error":"#N/A"}},{"$f":"VLOOKUP($A23,Participants!$A:$E,2,FALSE)","v":{"$error":"#N/A"}},{"$f":"VLOOKUP($A23,Participants!$A:$E,3,FALSE)","v":{"$error":"#N/A"}},{"$f":"VLOOKUP($A23,Participants!$A:$E,5,FALSE)","v":{"$error":"#N/A"}},1,{"$error":"#N/A"},{"$error":"#N/A"}]
[{"$nulls":4},{"$f":"VLOOKUP($A24,Participants!$A:$E,4,FALSE)","v":{"$error":"#N/A"}},{"$f":"VLOOKUP($A24,Participants!$A:$E,2,FALSE)","v":{"$error":"#N/A"}},{"$f":"VLOOKUP($A24,Participants!$A:$E,3,FALSE)","v":{"$error":"#N/A"}},{"$f":"VLOOKUP($A24,Participants!$A:$E,5,FALSE)","v":{"$error":"#N/A"}},1,{"$error":"#N/A"},{"$error":"#N/A"}]
[{"$nulls":4},{"$f":"VLOOKUP($A25,Participants!$A:$E,4,FALSE)","v":{"$error":"#N/A"}},{"$f":"VLOOKUP($A25,Participants!$A:$E,2,FALSE)","v":{"$error":"#N/A"}},{"$f":"VLOOKUP($A25,Participants!$A:$E,3,FALSE)","v":{"$error":"#N/A"}},{"$f":"VLOOKUP($A25,Participants!$A:$E,5,FALSE)","v":{"$error":"#N/A"}},1,{"$error":"#N/A"},{"$error":"#N/A"}]
[{"$nulls":4},{"$f":"VLOOKUP($A26,Participants!$A:$E,4,FALSE)","v":{"$error":"#N/A"}},{"$f":"VLOOKUP($A26,Participants!$A:$E,2,FALSE)","v":{"$error":"#N/A"}},{"$f":"VLOOKUP($A26,Participants!$A:$E,3,FALSE)","v":{"$error":"#N/A"}},{"$f":"VLOOKUP($A26,Participants!$A:$E,5,FALSE)","v":{"$error":"#N/A"}},1,{"$error":"#N/A"},{"$error":"#N/A"}]
[{"$nulls":4},{"$f":"VLOOKUP($A27,Participants!$A:$E,4,FALSE)","v":{"$error":"#N/A"}},{"$f":"VLOOKUP($A27,Participants!$A:$E,2,FALSE)","v":{"$error":"#N/A"}},{"$f":"VLOOKUP($A27,Participants!$A:$E,3,FALSE)","v":{"$error":"#N/A"}},{"$f":"VLOOKUP($A27,Participants!$A:$E,5,FALSE)","v":{"$error":"#N/A"}},1,{"$error":"#N/A"},{"$error":"#N/A"}]
[{"$nulls":4},{"$f":"VLOOKUP($A28,Participants!$A:$E,4,FALSE)","v":{"$error":"#N/A"}},{"$f":"VLOOKUP($A28,Participants!$A:$E,2,FALSE)","v":{"$error":"#N/A"}},{"$f":"VLOOKUP($A28,Participants!$A:$E,3,FALSE)","v":{"$error":"#N/A"}},{"$f":"VLOOKUP($A28,Participants!$A:$E,5,FALSE)","v":{"$error":"#N/A"}},1,{"$error":"#N/A"},{"$error":"#N/A"}]
[{"$nulls":4},{"$f":"VLOOKUP($A29,Participants!$A:$E,4,FALSE)","v":{"$error":"#N/A"}},{"$f":"VLOOKUP($A29,Participants!$A:$E,2,FALSE)","v":{"$error":"#N/A"}},{"$f":"VLOOKUP($A29,Participants!$A:$E,3,FALSE)","v":{"$error":"#N/A"}},{"$f":"VLOOKUP($A29,Participants!$A:$E,5,FALSE)","v":{"$error":"#N/A"}},1,{"$error":"#N/A"},{"$error":"#N/A"}]
[{"$nulls":4},{"$f":"VLOOKUP($A30,Participants!$A:$E,4,FALSE)","v":{"$error":"#N/A"}},{"$f":"VLOOKUP($A30,Participants!$A:$E,2,FALSE)","v":{"$error":"#N/A"}},{"$f":"VLOOKUP($A30,Participants!$A:$E,3,FALSE)","v":{"$error":"#N/A"}},{"$f":"VLOOKUP($A30,Participants!$A:$E,5,FALSE)","v":{"$error":"#N/A"}},1,{"$error":"#N/A"},{"$error":"#N/A"}]
[{"$nulls":4},{"$f":"VLOOKUP($A31,Participants!$A:$E,4,FALSE)","v":{"$error":"#N/A"}},{"$f":"VLOOKUP($A31,Participants!$A:$E,2,FALSE)","v":{"$error":"#N/A"}},{"$f":"VLOOKUP($A31,Participants!$A:$E,3,FALSE)","v":{"$error":"#N/A"}},{"$f":"VLOOKUP($A31,Participants!$A:$E,5,FALSE)","v":{"$error":"#N/A"}},1,{"$error":"#N/A"},{"$error":"#N/A"}]
[{"$nulls":4},{"$f":"VLOOKUP($A32,Participants!$A:$E,4,FALSE)","v":{"$error":"#N/A"}},{"$f":"VLOOKUP($A32,Participants!$A:$E,2,FALSE)","v":{"$error":"#N/A"}},{"$f":"VLOOKUP($A32,Participants!$A:$E,3,FALSE)","v":{"$error":"#N/A"}},{"$f":"VLOOKUP($A32,Participants!$A:$E,5,FALSE)","v":{"$error":"#N/A"}},1,{"$error":"#N/A"},{"$error":"#N/A"}]
[{"$nulls":4},{"$f":"VLOOKUP($A33,Participants!$A:$E,4,FALSE)","v":{"$error":"#N/A"}},{"$f":"VLOOKUP($A33,Participants!$A:$E,2,FALSE)","v":{"$error":"#N/A"}},{"$f":"VLOOKUP($A33,Participants!$A:$E,3,FALSE)","v":{"$error":"#N/A"}},{"$f":"VLOOKUP($A33,Participants!$A:$E,5,FALSE)","v":{"$error":"#N/A"}},1,{"$error":"#N/A"},{"$error":"#N/A"}]
[{"$nulls":4},{"$f":"VLOOKUP($A34,Participants!$A:$E,4,FALSE)","v":{"$error":"#N/A"}},{"$f":"VLOOKUP($A34,Participants!$A:$E,2,FALSE)","v":{"$error":"#N/A"}},{"$f":"VLOOKUP($A34,Participants!$A:$E,3,FALSE)","v":{"$error":"#N/A"}},{"$f":"VLOOKUP($A34,Participants!$A:$E,5,FALSE)","v":{"$error":"#N/A"}},1,{"$error":"#N/A"},{"$error":"#N/A"}]
[{"$nulls":4},{"$f":"VLOOKUP($A35,Participants!$A:$E,4,FALSE)","v":{"$error":"#N/A"}},{"$f":"VLOOKUP($A35,Participants!$A:$E,2,FALSE)","v":{"$error":"#N/A"}},{"$f":"VLOOKUP($A35,Participants!$A:$E,3,FALSE)","v":{"$error":"#N/A"}},{"$f":"VLOOKUP($A35,Participants!$A:$E,5,FALSE)","v":{"$error":"#N/A"}},1,{"$error":"#N/A"},{"$error":"#N/A"}]
[{"$nulls":4},{"$f":"VLOOKUP($A36,Participants!$A:$E,4,FALSE)","v":{"$error":"#N/A"}},{"$f":"VLOOKUP($A36,Participants!$A:$E,2,FALSE)","v":{"$error":"#N/A"}},{"$f":"VLOOKUP($A36,Participants!$A:$E,3,FALSE)","v":{"$error":"#N/A"}},{"$f":"VLOOKUP($A36,Participants!$A:$E,5,FALSE)","v":{"$error":"#N/A"}},1,{"$error":"#N/A"},{"$error":"#N/A"}]

{"sheet":"100 Cadet Boys","index":26,"n_rows":42,"n_cols":13,"rows_kept":42}
["Bib","HeatOrder",null,"Time","Grade","FName","Lname","School","Heat","Heat Place","Overall Place",null,"Return to Schedule of Events"]
[282,"Lap 1","00:00:14.510","00:00:14.510",{"$f":"VLOOKUP($A2,Participants!$A:$E,4,FALSE)","v":7},{"$f":"VLOOKUP($A2,Participants!$A:$E,2,FALSE)","v":"Liam"},{"$f":"VLOOKUP($A2,Participants!$A:$E,3,FALSE)","v":"Kidwell"},{"$f":"VLOOKUP($A2,Participants!$A:$E,5,FALSE)","v":"St. Barnabas"},1,{"$f":"RANK(D2,IF(I2=1,$D$2:$D$7,),1)","v":1},{"$f":"RANK(D2,$D$2:$D$100,1)","v":4}]
[179,"Lap 2","00:00:00.150","00:00:14.660",{"$f":"VLOOKUP($A3,Participants!$A:$E,4,FALSE)","v":7},{"$f":"VLOOKUP($A3,Participants!$A:$E,2,FALSE)","v":"Cole"},{"$f":"VLOOKUP($A3,Participants!$A:$E,3,FALSE)","v":"Huff"},{"$f":"VLOOKUP($A3,Participants!$A:$E,5,FALSE)","v":"SSFC"},1,2,{"$f":"RANK(D3,$D$2:$D$100,1)","v":6},null,"Add or Update Participants"]
[58,"Lap 3","00:00:00.160","00:00:14.820",{"$f":"VLOOKUP($A4,Participants!$A:$E,4,FALSE)","v":8},{"$f":"VLOOKUP($A4,Participants!$A:$E,2,FALSE)","v":"Jacob"},{"$f":"VLOOKUP($A4,Participants!$A:$E,3,FALSE)","v":"Johnson"},{"$f":"VLOOKUP($A4,Participants!$A:$E,5,FALSE)","v":"St Jude"},1,3,7,null,"Overall Place and Points"]
[78,"Lap 4","00:00:00.290","00:00:15.120",{"$f":"VLOOKUP($A5,Participants!$A:$E,4,FALSE)","v":7},{"$f":"VLOOKUP($A5,Participants!$A:$E,2,FALSE)","v":"Alex"},{"$f":"VLOOKUP($A5,Participants!$A:$E,3,FALSE)","v":"Maled"},{"$f":"VLOOKUP($A5,Participants!$A:$E,5,FALSE)","v":"St Jude"},1,4,8]
[274,"Lap 5","00:00:00.160","00:00:15.290",{"$f":"VLOOKUP($A6,Participants!$A:$E,4,FALSE)","v":7},{"$f":"VLOOKUP($A6,Participants!$A:$E,2,FALSE)","v":"Brady"},{"$f":"VLOOKUP($A6,Participants!$A:$E,3,FALSE)","v":"Beaupre"},{"$f":"VLOOKUP($A6,Participants!$A:$E,5,FALSE)","v":"St. Barnabas"},1,5,9]
[246,"Lap 6","00:00:00.610","00:00:15.900",{"$f":"VLOOKUP($A7,Participants!$A:$E,4,FALSE)","v":8},{"$f":"VLOOKUP($A7,Participants!$A:$E,2,FALSE)","v":"Nicholas"},{"$f":"VLOOKUP($A7,Participants!$A:$E,3,FALSE)","v":"Martin"},{"$f":"VLOOKUP($A7,Participants!$A:$E,5,FALSE)","v":"United We Run"},1,6,12]
[]
[53,"Lap 1","00:00:13.570","00:00:13.570",{"$f":"VLOOKUP($A9,Participants!$A:$E,4,FALSE)","v":8},{"$f":"VLOOKUP($A9,Participants!$A:$E,2,FALSE)","v":"Robert"},{"$f":"VLOOKUP($A9,Participants!$A:$E,3,FALSE)","v":"Houser"},{"$f":"VLOOKUP($A9,Participants!$A:$E,5,FALSE)","v":"St Jude"},2,{"$f":"RANK(D9,IF(I9=2,$D$9:$D$14,),1)","v":1},1]
[81,"Lap 2","00:00:00.640","00:00:14.210",{"$f":"VLOOKUP($A10,Participants!$A:$E,4,FALSE)","v":8},{"$f":"VLOOKUP($A10,Participants!$A:$E,2,FALSE)","v":"Anthony "},{"$f":"VLOOKUP($A10,Participants!$A:$E,3,FALSE)","v":"Marino"},{"$f":"VLOOKUP($A10,Participants!$A:$E,5,FALSE)","v":"St Jude"},2,2,2]
[43,"Lap 3","00:00:00.150","00:00:14.370",{"$f":"VLOOKUP($A11,Participants!$A:$E,4,FALSE)","v":8},{"$f":"VLOOKUP($A11,Participants!$A:$E,2,FALSE)","v":"Eli"},{"$f":"VLOOKUP($A11,Participants!$A:$E,3,FALSE)","v":"Goers"},{"$f":"VLOOKUP($A11,Participants!$A:$E,5,FALSE)","v":"St Jude"},2,3,3]
[117,"Lap 4","00:00:01","00:00:15.370",{"$f":"VLOOKUP($A12,Participants!$A:$E,4,FALSE)","v":7},{"$f":"VLOOKUP($A12,Participants!$A:$E,2,FALSE)","v":"Darrian"},{"$f":"VLOOKUP($A12,Participants!$A:$E,3,FALSE)","v":"Schoettle"},{"$f":"VLOOKUP($A12,Participants!$A:$E,5,FALSE)","v":"St Jude"},2,4,10]
[183,"Lap 5","00:00:01.290","00:00:16.660",{"$f":"VLOOKUP($A13,Participants!$A:$E,4,FALSE)","v":7},{"$f":"VLOOKUP($A13,Participants!$A:$E,2,FALSE)","v":"Logan"},{"$f":"VLOOKUP($A13,Participants!$A:$E,3,FALSE)","v":"Linder"},{"$f":"VLOOKUP($A13,Participants!$A:$E,5,FALSE)","v":"SSFC"},2,5,14]
[{"$nulls":4},{"$f":"VLOOKUP($A14,Participants!$A:$E,4,FALSE)","v":{"$error":"#N/A"}},{"$f":"VLOOKUP($A14,Participants!$A:$E,2,FALSE)","v":{"$error":"#N/A"}},{"$f":"VLOOKUP($A14,Participants!$A:$E,3,FALSE)","v":{"$error":"#N/A"}},{"$f":"VLOOKUP($A14,Participants!$A:$E,5,FALSE)","v":{"$error":"#N/A"}},2,{"$error":"#N/A"},{"$error":"#N/A"}]
[]
[130,"Lap 1","00:00:14.590","00:00:14.590",{"$f":"VLOOKUP($A16,Participants!$A:$E,4,FALSE)","v":8},{"$f":"VLOOKUP($A16,Participants!$A:$E,2,FALSE)","v":"Patrick"},{"$f":"VLOOKUP($A16,Participants!$A:$E,3,FALSE)","v":"Tiernan"},{"$f":"VLOOKUP($A16,Participants!$A:$E,5,FALSE)","v":"St Jude"},3,{"$f":"RANK(D16,IF(I16=3,$D$16:$D$21,),1)","v":1},5]
[115,"Lap 2","00:00:01.190","00:00:15.790",{"$f":"VLOOKUP($A17,Participants!$A:$E,4,FALSE)","v":8},{"$f":"VLOOKUP($A17,Participants!$A:$E,2,FALSE)","v":"Peyton"},{"$f":"VLOOKUP($A17,Participants!$A:$E,3,FALSE)","v":"Schnitzmeyer"},{"$f":"VLOOKUP($A17,Participants!$A:$E,5,FALSE)","v":"St Jude"},3,2,11]
[84,"Lap 3","00:00:00.280","00:00:16.070",{"$f":"VLOOKUP($A18,Participants!$A:$E,4,FALSE)","v":8},{"$f":"VLOOKUP($A18,Participants!$A:$E,2,FALSE)","v":"Will"},{"$f":"VLOOKUP($A18,Participants!$A:$E,3,FALSE)","v":"May"},{"$f":"VLOOKUP($A18,Participants!$A:$E,5,FALSE)","v":"St Jude"},3,3,13]
[76,"Lap 4","00:00:01.070","00:00:17.140",{"$f":"VLOOKUP($A19,Participants!$A:$E,4,FALSE)","v":8},{"$f":"VLOOKUP($A19,Participants!$A:$E,2,FALSE)","v":"Brayan"},{"$f":"VLOOKUP($A19,Participants!$A:$E,3,FALSE)","v":"Lopez"},{"$f":"VLOOKUP($A19,Participants!$A:$E,5,FALSE)","v":"St Jude"},3,4,15]
[33,"Lap 5","00:00:00.790","00:00:17.940",{"$f":"VLOOKUP($A20,Participants!$A:$E,4,FALSE)","v":8},{"$f":"VLOOKUP($A20,Participants!$A:$E,2,FALSE)","v":"Jaun"},{"$f":"VLOOKUP($A20,Participants!$A:$E,3,FALSE)","v":"Escibedo"},{"$f":"VLOOKUP($A20,Participants!$A:$E,5,FALSE)","v":"St Jude"},3,5,16]
[{"$nulls":4},{"$f":"VLOOKUP($A21,Participants!$A:$E,4,FALSE)","v":{"$error":"#N/A"}},{"$f":"VLOOKUP($A21,Participants!$A:$E,2,FALSE)","v":{"$error":"#N/A"}},{"$f":"VLOOKUP($A21,Participants!$A:$E,3,FALSE)","v":{"$error":"#N/A"}},{"$f":"VLOOKUP($A21,Participants!$A:$E,5,FALSE)","v":{"$error":"#N/A"}},3,{"$error":"#N/A"},{"$error":"#N/A"}]
[]
[{"$nulls":4},{"$f":"VLOOKUP($A23,Participants!$A:$E,4,FALSE)","v":{"$error":"#N/A"}},{"$f":"VLOOKUP($A23,Participants!$A:$E,2,FALSE)","v":{"$error":"#N/A"}},{"$f":"VLOOKUP($A23,Participants!$A:$E,3,FALSE)","v":{"$error":"#N/A"}},{"$f":"VLOOKUP($A23,Participants!$A:$E,5,FALSE)","v":{"$error":"#N/A"}},4,{"$f":"RANK(D23,IF(I23=4,$D$23:$D$28,),1)","v":{"$error":"#N/A"}},{"$error":"#N/A"}]
[{"$nulls":4},{"$f":"VLOOKUP($A24,Participants!$A:$E,4,FALSE)","v":{"$error":"#N/A"}},{"$f":"VLOOKUP($A24,Participants!$A:$E,2,FALSE)","v":{"$error":"#N/A"}},{"$f":"VLOOKUP($A24,Participants!$A:$E,3,FALSE)","v":{"$error":"#N/A"}},{"$f":"VLOOKUP($A24,Participants!$A:$E,5,FALSE)","v":{"$error":"#N/A"}},4,{"$error":"#N/A"},{"$error":"#N/A"}]
[{"$nulls":4},{"$f":"VLOOKUP($A25,Participants!$A:$E,4,FALSE)","v":{"$error":"#N/A"}},{"$f":"VLOOKUP($A25,Participants!$A:$E,2,FALSE)","v":{"$error":"#N/A"}},{"$f":"VLOOKUP($A25,Participants!$A:$E,3,FALSE)","v":{"$error":"#N/A"}},{"$f":"VLOOKUP($A25,Participants!$A:$E,5,FALSE)","v":{"$error":"#N/A"}},4,{"$error":"#N/A"},{"$error":"#N/A"}]
[{"$nulls":4},{"$f":"VLOOKUP($A26,Participants!$A:$E,4,FALSE)","v":{"$error":"#N/A"}},{"$f":"VLOOKUP($A26,Participants!$A:$E,2,FALSE)","v":{"$error":"#N/A"}},{"$f":"VLOOKUP($A26,Participants!$A:$E,3,FALSE)","v":{"$error":"#N/A"}},{"$f":"VLOOKUP($A26,Participants!$A:$E,5,FALSE)","v":{"$error":"#N/A"}},4,{"$error":"#N/A"},{"$error":"#N/A"}]
[{"$nulls":4},{"$f":"VLOOKUP($A27,Participants!$A:$E,4,FALSE)","v":{"$error":"#N/A"}},{"$f":"VLOOKUP($A27,Participants!$A:$E,2,FALSE)","v":{"$error":"#N/A"}},{"$f":"VLOOKUP($A27,Participants!$A:$E,3,FALSE)","v":{"$error":"#N/A"}},{"$f":"VLOOKUP($A27,Participants!$A:$E,5,FALSE)","v":{"$error":"#N/A"}},4,{"$error":"#N/A"},{"$error":"#N/A"}]
[{"$nulls":4},{"$f":"VLOOKUP($A28,Participants!$A:$E,4,FALSE)","v":{"$error":"#N/A"}},{"$f":"VLOOKUP($A28,Participants!$A:$E,2,FALSE)","v":{"$error":"#N/A"}},{"$f":"VLOOKUP($A28,Participants!$A:$E,3,FALSE)","v":{"$error":"#N/A"}},{"$f":"VLOOKUP($A28,Participants!$A:$E,5,FALSE)","v":{"$error":"#N/A"}},4,{"$error":"#N/A"},{"$error":"#N/A"}]
[]
[{"$nulls":4},{"$f":"VLOOKUP($A30,Participants!$A:$E,4,FALSE)","v":{"$error":"#N/A"}},{"$f":"VLOOKUP($A30,Participants!$A:$E,2,FALSE)","v":{"$error":"#N/A"}},{"$f":"VLOOKUP($A30,Participants!$A:$E,3,FALSE)","v":{"$error":"#N/A"}},{"$f":"VLOOKUP($A30,Participants!$A:$E,5,FALSE)","v":{"$error":"#N/A"}},5,{"$f":"RANK(D30,IF(I30=5,$D$30:$D$35,),1)","v":{"$error":"#N/A"}},{"$error":"#N/A"}]
[{"$nulls":4},{"$f":"VLOOKUP($A31,Participants!$A:$E,4,FALSE)","v":{"$error":"#N/A"}},{"$f":"VLOOKUP($A31,Participants!$A:$E,2,FALSE)","v":{"$error":"#N/A"}},{"$f":"VLOOKUP($A31,Participants!$A:$E,3,FALSE)","v":{"$error":"#N/A"}},{"$f":"VLOOKUP($A31,Participants!$A:$E,5,FALSE)","v":{"$error":"#N/A"}},5,{"$f":"RANK(D31,IF(I31=5,$D$30:$D$35,),1)","v":{"$error":"#N/A"}},{"$error":"#N/A"}]
[{"$nulls":4},{"$f":"VLOOKUP($A32,Participants!$A:$E,4,FALSE)","v":{"$error":"#N/A"}},{"$f":"VLOOKUP($A32,Participants!$A:$E,2,FALSE)","v":{"$error":"#N/A"}},{"$f":"VLOOKUP($A32,Participants!$A:$E,3,FALSE)","v":{"$error":"#N/A"}},{"$f":"VLOOKUP($A32,Participants!$A:$E,5,FALSE)","v":{"$error":"#N/A"}},5,{"$error":"#N/A"},{"$error":"#N/A"}]
[{"$nulls":4},{"$f":"VLOOKUP($A33,Participants!$A:$E,4,FALSE)","v":{"$error":"#N/A"}},{"$f":"VLOOKUP($A33,Participants!$A:$E,2,FALSE)","v":{"$error":"#N/A"}},{"$f":"VLOOKUP($A33,Participants!$A:$E,3,FALSE)","v":{"$error":"#N/A"}},{"$f":"VLOOKUP($A33,Participants!$A:$E,5,FALSE)","v":{"$error":"#N/A"}},5,{"$error":"#N/A"},{"$error":"#N/A"}]
[{"$nulls":4},{"$f":"VLOOKUP($A34,Participants!$A:$E,4,FALSE)","v":{"$error":"#N/A"}},{"$f":"VLOOKUP($A34,Participants!$A:$E,2,FALSE)","v":{"$error":"#N/A"}},{"$f":"VLOOKUP($A34,Participants!$A:$E,3,FALSE)","v":{"$error":"#N/A"}},{"$f":"VLOOKUP($A34,Participants!$A:$E,5,FALSE)","v":{"$error":"#N/A"}},5,{"$error":"#N/A"},{"$error":"#N/A"}]
[{"$nulls":4},{"$f":"VLOOKUP($A35,Participants!$A:$E,4,FALSE)","v":{"$error":"#N/A"}},{"$f":"VLOOKUP($A35,Participants!$A:$E,2,FALSE)","v":{"$error":"#N/A"}},{"$f":"VLOOKUP($A35,Participants!$A:$E,3,FALSE)","v":{"$error":"#N/A"}},{"$f":"VLOOKUP($A35,Participants!$A:$E,5,FALSE)","v":{"$error":"#N/A"}},5,{"$error":"#N/A"},{"$error":"#N/A"}]
[]
[{"$nulls":4},{"$f":"VLOOKUP($A37,Participants!$A:$E,4,FALSE)","v":{"$error":"#N/A"}},{"$f":"VLOOKUP($A37,Participants!$A:$E,2,FALSE)","v":{"$error":"#N/A"}},{"$f":"VLOOKUP($A37,Participants!$A:$E,3,FALSE)","v":{"$error":"#N/A"}},{"$f":"VLOOKUP($A37,Participants!$A:$E,5,FALSE)","v":{"$error":"#N/A"}},6,{"$f":"RANK(D37,IF(I37=6,$D$37:$D$42,),1)","v":{"$error":"#N/A"}},{"$error":"#N/A"}]
[{"$nulls":4},{"$f":"VLOOKUP($A38,Participants!$A:$E,4,FALSE)","v":{"$error":"#N/A"}},{"$f":"VLOOKUP($A38,Participants!$A:$E,2,FALSE)","v":{"$error":"#N/A"}},{"$f":"VLOOKUP($A38,Participants!$A:$E,3,FALSE)","v":{"$error":"#N/A"}},{"$f":"VLOOKUP($A38,Participants!$A:$E,5,FALSE)","v":{"$error":"#N/A"}},6,{"$f":"RANK(D38,IF(I38=6,$D$37:$D$42,),1)","v":{"$error":"#N/A"}},{"$error":"#N/A"}]
[{"$nulls":4},{"$f":"VLOOKUP($A39,Participants!$A:$E,4,FALSE)","v":{"$error":"#N/A"}},{"$f":"VLOOKUP($A39,Participants!$A:$E,2,FALSE)","v":{"$error":"#N/A"}},{"$f":"VLOOKUP($A39,Participants!$A:$E,3,FALSE)","v":{"$error":"#N/A"}},{"$f":"VLOOKUP($A39,Participants!$A:$E,5,FALSE)","v":{"$error":"#N/A"}},6,{"$error":"#N/A"},{"$error":"#N/A"}]
[{"$nulls":4},{"$f":"VLOOKUP($A40,Participants!$A:$E,4,FALSE)","v":{"$error":"#N/A"}},{"$f":"VLOOKUP($A40,Participants!$A:$E,2,FALSE)","v":{"$error":"#N/A"}},{"$f":"VLOOKUP($A40,Participants!$A:$E,3,FALSE)","v":{"$error":"#N/A"}},{"$f":"VLOOKUP($A40,Participants!$A:$E,5,FALSE)","v":{"$error":"#N/A"}},6,{"$error":"#N/A"},{"$error":"#N/A"}]
[{"$nulls":4},{"$f":"VLOOKUP($A41,Participants!$A:$E,4,FALSE)","v":{"$error":"#N/A"}},{"$f":"VLOOKUP($A41,Participants!$A:$E,2,FALSE)","v":{"$error":"#N/A"}},{"$f":"VLOOKUP($A41,Participants!$A:$E,3,FALSE)","v":{"$error":"#N/A"}},{"$f":"VLOOKUP($A41,Participants!$A:$E,5,FALSE)","v":{"$error":"#N/A"}},6,{"$error":"#N/A"},{"$error":"#N/A"}]
[{"$nulls":4},{"$f":"VLOOKUP($A42,Participants!$A:$E,4,FALSE)","v":{"$error":"#N/A"}},{"$f":"VLOOKUP($A42,Participants!$A:$E,2,FALSE)","v":{"$error":"#N/A"}},{"$f":"VLOOKUP($A42,Participants!$A:$E,3,FALSE)","v":{"$error":"#N/A"}},{"$f":"VLOOKUP($A42,Participants!$A:$E,5,FALSE)","v":{"$error":"#N/A"}},6,{"$error":"#N/A"},{"$error":"#N/A"}]

{"sheet":"Shotput Cadet Boys","index":27,"n_rows":98,"n_cols":13,"rows_kept":98}
["Bib","Best Jump\n\nwill calculate\nautomatically","First Jump\n\nEnter 10 ft 3 3/4 in as 1003.75","Second Jump\n\nEnter 10 ft 3 3/4 in as 1003.75","Third Jump\n\nEnter 10 ft 3 3/4 in as 1003.75","Grade","FName","Lname","School","Overall Place",null,null,"Return to Schedule of Events"]
[282,{"$f":"MAX(C2:E2)","v":2709.25},2709.25,null,null,{"$f":"VLOOKUP($A2,Participants!$A:$E,4,FALSE)","v":7},{"$f":"VLOOKUP($A2,Participants!$A:$E,2,FALSE)","v":"Liam"},{"$f":"VLOOKUP($A2,Participants!$A:$E,3,FALSE)","v":"Kidwell"},{"$f":"VLOOKUP($A2,Participants!$A:$E,5,FALSE)","v":"St. Barnabas"},{"$f":"RANK(B2,$B$1:$B$97,0)","v":3}]
[274,{"$f":"MAX(C3:E3)","v":2001},2001,null,null,{"$f":"VLOOKUP($A3,Participants!$A:$E,4,FALSE)","v":7},{"$f":"VLOOKUP($A3,Participants!$A:$E,2,FALSE)","v":"Brady"},{"$f":"VLOOKUP($A3,Participants!$A:$E,3,FALSE)","v":"Beaupre"},{"$f":"VLOOKUP($A3,Participants!$A:$E,5,FALSE)","v":"St. Barnabas"},{"$f":"RANK(B3,$B$1:$B$97,0)","v":5},null,null,"Add or Update Participants"]
[183,2205.25,2205.25,null,null,{"$f":"VLOOKUP($A4,Participants!$A:$E,4,FALSE)","v":7},{"$f":"VLOOKUP($A4,Participants!$A:$E,2,FALSE)","v":"Logan"},{"$f":"VLOOKUP($A4,Participants!$A:$E,3,FALSE)","v":"Linder"},{"$f":"VLOOKUP($A4,Participants!$A:$E,5,FALSE)","v":"SSFC"},4,null,null,"Overall Place and Points"]
[203,1910.5,1910.5,null,null,{"$f":"VLOOKUP($A5,Participants!$A:$E,4,FALSE)","v":7},{"$f":"VLOOKUP($A5,Participants!$A:$E,2,FALSE)","v":"Elijah"},{"$f":"VLOOKUP($A5,Participants!$A:$E,3,FALSE)","v":"Timberlake"},{"$f":"VLOOKUP($A5,Participants!$A:$E,5,FALSE)","v":"SSFC"},6]
[53,3101,3101,null,null,{"$f":"VLOOKUP($A6,Participants!$A:$E,4,FALSE)","v":8},{"$f":"VLOOKUP($A6,Participants!$A:$E,2,FALSE)","v":"Robert"},{"$f":"VLOOKUP($A6,Participants!$A:$E,3,FALSE)","v":"Houser"},{"$f":"VLOOKUP($A6,Participants!$A:$E,5,FALSE)","v":"St Jude"},1]
[81,3007,3007,null,null,{"$f":"VLOOKUP($A7,Participants!$A:$E,4,FALSE)","v":8},{"$f":"VLOOKUP($A7,Participants!$A:$E,2,FALSE)","v":"Anthony "},{"$f":"VLOOKUP($A7,Participants!$A:$E,3,FALSE)","v":"Marino"},{"$f":"VLOOKUP($A7,Participants!$A:$E,5,FALSE)","v":"St Jude"},2]
[null,0,{"$nulls":3},{"$f":"VLOOKUP($A8,Participants!$A:$E,4,FALSE)","v":{"$error":"#N/A"}},{"$f":"VLOOKUP($A8,Participants!$A:$E,2,FALSE)","v":{"$error":"#N/A"}},{"$f":"VLOOKUP($A8,Participants!$A:$E,3,FALSE)","v":{"$error":"#N/A"}},{"$f":"VLOOKUP($A8,Participants!$A:$E,5,FALSE)","v":{"$error":"#N/A"}},7]
[null,0,{"$nulls":3},{"$f":"VLOOKUP($A9,Participants!$A:$E,4,FALSE)","v":{"$error":"#N/A"}},{"$f":"VLOOKUP($A9,Participants!$A:$E,2,FALSE)","v":{"$error":"#N/A"}},{"$f":"VLOOKUP($A9,Participants!$A:$E,3,FALSE)","v":{"$error":"#N/A"}},{"$f":"VLOOKUP($A9,Participants!$A:$E,5,FALSE)","v":{"$error":"#N/A"}},7]
[null,0,{"$nulls":3},{"$f":"VLOOKUP($A10,Participants!$A:$E,4,FALSE)","v":{"$error":"#N/A"}},{"$f":"VLOOKUP($A10,Participants!$A:$E,2,FALSE)","v":{"$error":"#N/A"}},{"$f":"VLOOKUP($A10,Participants!$A:$E,3,FALSE)","v":{"$error":"#N/A"}},{"$f":"VLOOKUP($A10,Participants!$A:$E,5,FALSE)","v":{"$error":"#N/A"}},7]
[null,0,{"$nulls":3},{"$f":"VLOOKUP($A11,Participants!$A:$E,4,FALSE)","v":{"$error":"#N/A"}},{"$f":"VLOOKUP($A11,Participants!$A:$E,2,FALSE)","v":{"$error":"#N/A"}},{"$f":"VLOOKUP($A11,Participants!$A:$E,3,FALSE)","v":{"$error":"#N/A"}},{"$f":"VLOOKUP($A11,Participants!$A:$E,5,FALSE)","v":{"$error":"#N/A"}},7]
[null,0,{"$nulls":3},{"$f":"VLOOKUP($A12,Participants!$A:$E,4,FALSE)","v":{"$error":"#N/A"}},{"$f":"VLOOKUP($A12,Participants!$A:$E,2,FALSE)","v":{"$error":"#N/A"}},{"$f":"VLOOKUP($A12,Participants!$A:$E,3,FALSE)","v":{"$error":"#N/A"}},{"$f":"VLOOKUP($A12,Participants!$A:$E,5,FALSE)","v":{"$error":"#N/A"}},7]
[null,0,{"$nulls":3},{"$f":"VLOOKUP($A13,Participants!$A:$E,4,FALSE)","v":{"$error":"#N/A"}},{"$f":"VLOOKUP($A13,Participants!$A:$E,2,FALSE)","v":{"$error":"#N/A"}},{"$f":"VLOOKUP($A13,Participants!$A:$E,3,FALSE)","v":{"$error":"#N/A"}},{"$f":"VLOOKUP($A13,Participants!$A:$E,5,FALSE)","v":{"$error":"#N/A"}},7]
[null,0,{"$nulls":3},{"$f":"VLOOKUP($A14,Participants!$A:$E,4,FALSE)","v":{"$error":"#N/A"}},{"$f":"VLOOKUP($A14,Participants!$A:$E,2,FALSE)","v":{"$error":"#N/A"}},{"$f":"VLOOKUP($A14,Participants!$A:$E,3,FALSE)","v":{"$error":"#N/A"}},{"$f":"VLOOKUP($A14,Participants!$A:$E,5,FALSE)","v":{"$error":"#N/A"}},7]
[null,0,{"$nulls":3},{"$f":"VLOOKUP($A15,Participants!$A:$E,4,FALSE)","v":{"$error":"#N/A"}},{"$f":"VLOOKUP($A15,Participants!$A:$E,2,FALSE)","v":{"$error":"#N/A"}},{"$f":"VLOOKUP($A15,Participants!$A:$E,3,FALSE)","v":{"$error":"#N/A"}},{"$f":"VLOOKUP($A15,Participants!$A:$E,5,FALSE)","v":{"$error":"#N/A"}},7]
[null,0,{"$nulls":3},{"$f":"VLOOKUP($A16,Participants!$A:$E,4,FALSE)","v":{"$error":"#N/A"}},{"$f":"VLOOKUP($A16,Participants!$A:$E,2,FALSE)","v":{"$error":"#N/A"}},{"$f":"VLOOKUP($A16,Participants!$A:$E,3,FALSE)","v":{"$error":"#N/A"}},{"$f":"VLOOKUP($A16,Participants!$A:$E,5,FALSE)","v":{"$error":"#N/A"}},7]
[null,0,{"$nulls":3},{"$f":"VLOOKUP($A17,Participants!$A:$E,4,FALSE)","v":{"$error":"#N/A"}},{"$f":"VLOOKUP($A17,Participants!$A:$E,2,FALSE)","v":{"$error":"#N/A"}},{"$f":"VLOOKUP($A17,Participants!$A:$E,3,FALSE)","v":{"$error":"#N/A"}},{"$f":"VLOOKUP($A17,Participants!$A:$E,5,FALSE)","v":{"$error":"#N/A"}},7]
[null,0,{"$nulls":3},{"$f":"VLOOKUP($A18,Participants!$A:$E,4,FALSE)","v":{"$error":"#N/A"}},{"$f":"VLOOKUP($A18,Participants!$A:$E,2,FALSE)","v":{"$error":"#N/A"}},{"$f":"VLOOKUP($A18,Participants!$A:$E,3,FALSE)","v":{"$error":"#N/A"}},{"$f":"VLOOKUP($A18,Participants!$A:$E,5,FALSE)","v":{"$error":"#N/A"}},7]
[null,0,{"$nulls":3},{"$f":"VLOOKUP($A19,Participants!$A:$E,4,FALSE)","v":{"$error":"#N/A"}},{"$f":"VLOOKUP($A19,Participants!$A:$E,2,FALSE)","v":{"$error":"#N/A"}},{"$f":"VLOOKUP($A19,Participants!$A:$E,3,FALSE)","v":{"$error":"#N/A"}},{"$f":"VLOOKUP($A19,Participants!$A:$E,5,FALSE)","v":{"$error":"#N/A"}},7]
[null,0,{"$nulls":3},{"$f":"VLOOKUP($A20,Participants!$A:$E,4,FALSE)","v":{"$error":"#N/A"}},{"$f":"VLOOKUP($A20,Participants!$A:$E,2,FALSE)","v":{"$error":"#N/A"}},{"$f":"VLOOKUP($A20,Participants!$A:$E,3,FALSE)","v":{"$error":"#N/A"}},{"$f":"VLOOKUP($A20,Participants!$A:$E,5,FALSE)","v":{"$error":"#N/A"}},7]
[null,0,{"$nulls":3},{"$f":"VLOOKUP($A21,Participants!$A:$E,4,FALSE)","v":{"$error":"#N/A"}},{"$f":"VLOOKUP($A21,Participants!$A:$E,2,FALSE)","v":{"$error":"#N/A"}},{"$f":"VLOOKUP($A21,Participants!$A:$E,3,FALSE)","v":{"$error":"#N/A"}},{"$f":"VLOOKUP($A21,Participants!$A:$E,5,FALSE)","v":{"$error":"#N/A"}},7]
[null,0,{"$nulls":3},{"$f":"VLOOKUP($A22,Participants!$A:$E,4,FALSE)","v":{"$error":"#N/A"}},{"$f":"VLOOKUP($A22,Participants!$A:$E,2,FALSE)","v":{"$error":"#N/A"}},{"$f":"VLOOKUP($A22,Participants!$A:$E,3,FALSE)","v":{"$error":"#N/A"}},{"$f":"VLOOKUP($A22,Participants!$A:$E,5,FALSE)","v":{"$error":"#N/A"}},7]
[null,0,{"$nulls":3},{"$f":"VLOOKUP($A23,Participants!$A:$E,4,FALSE)","v":{"$error":"#N/A"}},{"$f":"VLOOKUP($A23,Participants!$A:$E,2,FALSE)","v":{"$error":"#N/A"}},{"$f":"VLOOKUP($A23,Participants!$A:$E,3,FALSE)","v":{"$error":"#N/A"}},{"$f":"VLOOKUP($A23,Participants!$A:$E,5,FALSE)","v":{"$error":"#N/A"}},7]
[null,0,{"$nulls":3},{"$f":"VLOOKUP($A24,Participants!$A:$E,4,FALSE)","v":{"$error":"#N/A"}},{"$f":"VLOOKUP($A24,Participants!$A:$E,2,FALSE)","v":{"$error":"#N/A"}},{"$f":"VLOOKUP($A24,Participants!$A:$E,3,FALSE)","v":{"$error":"#N/A"}},{"$f":"VLOOKUP($A24,Participants!$A:$E,5,FALSE)","v":{"$error":"#N/A"}},7]
[null,0,{"$nulls":3},{"$f":"VLOOKUP($A25,Participants!$A:$E,4,FALSE)","v":{"$error":"#N/A"}},{"$f":"VLOOKUP($A25,Participants!$A:$E,2,FALSE)","v":{"$error":"#N/A"}},{"$f":"VLOOKUP($A25,Participants!$A:$E,3,FALSE)","v":{"$error":"#N/A"}},{"$f":"VLOOKUP($A25,Participants!$A:$E,5,FALSE)","v":{"$error":"#N/A"}},7]
[null,0,{"$nulls":3},{"$f":"VLOOKUP($A26,Participants!$A:$E,4,FALSE)","v":{"$error":"#N/A"}},{"$f":"VLOOKUP($A26,Participants!$A:$E,2,FALSE)","v":{"$error":"#N/A"}},{"$f":"VLOOKUP($A26,Participants!$A:$E,3,FALSE)","v":{"$error":"#N/A"}},{"$f":"VLOOKUP($A26,Participants!$A:$E,5,FALSE)","v":{"$error":"#N/A"}},7]
[null,0,{"$nulls":3},{"$f":"VLOOKUP($A27,Participants!$A:$E,4,FALSE)","v":{"$error":"#N/A"}},{"$f":"VLOOKUP($A27,Participants!$A:$E,2,FALSE)","v":{"$error":"#N/A"}},{"$f":"VLOOKUP($A27,Participants!$A:$E,3,FALSE)","v":{"$error":"#N/A"}},{"$f":"VLOOKUP($A27,Participants!$A:$E,5,FALSE)","v":{"$error":"#N/A"}},7]
[null,0,{"$nulls":3},{"$f":"VLOOKUP($A28,Participants!$A:$E,4,FALSE)","v":{"$error":"#N/A"}},{"$f":"VLOOKUP($A28,Participants!$A:$E,2,FALSE)","v":{"$error":"#N/A"}},{"$f":"VLOOKUP($A28,Participants!$A:$E,3,FALSE)","v":{"$error":"#N/A"}},{"$f":"VLOOKUP($A28,Participants!$A:$E,5,FALSE)","v":{"$error":"#N/A"}},7]
[null,0,{"$nulls":3},{"$f":"VLOOKUP($A29,Participants!$A:$E,4,FALSE)","v":{"$error":"#N/A"}},{"$f":"VLOOKUP($A29,Participants!$A:$E,2,FALSE)","v":{"$error":"#N/A"}},{"$f":"VLOOKUP($A29,Participants!$A:$E,3,FALSE)","v":{"$error":"#N/A"}},{"$f":"VLOOKUP($A29,Participants!$A:$E,5,FALSE)","v":{"$error":"#N/A"}},7]
[null,0,{"$nulls":3},{"$f":"VLOOKUP($A30,Participants!$A:$E,4,FALSE)","v":{"$error":"#N/A"}},{"$f":"VLOOKUP($A30,Participants!$A:$E,2,FALSE)","v":{"$error":"#N/A"}},{"$f":"VLOOKUP($A30,Participants!$A:$E,3,FALSE)","v":{"$error":"#N/A"}},{"$f":"VLOOKUP($A30,Participants!$A:$E,5,FALSE)","v":{"$error":"#N/A"}},7]
[null,0,{"$nulls":3},{"$f":"VLOOKUP($A31,Participants!$A:$E,4,FALSE)","v":{"$error":"#N/A"}},{"$f":"VLOOKUP($A31,Participants!$A:$E,2,FALSE)","v":{"$error":"#N/A"}},{"$f":"VLOOKUP($A31,Participants!$A:$E,3,FALSE)","v":{"$error":"#N/A"}},{"$f":"VLOOKUP($A31,Participants!$A:$E,5,FALSE)","v":{"$error":"#N/A"}},7]
[null,0,{"$nulls":3},{"$f":"VLOOKUP($A32,Participants!$A:$E,4,FALSE)","v":{"$error":"#N/A"}},{"$f":"VLOOKUP($A32,Participants!$A:$E,2,FALSE)","v":{"$error":"#N/A"}},{"$f":"VLOOKUP($A32,Participants!$A:$E,3,FALSE)","v":{"$error":"#N/A"}},{"$f":"VLOOKUP($A32,Participants!$A:$E,5,FALSE)","v":{"$error":"#N/A"}},7]
[null,0,{"$nulls":3},{"$f":"VLOOKUP($A33,Participants!$A:$E,4,FALSE)","v":{"$error":"#N/A"}},{"$f":"VLOOKUP($A33,Participants!$A:$E,2,FALSE)","v":{"$error":"#N/A"}},{"$f":"VLOOKUP($A33,Participants!$A:$E,3,FALSE)","v":{"$error":"#N/A"}},{"$f":"VLOOKUP($A33,Participants!$A:$E,5,FALSE)","v":{"$error":"#N/A"}},7]
[null,0,{"$nulls":3},{"$f":"VLOOKUP($A34,Participants!$A:$E,4,FALSE)","v":{"$error":"#N/A"}},{"$f":"VLOOKUP($A34,Participants!$A:$E,2,FALSE)","v":{"$error":"#N/A"}},{"$f":"VLOOKUP($A34,Participants!$A:$E,3,FALSE)","v":{"$error":"#N/A"}},{"$f":"VLOOKUP($A34,Participants!$A:$E,5,FALSE)","v":{"$error":"#N/A"}},7]
[null,0,{"$nulls":3},{"$f":"VLOOKUP($A35,Participants!$A:$E,4,FALSE)","v":{"$error":"#N/A"}},{"$f":"VLOOKUP($A35,Participants!$A:$E,2,FALSE)","v":{"$error":"#N/A"}},{"$f":"VLOOKUP($A35,Participants!$A:$E,3,FALSE)","v":{"$error":"#N/A"}},{"$f":"VLOOKUP($A35,Participants!$A:$E,5,FALSE)","v":{"$error":"#N/A"}},7]
[null,0,{"$nulls":3},{"$f":"VLOOKUP($A36,Participants!$A:$E,4,FALSE)","v":{"$error":"#N/A"}},{"$f":"VLOOKUP($A36,Participants!$A:$E,2,FALSE)","v":{"$error":"#N/A"}},{"$f":"VLOOKUP($A36,Participants!$A:$E,3,FALSE)","v":{"$error":"#N/A"}},{"$f":"VLOOKUP($A36,Participants!$A:$E,5,FALSE)","v":{"$error":"#N/A"}},7]
[null,0,{"$nulls":3},{"$f":"VLOOKUP($A37,Participants!$A:$E,4,FALSE)","v":{"$error":"#N/A"}},{"$f":"VLOOKUP($A37,Participants!$A:$E,2,FALSE)","v":{"$error":"#N/A"}},{"$f":"VLOOKUP($A37,Participants!$A:$E,3,FALSE)","v":{"$error":"#N/A"}},{"$f":"VLOOKUP($A37,Participants!$A:$E,5,FALSE)","v":{"$error":"#N/A"}},7]
[null,0,{"$nulls":3},{"$f":"VLOOKUP($A38,Participants!$A:$E,4,FALSE)","v":{"$error":"#N/A"}},{"$f":"VLOOKUP($A38,Participants!$A:$E,2,FALSE)","v":{"$error":"#N/A"}},{"$f":"VLOOKUP($A38,Participants!$A:$E,3,FALSE)","v":{"$error":"#N/A"}},{"$f":"VLOOKUP($A38,Participants!$A:$E,5,FALSE)","v":{"$error":"#N/A"}},7]
[null,0,{"$nulls":3},{"$f":"VLOOKUP($A39,Participants!$A:$E,4,FALSE)","v":{"$error":"#N/A"}},{"$f":"VLOOKUP($A39,Participants!$A:$E,2,FALSE)","v":{"$error":"#N/A"}},{"$f":"VLOOKUP($A39,Participants!$A:$E,3,FALSE)","v":{"$error":"#N/A"}},{"$f":"VLOOKUP($A39,Participants!$A:$E,5,FALSE)","v":{"$error":"#N/A"}},7]
[null,0,{"$nulls":3},{"$f":"VLOOKUP($A40,Participants!$A:$E,4,FALSE)","v":{"$error":"#N/A"}},{"$f":"VLOOKUP($A40,Participants!$A:$E,2,FALSE)","v":{"$error":"#N/A"}},{"$f":"VLOOKUP($A40,Participants!$A:$E,3,FALSE)","v":{"$error":"#N/A"}},{"$f":"VLOOKUP($A40,Participants!$A:$E,5,FALSE)","v":{"$error":"#N/A"}},7]
[null,0,{"$nulls":3},{"$f":"VLOOKUP($A41,Participants!$A:$E,4,FALSE)","v":{"$error":"#N/A"}},{"$f":"VLOOKUP($A41,Participants!$A:$E,2,FALSE)","v":{"$error":"#N/A"}},{"$f":"VLOOKUP($A41,Participants!$A:$E,3,FALSE)","v":{"$error":"#N/A"}},{"$f":"VLOOKUP($A41,Participants!$A:$E,5,FALSE)","v":{"$error":"#N/A"}},7]
[null,0,{"$nulls":3},{"$f":"VLOOKUP($A42,Participants!$A:$E,4,FALSE)","v":{"$error":"#N/A"}},{"$f":"VLOOKUP($A42,Participants!$A:$E,2,FALSE)","v":{"$error":"#N/A"}},{"$f":"VLOOKUP($A42,Participants!$A:$E,3,FALSE)","v":{"$error":"#N/A"}},{"$f":"VLOOKUP($A42,Participants!$A:$E,5,FALSE)","v":{"$error":"#N/A"}},7]
[null,0,{"$nulls":3},{"$f":"VLOOKUP($A43,Participants!$A:$E,4,FALSE)","v":{"$error":"#N/A"}},{"$f":"VLOOKUP($A43,Participants!$A:$E,2,FALSE)","v":{"$error":"#N/A"}},{"$f":"VLOOKUP($A43,Participants!$A:$E,3,FALSE)","v":{"$error":"#N/A"}},{"$f":"VLOOKUP($A43,Participants!$A:$E,5,FALSE)","v":{"$error":"#N/A"}},7]
[null,0,{"$nulls":3},{"$f":"VLOOKUP($A44,Participants!$A:$E,4,FALSE)","v":{"$error":"#N/A"}},{"$f":"VLOOKUP($A44,Participants!$A:$E,2,FALSE)","v":{"$error":"#N/A"}},{"$f":"VLOOKUP($A44,Participants!$A:$E,3,FALSE)","v":{"$error":"#N/A"}},{"$f":"VLOOKUP($A44,Participants!$A:$E,5,FALSE)","v":{"$error":"#N/A"}},7]
[null,0,{"$nulls":3},{"$f":"VLOOKUP($A45,Participants!$A:$E,4,FALSE)","v":{"$error":"#N/A"}},{"$f":"VLOOKUP($A45,Participants!$A:$E,2,FALSE)","v":{"$error":"#N/A"}},{"$f":"VLOOKUP($A45,Participants!$A:$E,3,FALSE)","v":{"$error":"#N/A"}},{"$f":"VLOOKUP($A45,Participants!$A:$E,5,FALSE)","v":{"$error":"#N/A"}},7]
[null,0,{"$nulls":3},{"$f":"VLOOKUP($A46,Participants!$A:$E,4,FALSE)","v":{"$error":"#N/A"}},{"$f":"VLOOKUP($A46,Participants!$A:$E,2,FALSE)","v":{"$error":"#N/A"}},{"$f":"VLOOKUP($A46,Participants!$A:$E,3,FALSE)","v":{"$error":"#N/A"}},{"$f":"VLOOKUP($A46,Participants!$A:$E,5,FALSE)","v":{"$error":"#N/A"}},7]
[null,0,{"$nulls":3},{"$f":"VLOOKUP($A47,Participants!$A:$E,4,FALSE)","v":{"$error":"#N/A"}},{"$f":"VLOOKUP($A47,Participants!$A:$E,2,FALSE)","v":{"$error":"#N/A"}},{"$f":"VLOOKUP($A47,Participants!$A:$E,3,FALSE)","v":{"$error":"#N/A"}},{"$f":"VLOOKUP($A47,Participants!$A:$E,5,FALSE)","v":{"$error":"#N/A"}},7]
[null,0,{"$nulls":3},{"$f":"VLOOKUP($A48,Participants!$A:$E,4,FALSE)","v":{"$error":"#N/A"}},{"$f":"VLOOKUP($A48,Participants!$A:$E,2,FALSE)","v":{"$error":"#N/A"}},{"$f":"VLOOKUP($A48,Participants!$A:$E,3,FALSE)","v":{"$error":"#N/A"}},{"$f":"VLOOKUP($A48,Participants!$A:$E,5,FALSE)","v":{"$error":"#N/A"}},7]
[null,0,{"$nulls":3},{"$f":"VLOOKUP($A49,Participants!$A:$E,4,FALSE)","v":{"$error":"#N/A"}},{"$f":"VLOOKUP($A49,Participants!$A:$E,2,FALSE)","v":{"$error":"#N/A"}},{"$f":"VLOOKUP($A49,Participants!$A:$E,3,FALSE)","v":{"$error":"#N/A"}},{"$f":"VLOOKUP($A49,Participants!$A:$E,5,FALSE)","v":{"$error":"#N/A"}},7]
[null,0,{"$nulls":3},{"$f":"VLOOKUP($A50,Participants!$A:$E,4,FALSE)","v":{"$error":"#N/A"}},{"$f":"VLOOKUP($A50,Participants!$A:$E,2,FALSE)","v":{"$error":"#N/A"}},{"$f":"VLOOKUP($A50,Participants!$A:$E,3,FALSE)","v":{"$error":"#N/A"}},{"$f":"VLOOKUP($A50,Participants!$A:$E,5,FALSE)","v":{"$error":"#N/A"}},7]
[null,0,{"$nulls":3},{"$f":"VLOOKUP($A51,Participants!$A:$E,4,FALSE)","v":{"$error":"#N/A"}},{"$f":"VLOOKUP($A51,Participants!$A:$E,2,FALSE)","v":{"$error":"#N/A"}},{"$f":"VLOOKUP($A51,Participants!$A:$E,3,FALSE)","v":{"$error":"#N/A"}},{"$f":"VLOOKUP($A51,Participants!$A:$E,5,FALSE)","v":{"$error":"#N/A"}},7]
[null,0,{"$nulls":3},{"$f":"VLOOKUP($A52,Participants!$A:$E,4,FALSE)","v":{"$error":"#N/A"}},{"$f":"VLOOKUP($A52,Participants!$A:$E,2,FALSE)","v":{"$error":"#N/A"}},{"$f":"VLOOKUP($A52,Participants!$A:$E,3,FALSE)","v":{"$error":"#N/A"}},{"$f":"VLOOKUP($A52,Participants!$A:$E,5,FALSE)","v":{"$error":"#N/A"}},7]
[null,0,{"$nulls":3},{"$f":"VLOOKUP($A53,Participants!$A:$E,4,FALSE)","v":{"$error":"#N/A"}},{"$f":"VLOOKUP($A53,Participants!$A:$E,2,FALSE)","v":{"$error":"#N/A"}},{"$f":"VLOOKUP($A53,Participants!$A:$E,3,FALSE)","v":{"$error":"#N/A"}},{"$f":"VLOOKUP($A53,Participants!$A:$E,5,FALSE)","v":{"$error":"#N/A"}},7]
[null,0,{"$nulls":3},{"$f":"VLOOKUP($A54,Participants!$A:$E,4,FALSE)","v":{"$error":"#N/A"}},{"$f":"VLOOKUP($A54,Participants!$A:$E,2,FALSE)","v":{"$error":"#N/A"}},{"$f":"VLOOKUP($A54,Participants!$A:$E,3,FALSE)","v":{"$error":"#N/A"}},{"$f":"VLOOKUP($A54,Participants!$A:$E,5,FALSE)","v":{"$error":"#N/A"}},7]
[null,0,{"$nulls":3},{"$f":"VLOOKUP($A55,Participants!$A:$E,4,FALSE)","v":{"$error":"#N/A"}},{"$f":"VLOOKUP($A55,Participants!$A:$E,2,FALSE)","v":{"$error":"#N/A"}},{"$f":"VLOOKUP($A55,Participants!$A:$E,3,FALSE)","v":{"$error":"#N/A"}},{"$f":"VLOOKUP($A55,Participants!$A:$E,5,FALSE)","v":{"$error":"#N/A"}},7]
[null,0,{"$nulls":3},{"$f":"VLOOKUP($A56,Participants!$A:$E,4,FALSE)","v":{"$error":"#N/A"}},{"$f":"VLOOKUP($A56,Participants!$A:$E,2,FALSE)","v":{"$error":"#N/A"}},{"$f":"VLOOKUP($A56,Participants!$A:$E,3,FALSE)","v":{"$error":"#N/A"}},{"$f":"VLOOKUP($A56,Participants!$A:$E,5,FALSE)","v":{"$error":"#N/A"}},7]
[null,0,{"$nulls":3},{"$f":"VLOOKUP($A57,Participants!$A:$E,4,FALSE)","v":{"$error":"#N/A"}},{"$f":"VLOOKUP($A57,Participants!$A:$E,2,FALSE)","v":{"$error":"#N/A"}},{"$f":"VLOOKUP($A57,Participants!$A:$E,3,FALSE)","v":{"$error":"#N/A"}},{"$f":"VLOOKUP($A57,Participants!$A:$E,5,FALSE)","v":{"$error":"#N/A"}},7]
[null,0,{"$nulls":3},{"$f":"VLOOKUP($A58,Participants!$A:$E,4,FALSE)","v":{"$error":"#N/A"}},{"$f":"VLOOKUP($A58,Participants!$A:$E,2,FALSE)","v":{"$error":"#N/A"}},{"$f":"VLOOKUP($A58,Participants!$A:$E,3,FALSE)","v":{"$error":"#N/A"}},{"$f":"VLOOKUP($A58,Participants!$A:$E,5,FALSE)","v":{"$error":"#N/A"}},7]
[null,0,{"$nulls":3},{"$f":"VLOOKUP($A59,Participants!$A:$E,4,FALSE)","v":{"$error":"#N/A"}},{"$f":"VLOOKUP($A59,Participants!$A:$E,2,FALSE)","v":{"$error":"#N/A"}},{"$f":"VLOOKUP($A59,Participants!$A:$E,3,FALSE)","v":{"$error":"#N/A"}},{"$f":"VLOOKUP($A59,Participants!$A:$E,5,FALSE)","v":{"$error":"#N/A"}},7]
[null,0,{"$nulls":3},{"$f":"VLOOKUP($A60,Participants!$A:$E,4,FALSE)","v":{"$error":"#N/A"}},{"$f":"VLOOKUP($A60,Participants!$A:$E,2,FALSE)","v":{"$error":"#N/A"}},{"$f":"VLOOKUP($A60,Participants!$A:$E,3,FALSE)","v":{"$error":"#N/A"}},{"$f":"VLOOKUP($A60,Participants!$A:$E,5,FALSE)","v":{"$error":"#N/A"}},7]
[null,0,{"$nulls":3},{"$f":"VLOOKUP($A61,Participants!$A:$E,4,FALSE)","v":{"$error":"#N/A"}},{"$f":"VLOOKUP($A61,Participants!$A:$E,2,FALSE)","v":{"$error":"#N/A"}},{"$f":"VLOOKUP($A61,Participants!$A:$E,3,FALSE)","v":{"$error":"#N/A"}},{"$f":"VLOOKUP($A61,Participants!$A:$E,5,FALSE)","v":{"$error":"#N/A"}},7]
[null,0,{"$nulls":3},{"$f":"VLOOKUP($A62,Participants!$A:$E,4,FALSE)","v":{"$error":"#N/A"}},{"$f":"VLOOKUP($A62,Participants!$A:$E,2,FALSE)","v":{"$error":"#N/A"}},{"$f":"VLOOKUP($A62,Participants!$A:$E,3,FALSE)","v":{"$error":"#N/A"}},{"$f":"VLOOKUP($A62,Participants!$A:$E,5,FALSE)","v":{"$error":"#N/A"}},7]
[null,0,{"$nulls":3},{"$f":"VLOOKUP($A63,Participants!$A:$E,4,FALSE)","v":{"$error":"#N/A"}},{"$f":"VLOOKUP($A63,Participants!$A:$E,2,FALSE)","v":{"$error":"#N/A"}},{"$f":"VLOOKUP($A63,Participants!$A:$E,3,FALSE)","v":{"$error":"#N/A"}},{"$f":"VLOOKUP($A63,Participants!$A:$E,5,FALSE)","v":{"$error":"#N/A"}},7]
[null,0,{"$nulls":3},{"$f":"VLOOKUP($A64,Participants!$A:$E,4,FALSE)","v":{"$error":"#N/A"}},{"$f":"VLOOKUP($A64,Participants!$A:$E,2,FALSE)","v":{"$error":"#N/A"}},{"$f":"VLOOKUP($A64,Participants!$A:$E,3,FALSE)","v":{"$error":"#N/A"}},{"$f":"VLOOKUP($A64,Participants!$A:$E,5,FALSE)","v":{"$error":"#N/A"}},7]
[null,0,{"$nulls":3},{"$f":"VLOOKUP($A65,Participants!$A:$E,4,FALSE)","v":{"$error":"#N/A"}},{"$f":"VLOOKUP($A65,Participants!$A:$E,2,FALSE)","v":{"$error":"#N/A"}},{"$f":"VLOOKUP($A65,Participants!$A:$E,3,FALSE)","v":{"$error":"#N/A"}},{"$f":"VLOOKUP($A65,Participants!$A:$E,5,FALSE)","v":{"$error":"#N/A"}},7]
[null,0,{"$nulls":3},{"$f":"VLOOKUP($A66,Participants!$A:$E,4,FALSE)","v":{"$error":"#N/A"}},{"$f":"VLOOKUP($A66,Participants!$A:$E,2,FALSE)","v":{"$error":"#N/A"}},{"$f":"VLOOKUP($A66,Participants!$A:$E,3,FALSE)","v":{"$error":"#N/A"}},{"$f":"VLOOKUP($A66,Participants!$A:$E,5,FALSE)","v":{"$error":"#N/A"}},7]
[null,{"$f":"MAX(C67:E67)","v":0},{"$nulls":3},{"$f":"VLOOKUP($A67,Participants!$A:$E,4,FALSE)","v":{"$error":"#N/A"}},{"$f":"VLOOKUP($A67,Participants!$A:$E,2,FALSE)","v":{"$error":"#N/A"}},{"$f":"VLOOKUP($A67,Participants!$A:$E,3,FALSE)","v":{"$error":"#N/A"}},{"$f":"VLOOKUP($A67,Participants!$A:$E,5,FALSE)","v":{"$error":"#N/A"}},{"$f":"RANK(B67,$B$1:$B$97,0)","v":7}]
[null,0,{"$nulls":3},{"$f":"VLOOKUP($A68,Participants!$A:$E,4,FALSE)","v":{"$error":"#N/A"}},{"$f":"VLOOKUP($A68,Participants!$A:$E,2,FALSE)","v":{"$error":"#N/A"}},{"$f":"VLOOKUP($A68,Participants!$A:$E,3,FALSE)","v":{"$error":"#N/A"}},{"$f":"VLOOKUP($A68,Participants!$A:$E,5,FALSE)","v":{"$error":"#N/A"}},7]
[null,0,{"$nulls":3},{"$f":"VLOOKUP($A69,Participants!$A:$E,4,FALSE)","v":{"$error":"#N/A"}},{"$f":"VLOOKUP($A69,Participants!$A:$E,2,FALSE)","v":{"$error":"#N/A"}},{"$f":"VLOOKUP($A69,Participants!$A:$E,3,FALSE)","v":{"$error":"#N/A"}},{"$f":"VLOOKUP($A69,Participants!$A:$E,5,FALSE)","v":{"$error":"#N/A"}},7]
[null,0,{"$nulls":3},{"$f":"VLOOKUP($A70,Participants!$A:$E,4,FALSE)","v":{"$error":"#N/A"}},{"$f":"VLOOKUP($A70,Participants!$A:$E,2,FALSE)","v":{"$error":"#N/A"}},{"$f":"VLOOKUP($A70,Participants!$A:$E,3,FALSE)","v":{"$error":"#N/A"}},{"$f":"VLOOKUP($A70,Participants!$A:$E,5,FALSE)","v":{"$error":"#N/A"}},7]
[null,0,{"$nulls":3},{"$f":"VLOOKUP($A71,Participants!$A:$E,4,FALSE)","v":{"$error":"#N/A"}},{"$f":"VLOOKUP($A71,Participants!$A:$E,2,FALSE)","v":{"$error":"#N/A"}},{"$f":"VLOOKUP($A71,Participants!$A:$E,3,FALSE)","v":{"$error":"#N/A"}},{"$f":"VLOOKUP($A71,Participants!$A:$E,5,FALSE)","v":{"$error":"#N/A"}},7]
[null,0,{"$nulls":3},{"$f":"VLOOKUP($A72,Participants!$A:$E,4,FALSE)","v":{"$error":"#N/A"}},{"$f":"VLOOKUP($A72,Participants!$A:$E,2,FALSE)","v":{"$error":"#N/A"}},{"$f":"VLOOKUP($A72,Participants!$A:$E,3,FALSE)","v":{"$error":"#N/A"}},{"$f":"VLOOKUP($A72,Participants!$A:$E,5,FALSE)","v":{"$error":"#N/A"}},7]
[null,0,{"$nulls":3},{"$f":"VLOOKUP($A73,Participants!$A:$E,4,FALSE)","v":{"$error":"#N/A"}},{"$f":"VLOOKUP($A73,Participants!$A:$E,2,FALSE)","v":{"$error":"#N/A"}},{"$f":"VLOOKUP($A73,Participants!$A:$E,3,FALSE)","v":{"$error":"#N/A"}},{"$f":"VLOOKUP($A73,Participants!$A:$E,5,FALSE)","v":{"$error":"#N/A"}},7]
[null,0,{"$nulls":3},{"$f":"VLOOKUP($A74,Participants!$A:$E,4,FALSE)","v":{"$error":"#N/A"}},{"$f":"VLOOKUP($A74,Participants!$A:$E,2,FALSE)","v":{"$error":"#N/A"}},{"$f":"VLOOKUP($A74,Participants!$A:$E,3,FALSE)","v":{"$error":"#N/A"}},{"$f":"VLOOKUP($A74,Participants!$A:$E,5,FALSE)","v":{"$error":"#N/A"}},7]
[null,0,{"$nulls":3},{"$f":"VLOOKUP($A75,Participants!$A:$E,4,FALSE)","v":{"$error":"#N/A"}},{"$f":"VLOOKUP($A75,Participants!$A:$E,2,FALSE)","v":{"$error":"#N/A"}},{"$f":"VLOOKUP($A75,Participants!$A:$E,3,FALSE)","v":{"$error":"#N/A"}},{"$f":"VLOOKUP($A75,Participants!$A:$E,5,FALSE)","v":{"$error":"#N/A"}},7]
[null,0,{"$nulls":3},{"$f":"VLOOKUP($A76,Participants!$A:$E,4,FALSE)","v":{"$error":"#N/A"}},{"$f":"VLOOKUP($A76,Participants!$A:$E,2,FALSE)","v":{"$error":"#N/A"}},{"$f":"VLOOKUP($A76,Participants!$A:$E,3,FALSE)","v":{"$error":"#N/A"}},{"$f":"VLOOKUP($A76,Participants!$A:$E,5,FALSE)","v":{"$error":"#N/A"}},7]
[null,0,{"$nulls":3},{"$f":"VLOOKUP($A77,Participants!$A:$E,4,FALSE)","v":{"$error":"#N/A"}},{"$f":"VLOOKUP($A77,Participants!$A:$E,2,FALSE)","v":{"$error":"#N/A"}},{"$f":"VLOOKUP($A77,Participants!$A:$E,3,FALSE)","v":{"$error":"#N/A"}},{"$f":"VLOOKUP($A77,Participants!$A:$E,5,FALSE)","v":{"$error":"#N/A"}},7]
[null,0,{"$nulls":3},{"$f":"VLOOKUP($A78,Participants!$A:$E,4,FALSE)","v":{"$error":"#N/A"}},{"$f":"VLOOKUP($A78,Participants!$A:$E,2,FALSE)","v":{"$error":"#N/A"}},{"$f":"VLOOKUP($A78,Participants!$A:$E,3,FALSE)","v":{"$error":"#N/A"}},{"$f":"VLOOKUP($A78,Participants!$A:$E,5,FALSE)","v":{"$error":"#N/A"}},7]
[null,0,{"$nulls":3},{"$f":"VLOOKUP($A79,Participants!$A:$E,4,FALSE)","v":{"$error":"#N/A"}},{"$f":"VLOOKUP($A79,Participants!$A:$E,2,FALSE)","v":{"$error":"#N/A"}},{"$f":"VLOOKUP($A79,Participants!$A:$E,3,FALSE)","v":{"$error":"#N/A"}},{"$f":"VLOOKUP($A79,Participants!$A:$E,5,FALSE)","v":{"$error":"#N/A"}},7]
[null,0,{"$nulls":3},{"$f":"VLOOKUP($A80,Participants!$A:$E,4,FALSE)","v":{"$error":"#N/A"}},{"$f":"VLOOKUP($A80,Participants!$A:$E,2,FALSE)","v":{"$error":"#N/A"}},{"$f":"VLOOKUP($A80,Participants!$A:$E,3,FALSE)","v":{"$error":"#N/A"}},{"$f":"VLOOKUP($A80,Participants!$A:$E,5,FALSE)","v":{"$error":"#N/A"}},7]
[null,0,{"$nulls":3},{"$f":"VLOOKUP($A81,Participants!$A:$E,4,FALSE)","v":{"$error":"#N/A"}},{"$f":"VLOOKUP($A81,Participants!$A:$E,2,FALSE)","v":{"$error":"#N/A"}},{"$f":"VLOOKUP($A81,Participants!$A:$E,3,FALSE)","v":{"$error":"#N/A"}},{"$f":"VLOOKUP($A81,Participants!$A:$E,5,FALSE)","v":{"$error":"#N/A"}},7]
[null,0,{"$nulls":3},{"$f":"VLOOKUP($A82,Participants!$A:$E,4,FALSE)","v":{"$error":"#N/A"}},{"$f":"VLOOKUP($A82,Participants!$A:$E,2,FALSE)","v":{"$error":"#N/A"}},{"$f":"VLOOKUP($A82,Participants!$A:$E,3,FALSE)","v":{"$error":"#N/A"}},{"$f":"VLOOKUP($A82,Participants!$A:$E,5,FALSE)","v":{"$error":"#N/A"}},7]
[null,0,{"$nulls":3},{"$f":"VLOOKUP($A83,Participants!$A:$E,4,FALSE)","v":{"$error":"#N/A"}},{"$f":"VLOOKUP($A83,Participants!$A:$E,2,FALSE)","v":{"$error":"#N/A"}},{"$f":"VLOOKUP($A83,Participants!$A:$E,3,FALSE)","v":{"$error":"#N/A"}},{"$f":"VLOOKUP($A83,Participants!$A:$E,5,FALSE)","v":{"$error":"#N/A"}},7]
[null,0,{"$nulls":3},{"$f":"VLOOKUP($A84,Participants!$A:$E,4,FALSE)","v":{"$error":"#N/A"}},{"$f":"VLOOKUP($A84,Participants!$A:$E,2,FALSE)","v":{"$error":"#N/A"}},{"$f":"VLOOKUP($A84,Participants!$A:$E,3,FALSE)","v":{"$error":"#N/A"}},{"$f":"VLOOKUP($A84,Participants!$A:$E,5,FALSE)","v":{"$error":"#N/A"}},7]
[null,0,{"$nulls":3},{"$f":"VLOOKUP($A85,Participants!$A:$E,4,FALSE)","v":{"$error":"#N/A"}},{"$f":"VLOOKUP($A85,Participants!$A:$E,2,FALSE)","v":{"$error":"#N/A"}},{"$f":"VLOOKUP($A85,Participants!$A:$E,3,FALSE)","v":{"$error":"#N/A"}},{"$f":"VLOOKUP($A85,Participants!$A:$E,5,FALSE)","v":{"$error":"#N/A"}},7]
[null,0,{"$nulls":3},{"$f":"VLOOKUP($A86,Participants!$A:$E,4,FALSE)","v":{"$error":"#N/A"}},{"$f":"VLOOKUP($A86,Participants!$A:$E,2,FALSE)","v":{"$error":"#N/A"}},{"$f":"VLOOKUP($A86,Participants!$A:$E,3,FALSE)","v":{"$error":"#N/A"}},{"$f":"VLOOKUP($A86,Participants!$A:$E,5,FALSE)","v":{"$error":"#N/A"}},7]
[null,0,{"$nulls":3},{"$f":"VLOOKUP($A87,Participants!$A:$E,4,FALSE)","v":{"$error":"#N/A"}},{"$f":"VLOOKUP($A87,Participants!$A:$E,2,FALSE)","v":{"$error":"#N/A"}},{"$f":"VLOOKUP($A87,Participants!$A:$E,3,FALSE)","v":{"$error":"#N/A"}},{"$f":"VLOOKUP($A87,Participants!$A:$E,5,FALSE)","v":{"$error":"#N/A"}},7]
[null,0,{"$nulls":3},{"$f":"VLOOKUP($A88,Participants!$A:$E,4,FALSE)","v":{"$error":"#N/A"}},{"$f":"VLOOKUP($A88,Participants!$A:$E,2,FALSE)","v":{"$error":"#N/A"}},{"$f":"VLOOKUP($A88,Participants!$A:$E,3,FALSE)","v":{"$error":"#N/A"}},{"$f":"VLOOKUP($A88,Participants!$A:$E,5,FALSE)","v":{"$error":"#N/A"}},7]
[null,0,{"$nulls":3},{"$f":"VLOOKUP($A89,Participants!$A:$E,4,FALSE)","v":{"$error":"#N/A"}},{"$f":"VLOOKUP($A89,Participants!$A:$E,2,FALSE)","v":{"$error":"#N/A"}},{"$f":"VLOOKUP($A89,Participants!$A:$E,3,FALSE)","v":{"$error":"#N/A"}},{"$f":"VLOOKUP($A89,Participants!$A:$E,5,FALSE)","v":{"$error":"#N/A"}},7]
[null,0,{"$nulls":3},{"$f":"VLOOKUP($A90,Participants!$A:$E,4,FALSE)","v":{"$error":"#N/A"}},{"$f":"VLOOKUP($A90,Participants!$A:$E,2,FALSE)","v":{"$error":"#N/A"}},{"$f":"VLOOKUP($A90,Participants!$A:$E,3,FALSE)","v":{"$error":"#N/A"}},{"$f":"VLOOKUP($A90,Participants!$A:$E,5,FALSE)","v":{"$error":"#N/A"}},7]
[null,0,{"$nulls":3},{"$f":"VLOOKUP($A91,Participants!$A:$E,4,FALSE)","v":{"$error":"#N/A"}},{"$f":"VLOOKUP($A91,Participants!$A:$E,2,FALSE)","v":{"$error":"#N/A"}},{"$f":"VLOOKUP($A91,Participants!$A:$E,3,FALSE)","v":{"$error":"#N/A"}},{"$f":"VLOOKUP($A91,Participants!$A:$E,5,FALSE)","v":{"$error":"#N/A"}},7]
[null,0,{"$nulls":3},{"$f":"VLOOKUP($A92,Participants!$A:$E,4,FALSE)","v":{"$error":"#N/A"}},{"$f":"VLOOKUP($A92,Participants!$A:$E,2,FALSE)","v":{"$error":"#N/A"}},{"$f":"VLOOKUP($A92,Participants!$A:$E,3,FALSE)","v":{"$error":"#N/A"}},{"$f":"VLOOKUP($A92,Participants!$A:$E,5,FALSE)","v":{"$error":"#N/A"}},7]
[null,0,{"$nulls":3},{"$f":"VLOOKUP($A93,Participants!$A:$E,4,FALSE)","v":{"$error":"#N/A"}},{"$f":"VLOOKUP($A93,Participants!$A:$E,2,FALSE)","v":{"$error":"#N/A"}},{"$f":"VLOOKUP($A93,Participants!$A:$E,3,FALSE)","v":{"$error":"#N/A"}},{"$f":"VLOOKUP($A93,Participants!$A:$E,5,FALSE)","v":{"$error":"#N/A"}},7]
[null,0,{"$nulls":3},{"$f":"VLOOKUP($A94,Participants!$A:$E,4,FALSE)","v":{"$error":"#N/A"}},{"$f":"VLOOKUP($A94,Participants!$A:$E,2,FALSE)","v":{"$error":"#N/A"}},{"$f":"VLOOKUP($A94,Participants!$A:$E,3,FALSE)","v":{"$error":"#N/A"}},{"$f":"VLOOKUP($A94,Participants!$A:$E,5,FALSE)","v":{"$error":"#N/A"}},7]
[null,0,{"$nulls":3},{"$f":"VLOOKUP($A95,Participants!$A:$E,4,FALSE)","v":{"$error":"#N/A"}},{"$f":"VLOOKUP($A95,Participants!$A:$E,2,FALSE)","v":{"$error":"#N/A"}},{"$f":"VLOOKUP($A95,Participants!$A:$E,3,FALSE)","v":{"$error":"#N/A"}},{"$f":"VLOOKUP($A95,Participants!$A:$E,5,FALSE)","v":{"$error":"#N/A"}},7]
[null,0,{"$nulls":3},{"$f":"VLOOKUP($A96,Participants!$A:$E,4,FALSE)","v":{"$error":"#N/A"}},{"$f":"VLOOKUP($A96,Participants!$A:$E,2,FALSE)","v":{"$error":"#N/A"}},{"$f":"VLOOKUP($A96,Participants!$A:$E,3,FALSE)","v":{"$error":"#N/A"}},{"$f":"VLOOKUP($A96,Participants!$A:$E,5,FALSE)","v":{"$error":"#N/A"}},7]
[null,0,{"$nulls":3},{"$f":"VLOOKUP($A97,Participants!$A:$E,4,FALSE)","v":{"$error":"#N/A"}},{"$f":"VLOOKUP($A97,Participants!$A:$E,2,FALSE)","v":{"$error":"#N/A"}},{"$f":"VLOOKUP($A97,Participants!$A:$E,3,FALSE)","v":{"$error":"#N/A"}},{"$f":"VLOOKUP($A97,Participants!$A:$E,5,FALSE)","v":{"$error":"#N/A"}},7]
[null,0,{"$nulls":3},{"$f":"VLOOKUP($A98,Participants!$A:$E,4,FALSE)","v":{"$error":"#N/A"}},{"$f":"VLOOKUP($A98,Participants!$A:$E,2,FALSE)","v":{"$error":"#N/A"}},{"$f":"VLOOKUP($A98,Participants!$A:$E,3,FALSE)","v":{"$error":"#N/A"}},{"$f":"VLOOKUP($A98,Participants!$A:$E,5,FALSE)","v":{"$error":"#N/A"}},7]

{"sheet":"LongJump Cadet Boys","index":28,"n_rows":101,"n_cols":13,"rows_kept":101}
["Bib","Best Jump\n\nwill calculate\nautomatically","First Jump\n\nEnter 10 ft 3 3/4 in as 1003.75","Second Jump\n\nEnter 10 ft 3 3/4 in as 1003.75","Third Jump\n\nEnter 10 ft 3 3/4 in as 1003.75","Grade","FName","Lname","School","Overall Place",null,null,"Return to Schedule of Events"]
[183,{"$f":"MAX(C2:E2)","v":810},807.75,801.25,810,{"$f":"VLOOKUP($A2,Participants!$A:$E,4,FALSE)","v":7},{"$f":"VLOOKUP($A2,Participants!$A:$E,2,FALSE)","v":"Logan"},{"$f":"VLOOKUP($A2,Participants!$A:$E,3,FALSE)","v":"Linder"},{"$f":"VLOOKUP($A2,Participants!$A:$E,5,FALSE)","v":"SSFC"},{"$f":"RANK(B2,$B$1:$B$97,0)","v":8}]
[210,{"$f":"MAX(C3:E3)","v":1005.75},1001,1001,1005.75,{"$f":"VLOOKUP($A3,Participants!$A:$E,4,FALSE)","v":8},{"$f":"VLOOKUP($A3,Participants!$A:$E,2,FALSE)","v":"Sam"},{"$f":"VLOOKUP($A3,Participants!$A:$E,3,FALSE)","v":"Vaught"},{"$f":"VLOOKUP($A3,Participants!$A:$E,5,FALSE)","v":"SSFC"},{"$f":"RANK(B3,$B$1:$B$97,0)","v":6},null,null,"Add or Update Participants"]
[33,1006.75,0,0,1006.75,{"$f":"VLOOKUP($A4,Participants!$A:$E,4,FALSE)","v":8},{"$f":"VLOOKUP($A4,Participants!$A:$E,2,FALSE)","v":"Jaun"},{"$f":"VLOOKUP($A4,Participants!$A:$E,3,FALSE)","v":"Escibedo"},{"$f":"VLOOKUP($A4,Participants!$A:$E,5,FALSE)","v":"St Jude"},5,null,null,"Overall Place and Points"]
[312,901.75,901.75,809.75,0,{"$f":"VLOOKUP($A5,Participants!$A:$E,4,FALSE)","v":7},{"$f":"VLOOKUP($A5,Participants!$A:$E,2,FALSE)","v":"Andrew"},{"$f":"VLOOKUP($A5,Participants!$A:$E,3,FALSE)","v":"Woodruff"},{"$f":"VLOOKUP($A5,Participants!$A:$E,5,FALSE)","v":"St. Barnabas"},7]
[143,1110.75,1100.75,1103,1110.75,{"$f":"VLOOKUP($A6,Participants!$A:$E,4,FALSE)","v":8},{"$f":"VLOOKUP($A6,Participants!$A:$E,2,FALSE)","v":"Nick"},{"$f":"VLOOKUP($A6,Participants!$A:$E,3,FALSE)","v":"Jackson"},{"$f":"VLOOKUP($A6,Participants!$A:$E,5,FALSE)","v":"OLG"},4]
[43,1300,1300,1204.5,1200,{"$f":"VLOOKUP($A7,Participants!$A:$E,4,FALSE)","v":8},{"$f":"VLOOKUP($A7,Participants!$A:$E,2,FALSE)","v":"Eli"},{"$f":"VLOOKUP($A7,Participants!$A:$E,3,FALSE)","v":"Goers"},{"$f":"VLOOKUP($A7,Participants!$A:$E,5,FALSE)","v":"St Jude"},3]
[58,1306.75,1301.5,1306.75,1306.5,{"$f":"VLOOKUP($A8,Participants!$A:$E,4,FALSE)","v":8},{"$f":"VLOOKUP($A8,Participants!$A:$E,2,FALSE)","v":"Jacob"},{"$f":"VLOOKUP($A8,Participants!$A:$E,3,FALSE)","v":"Johnson"},{"$f":"VLOOKUP($A8,Participants!$A:$E,5,FALSE)","v":"St Jude"},2]
[53,1402.75,1300,1402.75,1306,{"$f":"VLOOKUP($A9,Participants!$A:$E,4,FALSE)","v":8},{"$f":"VLOOKUP($A9,Participants!$A:$E,2,FALSE)","v":"Robert"},{"$f":"VLOOKUP($A9,Participants!$A:$E,3,FALSE)","v":"Houser"},{"$f":"VLOOKUP($A9,Participants!$A:$E,5,FALSE)","v":"St Jude"},1]
[null,0,{"$nulls":3},{"$f":"VLOOKUP($A10,Participants!$A:$E,4,FALSE)","v":{"$error":"#N/A"}},{"$f":"VLOOKUP($A10,Participants!$A:$E,2,FALSE)","v":{"$error":"#N/A"}},{"$f":"VLOOKUP($A10,Participants!$A:$E,3,FALSE)","v":{"$error":"#N/A"}},{"$f":"VLOOKUP($A10,Participants!$A:$E,5,FALSE)","v":{"$error":"#N/A"}},9]
[null,0,{"$nulls":3},{"$f":"VLOOKUP($A11,Participants!$A:$E,4,FALSE)","v":{"$error":"#N/A"}},{"$f":"VLOOKUP($A11,Participants!$A:$E,2,FALSE)","v":{"$error":"#N/A"}},{"$f":"VLOOKUP($A11,Participants!$A:$E,3,FALSE)","v":{"$error":"#N/A"}},{"$f":"VLOOKUP($A11,Participants!$A:$E,5,FALSE)","v":{"$error":"#N/A"}},9]
[null,0,{"$nulls":3},{"$f":"VLOOKUP($A12,Participants!$A:$E,4,FALSE)","v":{"$error":"#N/A"}},{"$f":"VLOOKUP($A12,Participants!$A:$E,2,FALSE)","v":{"$error":"#N/A"}},{"$f":"VLOOKUP($A12,Participants!$A:$E,3,FALSE)","v":{"$error":"#N/A"}},{"$f":"VLOOKUP($A12,Participants!$A:$E,5,FALSE)","v":{"$error":"#N/A"}},9]
[null,0,{"$nulls":3},{"$f":"VLOOKUP($A13,Participants!$A:$E,4,FALSE)","v":{"$error":"#N/A"}},{"$f":"VLOOKUP($A13,Participants!$A:$E,2,FALSE)","v":{"$error":"#N/A"}},{"$f":"VLOOKUP($A13,Participants!$A:$E,3,FALSE)","v":{"$error":"#N/A"}},{"$f":"VLOOKUP($A13,Participants!$A:$E,5,FALSE)","v":{"$error":"#N/A"}},9]
[null,0,{"$nulls":3},{"$f":"VLOOKUP($A14,Participants!$A:$E,4,FALSE)","v":{"$error":"#N/A"}},{"$f":"VLOOKUP($A14,Participants!$A:$E,2,FALSE)","v":{"$error":"#N/A"}},{"$f":"VLOOKUP($A14,Participants!$A:$E,3,FALSE)","v":{"$error":"#N/A"}},{"$f":"VLOOKUP($A14,Participants!$A:$E,5,FALSE)","v":{"$error":"#N/A"}},9]
[null,0,{"$nulls":3},{"$f":"VLOOKUP($A15,Participants!$A:$E,4,FALSE)","v":{"$error":"#N/A"}},{"$f":"VLOOKUP($A15,Participants!$A:$E,2,FALSE)","v":{"$error":"#N/A"}},{"$f":"VLOOKUP($A15,Participants!$A:$E,3,FALSE)","v":{"$error":"#N/A"}},{"$f":"VLOOKUP($A15,Participants!$A:$E,5,FALSE)","v":{"$error":"#N/A"}},9]
[null,0,{"$nulls":3},{"$f":"VLOOKUP($A16,Participants!$A:$E,4,FALSE)","v":{"$error":"#N/A"}},{"$f":"VLOOKUP($A16,Participants!$A:$E,2,FALSE)","v":{"$error":"#N/A"}},{"$f":"VLOOKUP($A16,Participants!$A:$E,3,FALSE)","v":{"$error":"#N/A"}},{"$f":"VLOOKUP($A16,Participants!$A:$E,5,FALSE)","v":{"$error":"#N/A"}},9]
[null,0,{"$nulls":3},{"$f":"VLOOKUP($A17,Participants!$A:$E,4,FALSE)","v":{"$error":"#N/A"}},{"$f":"VLOOKUP($A17,Participants!$A:$E,2,FALSE)","v":{"$error":"#N/A"}},{"$f":"VLOOKUP($A17,Participants!$A:$E,3,FALSE)","v":{"$error":"#N/A"}},{"$f":"VLOOKUP($A17,Participants!$A:$E,5,FALSE)","v":{"$error":"#N/A"}},9]
[null,0,{"$nulls":3},{"$f":"VLOOKUP($A18,Participants!$A:$E,4,FALSE)","v":{"$error":"#N/A"}},{"$f":"VLOOKUP($A18,Participants!$A:$E,2,FALSE)","v":{"$error":"#N/A"}},{"$f":"VLOOKUP($A18,Participants!$A:$E,3,FALSE)","v":{"$error":"#N/A"}},{"$f":"VLOOKUP($A18,Participants!$A:$E,5,FALSE)","v":{"$error":"#N/A"}},9]
[null,0,{"$nulls":3},{"$f":"VLOOKUP($A19,Participants!$A:$E,4,FALSE)","v":{"$error":"#N/A"}},{"$f":"VLOOKUP($A19,Participants!$A:$E,2,FALSE)","v":{"$error":"#N/A"}},{"$f":"VLOOKUP($A19,Participants!$A:$E,3,FALSE)","v":{"$error":"#N/A"}},{"$f":"VLOOKUP($A19,Participants!$A:$E,5,FALSE)","v":{"$error":"#N/A"}},9]
[null,0,{"$nulls":3},{"$f":"VLOOKUP($A20,Participants!$A:$E,4,FALSE)","v":{"$error":"#N/A"}},{"$f":"VLOOKUP($A20,Participants!$A:$E,2,FALSE)","v":{"$error":"#N/A"}},{"$f":"VLOOKUP($A20,Participants!$A:$E,3,FALSE)","v":{"$error":"#N/A"}},{"$f":"VLOOKUP($A20,Participants!$A:$E,5,FALSE)","v":{"$error":"#N/A"}},9]
[null,0,{"$nulls":3},{"$f":"VLOOKUP($A21,Participants!$A:$E,4,FALSE)","v":{"$error":"#N/A"}},{"$f":"VLOOKUP($A21,Participants!$A:$E,2,FALSE)","v":{"$error":"#N/A"}},{"$f":"VLOOKUP($A21,Participants!$A:$E,3,FALSE)","v":{"$error":"#N/A"}},{"$f":"VLOOKUP($A21,Participants!$A:$E,5,FALSE)","v":{"$error":"#N/A"}},9]
[null,0,{"$nulls":3},{"$f":"VLOOKUP($A22,Participants!$A:$E,4,FALSE)","v":{"$error":"#N/A"}},{"$f":"VLOOKUP($A22,Participants!$A:$E,2,FALSE)","v":{"$error":"#N/A"}},{"$f":"VLOOKUP($A22,Participants!$A:$E,3,FALSE)","v":{"$error":"#N/A"}},{"$f":"VLOOKUP($A22,Participants!$A:$E,5,FALSE)","v":{"$error":"#N/A"}},9]
[null,0,{"$nulls":3},{"$f":"VLOOKUP($A23,Participants!$A:$E,4,FALSE)","v":{"$error":"#N/A"}},{"$f":"VLOOKUP($A23,Participants!$A:$E,2,FALSE)","v":{"$error":"#N/A"}},{"$f":"VLOOKUP($A23,Participants!$A:$E,3,FALSE)","v":{"$error":"#N/A"}},{"$f":"VLOOKUP($A23,Participants!$A:$E,5,FALSE)","v":{"$error":"#N/A"}},9]
[null,0,{"$nulls":3},{"$f":"VLOOKUP($A24,Participants!$A:$E,4,FALSE)","v":{"$error":"#N/A"}},{"$f":"VLOOKUP($A24,Participants!$A:$E,2,FALSE)","v":{"$error":"#N/A"}},{"$f":"VLOOKUP($A24,Participants!$A:$E,3,FALSE)","v":{"$error":"#N/A"}},{"$f":"VLOOKUP($A24,Participants!$A:$E,5,FALSE)","v":{"$error":"#N/A"}},9]
[null,0,{"$nulls":3},{"$f":"VLOOKUP($A25,Participants!$A:$E,4,FALSE)","v":{"$error":"#N/A"}},{"$f":"VLOOKUP($A25,Participants!$A:$E,2,FALSE)","v":{"$error":"#N/A"}},{"$f":"VLOOKUP($A25,Participants!$A:$E,3,FALSE)","v":{"$error":"#N/A"}},{"$f":"VLOOKUP($A25,Participants!$A:$E,5,FALSE)","v":{"$error":"#N/A"}},9]
[null,0,{"$nulls":3},{"$f":"VLOOKUP($A26,Participants!$A:$E,4,FALSE)","v":{"$error":"#N/A"}},{"$f":"VLOOKUP($A26,Participants!$A:$E,2,FALSE)","v":{"$error":"#N/A"}},{"$f":"VLOOKUP($A26,Participants!$A:$E,3,FALSE)","v":{"$error":"#N/A"}},{"$f":"VLOOKUP($A26,Participants!$A:$E,5,FALSE)","v":{"$error":"#N/A"}},9]
[null,0,{"$nulls":3},{"$f":"VLOOKUP($A27,Participants!$A:$E,4,FALSE)","v":{"$error":"#N/A"}},{"$f":"VLOOKUP($A27,Participants!$A:$E,2,FALSE)","v":{"$error":"#N/A"}},{"$f":"VLOOKUP($A27,Participants!$A:$E,3,FALSE)","v":{"$error":"#N/A"}},{"$f":"VLOOKUP($A27,Participants!$A:$E,5,FALSE)","v":{"$error":"#N/A"}},9]
[null,0,{"$nulls":3},{"$f":"VLOOKUP($A28,Participants!$A:$E,4,FALSE)","v":{"$error":"#N/A"}},{"$f":"VLOOKUP($A28,Participants!$A:$E,2,FALSE)","v":{"$error":"#N/A"}},{"$f":"VLOOKUP($A28,Participants!$A:$E,3,FALSE)","v":{"$error":"#N/A"}},{"$f":"VLOOKUP($A28,Participants!$A:$E,5,FALSE)","v":{"$error":"#N/A"}},9]
[null,0,{"$nulls":3},{"$f":"VLOOKUP($A29,Participants!$A:$E,4,FALSE)","v":{"$error":"#N/A"}},{"$f":"VLOOKUP($A29,Participants!$A:$E,2,FALSE)","v":{"$error":"#N/A"}},{"$f":"VLOOKUP($A29,Participants!$A:$E,3,FALSE)","v":{"$error":"#N/A"}},{"$f":"VLOOKUP($A29,Participants!$A:$E,5,FALSE)","v":{"$error":"#N/A"}},9]
[null,0,{"$nulls":3},{"$f":"VLOOKUP($A30,Participants!$A:$E,4,FALSE)","v":{"$error":"#N/A"}},{"$f":"VLOOKUP($A30,Participants!$A:$E,2,FALSE)","v":{"$error":"#N/A"}},{"$f":"VLOOKUP($A30,Participants!$A:$E,3,FALSE)","v":{"$error":"#N/A"}},{"$f":"VLOOKUP($A30,Participants!$A:$E,5,FALSE)","v":{"$error":"#N/A"}},9]
[null,0,{"$nulls":3},{"$f":"VLOOKUP($A31,Participants!$A:$E,4,FALSE)","v":{"$error":"#N/A"}},{"$f":"VLOOKUP($A31,Participants!$A:$E,2,FALSE)","v":{"$error":"#N/A"}},{"$f":"VLOOKUP($A31,Participants!$A:$E,3,FALSE)","v":{"$error":"#N/A"}},{"$f":"VLOOKUP($A31,Participants!$A:$E,5,FALSE)","v":{"$error":"#N/A"}},9]
[null,0,{"$nulls":3},{"$f":"VLOOKUP($A32,Participants!$A:$E,4,FALSE)","v":{"$error":"#N/A"}},{"$f":"VLOOKUP($A32,Participants!$A:$E,2,FALSE)","v":{"$error":"#N/A"}},{"$f":"VLOOKUP($A32,Participants!$A:$E,3,FALSE)","v":{"$error":"#N/A"}},{"$f":"VLOOKUP($A32,Participants!$A:$E,5,FALSE)","v":{"$error":"#N/A"}},9]
[null,0,{"$nulls":3},{"$f":"VLOOKUP($A33,Participants!$A:$E,4,FALSE)","v":{"$error":"#N/A"}},{"$f":"VLOOKUP($A33,Participants!$A:$E,2,FALSE)","v":{"$error":"#N/A"}},{"$f":"VLOOKUP($A33,Participants!$A:$E,3,FALSE)","v":{"$error":"#N/A"}},{"$f":"VLOOKUP($A33,Participants!$A:$E,5,FALSE)","v":{"$error":"#N/A"}},9]
[null,0,{"$nulls":3},{"$f":"VLOOKUP($A34,Participants!$A:$E,4,FALSE)","v":{"$error":"#N/A"}},{"$f":"VLOOKUP($A34,Participants!$A:$E,2,FALSE)","v":{"$error":"#N/A"}},{"$f":"VLOOKUP($A34,Participants!$A:$E,3,FALSE)","v":{"$error":"#N/A"}},{"$f":"VLOOKUP($A34,Participants!$A:$E,5,FALSE)","v":{"$error":"#N/A"}},9]
[null,0,{"$nulls":3},{"$f":"VLOOKUP($A35,Participants!$A:$E,4,FALSE)","v":{"$error":"#N/A"}},{"$f":"VLOOKUP($A35,Participants!$A:$E,2,FALSE)","v":{"$error":"#N/A"}},{"$f":"VLOOKUP($A35,Participants!$A:$E,3,FALSE)","v":{"$error":"#N/A"}},{"$f":"VLOOKUP($A35,Participants!$A:$E,5,FALSE)","v":{"$error":"#N/A"}},9]
[null,0,{"$nulls":3},{"$f":"VLOOKUP($A36,Participants!$A:$E,4,FALSE)","v":{"$error":"#N/A"}},{"$f":"VLOOKUP($A36,Participants!$A:$E,2,FALSE)","v":{"$error":"#N/A"}},{"$f":"VLOOKUP($A36,Participants!$A:$E,3,FALSE)","v":{"$error":"#N/A"}},{"$f":"VLOOKUP($A36,Participants!$A:$E,5,FALSE)","v":{"$error":"#N/A"}},9]
[null,0,{"$nulls":3},{"$f":"VLOOKUP($A37,Participants!$A:$E,4,FALSE)","v":{"$error":"#N/A"}},{"$f":"VLOOKUP($A37,Participants!$A:$E,2,FALSE)","v":{"$error":"#N/A"}},{"$f":"VLOOKUP($A37,Participants!$A:$E,3,FALSE)","v":{"$error":"#N/A"}},{"$f":"VLOOKUP($A37,Participants!$A:$E,5,FALSE)","v":{"$error":"#N/A"}},9]
[null,0,{"$nulls":3},{"$f":"VLOOKUP($A38,Participants!$A:$E,4,FALSE)","v":{"$error":"#N/A"}},{"$f":"VLOOKUP($A38,Participants!$A:$E,2,FALSE)","v":{"$error":"#N/A"}},{"$f":"VLOOKUP($A38,Participants!$A:$E,3,FALSE)","v":{"$error":"#N/A"}},{"$f":"VLOOKUP($A38,Participants!$A:$E,5,FALSE)","v":{"$error":"#N/A"}},9]
[null,0,{"$nulls":3},{"$f":"VLOOKUP($A39,Participants!$A:$E,4,FALSE)","v":{"$error":"#N/A"}},{"$f":"VLOOKUP($A39,Participants!$A:$E,2,FALSE)","v":{"$error":"#N/A"}},{"$f":"VLOOKUP($A39,Participants!$A:$E,3,FALSE)","v":{"$error":"#N/A"}},{"$f":"VLOOKUP($A39,Participants!$A:$E,5,FALSE)","v":{"$error":"#N/A"}},9]
[null,0,{"$nulls":3},{"$f":"VLOOKUP($A40,Participants!$A:$E,4,FALSE)","v":{"$error":"#N/A"}},{"$f":"VLOOKUP($A40,Participants!$A:$E,2,FALSE)","v":{"$error":"#N/A"}},{"$f":"VLOOKUP($A40,Participants!$A:$E,3,FALSE)","v":{"$error":"#N/A"}},{"$f":"VLOOKUP($A40,Participants!$A:$E,5,FALSE)","v":{"$error":"#N/A"}},9]
[null,0,{"$nulls":3},{"$f":"VLOOKUP($A41,Participants!$A:$E,4,FALSE)","v":{"$error":"#N/A"}},{"$f":"VLOOKUP($A41,Participants!$A:$E,2,FALSE)","v":{"$error":"#N/A"}},{"$f":"VLOOKUP($A41,Participants!$A:$E,3,FALSE)","v":{"$error":"#N/A"}},{"$f":"VLOOKUP($A41,Participants!$A:$E,5,FALSE)","v":{"$error":"#N/A"}},9]
[null,0,{"$nulls":3},{"$f":"VLOOKUP($A42,Participants!$A:$E,4,FALSE)","v":{"$error":"#N/A"}},{"$f":"VLOOKUP($A42,Participants!$A:$E,2,FALSE)","v":{"$error":"#N/A"}},{"$f":"VLOOKUP($A42,Participants!$A:$E,3,FALSE)","v":{"$error":"#N/A"}},{"$f":"VLOOKUP($A42,Participants!$A:$E,5,FALSE)","v":{"$error":"#N/A"}},9]
[null,0,{"$nulls":3},{"$f":"VLOOKUP($A43,Participants!$A:$E,4,FALSE)","v":{"$error":"#N/A"}},{"$f":"VLOOKUP($A43,Participants!$A:$E,2,FALSE)","v":{"$error":"#N/A"}},{"$f":"VLOOKUP($A43,Participants!$A:$E,3,FALSE)","v":{"$error":"#N/A"}},{"$f":"VLOOKUP($A43,Participants!$A:$E,5,FALSE)","v":{"$error":"#N/A"}},9]
[null,0,{"$nulls":3},{"$f":"VLOOKUP($A44,Participants!$A:$E,4,FALSE)","v":{"$error":"#N/A"}},{"$f":"VLOOKUP($A44,Participants!$A:$E,2,FALSE)","v":{"$error":"#N/A"}},{"$f":"VLOOKUP($A44,Participants!$A:$E,3,FALSE)","v":{"$error":"#N/A"}},{"$f":"VLOOKUP($A44,Participants!$A:$E,5,FALSE)","v":{"$error":"#N/A"}},9]
[null,0,{"$nulls":3},{"$f":"VLOOKUP($A45,Participants!$A:$E,4,FALSE)","v":{"$error":"#N/A"}},{"$f":"VLOOKUP($A45,Participants!$A:$E,2,FALSE)","v":{"$error":"#N/A"}},{"$f":"VLOOKUP($A45,Participants!$A:$E,3,FALSE)","v":{"$error":"#N/A"}},{"$f":"VLOOKUP($A45,Participants!$A:$E,5,FALSE)","v":{"$error":"#N/A"}},9]
[null,0,{"$nulls":3},{"$f":"VLOOKUP($A46,Participants!$A:$E,4,FALSE)","v":{"$error":"#N/A"}},{"$f":"VLOOKUP($A46,Participants!$A:$E,2,FALSE)","v":{"$error":"#N/A"}},{"$f":"VLOOKUP($A46,Participants!$A:$E,3,FALSE)","v":{"$error":"#N/A"}},{"$f":"VLOOKUP($A46,Participants!$A:$E,5,FALSE)","v":{"$error":"#N/A"}},9]
[null,0,{"$nulls":3},{"$f":"VLOOKUP($A47,Participants!$A:$E,4,FALSE)","v":{"$error":"#N/A"}},{"$f":"VLOOKUP($A47,Participants!$A:$E,2,FALSE)","v":{"$error":"#N/A"}},{"$f":"VLOOKUP($A47,Participants!$A:$E,3,FALSE)","v":{"$error":"#N/A"}},{"$f":"VLOOKUP($A47,Participants!$A:$E,5,FALSE)","v":{"$error":"#N/A"}},9]
[null,0,{"$nulls":3},{"$f":"VLOOKUP($A48,Participants!$A:$E,4,FALSE)","v":{"$error":"#N/A"}},{"$f":"VLOOKUP($A48,Participants!$A:$E,2,FALSE)","v":{"$error":"#N/A"}},{"$f":"VLOOKUP($A48,Participants!$A:$E,3,FALSE)","v":{"$error":"#N/A"}},{"$f":"VLOOKUP($A48,Participants!$A:$E,5,FALSE)","v":{"$error":"#N/A"}},9]
[null,0,{"$nulls":3},{"$f":"VLOOKUP($A49,Participants!$A:$E,4,FALSE)","v":{"$error":"#N/A"}},{"$f":"VLOOKUP($A49,Participants!$A:$E,2,FALSE)","v":{"$error":"#N/A"}},{"$f":"VLOOKUP($A49,Participants!$A:$E,3,FALSE)","v":{"$error":"#N/A"}},{"$f":"VLOOKUP($A49,Participants!$A:$E,5,FALSE)","v":{"$error":"#N/A"}},9]
[null,0,{"$nulls":3},{"$f":"VLOOKUP($A50,Participants!$A:$E,4,FALSE)","v":{"$error":"#N/A"}},{"$f":"VLOOKUP($A50,Participants!$A:$E,2,FALSE)","v":{"$error":"#N/A"}},{"$f":"VLOOKUP($A50,Participants!$A:$E,3,FALSE)","v":{"$error":"#N/A"}},{"$f":"VLOOKUP($A50,Participants!$A:$E,5,FALSE)","v":{"$error":"#N/A"}},9]
[null,0,{"$nulls":3},{"$f":"VLOOKUP($A51,Participants!$A:$E,4,FALSE)","v":{"$error":"#N/A"}},{"$f":"VLOOKUP($A51,Participants!$A:$E,2,FALSE)","v":{"$error":"#N/A"}},{"$f":"VLOOKUP($A51,Participants!$A:$E,3,FALSE)","v":{"$error":"#N/A"}},{"$f":"VLOOKUP($A51,Participants!$A:$E,5,FALSE)","v":{"$error":"#N/A"}},9]
[null,0,{"$nulls":3},{"$f":"VLOOKUP($A52,Participants!$A:$E,4,FALSE)","v":{"$error":"#N/A"}},{"$f":"VLOOKUP($A52,Participants!$A:$E,2,FALSE)","v":{"$error":"#N/A"}},{"$f":"VLOOKUP($A52,Participants!$A:$E,3,FALSE)","v":{"$error":"#N/A"}},{"$f":"VLOOKUP($A52,Participants!$A:$E,5,FALSE)","v":{"$error":"#N/A"}},9]
[null,0,{"$nulls":3},{"$f":"VLOOKUP($A53,Participants!$A:$E,4,FALSE)","v":{"$error":"#N/A"}},{"$f":"VLOOKUP($A53,Participants!$A:$E,2,FALSE)","v":{"$error":"#N/A"}},{"$f":"VLOOKUP($A53,Participants!$A:$E,3,FALSE)","v":{"$error":"#N/A"}},{"$f":"VLOOKUP($A53,Participants!$A:$E,5,FALSE)","v":{"$error":"#N/A"}},9]
[null,0,{"$nulls":3},{"$f":"VLOOKUP($A54,Participants!$A:$E,4,FALSE)","v":{"$error":"#N/A"}},{"$f":"VLOOKUP($A54,Participants!$A:$E,2,FALSE)","v":{"$error":"#N/A"}},{"$f":"VLOOKUP($A54,Participants!$A:$E,3,FALSE)","v":{"$error":"#N/A"}},{"$f":"VLOOKUP($A54,Participants!$A:$E,5,FALSE)","v":{"$error":"#N/A"}},9]
[null,0,{"$nulls":3},{"$f":"VLOOKUP($A55,Participants!$A:$E,4,FALSE)","v":{"$error":"#N/A"}},{"$f":"VLOOKUP($A55,Participants!$A:$E,2,FALSE)","v":{"$error":"#N/A"}},{"$f":"VLOOKUP($A55,Participants!$A:$E,3,FALSE)","v":{"$error":"#N/A"}},{"$f":"VLOOKUP($A55,Participants!$A:$E,5,FALSE)","v":{"$error":"#N/A"}},9]
[null,0,{"$nulls":3},{"$f":"VLOOKUP($A56,Participants!$A:$E,4,FALSE)","v":{"$error":"#N/A"}},{"$f":"VLOOKUP($A56,Participants!$A:$E,2,FALSE)","v":{"$error":"#N/A"}},{"$f":"VLOOKUP($A56,Participants!$A:$E,3,FALSE)","v":{"$error":"#N/A"}},{"$f":"VLOOKUP($A56,Participants!$A:$E,5,FALSE)","v":{"$error":"#N/A"}},9]
[null,0,{"$nulls":3},{"$f":"VLOOKUP($A57,Participants!$A:$E,4,FALSE)","v":{"$error":"#N/A"}},{"$f":"VLOOKUP($A57,Participants!$A:$E,2,FALSE)","v":{"$error":"#N/A"}},{"$f":"VLOOKUP($A57,Participants!$A:$E,3,FALSE)","v":{"$error":"#N/A"}},{"$f":"VLOOKUP($A57,Participants!$A:$E,5,FALSE)","v":{"$error":"#N/A"}},9]
[null,0,{"$nulls":3},{"$f":"VLOOKUP($A58,Participants!$A:$E,4,FALSE)","v":{"$error":"#N/A"}},{"$f":"VLOOKUP($A58,Participants!$A:$E,2,FALSE)","v":{"$error":"#N/A"}},{"$f":"VLOOKUP($A58,Participants!$A:$E,3,FALSE)","v":{"$error":"#N/A"}},{"$f":"VLOOKUP($A58,Participants!$A:$E,5,FALSE)","v":{"$error":"#N/A"}},9]
[null,0,{"$nulls":3},{"$f":"VLOOKUP($A59,Participants!$A:$E,4,FALSE)","v":{"$error":"#N/A"}},{"$f":"VLOOKUP($A59,Participants!$A:$E,2,FALSE)","v":{"$error":"#N/A"}},{"$f":"VLOOKUP($A59,Participants!$A:$E,3,FALSE)","v":{"$error":"#N/A"}},{"$f":"VLOOKUP($A59,Participants!$A:$E,5,FALSE)","v":{"$error":"#N/A"}},9]
[null,0,{"$nulls":3},{"$f":"VLOOKUP($A60,Participants!$A:$E,4,FALSE)","v":{"$error":"#N/A"}},{"$f":"VLOOKUP($A60,Participants!$A:$E,2,FALSE)","v":{"$error":"#N/A"}},{"$f":"VLOOKUP($A60,Participants!$A:$E,3,FALSE)","v":{"$error":"#N/A"}},{"$f":"VLOOKUP($A60,Participants!$A:$E,5,FALSE)","v":{"$error":"#N/A"}},9]
[null,0,{"$nulls":3},{"$f":"VLOOKUP($A61,Participants!$A:$E,4,FALSE)","v":{"$error":"#N/A"}},{"$f":"VLOOKUP($A61,Participants!$A:$E,2,FALSE)","v":{"$error":"#N/A"}},{"$f":"VLOOKUP($A61,Participants!$A:$E,3,FALSE)","v":{"$error":"#N/A"}},{"$f":"VLOOKUP($A61,Participants!$A:$E,5,FALSE)","v":{"$error":"#N/A"}},9]
[null,0,{"$nulls":3},{"$f":"VLOOKUP($A62,Participants!$A:$E,4,FALSE)","v":{"$error":"#N/A"}},{"$f":"VLOOKUP($A62,Participants!$A:$E,2,FALSE)","v":{"$error":"#N/A"}},{"$f":"VLOOKUP($A62,Participants!$A:$E,3,FALSE)","v":{"$error":"#N/A"}},{"$f":"VLOOKUP($A62,Participants!$A:$E,5,FALSE)","v":{"$error":"#N/A"}},9]
[null,0,{"$nulls":3},{"$f":"VLOOKUP($A63,Participants!$A:$E,4,FALSE)","v":{"$error":"#N/A"}},{"$f":"VLOOKUP($A63,Participants!$A:$E,2,FALSE)","v":{"$error":"#N/A"}},{"$f":"VLOOKUP($A63,Participants!$A:$E,3,FALSE)","v":{"$error":"#N/A"}},{"$f":"VLOOKUP($A63,Participants!$A:$E,5,FALSE)","v":{"$error":"#N/A"}},9]
[null,0,{"$nulls":3},{"$f":"VLOOKUP($A64,Participants!$A:$E,4,FALSE)","v":{"$error":"#N/A"}},{"$f":"VLOOKUP($A64,Participants!$A:$E,2,FALSE)","v":{"$error":"#N/A"}},{"$f":"VLOOKUP($A64,Participants!$A:$E,3,FALSE)","v":{"$error":"#N/A"}},{"$f":"VLOOKUP($A64,Participants!$A:$E,5,FALSE)","v":{"$error":"#N/A"}},9]
[null,0,{"$nulls":3},{"$f":"VLOOKUP($A65,Participants!$A:$E,4,FALSE)","v":{"$error":"#N/A"}},{"$f":"VLOOKUP($A65,Participants!$A:$E,2,FALSE)","v":{"$error":"#N/A"}},{"$f":"VLOOKUP($A65,Participants!$A:$E,3,FALSE)","v":{"$error":"#N/A"}},{"$f":"VLOOKUP($A65,Participants!$A:$E,5,FALSE)","v":{"$error":"#N/A"}},9]
[null,0,{"$nulls":3},{"$f":"VLOOKUP($A66,Participants!$A:$E,4,FALSE)","v":{"$error":"#N/A"}},{"$f":"VLOOKUP($A66,Participants!$A:$E,2,FALSE)","v":{"$error":"#N/A"}},{"$f":"VLOOKUP($A66,Participants!$A:$E,3,FALSE)","v":{"$error":"#N/A"}},{"$f":"VLOOKUP($A66,Participants!$A:$E,5,FALSE)","v":{"$error":"#N/A"}},9]
[null,{"$f":"MAX(C67:E67)","v":0},{"$nulls":3},{"$f":"VLOOKUP($A67,Participants!$A:$E,4,FALSE)","v":{"$error":"#N/A"}},{"$f":"VLOOKUP($A67,Participants!$A:$E,2,FALSE)","v":{"$error":"#N/A"}},{"$f":"VLOOKUP($A67,Participants!$A:$E,3,FALSE)","v":{"$error":"#N/A"}},{"$f":"VLOOKUP($A67,Participants!$A:$E,5,FALSE)","v":{"$error":"#N/A"}},{"$f":"RANK(B67,$B$1:$B$97,0)","v":9}]
[null,0,{"$nulls":3},{"$f":"VLOOKUP($A68,Participants!$A:$E,4,FALSE)","v":{"$error":"#N/A"}},{"$f":"VLOOKUP($A68,Participants!$A:$E,2,FALSE)","v":{"$error":"#N/A"}},{"$f":"VLOOKUP($A68,Participants!$A:$E,3,FALSE)","v":{"$error":"#N/A"}},{"$f":"VLOOKUP($A68,Participants!$A:$E,5,FALSE)","v":{"$error":"#N/A"}},9]
[null,0,{"$nulls":3},{"$f":"VLOOKUP($A69,Participants!$A:$E,4,FALSE)","v":{"$error":"#N/A"}},{"$f":"VLOOKUP($A69,Participants!$A:$E,2,FALSE)","v":{"$error":"#N/A"}},{"$f":"VLOOKUP($A69,Participants!$A:$E,3,FALSE)","v":{"$error":"#N/A"}},{"$f":"VLOOKUP($A69,Participants!$A:$E,5,FALSE)","v":{"$error":"#N/A"}},9]
[null,0,{"$nulls":3},{"$f":"VLOOKUP($A70,Participants!$A:$E,4,FALSE)","v":{"$error":"#N/A"}},{"$f":"VLOOKUP($A70,Participants!$A:$E,2,FALSE)","v":{"$error":"#N/A"}},{"$f":"VLOOKUP($A70,Participants!$A:$E,3,FALSE)","v":{"$error":"#N/A"}},{"$f":"VLOOKUP($A70,Participants!$A:$E,5,FALSE)","v":{"$error":"#N/A"}},9]
[null,0,{"$nulls":3},{"$f":"VLOOKUP($A71,Participants!$A:$E,4,FALSE)","v":{"$error":"#N/A"}},{"$f":"VLOOKUP($A71,Participants!$A:$E,2,FALSE)","v":{"$error":"#N/A"}},{"$f":"VLOOKUP($A71,Participants!$A:$E,3,FALSE)","v":{"$error":"#N/A"}},{"$f":"VLOOKUP($A71,Participants!$A:$E,5,FALSE)","v":{"$error":"#N/A"}},9]
[null,0,{"$nulls":3},{"$f":"VLOOKUP($A72,Participants!$A:$E,4,FALSE)","v":{"$error":"#N/A"}},{"$f":"VLOOKUP($A72,Participants!$A:$E,2,FALSE)","v":{"$error":"#N/A"}},{"$f":"VLOOKUP($A72,Participants!$A:$E,3,FALSE)","v":{"$error":"#N/A"}},{"$f":"VLOOKUP($A72,Participants!$A:$E,5,FALSE)","v":{"$error":"#N/A"}},9]
[null,0,{"$nulls":3},{"$f":"VLOOKUP($A73,Participants!$A:$E,4,FALSE)","v":{"$error":"#N/A"}},{"$f":"VLOOKUP($A73,Participants!$A:$E,2,FALSE)","v":{"$error":"#N/A"}},{"$f":"VLOOKUP($A73,Participants!$A:$E,3,FALSE)","v":{"$error":"#N/A"}},{"$f":"VLOOKUP($A73,Participants!$A:$E,5,FALSE)","v":{"$error":"#N/A"}},9]
[null,0,{"$nulls":3},{"$f":"VLOOKUP($A74,Participants!$A:$E,4,FALSE)","v":{"$error":"#N/A"}},{"$f":"VLOOKUP($A74,Participants!$A:$E,2,FALSE)","v":{"$error":"#N/A"}},{"$f":"VLOOKUP($A74,Participants!$A:$E,3,FALSE)","v":{"$error":"#N/A"}},{"$f":"VLOOKUP($A74,Participants!$A:$E,5,FALSE)","v":{"$error":"#N/A"}},9]
[null,0,{"$nulls":3},{"$f":"VLOOKUP($A75,Participants!$A:$E,4,FALSE)","v":{"$error":"#N/A"}},{"$f":"VLOOKUP($A75,Participants!$A:$E,2,FALSE)","v":{"$error":"#N/A"}},{"$f":"VLOOKUP($A75,Participants!$A:$E,3,FALSE)","v":{"$error":"#N/A"}},{"$f":"VLOOKUP($A75,Participants!$A:$E,5,FALSE)","v":{"$error":"#N/A"}},9]
[null,0,{"$nulls":3},{"$f":"VLOOKUP($A76,Participants!$A:$E,4,FALSE)","v":{"$error":"#N/A"}},{"$f":"VLOOKUP($A76,Participants!$A:$E,2,FALSE)","v":{"$error":"#N/A"}},{"$f":"VLOOKUP($A76,Participants!$A:$E,3,FALSE)","v":{"$error":"#N/A"}},{"$f":"VLOOKUP($A76,Participants!$A:$E,5,FALSE)","v":{"$error":"#N/A"}},9]
[null,0,{"$nulls":3},{"$f":"VLOOKUP($A77,Participants!$A:$E,4,FALSE)","v":{"$error":"#N/A"}},{"$f":"VLOOKUP($A77,Participants!$A:$E,2,FALSE)","v":{"$error":"#N/A"}},{"$f":"VLOOKUP($A77,Participants!$A:$E,3,FALSE)","v":{"$error":"#N/A"}},{"$f":"VLOOKUP($A77,Participants!$A:$E,5,FALSE)","v":{"$error":"#N/A"}},9]
[null,0,{"$nulls":3},{"$f":"VLOOKUP($A78,Participants!$A:$E,4,FALSE)","v":{"$error":"#N/A"}},{"$f":"VLOOKUP($A78,Participants!$A:$E,2,FALSE)","v":{"$error":"#N/A"}},{"$f":"VLOOKUP($A78,Participants!$A:$E,3,FALSE)","v":{"$error":"#N/A"}},{"$f":"VLOOKUP($A78,Participants!$A:$E,5,FALSE)","v":{"$error":"#N/A"}},9]
[null,0,{"$nulls":3},{"$f":"VLOOKUP($A79,Participants!$A:$E,4,FALSE)","v":{"$error":"#N/A"}},{"$f":"VLOOKUP($A79,Participants!$A:$E,2,FALSE)","v":{"$error":"#N/A"}},{"$f":"VLOOKUP($A79,Participants!$A:$E,3,FALSE)","v":{"$error":"#N/A"}},{"$f":"VLOOKUP($A79,Participants!$A:$E,5,FALSE)","v":{"$error":"#N/A"}},9]
[null,0,{"$nulls":3},{"$f":"VLOOKUP($A80,Participants!$A:$E,4,FALSE)","v":{"$error":"#N/A"}},{"$f":"VLOOKUP($A80,Participants!$A:$E,2,FALSE)","v":{"$error":"#N/A"}},{"$f":"VLOOKUP($A80,Participants!$A:$E,3,FALSE)","v":{"$error":"#N/A"}},{"$f":"VLOOKUP($A80,Participants!$A:$E,5,FALSE)","v":{"$error":"#N/A"}},9]
[null,0,{"$nulls":3},{"$f":"VLOOKUP($A81,Participants!$A:$E,4,FALSE)","v":{"$error":"#N/A"}},{"$f":"VLOOKUP($A81,Participants!$A:$E,2,FALSE)","v":{"$error":"#N/A"}},{"$f":"VLOOKUP($A81,Participants!$A:$E,3,FALSE)","v":{"$error":"#N/A"}},{"$f":"VLOOKUP($A81,Participants!$A:$E,5,FALSE)","v":{"$error":"#N/A"}},9]
[null,0,{"$nulls":3},{"$f":"VLOOKUP($A82,Participants!$A:$E,4,FALSE)","v":{"$error":"#N/A"}},{"$f":"VLOOKUP($A82,Participants!$A:$E,2,FALSE)","v":{"$error":"#N/A"}},{"$f":"VLOOKUP($A82,Participants!$A:$E,3,FALSE)","v":{"$error":"#N/A"}},{"$f":"VLOOKUP($A82,Participants!$A:$E,5,FALSE)","v":{"$error":"#N/A"}},9]
[null,0,{"$nulls":3},{"$f":"VLOOKUP($A83,Participants!$A:$E,4,FALSE)","v":{"$error":"#N/A"}},{"$f":"VLOOKUP($A83,Participants!$A:$E,2,FALSE)","v":{"$error":"#N/A"}},{"$f":"VLOOKUP($A83,Participants!$A:$E,3,FALSE)","v":{"$error":"#N/A"}},{"$f":"VLOOKUP($A83,Participants!$A:$E,5,FALSE)","v":{"$error":"#N/A"}},9]
[null,0,{"$nulls":3},{"$f":"VLOOKUP($A84,Participants!$A:$E,4,FALSE)","v":{"$error":"#N/A"}},{"$f":"VLOOKUP($A84,Participants!$A:$E,2,FALSE)","v":{"$error":"#N/A"}},{"$f":"VLOOKUP($A84,Participants!$A:$E,3,FALSE)","v":{"$error":"#N/A"}},{"$f":"VLOOKUP($A84,Participants!$A:$E,5,FALSE)","v":{"$error":"#N/A"}},9]
[null,0,{"$nulls":3},{"$f":"VLOOKUP($A85,Participants!$A:$E,4,FALSE)","v":{"$error":"#N/A"}},{"$f":"VLOOKUP($A85,Participants!$A:$E,2,FALSE)","v":{"$error":"#N/A"}},{"$f":"VLOOKUP($A85,Participants!$A:$E,3,FALSE)","v":{"$error":"#N/A"}},{"$f":"VLOOKUP($A85,Participants!$A:$E,5,FALSE)","v":{"$error":"#N/A"}},9]
[null,0,{"$nulls":3},{"$f":"VLOOKUP($A86,Participants!$A:$E,4,FALSE)","v":{"$error":"#N/A"}},{"$f":"VLOOKUP($A86,Participants!$A:$E,2,FALSE)","v":{"$error":"#N/A"}},{"$f":"VLOOKUP($A86,Participants!$A:$E,3,FALSE)","v":{"$error":"#N/A"}},{"$f":"VLOOKUP($A86,Participants!$A:$E,5,FALSE)","v":{"$error":"#N/A"}},9]
[null,0,{"$nulls":3},{"$f":"VLOOKUP($A87,Participants!$A:$E,4,FALSE)","v":{"$error":"#N/A"}},{"$f":"VLOOKUP($A87,Participants!$A:$E,2,FALSE)","v":{"$error":"#N/A"}},{"$f":"VLOOKUP($A87,Participants!$A:$E,3,FALSE)","v":{"$error":"#N/A"}},{"$f":"VLOOKUP($A87,Participants!$A:$E,5,FALSE)","v":{"$error":"#N/A"}},9]
[null,0,{"$nulls":3},{"$f":"VLOOKUP($A88,Participants!$A:$E,4,FALSE)","v":{"$error":"#N/A"}},{"$f":"VLOOKUP($A88,Participants!$A:$E,2,FALSE)","v":{"$error":"#N/A"}},{"$f":"VLOOKUP($A88,Participants!$A:$E,3,FALSE)","v":{"$error":"#N/A"}},{"$f":"VLOOKUP($A88,Participants!$A:$E,5,FALSE)","v":{"$error":"#N/A"}},9]
[null,0,{"$nulls":3},{"$f":"VLOOKUP($A89,Participants!$A:$E,4,FALSE)","v":{"$error":"#N/A"}},{"$f":"VLOOKUP($A89,Participants!$A:$E,2,FALSE)","v":{"$error":"#N/A"}},{"$f":"VLOOKUP($A89,Participants!$A:$E,3,FALSE)","v":{"$error":"#N/A"}},{"$f":"VLOOKUP($A89,Participants!$A:$E,5,FALSE)","v":{"$error":"#N/A"}},9]
[null,0,{"$nulls":3},{"$f":"VLOOKUP($A90,Participants!$A:$E,4,FALSE)","v":{"$error":"#N/A"}},{"$f":"VLOOKUP($A90,Participants!$A:$E,2,FALSE)","v":{"$error":"#N/A"}},{"$f":"VLOOKUP($A90,Participants!$A:$E,3,FALSE)","v":{"$error":"#N/A"}},{"$f":"VLOOKUP($A90,Participants!$A:$E,5,FALSE)","v":{"$error":"#N/A"}},9]
[null,0,{"$nulls":3},{"$f":"VLOOKUP($A91,Participants!$A:$E,4,FALSE)","v":{"$error":"#N/A"}},{"$f":"VLOOKUP($A91,Participants!$A:$E,2,FALSE)","v":{"$error":"#N/A"}},{"$f":"VLOOKUP($A91,Participants!$A:$E,3,FALSE)","v":{"$error":"#N/A"}},{"$f":"VLOOKUP($A91,Participants!$A:$E,5,FALSE)","v":{"$error":"#N/A"}},9]
[null,0,{"$nulls":3},{"$f":"VLOOKUP($A92,Participants!$A:$E,4,FALSE)","v":{"$error":"#N/A"}},{"$f":"VLOOKUP($A92,Participants!$A:$E,2,FALSE)","v":{"$error":"#N/A"}},{"$f":"VLOOKUP($A92,Participants!$A:$E,3,FALSE)","v":{"$error":"#N/A"}},{"$f":"VLOOKUP($A92,Participants!$A:$E,5,FALSE)","v":{"$error":"#N/A"}},9]
[null,0,{"$nulls":3},{"$f":"VLOOKUP($A93,Participants!$A:$E,4,FALSE)","v":{"$error":"#N/A"}},{"$f":"VLOOKUP($A93,Participants!$A:$E,2,FALSE)","v":{"$error":"#N/A"}},{"$f":"VLOOKUP($A93,Participants!$A:$E,3,FALSE)","v":{"$error":"#N/A"}},{"$f":"VLOOKUP($A93,Participants!$A:$E,5,FALSE)","v":{"$error":"#N/A"}},9]
[null,0,{"$nulls":3},{"$f":"VLOOKUP($A94,Participants!$A:$E,4,FALSE)","v":{"$error":"#N/A"}},{"$f":"VLOOKUP($A94,Participants!$A:$E,2,FALSE)","v":{"$error":"#N/A"}},{"$f":"VLOOKUP($A94,Participants!$A:$E,3,FALSE)","v":{"$error":"#N/A"}},{"$f":"VLOOKUP($A94,Participants!$A:$E,5,FALSE)","v":{"$error":"#N/A"}},9]
[null,0,{"$nulls":3},{"$f":"VLOOKUP($A95,Participants!$A:$E,4,FALSE)","v":{"$error":"#N/A"}},{"$f":"VLOOKUP($A95,Participants!$A:$E,2,FALSE)","v":{"$error":"#N/A"}},{"$f":"VLOOKUP($A95,Participants!$A:$E,3,FALSE)","v":{"$error":"#N/A"}},{"$f":"VLOOKUP($A95,Participants!$A:$E,5,FALSE)","v":{"$error":"#N/A"}},9]
[null,0,{"$nulls":3},{"$f":"VLOOKUP($A96,Participants!$A:$E,4,FALSE)","v":{"$error":"#N/A"}},{"$f":"VLOOKUP($A96,Participants!$A:$E,2,FALSE)","v":{"$error":"#N/A"}},{"$f":"VLOOKUP($A96,Participants!$A:$E,3,FALSE)","v":{"$error":"#N/A"}},{"$f":"VLOOKUP($A96,Participants!$A:$E,5,FALSE)","v":{"$error":"#N/A"}},9]
[null,0,{"$nulls":3},{"$f":"VLOOKUP($A97,Participants!$A:$E,4,FALSE)","v":{"$error":"#N/A"}},{"$f":"VLOOKUP($A97,Participants!$A:$E,2,FALSE)","v":{"$error":"#N/A"}},{"$f":"VLOOKUP($A97,Participants!$A:$E,3,FALSE)","v":{"$error":"#N/A"}},{"$f":"VLOOKUP($A97,Participants!$A:$E,5,FALSE)","v":{"$error":"#N/A"}},9]
[null,0,{"$nulls":3},{"$f":"VLOOKUP($A98,Participants!$A:$E,4,FALSE)","v":{"$error":"#N/A"}},{"$f":"VLOOKUP($A98,Participants!$A:$E,2,FALSE)","v":{"$error":"#N/A"}},{"$f":"VLOOKUP($A98,Participants!$A:$E,3,FALSE)","v":{"$error":"#N/A"}},{"$f":"VLOOKUP($A98,Participants!$A:$E,5,FALSE)","v":{"$error":"#N/A"}},9]
[null,0,{"$nulls":3},{"$f":"VLOOKUP($A99,Participants!$A:$E,4,FALSE)","v":{"$error":"#N/A"}},{"$f":"VLOOKUP($A99,Participants!$A:$E,2,FALSE)","v":{"$error":"#N/A"}},{"$f":"VLOOKUP($A99,Participants!$A:$E,3,FALSE)","v":{"$error":"#N/A"}},{"$f":"VLOOKUP($A99,Participants!$A:$E,5,FALSE)","v":{"$error":"#N/A"}},9]
[null,0,{"$nulls":3},{"$f":"VLOOKUP($A100,Participants!$A:$E,4,FALSE)","v":{"$error":"#N/A"}},{"$f":"VLOOKUP($A100,Participants!$A:$E,2,FALSE)","v":{"$error":"#N/A"}},{"$f":"VLOOKUP($A100,Participants!$A:$E,3,FALSE)","v":{"$error":"#N/A"}},{"$f":"VLOOKUP($A100,Participants!$A:$E,5,FALSE)","v":{"$error":"#N/A"}},9]
[null,0,{"$nulls":3},{"$f":"VLOOKUP($A101,Participants!$A:$E,4,FALSE)","v":{"$error":"#N/A"}},{"$f":"VLOOKUP($A101,Participants!$A:$E,2,FALSE)","v":{"$error":"#N/A"}},{"$f":"VLOOKUP($A101,Participants!$A:$E,3,FALSE)","v":{"$error":"#N/A"}},{"$f":"VLOOKUP($A101,Participants!$A:$E,5,FALSE)","v":{"$error":"#N/A"}},9]

{"sheet":"HighJump Cadet Boys","index":29,"n_rows":101,"n_cols":13,"rows_kept":101}
["Bib","Enter Best Only\nEnter 10 ft 3 3/4 in as 1003.75",{"$nulls":3},"Grade","FName","Lname","School","Overall Place","Points",null,"Return to Schedule of Events"]
[163,402,{"$nulls":3},{"$f":"VLOOKUP($A2,Participants!$A:$E,4,FALSE)","v":7},{"$f":"VLOOKUP($A2,Participants!$A:$E,2,FALSE)","v":"Cameron"},{"$f":"VLOOKUP($A2,Participants!$A:$E,3,FALSE)","v":"Cox"},{"$f":"VLOOKUP($A2,Participants!$A:$E,5,FALSE)","v":"SSFC"},{"$f":"RANK(B2,$B$1:$B$97,0)","v":3}]
[165,"NH",{"$nulls":3},{"$f":"VLOOKUP($A3,Participants!$A:$E,4,FALSE)","v":7},{"$f":"VLOOKUP($A3,Participants!$A:$E,2,FALSE)","v":"Anthony "},{"$f":"VLOOKUP($A3,Participants!$A:$E,3,FALSE)","v":"Cuadros"},{"$f":"VLOOKUP($A3,Participants!$A:$E,5,FALSE)","v":"SSFC"},{"$f":"RANK(B3,$B$1:$B$97,0)","v":{"$error":"#VALUE!"}},null,null,"Add or Update Participants"]
[216,406,{"$nulls":3},{"$f":"VLOOKUP($A4,Participants!$A:$E,4,FALSE)","v":7},{"$f":"VLOOKUP($A4,Participants!$A:$E,2,FALSE)","v":"Nicholas"},{"$f":"VLOOKUP($A4,Participants!$A:$E,3,FALSE)","v":"Woodburn"},{"$f":"VLOOKUP($A4,Participants!$A:$E,5,FALSE)","v":"SSFC"},1,null,null,"Overall Place and Points"]
[130,404,{"$nulls":3},{"$f":"VLOOKUP($A5,Participants!$A:$E,4,FALSE)","v":8},{"$f":"VLOOKUP($A5,Participants!$A:$E,2,FALSE)","v":"Patrick"},{"$f":"VLOOKUP($A5,Participants!$A:$E,3,FALSE)","v":"Tiernan"},{"$f":"VLOOKUP($A5,Participants!$A:$E,5,FALSE)","v":"St Jude"},2]
[212,400,{"$nulls":3},{"$f":"VLOOKUP($A6,Participants!$A:$E,4,FALSE)","v":8},{"$f":"VLOOKUP($A6,Participants!$A:$E,2,FALSE)","v":"John"},{"$f":"VLOOKUP($A6,Participants!$A:$E,3,FALSE)","v":"Wagner"},{"$f":"VLOOKUP($A6,Participants!$A:$E,5,FALSE)","v":"SSFC"},4]
[117,"NH",{"$nulls":3},{"$f":"VLOOKUP($A7,Participants!$A:$E,4,FALSE)","v":7},{"$f":"VLOOKUP($A7,Participants!$A:$E,2,FALSE)","v":"Darrian"},{"$f":"VLOOKUP($A7,Participants!$A:$E,3,FALSE)","v":"Schoettle"},{"$f":"VLOOKUP($A7,Participants!$A:$E,5,FALSE)","v":"St Jude"},{"$error":"#VALUE!"}]
[72,400,{"$nulls":3},{"$f":"VLOOKUP($A8,Participants!$A:$E,4,FALSE)","v":7},{"$f":"VLOOKUP($A8,Participants!$A:$E,2,FALSE)","v":"Xavier"},{"$f":"VLOOKUP($A8,Participants!$A:$E,3,FALSE)","v":"Lawrie"},{"$f":"VLOOKUP($A8,Participants!$A:$E,5,FALSE)","v":"St Jude"},4]
[298,"NH",{"$nulls":3},{"$f":"VLOOKUP($A9,Participants!$A:$E,4,FALSE)","v":7},{"$f":"VLOOKUP($A9,Participants!$A:$E,2,FALSE)","v":"AJ"},{"$f":"VLOOKUP($A9,Participants!$A:$E,3,FALSE)","v":"Morris"},{"$f":"VLOOKUP($A9,Participants!$A:$E,5,FALSE)","v":"St. Barnabas"},{"$error":"#VALUE!"}]
[78,"NH",{"$nulls":3},{"$f":"VLOOKUP($A10,Participants!$A:$E,4,FALSE)","v":7},{"$f":"VLOOKUP($A10,Participants!$A:$E,2,FALSE)","v":"Alex"},{"$f":"VLOOKUP($A10,Participants!$A:$E,3,FALSE)","v":"Maled"},{"$f":"VLOOKUP($A10,Participants!$A:$E,5,FALSE)","v":"St Jude"},{"$error":"#VALUE!"}]
[245,400,{"$nulls":3},{"$f":"VLOOKUP($A11,Participants!$A:$E,4,FALSE)","v":7},{"$f":"VLOOKUP($A11,Participants!$A:$E,2,FALSE)","v":"Isaiah"},{"$f":"VLOOKUP($A11,Participants!$A:$E,3,FALSE)","v":"Littell"},{"$f":"VLOOKUP($A11,Participants!$A:$E,5,FALSE)","v":"United We Run"},4]
[43,"NH",{"$nulls":3},{"$f":"VLOOKUP($A12,Participants!$A:$E,4,FALSE)","v":8},{"$f":"VLOOKUP($A12,Participants!$A:$E,2,FALSE)","v":"Eli"},{"$f":"VLOOKUP($A12,Participants!$A:$E,3,FALSE)","v":"Goers"},{"$f":"VLOOKUP($A12,Participants!$A:$E,5,FALSE)","v":"St Jude"},{"$error":"#VALUE!"}]
[{"$nulls":5},{"$f":"VLOOKUP($A13,Participants!$A:$E,4,FALSE)","v":{"$error":"#N/A"}},{"$f":"VLOOKUP($A13,Participants!$A:$E,2,FALSE)","v":{"$error":"#N/A"}},{"$f":"VLOOKUP($A13,Participants!$A:$E,3,FALSE)","v":{"$error":"#N/A"}},{"$f":"VLOOKUP($A13,Participants!$A:$E,5,FALSE)","v":{"$error":"#N/A"}},{"$error":"#N/A"}]
[{"$nulls":5},{"$f":"VLOOKUP($A14,Participants!$A:$E,4,FALSE)","v":{"$error":"#N/A"}},{"$f":"VLOOKUP($A14,Participants!$A:$E,2,FALSE)","v":{"$error":"#N/A"}},{"$f":"VLOOKUP($A14,Participants!$A:$E,3,FALSE)","v":{"$error":"#N/A"}},{"$f":"VLOOKUP($A14,Participants!$A:$E,5,FALSE)","v":{"$error":"#N/A"}},{"$error":"#N/A"}]
[{"$nulls":5},{"$f":"VLOOKUP($A15,Participants!$A:$E,4,FALSE)","v":{"$error":"#N/A"}},{"$f":"VLOOKUP($A15,Participants!$A:$E,2,FALSE)","v":{"$error":"#N/A"}},{"$f":"VLOOKUP($A15,Participants!$A:$E,3,FALSE)","v":{"$error":"#N/A"}},{"$f":"VLOOKUP($A15,Participants!$A:$E,5,FALSE)","v":{"$error":"#N/A"}},{"$error":"#N/A"}]
[{"$nulls":5},{"$f":"VLOOKUP($A16,Participants!$A:$E,4,FALSE)","v":{"$error":"#N/A"}},{"$f":"VLOOKUP($A16,Participants!$A:$E,2,FALSE)","v":{"$error":"#N/A"}},{"$f":"VLOOKUP($A16,Participants!$A:$E,3,FALSE)","v":{"$error":"#N/A"}},{"$f":"VLOOKUP($A16,Participants!$A:$E,5,FALSE)","v":{"$error":"#N/A"}},{"$error":"#N/A"}]
[{"$nulls":5},{"$f":"VLOOKUP($A17,Participants!$A:$E,4,FALSE)","v":{"$error":"#N/A"}},{"$f":"VLOOKUP($A17,Participants!$A:$E,2,FALSE)","v":{"$error":"#N/A"}},{"$f":"VLOOKUP($A17,Participants!$A:$E,3,FALSE)","v":{"$error":"#N/A"}},{"$f":"VLOOKUP($A17,Participants!$A:$E,5,FALSE)","v":{"$error":"#N/A"}},{"$error":"#N/A"}]
[{"$nulls":5},{"$f":"VLOOKUP($A18,Participants!$A:$E,4,FALSE)","v":{"$error":"#N/A"}},{"$f":"VLOOKUP($A18,Participants!$A:$E,2,FALSE)","v":{"$error":"#N/A"}},{"$f":"VLOOKUP($A18,Participants!$A:$E,3,FALSE)","v":{"$error":"#N/A"}},{"$f":"VLOOKUP($A18,Participants!$A:$E,5,FALSE)","v":{"$error":"#N/A"}},{"$error":"#N/A"}]
[{"$nulls":5},{"$f":"VLOOKUP($A19,Participants!$A:$E,4,FALSE)","v":{"$error":"#N/A"}},{"$f":"VLOOKUP($A19,Participants!$A:$E,2,FALSE)","v":{"$error":"#N/A"}},{"$f":"VLOOKUP($A19,Participants!$A:$E,3,FALSE)","v":{"$error":"#N/A"}},{"$f":"VLOOKUP($A19,Participants!$A:$E,5,FALSE)","v":{"$error":"#N/A"}},{"$error":"#N/A"}]
[{"$nulls":5},{"$f":"VLOOKUP($A20,Participants!$A:$E,4,FALSE)","v":{"$error":"#N/A"}},{"$f":"VLOOKUP($A20,Participants!$A:$E,2,FALSE)","v":{"$error":"#N/A"}},{"$f":"VLOOKUP($A20,Participants!$A:$E,3,FALSE)","v":{"$error":"#N/A"}},{"$f":"VLOOKUP($A20,Participants!$A:$E,5,FALSE)","v":{"$error":"#N/A"}},{"$error":"#N/A"}]
[{"$nulls":5},{"$f":"VLOOKUP($A21,Participants!$A:$E,4,FALSE)","v":{"$error":"#N/A"}},{"$f":"VLOOKUP($A21,Participants!$A:$E,2,FALSE)","v":{"$error":"#N/A"}},{"$f":"VLOOKUP($A21,Participants!$A:$E,3,FALSE)","v":{"$error":"#N/A"}},{"$f":"VLOOKUP($A21,Participants!$A:$E,5,FALSE)","v":{"$error":"#N/A"}},{"$error":"#N/A"}]
[{"$nulls":5},{"$f":"VLOOKUP($A22,Participants!$A:$E,4,FALSE)","v":{"$error":"#N/A"}},{"$f":"VLOOKUP($A22,Participants!$A:$E,2,FALSE)","v":{"$error":"#N/A"}},{"$f":"VLOOKUP($A22,Participants!$A:$E,3,FALSE)","v":{"$error":"#N/A"}},{"$f":"VLOOKUP($A22,Participants!$A:$E,5,FALSE)","v":{"$error":"#N/A"}},{"$error":"#N/A"}]
[{"$nulls":5},{"$f":"VLOOKUP($A23,Participants!$A:$E,4,FALSE)","v":{"$error":"#N/A"}},{"$f":"VLOOKUP($A23,Participants!$A:$E,2,FALSE)","v":{"$error":"#N/A"}},{"$f":"VLOOKUP($A23,Participants!$A:$E,3,FALSE)","v":{"$error":"#N/A"}},{"$f":"VLOOKUP($A23,Participants!$A:$E,5,FALSE)","v":{"$error":"#N/A"}},{"$error":"#N/A"}]
[{"$nulls":5},{"$f":"VLOOKUP($A24,Participants!$A:$E,4,FALSE)","v":{"$error":"#N/A"}},{"$f":"VLOOKUP($A24,Participants!$A:$E,2,FALSE)","v":{"$error":"#N/A"}},{"$f":"VLOOKUP($A24,Participants!$A:$E,3,FALSE)","v":{"$error":"#N/A"}},{"$f":"VLOOKUP($A24,Participants!$A:$E,5,FALSE)","v":{"$error":"#N/A"}},{"$error":"#N/A"}]
[{"$nulls":5},{"$f":"VLOOKUP($A25,Participants!$A:$E,4,FALSE)","v":{"$error":"#N/A"}},{"$f":"VLOOKUP($A25,Participants!$A:$E,2,FALSE)","v":{"$error":"#N/A"}},{"$f":"VLOOKUP($A25,Participants!$A:$E,3,FALSE)","v":{"$error":"#N/A"}},{"$f":"VLOOKUP($A25,Participants!$A:$E,5,FALSE)","v":{"$error":"#N/A"}},{"$error":"#N/A"}]
[{"$nulls":5},{"$f":"VLOOKUP($A26,Participants!$A:$E,4,FALSE)","v":{"$error":"#N/A"}},{"$f":"VLOOKUP($A26,Participants!$A:$E,2,FALSE)","v":{"$error":"#N/A"}},{"$f":"VLOOKUP($A26,Participants!$A:$E,3,FALSE)","v":{"$error":"#N/A"}},{"$f":"VLOOKUP($A26,Participants!$A:$E,5,FALSE)","v":{"$error":"#N/A"}},{"$error":"#N/A"}]
[{"$nulls":5},{"$f":"VLOOKUP($A27,Participants!$A:$E,4,FALSE)","v":{"$error":"#N/A"}},{"$f":"VLOOKUP($A27,Participants!$A:$E,2,FALSE)","v":{"$error":"#N/A"}},{"$f":"VLOOKUP($A27,Participants!$A:$E,3,FALSE)","v":{"$error":"#N/A"}},{"$f":"VLOOKUP($A27,Participants!$A:$E,5,FALSE)","v":{"$error":"#N/A"}},{"$error":"#N/A"}]
[{"$nulls":5},{"$f":"VLOOKUP($A28,Participants!$A:$E,4,FALSE)","v":{"$error":"#N/A"}},{"$f":"VLOOKUP($A28,Participants!$A:$E,2,FALSE)","v":{"$error":"#N/A"}},{"$f":"VLOOKUP($A28,Participants!$A:$E,3,FALSE)","v":{"$error":"#N/A"}},{"$f":"VLOOKUP($A28,Participants!$A:$E,5,FALSE)","v":{"$error":"#N/A"}},{"$error":"#N/A"}]
[{"$nulls":5},{"$f":"VLOOKUP($A29,Participants!$A:$E,4,FALSE)","v":{"$error":"#N/A"}},{"$f":"VLOOKUP($A29,Participants!$A:$E,2,FALSE)","v":{"$error":"#N/A"}},{"$f":"VLOOKUP($A29,Participants!$A:$E,3,FALSE)","v":{"$error":"#N/A"}},{"$f":"VLOOKUP($A29,Participants!$A:$E,5,FALSE)","v":{"$error":"#N/A"}},{"$error":"#N/A"}]
[{"$nulls":5},{"$f":"VLOOKUP($A30,Participants!$A:$E,4,FALSE)","v":{"$error":"#N/A"}},{"$f":"VLOOKUP($A30,Participants!$A:$E,2,FALSE)","v":{"$error":"#N/A"}},{"$f":"VLOOKUP($A30,Participants!$A:$E,3,FALSE)","v":{"$error":"#N/A"}},{"$f":"VLOOKUP($A30,Participants!$A:$E,5,FALSE)","v":{"$error":"#N/A"}},{"$error":"#N/A"}]
[{"$nulls":5},{"$f":"VLOOKUP($A31,Participants!$A:$E,4,FALSE)","v":{"$error":"#N/A"}},{"$f":"VLOOKUP($A31,Participants!$A:$E,2,FALSE)","v":{"$error":"#N/A"}},{"$f":"VLOOKUP($A31,Participants!$A:$E,3,FALSE)","v":{"$error":"#N/A"}},{"$f":"VLOOKUP($A31,Participants!$A:$E,5,FALSE)","v":{"$error":"#N/A"}},{"$error":"#N/A"}]
[{"$nulls":5},{"$f":"VLOOKUP($A32,Participants!$A:$E,4,FALSE)","v":{"$error":"#N/A"}},{"$f":"VLOOKUP($A32,Participants!$A:$E,2,FALSE)","v":{"$error":"#N/A"}},{"$f":"VLOOKUP($A32,Participants!$A:$E,3,FALSE)","v":{"$error":"#N/A"}},{"$f":"VLOOKUP($A32,Participants!$A:$E,5,FALSE)","v":{"$error":"#N/A"}},{"$error":"#N/A"}]
[{"$nulls":5},{"$f":"VLOOKUP($A33,Participants!$A:$E,4,FALSE)","v":{"$error":"#N/A"}},{"$f":"VLOOKUP($A33,Participants!$A:$E,2,FALSE)","v":{"$error":"#N/A"}},{"$f":"VLOOKUP($A33,Participants!$A:$E,3,FALSE)","v":{"$error":"#N/A"}},{"$f":"VLOOKUP($A33,Participants!$A:$E,5,FALSE)","v":{"$error":"#N/A"}},{"$error":"#N/A"}]
[{"$nulls":5},{"$f":"VLOOKUP($A34,Participants!$A:$E,4,FALSE)","v":{"$error":"#N/A"}},{"$f":"VLOOKUP($A34,Participants!$A:$E,2,FALSE)","v":{"$error":"#N/A"}},{"$f":"VLOOKUP($A34,Participants!$A:$E,3,FALSE)","v":{"$error":"#N/A"}},{"$f":"VLOOKUP($A34,Participants!$A:$E,5,FALSE)","v":{"$error":"#N/A"}},{"$error":"#N/A"}]
[{"$nulls":5},{"$f":"VLOOKUP($A35,Participants!$A:$E,4,FALSE)","v":{"$error":"#N/A"}},{"$f":"VLOOKUP($A35,Participants!$A:$E,2,FALSE)","v":{"$error":"#N/A"}},{"$f":"VLOOKUP($A35,Participants!$A:$E,3,FALSE)","v":{"$error":"#N/A"}},{"$f":"VLOOKUP($A35,Participants!$A:$E,5,FALSE)","v":{"$error":"#N/A"}},{"$error":"#N/A"}]
[{"$nulls":5},{"$f":"VLOOKUP($A36,Participants!$A:$E,4,FALSE)","v":{"$error":"#N/A"}},{"$f":"VLOOKUP($A36,Participants!$A:$E,2,FALSE)","v":{"$error":"#N/A"}},{"$f":"VLOOKUP($A36,Participants!$A:$E,3,FALSE)","v":{"$error":"#N/A"}},{"$f":"VLOOKUP($A36,Participants!$A:$E,5,FALSE)","v":{"$error":"#N/A"}},{"$error":"#N/A"}]
[{"$nulls":5},{"$f":"VLOOKUP($A37,Participants!$A:$E,4,FALSE)","v":{"$error":"#N/A"}},{"$f":"VLOOKUP($A37,Participants!$A:$E,2,FALSE)","v":{"$error":"#N/A"}},{"$f":"VLOOKUP($A37,Participants!$A:$E,3,FALSE)","v":{"$error":"#N/A"}},{"$f":"VLOOKUP($A37,Participants!$A:$E,5,FALSE)","v":{"$error":"#N/A"}},{"$error":"#N/A"}]
[{"$nulls":5},{"$f":"VLOOKUP($A38,Participants!$A:$E,4,FALSE)","v":{"$error":"#N/A"}},{"$f":"VLOOKUP($A38,Participants!$A:$E,2,FALSE)","v":{"$error":"#N/A"}},{"$f":"VLOOKUP($A38,Participants!$A:$E,3,FALSE)","v":{"$error":"#N/A"}},{"$f":"VLOOKUP($A38,Participants!$A:$E,5,FALSE)","v":{"$error":"#N/A"}},{"$error":"#N/A"}]
[{"$nulls":5},{"$f":"VLOOKUP($A39,Participants!$A:$E,4,FALSE)","v":{"$error":"#N/A"}},{"$f":"VLOOKUP($A39,Participants!$A:$E,2,FALSE)","v":{"$error":"#N/A"}},{"$f":"VLOOKUP($A39,Participants!$A:$E,3,FALSE)","v":{"$error":"#N/A"}},{"$f":"VLOOKUP($A39,Participants!$A:$E,5,FALSE)","v":{"$error":"#N/A"}},{"$error":"#N/A"}]
[{"$nulls":5},{"$f":"VLOOKUP($A40,Participants!$A:$E,4,FALSE)","v":{"$error":"#N/A"}},{"$f":"VLOOKUP($A40,Participants!$A:$E,2,FALSE)","v":{"$error":"#N/A"}},{"$f":"VLOOKUP($A40,Participants!$A:$E,3,FALSE)","v":{"$error":"#N/A"}},{"$f":"VLOOKUP($A40,Participants!$A:$E,5,FALSE)","v":{"$error":"#N/A"}},{"$error":"#N/A"}]
[{"$nulls":5},{"$f":"VLOOKUP($A41,Participants!$A:$E,4,FALSE)","v":{"$error":"#N/A"}},{"$f":"VLOOKUP($A41,Participants!$A:$E,2,FALSE)","v":{"$error":"#N/A"}},{"$f":"VLOOKUP($A41,Participants!$A:$E,3,FALSE)","v":{"$error":"#N/A"}},{"$f":"VLOOKUP($A41,Participants!$A:$E,5,FALSE)","v":{"$error":"#N/A"}},{"$error":"#N/A"}]
[{"$nulls":5},{"$f":"VLOOKUP($A42,Participants!$A:$E,4,FALSE)","v":{"$error":"#N/A"}},{"$f":"VLOOKUP($A42,Participants!$A:$E,2,FALSE)","v":{"$error":"#N/A"}},{"$f":"VLOOKUP($A42,Participants!$A:$E,3,FALSE)","v":{"$error":"#N/A"}},{"$f":"VLOOKUP($A42,Participants!$A:$E,5,FALSE)","v":{"$error":"#N/A"}},{"$error":"#N/A"}]
[{"$nulls":5},{"$f":"VLOOKUP($A43,Participants!$A:$E,4,FALSE)","v":{"$error":"#N/A"}},{"$f":"VLOOKUP($A43,Participants!$A:$E,2,FALSE)","v":{"$error":"#N/A"}},{"$f":"VLOOKUP($A43,Participants!$A:$E,3,FALSE)","v":{"$error":"#N/A"}},{"$f":"VLOOKUP($A43,Participants!$A:$E,5,FALSE)","v":{"$error":"#N/A"}},{"$error":"#N/A"}]
[{"$nulls":5},{"$f":"VLOOKUP($A44,Participants!$A:$E,4,FALSE)","v":{"$error":"#N/A"}},{"$f":"VLOOKUP($A44,Participants!$A:$E,2,FALSE)","v":{"$error":"#N/A"}},{"$f":"VLOOKUP($A44,Participants!$A:$E,3,FALSE)","v":{"$error":"#N/A"}},{"$f":"VLOOKUP($A44,Participants!$A:$E,5,FALSE)","v":{"$error":"#N/A"}},{"$error":"#N/A"}]
[{"$nulls":5},{"$f":"VLOOKUP($A45,Participants!$A:$E,4,FALSE)","v":{"$error":"#N/A"}},{"$f":"VLOOKUP($A45,Participants!$A:$E,2,FALSE)","v":{"$error":"#N/A"}},{"$f":"VLOOKUP($A45,Participants!$A:$E,3,FALSE)","v":{"$error":"#N/A"}},{"$f":"VLOOKUP($A45,Participants!$A:$E,5,FALSE)","v":{"$error":"#N/A"}},{"$error":"#N/A"}]
[{"$nulls":5},{"$f":"VLOOKUP($A46,Participants!$A:$E,4,FALSE)","v":{"$error":"#N/A"}},{"$f":"VLOOKUP($A46,Participants!$A:$E,2,FALSE)","v":{"$error":"#N/A"}},{"$f":"VLOOKUP($A46,Participants!$A:$E,3,FALSE)","v":{"$error":"#N/A"}},{"$f":"VLOOKUP($A46,Participants!$A:$E,5,FALSE)","v":{"$error":"#N/A"}},{"$error":"#N/A"}]
[{"$nulls":5},{"$f":"VLOOKUP($A47,Participants!$A:$E,4,FALSE)","v":{"$error":"#N/A"}},{"$f":"VLOOKUP($A47,Participants!$A:$E,2,FALSE)","v":{"$error":"#N/A"}},{"$f":"VLOOKUP($A47,Participants!$A:$E,3,FALSE)","v":{"$error":"#N/A"}},{"$f":"VLOOKUP($A47,Participants!$A:$E,5,FALSE)","v":{"$error":"#N/A"}},{"$error":"#N/A"}]
[{"$nulls":5},{"$f":"VLOOKUP($A48,Participants!$A:$E,4,FALSE)","v":{"$error":"#N/A"}},{"$f":"VLOOKUP($A48,Participants!$A:$E,2,FALSE)","v":{"$error":"#N/A"}},{"$f":"VLOOKUP($A48,Participants!$A:$E,3,FALSE)","v":{"$error":"#N/A"}},{"$f":"VLOOKUP($A48,Participants!$A:$E,5,FALSE)","v":{"$error":"#N/A"}},{"$error":"#N/A"}]
[{"$nulls":5},{"$f":"VLOOKUP($A49,Participants!$A:$E,4,FALSE)","v":{"$error":"#N/A"}},{"$f":"VLOOKUP($A49,Participants!$A:$E,2,FALSE)","v":{"$error":"#N/A"}},{"$f":"VLOOKUP($A49,Participants!$A:$E,3,FALSE)","v":{"$error":"#N/A"}},{"$f":"VLOOKUP($A49,Participants!$A:$E,5,FALSE)","v":{"$error":"#N/A"}},{"$error":"#N/A"}]
[{"$nulls":5},{"$f":"VLOOKUP($A50,Participants!$A:$E,4,FALSE)","v":{"$error":"#N/A"}},{"$f":"VLOOKUP($A50,Participants!$A:$E,2,FALSE)","v":{"$error":"#N/A"}},{"$f":"VLOOKUP($A50,Participants!$A:$E,3,FALSE)","v":{"$error":"#N/A"}},{"$f":"VLOOKUP($A50,Participants!$A:$E,5,FALSE)","v":{"$error":"#N/A"}},{"$error":"#N/A"}]
[{"$nulls":5},{"$f":"VLOOKUP($A51,Participants!$A:$E,4,FALSE)","v":{"$error":"#N/A"}},{"$f":"VLOOKUP($A51,Participants!$A:$E,2,FALSE)","v":{"$error":"#N/A"}},{"$f":"VLOOKUP($A51,Participants!$A:$E,3,FALSE)","v":{"$error":"#N/A"}},{"$f":"VLOOKUP($A51,Participants!$A:$E,5,FALSE)","v":{"$error":"#N/A"}},{"$error":"#N/A"}]
[{"$nulls":5},{"$f":"VLOOKUP($A52,Participants!$A:$E,4,FALSE)","v":{"$error":"#N/A"}},{"$f":"VLOOKUP($A52,Participants!$A:$E,2,FALSE)","v":{"$error":"#N/A"}},{"$f":"VLOOKUP($A52,Participants!$A:$E,3,FALSE)","v":{"$error":"#N/A"}},{"$f":"VLOOKUP($A52,Participants!$A:$E,5,FALSE)","v":{"$error":"#N/A"}},{"$error":"#N/A"}]
[{"$nulls":5},{"$f":"VLOOKUP($A53,Participants!$A:$E,4,FALSE)","v":{"$error":"#N/A"}},{"$f":"VLOOKUP($A53,Participants!$A:$E,2,FALSE)","v":{"$error":"#N/A"}},{"$f":"VLOOKUP($A53,Participants!$A:$E,3,FALSE)","v":{"$error":"#N/A"}},{"$f":"VLOOKUP($A53,Participants!$A:$E,5,FALSE)","v":{"$error":"#N/A"}},{"$error":"#N/A"}]
[{"$nulls":5},{"$f":"VLOOKUP($A54,Participants!$A:$E,4,FALSE)","v":{"$error":"#N/A"}},{"$f":"VLOOKUP($A54,Participants!$A:$E,2,FALSE)","v":{"$error":"#N/A"}},{"$f":"VLOOKUP($A54,Participants!$A:$E,3,FALSE)","v":{"$error":"#N/A"}},{"$f":"VLOOKUP($A54,Participants!$A:$E,5,FALSE)","v":{"$error":"#N/A"}},{"$error":"#N/A"}]
[{"$nulls":5},{"$f":"VLOOKUP($A55,Participants!$A:$E,4,FALSE)","v":{"$error":"#N/A"}},{"$f":"VLOOKUP($A55,Participants!$A:$E,2,FALSE)","v":{"$error":"#N/A"}},{"$f":"VLOOKUP($A55,Participants!$A:$E,3,FALSE)","v":{"$error":"#N/A"}},{"$f":"VLOOKUP($A55,Participants!$A:$E,5,FALSE)","v":{"$error":"#N/A"}},{"$error":"#N/A"}]
[{"$nulls":5},{"$f":"VLOOKUP($A56,Participants!$A:$E,4,FALSE)","v":{"$error":"#N/A"}},{"$f":"VLOOKUP($A56,Participants!$A:$E,2,FALSE)","v":{"$error":"#N/A"}},{"$f":"VLOOKUP($A56,Participants!$A:$E,3,FALSE)","v":{"$error":"#N/A"}},{"$f":"VLOOKUP($A56,Participants!$A:$E,5,FALSE)","v":{"$error":"#N/A"}},{"$error":"#N/A"}]
[{"$nulls":5},{"$f":"VLOOKUP($A57,Participants!$A:$E,4,FALSE)","v":{"$error":"#N/A"}},{"$f":"VLOOKUP($A57,Participants!$A:$E,2,FALSE)","v":{"$error":"#N/A"}},{"$f":"VLOOKUP($A57,Participants!$A:$E,3,FALSE)","v":{"$error":"#N/A"}},{"$f":"VLOOKUP($A57,Participants!$A:$E,5,FALSE)","v":{"$error":"#N/A"}},{"$error":"#N/A"}]
[{"$nulls":5},{"$f":"VLOOKUP($A58,Participants!$A:$E,4,FALSE)","v":{"$error":"#N/A"}},{"$f":"VLOOKUP($A58,Participants!$A:$E,2,FALSE)","v":{"$error":"#N/A"}},{"$f":"VLOOKUP($A58,Participants!$A:$E,3,FALSE)","v":{"$error":"#N/A"}},{"$f":"VLOOKUP($A58,Participants!$A:$E,5,FALSE)","v":{"$error":"#N/A"}},{"$error":"#N/A"}]
[{"$nulls":5},{"$f":"VLOOKUP($A59,Participants!$A:$E,4,FALSE)","v":{"$error":"#N/A"}},{"$f":"VLOOKUP($A59,Participants!$A:$E,2,FALSE)","v":{"$error":"#N/A"}},{"$f":"VLOOKUP($A59,Participants!$A:$E,3,FALSE)","v":{"$error":"#N/A"}},{"$f":"VLOOKUP($A59,Participants!$A:$E,5,FALSE)","v":{"$error":"#N/A"}},{"$error":"#N/A"}]
[{"$nulls":5},{"$f":"VLOOKUP($A60,Participants!$A:$E,4,FALSE)","v":{"$error":"#N/A"}},{"$f":"VLOOKUP($A60,Participants!$A:$E,2,FALSE)","v":{"$error":"#N/A"}},{"$f":"VLOOKUP($A60,Participants!$A:$E,3,FALSE)","v":{"$error":"#N/A"}},{"$f":"VLOOKUP($A60,Participants!$A:$E,5,FALSE)","v":{"$error":"#N/A"}},{"$error":"#N/A"}]
[{"$nulls":5},{"$f":"VLOOKUP($A61,Participants!$A:$E,4,FALSE)","v":{"$error":"#N/A"}},{"$f":"VLOOKUP($A61,Participants!$A:$E,2,FALSE)","v":{"$error":"#N/A"}},{"$f":"VLOOKUP($A61,Participants!$A:$E,3,FALSE)","v":{"$error":"#N/A"}},{"$f":"VLOOKUP($A61,Participants!$A:$E,5,FALSE)","v":{"$error":"#N/A"}},{"$error":"#N/A"}]
[{"$nulls":5},{"$f":"VLOOKUP($A62,Participants!$A:$E,4,FALSE)","v":{"$error":"#N/A"}},{"$f":"VLOOKUP($A62,Participants!$A:$E,2,FALSE)","v":{"$error":"#N/A"}},{"$f":"VLOOKUP($A62,Participants!$A:$E,3,FALSE)","v":{"$error":"#N/A"}},{"$f":"VLOOKUP($A62,Participants!$A:$E,5,FALSE)","v":{"$error":"#N/A"}},{"$error":"#N/A"}]
[{"$nulls":5},{"$f":"VLOOKUP($A63,Participants!$A:$E,4,FALSE)","v":{"$error":"#N/A"}},{"$f":"VLOOKUP($A63,Participants!$A:$E,2,FALSE)","v":{"$error":"#N/A"}},{"$f":"VLOOKUP($A63,Participants!$A:$E,3,FALSE)","v":{"$error":"#N/A"}},{"$f":"VLOOKUP($A63,Participants!$A:$E,5,FALSE)","v":{"$error":"#N/A"}},{"$error":"#N/A"}]
[{"$nulls":5},{"$f":"VLOOKUP($A64,Participants!$A:$E,4,FALSE)","v":{"$error":"#N/A"}},{"$f":"VLOOKUP($A64,Participants!$A:$E,2,FALSE)","v":{"$error":"#N/A"}},{"$f":"VLOOKUP($A64,Participants!$A:$E,3,FALSE)","v":{"$error":"#N/A"}},{"$f":"VLOOKUP($A64,Participants!$A:$E,5,FALSE)","v":{"$error":"#N/A"}},{"$error":"#N/A"}]
[{"$nulls":5},{"$f":"VLOOKUP($A65,Participants!$A:$E,4,FALSE)","v":{"$error":"#N/A"}},{"$f":"VLOOKUP($A65,Participants!$A:$E,2,FALSE)","v":{"$error":"#N/A"}},{"$f":"VLOOKUP($A65,Participants!$A:$E,3,FALSE)","v":{"$error":"#N/A"}},{"$f":"VLOOKUP($A65,Participants!$A:$E,5,FALSE)","v":{"$error":"#N/A"}},{"$error":"#N/A"}]
[{"$nulls":5},{"$f":"VLOOKUP($A66,Participants!$A:$E,4,FALSE)","v":{"$error":"#N/A"}},{"$f":"VLOOKUP($A66,Participants!$A:$E,2,FALSE)","v":{"$error":"#N/A"}},{"$f":"VLOOKUP($A66,Participants!$A:$E,3,FALSE)","v":{"$error":"#N/A"}},{"$f":"VLOOKUP($A66,Participants!$A:$E,5,FALSE)","v":{"$error":"#N/A"}},{"$error":"#N/A"}]
[{"$nulls":5},{"$f":"VLOOKUP($A67,Participants!$A:$E,4,FALSE)","v":{"$error":"#N/A"}},{"$f":"VLOOKUP($A67,Participants!$A:$E,2,FALSE)","v":{"$error":"#N/A"}},{"$f":"VLOOKUP($A67,Participants!$A:$E,3,FALSE)","v":{"$error":"#N/A"}},{"$f":"VLOOKUP($A67,Participants!$A:$E,5,FALSE)","v":{"$error":"#N/A"}},{"$f":"RANK(B67,$B$1:$B$97,0)","v":{"$error":"#N/A"}}]
[{"$nulls":5},{"$f":"VLOOKUP($A68,Participants!$A:$E,4,FALSE)","v":{"$error":"#N/A"}},{"$f":"VLOOKUP($A68,Participants!$A:$E,2,FALSE)","v":{"$error":"#N/A"}},{"$f":"VLOOKUP($A68,Participants!$A:$E,3,FALSE)","v":{"$error":"#N/A"}},{"$f":"VLOOKUP($A68,Participants!$A:$E,5,FALSE)","v":{"$error":"#N/A"}},{"$error":"#N/A"}]
[{"$nulls":5},{"$f":"VLOOKUP($A69,Participants!$A:$E,4,FALSE)","v":{"$error":"#N/A"}},{"$f":"VLOOKUP($A69,Participants!$A:$E,2,FALSE)","v":{"$error":"#N/A"}},{"$f":"VLOOKUP($A69,Participants!$A:$E,3,FALSE)","v":{"$error":"#N/A"}},{"$f":"VLOOKUP($A69,Participants!$A:$E,5,FALSE)","v":{"$error":"#N/A"}},{"$error":"#N/A"}]
[{"$nulls":5},{"$f":"VLOOKUP($A70,Participants!$A:$E,4,FALSE)","v":{"$error":"#N/A"}},{"$f":"VLOOKUP($A70,Participants!$A:$E,2,FALSE)","v":{"$error":"#N/A"}},{"$f":"VLOOKUP($A70,Participants!$A:$E,3,FALSE)","v":{"$error":"#N/A"}},{"$f":"VLOOKUP($A70,Participants!$A:$E,5,FALSE)","v":{"$error":"#N/A"}},{"$error":"#N/A"}]
[{"$nulls":5},{"$f":"VLOOKUP($A71,Participants!$A:$E,4,FALSE)","v":{"$error":"#N/A"}},{"$f":"VLOOKUP($A71,Participants!$A:$E,2,FALSE)","v":{"$error":"#N/A"}},{"$f":"VLOOKUP($A71,Participants!$A:$E,3,FALSE)","v":{"$error":"#N/A"}},{"$f":"VLOOKUP($A71,Participants!$A:$E,5,FALSE)","v":{"$error":"#N/A"}},{"$error":"#N/A"}]
[{"$nulls":5},{"$f":"VLOOKUP($A72,Participants!$A:$E,4,FALSE)","v":{"$error":"#N/A"}},{"$f":"VLOOKUP($A72,Participants!$A:$E,2,FALSE)","v":{"$error":"#N/A"}},{"$f":"VLOOKUP($A72,Participants!$A:$E,3,FALSE)","v":{"$error":"#N/A"}},{"$f":"VLOOKUP($A72,Participants!$A:$E,5,FALSE)","v":{"$error":"#N/A"}},{"$error":"#N/A"}]
[{"$nulls":5},{"$f":"VLOOKUP($A73,Participants!$A:$E,4,FALSE)","v":{"$error":"#N/A"}},{"$f":"VLOOKUP($A73,Participants!$A:$E,2,FALSE)","v":{"$error":"#N/A"}},{"$f":"VLOOKUP($A73,Participants!$A:$E,3,FALSE)","v":{"$error":"#N/A"}},{"$f":"VLOOKUP($A73,Participants!$A:$E,5,FALSE)","v":{"$error":"#N/A"}},{"$error":"#N/A"}]
[{"$nulls":5},{"$f":"VLOOKUP($A74,Participants!$A:$E,4,FALSE)","v":{"$error":"#N/A"}},{"$f":"VLOOKUP($A74,Participants!$A:$E,2,FALSE)","v":{"$error":"#N/A"}},{"$f":"VLOOKUP($A74,Participants!$A:$E,3,FALSE)","v":{"$error":"#N/A"}},{"$f":"VLOOKUP($A74,Participants!$A:$E,5,FALSE)","v":{"$error":"#N/A"}},{"$error":"#N/A"}]
[{"$nulls":5},{"$f":"VLOOKUP($A75,Participants!$A:$E,4,FALSE)","v":{"$error":"#N/A"}},{"$f":"VLOOKUP($A75,Participants!$A:$E,2,FALSE)","v":{"$error":"#N/A"}},{"$f":"VLOOKUP($A75,Participants!$A:$E,3,FALSE)","v":{"$error":"#N/A"}},{"$f":"VLOOKUP($A75,Participants!$A:$E,5,FALSE)","v":{"$error":"#N/A"}},{"$error":"#N/A"}]
[{"$nulls":5},{"$f":"VLOOKUP($A76,Participants!$A:$E,4,FALSE)","v":{"$error":"#N/A"}},{"$f":"VLOOKUP($A76,Participants!$A:$E,2,FALSE)","v":{"$error":"#N/A"}},{"$f":"VLOOKUP($A76,Participants!$A:$E,3,FALSE)","v":{"$error":"#N/A"}},{"$f":"VLOOKUP($A76,Participants!$A:$E,5,FALSE)","v":{"$error":"#N/A"}},{"$error":"#N/A"}]
[{"$nulls":5},{"$f":"VLOOKUP($A77,Participants!$A:$E,4,FALSE)","v":{"$error":"#N/A"}},{"$f":"VLOOKUP($A77,Participants!$A:$E,2,FALSE)","v":{"$error":"#N/A"}},{"$f":"VLOOKUP($A77,Participants!$A:$E,3,FALSE)","v":{"$error":"#N/A"}},{"$f":"VLOOKUP($A77,Participants!$A:$E,5,FALSE)","v":{"$error":"#N/A"}},{"$error":"#N/A"}]
[{"$nulls":5},{"$f":"VLOOKUP($A78,Participants!$A:$E,4,FALSE)","v":{"$error":"#N/A"}},{"$f":"VLOOKUP($A78,Participants!$A:$E,2,FALSE)","v":{"$error":"#N/A"}},{"$f":"VLOOKUP($A78,Participants!$A:$E,3,FALSE)","v":{"$error":"#N/A"}},{"$f":"VLOOKUP($A78,Participants!$A:$E,5,FALSE)","v":{"$error":"#N/A"}},{"$error":"#N/A"}]
[{"$nulls":5},{"$f":"VLOOKUP($A79,Participants!$A:$E,4,FALSE)","v":{"$error":"#N/A"}},{"$f":"VLOOKUP($A79,Participants!$A:$E,2,FALSE)","v":{"$error":"#N/A"}},{"$f":"VLOOKUP($A79,Participants!$A:$E,3,FALSE)","v":{"$error":"#N/A"}},{"$f":"VLOOKUP($A79,Participants!$A:$E,5,FALSE)","v":{"$error":"#N/A"}},{"$error":"#N/A"}]
[{"$nulls":5},{"$f":"VLOOKUP($A80,Participants!$A:$E,4,FALSE)","v":{"$error":"#N/A"}},{"$f":"VLOOKUP($A80,Participants!$A:$E,2,FALSE)","v":{"$error":"#N/A"}},{"$f":"VLOOKUP($A80,Participants!$A:$E,3,FALSE)","v":{"$error":"#N/A"}},{"$f":"VLOOKUP($A80,Participants!$A:$E,5,FALSE)","v":{"$error":"#N/A"}},{"$error":"#N/A"}]
[{"$nulls":5},{"$f":"VLOOKUP($A81,Participants!$A:$E,4,FALSE)","v":{"$error":"#N/A"}},{"$f":"VLOOKUP($A81,Participants!$A:$E,2,FALSE)","v":{"$error":"#N/A"}},{"$f":"VLOOKUP($A81,Participants!$A:$E,3,FALSE)","v":{"$error":"#N/A"}},{"$f":"VLOOKUP($A81,Participants!$A:$E,5,FALSE)","v":{"$error":"#N/A"}},{"$error":"#N/A"}]
[{"$nulls":5},{"$f":"VLOOKUP($A82,Participants!$A:$E,4,FALSE)","v":{"$error":"#N/A"}},{"$f":"VLOOKUP($A82,Participants!$A:$E,2,FALSE)","v":{"$error":"#N/A"}},{"$f":"VLOOKUP($A82,Participants!$A:$E,3,FALSE)","v":{"$error":"#N/A"}},{"$f":"VLOOKUP($A82,Participants!$A:$E,5,FALSE)","v":{"$error":"#N/A"}},{"$error":"#N/A"}]
[{"$nulls":5},{"$f":"VLOOKUP($A83,Participants!$A:$E,4,FALSE)","v":{"$error":"#N/A"}},{"$f":"VLOOKUP($A83,Participants!$A:$E,2,FALSE)","v":{"$error":"#N/A"}},{"$f":"VLOOKUP($A83,Participants!$A:$E,3,FALSE)","v":{"$error":"#N/A"}},{"$f":"VLOOKUP($A83,Participants!$A:$E,5,FALSE)","v":{"$error":"#N/A"}},{"$error":"#N/A"}]
[{"$nulls":5},{"$f":"VLOOKUP($A84,Participants!$A:$E,4,FALSE)","v":{"$error":"#N/A"}},{"$f":"VLOOKUP($A84,Participants!$A:$E,2,FALSE)","v":{"$error":"#N/A"}},{"$f":"VLOOKUP($A84,Participants!$A:$E,3,FALSE)","v":{"$error":"#N/A"}},{"$f":"VLOOKUP($A84,Participants!$A:$E,5,FALSE)","v":{"$error":"#N/A"}},{"$error":"#N/A"}]
[{"$nulls":5},{"$f":"VLOOKUP($A85,Participants!$A:$E,4,FALSE)","v":{"$error":"#N/A"}},{"$f":"VLOOKUP($A85,Participants!$A:$E,2,FALSE)","v":{"$error":"#N/A"}},{"$f":"VLOOKUP($A85,Participants!$A:$E,3,FALSE)","v":{"$error":"#N/A"}},{"$f":"VLOOKUP($A85,Participants!$A:$E,5,FALSE)","v":{"$error":"#N/A"}},{"$error":"#N/A"}]
[{"$nulls":5},{"$f":"VLOOKUP($A86,Participants!$A:$E,4,FALSE)","v":{"$error":"#N/A"}},{"$f":"VLOOKUP($A86,Participants!$A:$E,2,FALSE)","v":{"$error":"#N/A"}},{"$f":"VLOOKUP($A86,Participants!$A:$E,3,FALSE)","v":{"$error":"#N/A"}},{"$f":"VLOOKUP($A86,Participants!$A:$E,5,FALSE)","v":{"$error":"#N/A"}},{"$error":"#N/A"}]
[{"$nulls":5},{"$f":"VLOOKUP($A87,Participants!$A:$E,4,FALSE)","v":{"$error":"#N/A"}},{"$f":"VLOOKUP($A87,Participants!$A:$E,2,FALSE)","v":{"$error":"#N/A"}},{"$f":"VLOOKUP($A87,Participants!$A:$E,3,FALSE)","v":{"$error":"#N/A"}},{"$f":"VLOOKUP($A87,Participants!$A:$E,5,FALSE)","v":{"$error":"#N/A"}},{"$error":"#N/A"}]
[{"$nulls":5},{"$f":"VLOOKUP($A88,Participants!$A:$E,4,FALSE)","v":{"$error":"#N/A"}},{"$f":"VLOOKUP($A88,Participants!$A:$E,2,FALSE)","v":{"$error":"#N/A"}},{"$f":"VLOOKUP($A88,Participants!$A:$E,3,FALSE)","v":{"$error":"#N/A"}},{"$f":"VLOOKUP($A88,Participants!$A:$E,5,FALSE)","v":{"$error":"#N/A"}},{"$error":"#N/A"}]
[{"$nulls":5},{"$f":"VLOOKUP($A89,Participants!$A:$E,4,FALSE)","v":{"$error":"#N/A"}},{"$f":"VLOOKUP($A89,Participants!$A:$E,2,FALSE)","v":{"$error":"#N/A"}},{"$f":"VLOOKUP($A89,Participants!$A:$E,3,FALSE)","v":{"$error":"#N/A"}},{"$f":"VLOOKUP($A89,Participants!$A:$E,5,FALSE)","v":{"$error":"#N/A"}},{"$error":"#N/A"}]
[{"$nulls":5},{"$f":"VLOOKUP($A90,Participants!$A:$E,4,FALSE)","v":{"$error":"#N/A"}},{"$f":"VLOOKUP($A90,Participants!$A:$E,2,FALSE)","v":{"$error":"#N/A"}},{"$f":"VLOOKUP($A90,Participants!$A:$E,3,FALSE)","v":{"$error":"#N/A"}},{"$f":"VLOOKUP($A90,Participants!$A:$E,5,FALSE)","v":{"$error":"#N/A"}},{"$error":"#N/A"}]
[{"$nulls":5},{"$f":"VLOOKUP($A91,Participants!$A:$E,4,FALSE)","v":{"$error":"#N/A"}},{"$f":"VLOOKUP($A91,Participants!$A:$E,2,FALSE)","v":{"$error":"#N/A"}},{"$f":"VLOOKUP($A91,Participants!$A:$E,3,FALSE)","v":{"$error":"#N/A"}},{"$f":"VLOOKUP($A91,Participants!$A:$E,5,FALSE)","v":{"$error":"#N/A"}},{"$error":"#N/A"}]
[{"$nulls":5},{"$f":"VLOOKUP($A92,Participants!$A:$E,4,FALSE)","v":{"$error":"#N/A"}},{"$f":"VLOOKUP($A92,Participants!$A:$E,2,FALSE)","v":{"$error":"#N/A"}},{"$f":"VLOOKUP($A92,Participants!$A:$E,3,FALSE)","v":{"$error":"#N/A"}},{"$f":"VLOOKUP($A92,Participants!$A:$E,5,FALSE)","v":{"$error":"#N/A"}},{"$error":"#N/A"}]
[{"$nulls":5},{"$f":"VLOOKUP($A93,Participants!$A:$E,4,FALSE)","v":{"$error":"#N/A"}},{"$f":"VLOOKUP($A93,Participants!$A:$E,2,FALSE)","v":{"$error":"#N/A"}},{"$f":"VLOOKUP($A93,Participants!$A:$E,3,FALSE)","v":{"$error":"#N/A"}},{"$f":"VLOOKUP($A93,Participants!$A:$E,5,FALSE)","v":{"$error":"#N/A"}},{"$error":"#N/A"}]
[{"$nulls":5},{"$f":"VLOOKUP($A94,Participants!$A:$E,4,FALSE)","v":{"$error":"#N/A"}},{"$f":"VLOOKUP($A94,Participants!$A:$E,2,FALSE)","v":{"$error":"#N/A"}},{"$f":"VLOOKUP($A94,Participants!$A:$E,3,FALSE)","v":{"$error":"#N/A"}},{"$f":"VLOOKUP($A94,Participants!$A:$E,5,FALSE)","v":{"$error":"#N/A"}},{"$error":"#N/A"}]
[{"$nulls":5},{"$f":"VLOOKUP($A95,Participants!$A:$E,4,FALSE)","v":{"$error":"#N/A"}},{"$f":"VLOOKUP($A95,Participants!$A:$E,2,FALSE)","v":{"$error":"#N/A"}},{"$f":"VLOOKUP($A95,Participants!$A:$E,3,FALSE)","v":{"$error":"#N/A"}},{"$f":"VLOOKUP($A95,Participants!$A:$E,5,FALSE)","v":{"$error":"#N/A"}},{"$error":"#N/A"}]
[{"$nulls":5},{"$f":"VLOOKUP($A96,Participants!$A:$E,4,FALSE)","v":{"$error":"#N/A"}},{"$f":"VLOOKUP($A96,Participants!$A:$E,2,FALSE)","v":{"$error":"#N/A"}},{"$f":"VLOOKUP($A96,Participants!$A:$E,3,FALSE)","v":{"$error":"#N/A"}},{"$f":"VLOOKUP($A96,Participants!$A:$E,5,FALSE)","v":{"$error":"#N/A"}},{"$error":"#N/A"}]
[{"$nulls":5},{"$f":"VLOOKUP($A97,Participants!$A:$E,4,FALSE)","v":{"$error":"#N/A"}},{"$f":"VLOOKUP($A97,Participants!$A:$E,2,FALSE)","v":{"$error":"#N/A"}},{"$f":"VLOOKUP($A97,Participants!$A:$E,3,FALSE)","v":{"$error":"#N/A"}},{"$f":"VLOOKUP($A97,Participants!$A:$E,5,FALSE)","v":{"$error":"#N/A"}},{"$error":"#N/A"}]
[{"$nulls":5},{"$f":"VLOOKUP($A98,Participants!$A:$E,4,FALSE)","v":{"$error":"#N/A"}},{"$f":"VLOOKUP($A98,Participants!$A:$E,2,FALSE)","v":{"$error":"#N/A"}},{"$f":"VLOOKUP($A98,Participants!$A:$E,3,FALSE)","v":{"$error":"#N/A"}},{"$f":"VLOOKUP($A98,Participants!$A:$E,5,FALSE)","v":{"$error":"#N/A"}},{"$error":"#N/A"}]
[{"$nulls":5},{"$f":"VLOOKUP($A99,Participants!$A:$E,4,FALSE)","v":{"$error":"#N/A"}},{"$f":"VLOOKUP($A99,Participants!$A:$E,2,FALSE)","v":{"$error":"#N/A"}},{"$f":"VLOOKUP($A99,Participants!$A:$E,3,FALSE)","v":{"$error":"#N/A"}},{"$f":"VLOOKUP($A99,Participants!$A:$E,5,FALSE)","v":{"$error":"#N/A"}},{"$error":"#N/A"}]
[{"$nulls":5},{"$f":"VLOOKUP($A100,Participants!$A:$E,4,FALSE)","v":{"$error":"#N/A"}},{"$f":"VLOOKUP($A100,Participants!$A:$E,2,FALSE)","v":{"$error":"#N/A"}},{"$f":"VLOOKUP($A100,Participants!$A:$E,3,FALSE)","v":{"$error":"#N/A"}},{"$f":"VLOOKUP($A100,Participants!$A:$E,5,FALSE)","v":{"$error":"#N/A"}},{"$error":"#N/A"}]
[{"$nulls":5},{"$f":"VLOOKUP($A101,Participants!$A:$E,4,FALSE)","v":{"$error":"#N/A"}},{"$f":"VLOOKUP($A101,Participants!$A:$E,2,FALSE)","v":{"$error":"#N/A"}},{"$f":"VLOOKUP($A101,Participants!$A:$E,3,FALSE)","v":{"$error":"#N/A"}},{"$f":"VLOOKUP($A101,Participants!$A:$E,5,FALSE)","v":{"$error":"#N/A"}},{"$error":"#N/A"}]

{"sheet":"4X100 Boys","index":30,"n_rows":40,"n_cols":13,"rows_kept":40}
["Bib","HeatOrder",null,"Time","Grade","FName","Lname","School","Heat","Heat Place","Overall Place",null,"Return to Schedule of Events"]
[]
[169,"Lap 1","00:01:10.100","00:01:10.100",{"$f":"VLOOKUP($A3,Participants!$A:$E,4,FALSE)","v":4},{"$f":"VLOOKUP($A3,Participants!$A:$E,2,FALSE)","v":"Xavier"},{"$f":"VLOOKUP($A3,Participants!$A:$E,3,FALSE)","v":"Eble"},{"$f":"VLOOKUP($A3,Participants!$A:$E,5,FALSE)","v":"SSFC"},1,{"$f":"RANK(D3,IF(I3=1,$D$3:$D$8,),1)","v":1},{"$f":"RANK(D3,$D$3:$D$8,1)","v":1}]
[79,"Lap 2","00:00:03.990","00:01:14.090",{"$f":"VLOOKUP($A4,Participants!$A:$E,4,FALSE)","v":4},{"$f":"VLOOKUP($A4,Participants!$A:$E,2,FALSE)","v":"Isaac"},{"$f":"VLOOKUP($A4,Participants!$A:$E,3,FALSE)","v":"Mappes"},{"$f":"VLOOKUP($A4,Participants!$A:$E,5,FALSE)","v":"St Jude"},1,2,2,null,"Add or Update Participants"]
[309,"Lap 3","00:00:03.010","00:01:17.110",{"$f":"VLOOKUP($A5,Participants!$A:$E,4,FALSE)","v":4},{"$f":"VLOOKUP($A5,Participants!$A:$E,2,FALSE)","v":"Vince"},{"$f":"VLOOKUP($A5,Participants!$A:$E,3,FALSE)","v":"Uberta"},{"$f":"VLOOKUP($A5,Participants!$A:$E,5,FALSE)","v":"St. Barnabas"},1,3,3,null,"Overall Place and Points"]
[122,"Lap 4","00:00:00.710","00:01:17.820",{"$f":"VLOOKUP($A6,Participants!$A:$E,4,FALSE)","v":3},{"$f":"VLOOKUP($A6,Participants!$A:$E,2,FALSE)","v":"Dominic"},{"$f":"VLOOKUP($A6,Participants!$A:$E,3,FALSE)","v":"Smith"},{"$f":"VLOOKUP($A6,Participants!$A:$E,5,FALSE)","v":"St Jude"},1,4,4]
[192,"Lap 5","00:00:04.920","00:01:22.740",{"$f":"VLOOKUP($A7,Participants!$A:$E,4,FALSE)","v":4},{"$f":"VLOOKUP($A7,Participants!$A:$E,2,FALSE)","v":"Sam"},{"$f":"VLOOKUP($A7,Participants!$A:$E,3,FALSE)","v":"Rodgers"},{"$f":"VLOOKUP($A7,Participants!$A:$E,5,FALSE)","v":"SSFC"},1,5,5]
[{"$nulls":4},{"$f":"VLOOKUP($A8,Participants!$A:$E,4,FALSE)","v":{"$error":"#N/A"}},{"$f":"VLOOKUP($A8,Participants!$A:$E,2,FALSE)","v":{"$error":"#N/A"}},{"$f":"VLOOKUP($A8,Participants!$A:$E,3,FALSE)","v":{"$error":"#N/A"}},{"$f":"VLOOKUP($A8,Participants!$A:$E,5,FALSE)","v":{"$error":"#N/A"}},1,{"$error":"#N/A"},{"$error":"#N/A"},null,"Only capture Anchor (last) runner"]
[]
[128,"Lap 1","00:01:05.150","00:01:05.150",{"$f":"VLOOKUP($A10,Participants!$A:$E,4,FALSE)","v":5},{"$f":"VLOOKUP($A10,Participants!$A:$E,2,FALSE)","v":"Fiersen"},{"$f":"VLOOKUP($A10,Participants!$A:$E,3,FALSE)","v":"Steele"},{"$f":"VLOOKUP($A10,Participants!$A:$E,5,FALSE)","v":"St Jude"},2,{"$f":"RANK(D10,IF(I10=2,$D$10:$D$12),1)","v":1},{"$f":"RANK(D10,$D$10:$D$12,1)","v":1}]
[301,"Lap 2","00:00:08.330","00:01:13.480",{"$f":"VLOOKUP($A11,Participants!$A:$E,4,FALSE)","v":5},{"$f":"VLOOKUP($A11,Participants!$A:$E,2,FALSE)","v":"Jonah"},{"$f":"VLOOKUP($A11,Participants!$A:$E,3,FALSE)","v":"Roell"},{"$f":"VLOOKUP($A11,Participants!$A:$E,5,FALSE)","v":"St. Barnabas"},2,{"$f":"RANK(D11,IF(I11=2,$D$10:$D$12),1)","v":2},{"$f":"RANK(D11,$D$10:$D$12,1)","v":2}]
[205,"Lap 3","00:00:01.910","00:01:15.390",{"$f":"VLOOKUP($A12,Participants!$A:$E,4,FALSE)","v":6},{"$f":"VLOOKUP($A12,Participants!$A:$E,2,FALSE)","v":"Isaac"},{"$f":"VLOOKUP($A12,Participants!$A:$E,3,FALSE)","v":"Timberlake"},{"$f":"VLOOKUP($A12,Participants!$A:$E,5,FALSE)","v":"SSFC"},2,{"$f":"RANK(D12,IF(I12=2,$D$10:$D$12),1)","v":3},{"$f":"RANK(D12,$D$10:$D$12,1)","v":3}]
[]
[53,"Lap 1","00:00:58.440","00:00:58.440",{"$f":"VLOOKUP($A14,Participants!$A:$E,4,FALSE)","v":8},{"$f":"VLOOKUP($A14,Participants!$A:$E,2,FALSE)","v":"Robert"},{"$f":"VLOOKUP($A14,Participants!$A:$E,3,FALSE)","v":"Houser"},{"$f":"VLOOKUP($A14,Participants!$A:$E,5,FALSE)","v":"St Jude"},3,{"$f":"RANK(D14,IF(I14=3,$D$14:$D$19,),1)","v":1},{"$f":"RANK(D14,$D$14:$D$40,1)","v":1}]
[{"$nulls":4},{"$f":"VLOOKUP($A15,Participants!$A:$E,4,FALSE)","v":{"$error":"#N/A"}},{"$f":"VLOOKUP($A15,Participants!$A:$E,2,FALSE)","v":{"$error":"#N/A"}},{"$f":"VLOOKUP($A15,Participants!$A:$E,3,FALSE)","v":{"$error":"#N/A"}},{"$f":"VLOOKUP($A15,Participants!$A:$E,5,FALSE)","v":{"$error":"#N/A"}},3,{"$error":"#N/A"},{"$f":"RANK(D15,$D$14:$D$40,1)","v":{"$error":"#N/A"}}]
[{"$nulls":4},{"$f":"VLOOKUP($A16,Participants!$A:$E,4,FALSE)","v":{"$error":"#N/A"}},{"$f":"VLOOKUP($A16,Participants!$A:$E,2,FALSE)","v":{"$error":"#N/A"}},{"$f":"VLOOKUP($A16,Participants!$A:$E,3,FALSE)","v":{"$error":"#N/A"}},{"$f":"VLOOKUP($A16,Participants!$A:$E,5,FALSE)","v":{"$error":"#N/A"}},3,{"$error":"#N/A"},{"$error":"#N/A"}]
[{"$nulls":4},{"$f":"VLOOKUP($A17,Participants!$A:$E,4,FALSE)","v":{"$error":"#N/A"}},{"$f":"VLOOKUP($A17,Participants!$A:$E,2,FALSE)","v":{"$error":"#N/A"}},{"$f":"VLOOKUP($A17,Participants!$A:$E,3,FALSE)","v":{"$error":"#N/A"}},{"$f":"VLOOKUP($A17,Participants!$A:$E,5,FALSE)","v":{"$error":"#N/A"}},3,{"$error":"#N/A"},{"$error":"#N/A"}]
[{"$nulls":4},{"$f":"VLOOKUP($A18,Participants!$A:$E,4,FALSE)","v":{"$error":"#N/A"}},{"$f":"VLOOKUP($A18,Participants!$A:$E,2,FALSE)","v":{"$error":"#N/A"}},{"$f":"VLOOKUP($A18,Participants!$A:$E,3,FALSE)","v":{"$error":"#N/A"}},{"$f":"VLOOKUP($A18,Participants!$A:$E,5,FALSE)","v":{"$error":"#N/A"}},3,{"$error":"#N/A"},{"$error":"#N/A"}]
[{"$nulls":4},{"$f":"VLOOKUP($A19,Participants!$A:$E,4,FALSE)","v":{"$error":"#N/A"}},{"$f":"VLOOKUP($A19,Participants!$A:$E,2,FALSE)","v":{"$error":"#N/A"}},{"$f":"VLOOKUP($A19,Participants!$A:$E,3,FALSE)","v":{"$error":"#N/A"}},{"$f":"VLOOKUP($A19,Participants!$A:$E,5,FALSE)","v":{"$error":"#N/A"}},3,{"$error":"#N/A"},{"$error":"#N/A"}]
[]
[{"$nulls":4},{"$f":"VLOOKUP($A21,Participants!$A:$E,4,FALSE)","v":{"$error":"#N/A"}},{"$f":"VLOOKUP($A21,Participants!$A:$E,2,FALSE)","v":{"$error":"#N/A"}},{"$f":"VLOOKUP($A21,Participants!$A:$E,3,FALSE)","v":{"$error":"#N/A"}},{"$f":"VLOOKUP($A21,Participants!$A:$E,5,FALSE)","v":{"$error":"#N/A"}},4,{"$f":"RANK(D21,IF(I21=4,$D$21:$D$26,),1)","v":{"$error":"#N/A"}},{"$error":"#N/A"}]
[{"$nulls":4},{"$f":"VLOOKUP($A22,Participants!$A:$E,4,FALSE)","v":{"$error":"#N/A"}},{"$f":"VLOOKUP($A22,Participants!$A:$E,2,FALSE)","v":{"$error":"#N/A"}},{"$f":"VLOOKUP($A22,Participants!$A:$E,3,FALSE)","v":{"$error":"#N/A"}},{"$f":"VLOOKUP($A22,Participants!$A:$E,5,FALSE)","v":{"$error":"#N/A"}},4,{"$error":"#N/A"},{"$error":"#N/A"}]
[{"$nulls":4},{"$f":"VLOOKUP($A23,Participants!$A:$E,4,FALSE)","v":{"$error":"#N/A"}},{"$f":"VLOOKUP($A23,Participants!$A:$E,2,FALSE)","v":{"$error":"#N/A"}},{"$f":"VLOOKUP($A23,Participants!$A:$E,3,FALSE)","v":{"$error":"#N/A"}},{"$f":"VLOOKUP($A23,Participants!$A:$E,5,FALSE)","v":{"$error":"#N/A"}},4,{"$error":"#N/A"},{"$error":"#N/A"}]
[{"$nulls":4},{"$f":"VLOOKUP($A24,Participants!$A:$E,4,FALSE)","v":{"$error":"#N/A"}},{"$f":"VLOOKUP($A24,Participants!$A:$E,2,FALSE)","v":{"$error":"#N/A"}},{"$f":"VLOOKUP($A24,Participants!$A:$E,3,FALSE)","v":{"$error":"#N/A"}},{"$f":"VLOOKUP($A24,Participants!$A:$E,5,FALSE)","v":{"$error":"#N/A"}},4,{"$error":"#N/A"},{"$error":"#N/A"}]
[{"$nulls":4},{"$f":"VLOOKUP($A25,Participants!$A:$E,4,FALSE)","v":{"$error":"#N/A"}},{"$f":"VLOOKUP($A25,Participants!$A:$E,2,FALSE)","v":{"$error":"#N/A"}},{"$f":"VLOOKUP($A25,Participants!$A:$E,3,FALSE)","v":{"$error":"#N/A"}},{"$f":"VLOOKUP($A25,Participants!$A:$E,5,FALSE)","v":{"$error":"#N/A"}},4,{"$error":"#N/A"},{"$error":"#N/A"}]
[{"$nulls":4},{"$f":"VLOOKUP($A26,Participants!$A:$E,4,FALSE)","v":{"$error":"#N/A"}},{"$f":"VLOOKUP($A26,Participants!$A:$E,2,FALSE)","v":{"$error":"#N/A"}},{"$f":"VLOOKUP($A26,Participants!$A:$E,3,FALSE)","v":{"$error":"#N/A"}},{"$f":"VLOOKUP($A26,Participants!$A:$E,5,FALSE)","v":{"$error":"#N/A"}},4,{"$error":"#N/A"},{"$error":"#N/A"}]
[]
[{"$nulls":4},{"$f":"VLOOKUP($A28,Participants!$A:$E,4,FALSE)","v":{"$error":"#N/A"}},{"$f":"VLOOKUP($A28,Participants!$A:$E,2,FALSE)","v":{"$error":"#N/A"}},{"$f":"VLOOKUP($A28,Participants!$A:$E,3,FALSE)","v":{"$error":"#N/A"}},{"$f":"VLOOKUP($A28,Participants!$A:$E,5,FALSE)","v":{"$error":"#N/A"}},5,{"$f":"RANK(D28,IF(I28=5,$D$28:$D$33,),1)","v":{"$error":"#N/A"}},{"$error":"#N/A"}]
[{"$nulls":4},{"$f":"VLOOKUP($A29,Participants!$A:$E,4,FALSE)","v":{"$error":"#N/A"}},{"$f":"VLOOKUP($A29,Participants!$A:$E,2,FALSE)","v":{"$error":"#N/A"}},{"$f":"VLOOKUP($A29,Participants!$A:$E,3,FALSE)","v":{"$error":"#N/A"}},{"$f":"VLOOKUP($A29,Participants!$A:$E,5,FALSE)","v":{"$error":"#N/A"}},5,{"$f":"RANK(D29,IF(I29=5,$D$28:$D$33,),1)","v":{"$error":"#N/A"}},{"$error":"#N/A"}]
[{"$nulls":4},{"$f":"VLOOKUP($A30,Participants!$A:$E,4,FALSE)","v":{"$error":"#N/A"}},{"$f":"VLOOKUP($A30,Participants!$A:$E,2,FALSE)","v":{"$error":"#N/A"}},{"$f":"VLOOKUP($A30,Participants!$A:$E,3,FALSE)","v":{"$error":"#N/A"}},{"$f":"VLOOKUP($A30,Participants!$A:$E,5,FALSE)","v":{"$error":"#N/A"}},5,{"$error":"#N/A"},{"$error":"#N/A"}]
[{"$nulls":4},{"$f":"VLOOKUP($A31,Participants!$A:$E,4,FALSE)","v":{"$error":"#N/A"}},{"$f":"VLOOKUP($A31,Participants!$A:$E,2,FALSE)","v":{"$error":"#N/A"}},{"$f":"VLOOKUP($A31,Participants!$A:$E,3,FALSE)","v":{"$error":"#N/A"}},{"$f":"VLOOKUP($A31,Participants!$A:$E,5,FALSE)","v":{"$error":"#N/A"}},5,{"$error":"#N/A"},{"$error":"#N/A"}]
[{"$nulls":4},{"$f":"VLOOKUP($A32,Participants!$A:$E,4,FALSE)","v":{"$error":"#N/A"}},{"$f":"VLOOKUP($A32,Participants!$A:$E,2,FALSE)","v":{"$error":"#N/A"}},{"$f":"VLOOKUP($A32,Participants!$A:$E,3,FALSE)","v":{"$error":"#N/A"}},{"$f":"VLOOKUP($A32,Participants!$A:$E,5,FALSE)","v":{"$error":"#N/A"}},5,{"$error":"#N/A"},{"$error":"#N/A"}]
[{"$nulls":4},{"$f":"VLOOKUP($A33,Participants!$A:$E,4,FALSE)","v":{"$error":"#N/A"}},{"$f":"VLOOKUP($A33,Participants!$A:$E,2,FALSE)","v":{"$error":"#N/A"}},{"$f":"VLOOKUP($A33,Participants!$A:$E,3,FALSE)","v":{"$error":"#N/A"}},{"$f":"VLOOKUP($A33,Participants!$A:$E,5,FALSE)","v":{"$error":"#N/A"}},5,{"$error":"#N/A"},{"$error":"#N/A"}]
[]
[{"$nulls":4},{"$f":"VLOOKUP($A35,Participants!$A:$E,4,FALSE)","v":{"$error":"#N/A"}},{"$f":"VLOOKUP($A35,Participants!$A:$E,2,FALSE)","v":{"$error":"#N/A"}},{"$f":"VLOOKUP($A35,Participants!$A:$E,3,FALSE)","v":{"$error":"#N/A"}},{"$f":"VLOOKUP($A35,Participants!$A:$E,5,FALSE)","v":{"$error":"#N/A"}},6,{"$f":"RANK(D35,IF(I35=6,$D$35:$D$40,),1)","v":{"$error":"#N/A"}},{"$error":"#N/A"}]
[{"$nulls":4},{"$f":"VLOOKUP($A36,Participants!$A:$E,4,FALSE)","v":{"$error":"#N/A"}},{"$f":"VLOOKUP($A36,Participants!$A:$E,2,FALSE)","v":{"$error":"#N/A"}},{"$f":"VLOOKUP($A36,Participants!$A:$E,3,FALSE)","v":{"$error":"#N/A"}},{"$f":"VLOOKUP($A36,Participants!$A:$E,5,FALSE)","v":{"$error":"#N/A"}},6,{"$f":"RANK(D36,IF(I36=6,$D$35:$D$40,),1)","v":{"$error":"#N/A"}},{"$error":"#N/A"}]
[{"$nulls":4},{"$f":"VLOOKUP($A37,Participants!$A:$E,4,FALSE)","v":{"$error":"#N/A"}},{"$f":"VLOOKUP($A37,Participants!$A:$E,2,FALSE)","v":{"$error":"#N/A"}},{"$f":"VLOOKUP($A37,Participants!$A:$E,3,FALSE)","v":{"$error":"#N/A"}},{"$f":"VLOOKUP($A37,Participants!$A:$E,5,FALSE)","v":{"$error":"#N/A"}},6,{"$error":"#N/A"},{"$error":"#N/A"}]
[{"$nulls":4},{"$f":"VLOOKUP($A38,Participants!$A:$E,4,FALSE)","v":{"$error":"#N/A"}},{"$f":"VLOOKUP($A38,Participants!$A:$E,2,FALSE)","v":{"$error":"#N/A"}},{"$f":"VLOOKUP($A38,Participants!$A:$E,3,FALSE)","v":{"$error":"#N/A"}},{"$f":"VLOOKUP($A38,Participants!$A:$E,5,FALSE)","v":{"$error":"#N/A"}},6,{"$error":"#N/A"},{"$error":"#N/A"}]
[{"$nulls":4},{"$f":"VLOOKUP($A39,Participants!$A:$E,4,FALSE)","v":{"$error":"#N/A"}},{"$f":"VLOOKUP($A39,Participants!$A:$E,2,FALSE)","v":{"$error":"#N/A"}},{"$f":"VLOOKUP($A39,Participants!$A:$E,3,FALSE)","v":{"$error":"#N/A"}},{"$f":"VLOOKUP($A39,Participants!$A:$E,5,FALSE)","v":{"$error":"#N/A"}},6,{"$error":"#N/A"},{"$error":"#N/A"}]
[{"$nulls":4},{"$f":"VLOOKUP($A40,Participants!$A:$E,4,FALSE)","v":{"$error":"#N/A"}},{"$f":"VLOOKUP($A40,Participants!$A:$E,2,FALSE)","v":{"$error":"#N/A"}},{"$f":"VLOOKUP($A40,Participants!$A:$E,3,FALSE)","v":{"$error":"#N/A"}},{"$f":"VLOOKUP($A40,Participants!$A:$E,5,FALSE)","v":{"$error":"#N/A"}},6,{"$error":"#N/A"},{"$error":"#N/A"}]

{"sheet":"800XMedley Boys","index":31,"n_rows":43,"n_cols":13,"rows_kept":43}
["Bib","HeatOrder",null,"Time","Grade","FName","Lname","School","Heat","Heat Place","Overall Place",null,"Return to Schedule of Events"]
[]
[72,"Lap 1","00:02:14.860","00:02:14.860",{"$f":"VLOOKUP($A3,Participants!$A:$E,4,FALSE)","v":7},{"$f":"VLOOKUP($A3,Participants!$A:$E,2,FALSE)","v":"Xavier"},{"$f":"VLOOKUP($A3,Participants!$A:$E,3,FALSE)","v":"Lawrie"},{"$f":"VLOOKUP($A3,Participants!$A:$E,5,FALSE)","v":"St Jude"},1,{"$f":"RANK(D3,IF(I3=1,$D$3:$D$8,),1)","v":1},{"$f":"RANK(D3,$D$3:$D$8,1)","v":1}]
[]
[14,"Lap 2","00:00:07.030","00:02:21.900",{"$f":"VLOOKUP($A5,Participants!$A:$E,4,FALSE)","v":6},{"$f":"VLOOKUP($A5,Participants!$A:$E,2,FALSE)","v":"Jim"},{"$f":"VLOOKUP($A5,Participants!$A:$E,3,FALSE)","v":"Buchmeier"},{"$f":"VLOOKUP($A5,Participants!$A:$E,5,FALSE)","v":"St Jude"},1,{"$f":"RANK(D5,IF(I5=1,$D$3:$D$8,),1)","v":2},1,null,"Add or Update Participants"]
[]
[63,"Lap 3","00:00:39.830","00:03:01.740",{"$f":"VLOOKUP($A7,Participants!$A:$E,4,FALSE)","v":4},{"$f":"VLOOKUP($A7,Participants!$A:$E,2,FALSE)","v":"Caleb"},{"$f":"VLOOKUP($A7,Participants!$A:$E,3,FALSE)","v":"Kitchens"},{"$f":"VLOOKUP($A7,Participants!$A:$E,5,FALSE)","v":"St Jude"},1,{"$f":"RANK(D7,IF(I7=1,$D$3:$D$8,),1)","v":3},1,null,"Overall Place and Points"]
[{"$nulls":4},{"$f":"VLOOKUP($A8,Participants!$A:$E,4,FALSE)","v":{"$error":"#N/A"}},{"$f":"VLOOKUP($A8,Participants!$A:$E,2,FALSE)","v":{"$error":"#N/A"}},{"$f":"VLOOKUP($A8,Participants!$A:$E,3,FALSE)","v":{"$error":"#N/A"}},{"$f":"VLOOKUP($A8,Participants!$A:$E,5,FALSE)","v":{"$error":"#N/A"}},1,{"$f":"RANK(D8,IF(I8=1,$D$3:$D$8,),1)","v":{"$error":"#N/A"}},{"$f":"RANK(D8,$D$3:$D$8,1)","v":{"$error":"#N/A"}},null,"Only capture Anchor (last) runner"]
[]
[{"$nulls":4},{"$f":"VLOOKUP($A10,Participants!$A:$E,4,FALSE)","v":{"$error":"#N/A"}},{"$f":"VLOOKUP($A10,Participants!$A:$E,2,FALSE)","v":{"$error":"#N/A"}},{"$f":"VLOOKUP($A10,Participants!$A:$E,3,FALSE)","v":{"$error":"#N/A"}},{"$f":"VLOOKUP($A10,Participants!$A:$E,5,FALSE)","v":{"$error":"#N/A"}},2,{"$f":"RANK(D10,IF(I10=2,$D$10:$D$15,),1)","v":{"$error":"#N/A"}},{"$f":"RANK(D10,$D$10:$D$15,1)","v":{"$error":"#N/A"}}]
[{"$nulls":4},{"$f":"VLOOKUP($A11,Participants!$A:$E,4,FALSE)","v":{"$error":"#N/A"}},{"$f":"VLOOKUP($A11,Participants!$A:$E,2,FALSE)","v":{"$error":"#N/A"}},{"$f":"VLOOKUP($A11,Participants!$A:$E,3,FALSE)","v":{"$error":"#N/A"}},{"$f":"VLOOKUP($A11,Participants!$A:$E,5,FALSE)","v":{"$error":"#N/A"}},2,{"$error":"#N/A"},{"$f":"RANK(D11,$D$10:$D$15,1)","v":{"$error":"#N/A"}}]
[{"$nulls":4},{"$f":"VLOOKUP($A12,Participants!$A:$E,4,FALSE)","v":{"$error":"#N/A"}},{"$f":"VLOOKUP($A12,Participants!$A:$E,2,FALSE)","v":{"$error":"#N/A"}},{"$f":"VLOOKUP($A12,Participants!$A:$E,3,FALSE)","v":{"$error":"#N/A"}},{"$f":"VLOOKUP($A12,Participants!$A:$E,5,FALSE)","v":{"$error":"#N/A"}},2,{"$error":"#N/A"},{"$error":"#N/A"}]
[{"$nulls":4},{"$f":"VLOOKUP($A13,Participants!$A:$E,4,FALSE)","v":{"$error":"#N/A"}},{"$f":"VLOOKUP($A13,Participants!$A:$E,2,FALSE)","v":{"$error":"#N/A"}},{"$f":"VLOOKUP($A13,Participants!$A:$E,3,FALSE)","v":{"$error":"#N/A"}},{"$f":"VLOOKUP($A13,Participants!$A:$E,5,FALSE)","v":{"$error":"#N/A"}},2,{"$error":"#N/A"},{"$error":"#N/A"}]
[{"$nulls":4},{"$f":"VLOOKUP($A14,Participants!$A:$E,4,FALSE)","v":{"$error":"#N/A"}},{"$f":"VLOOKUP($A14,Participants!$A:$E,2,FALSE)","v":{"$error":"#N/A"}},{"$f":"VLOOKUP($A14,Participants!$A:$E,3,FALSE)","v":{"$error":"#N/A"}},{"$f":"VLOOKUP($A14,Participants!$A:$E,5,FALSE)","v":{"$error":"#N/A"}},2,{"$error":"#N/A"},{"$error":"#N/A"}]
[{"$nulls":4},{"$f":"VLOOKUP($A15,Participants!$A:$E,4,FALSE)","v":{"$error":"#N/A"}},{"$f":"VLOOKUP($A15,Participants!$A:$E,2,FALSE)","v":{"$error":"#N/A"}},{"$f":"VLOOKUP($A15,Participants!$A:$E,3,FALSE)","v":{"$error":"#N/A"}},{"$f":"VLOOKUP($A15,Participants!$A:$E,5,FALSE)","v":{"$error":"#N/A"}},2,{"$error":"#N/A"},{"$error":"#N/A"}]
[]
[{"$nulls":4},{"$f":"VLOOKUP($A17,Participants!$A:$E,4,FALSE)","v":{"$error":"#N/A"}},{"$f":"VLOOKUP($A17,Participants!$A:$E,2,FALSE)","v":{"$error":"#N/A"}},{"$f":"VLOOKUP($A17,Participants!$A:$E,3,FALSE)","v":{"$error":"#N/A"}},{"$f":"VLOOKUP($A17,Participants!$A:$E,5,FALSE)","v":{"$error":"#N/A"}},3,{"$f":"RANK(D17,IF(I17=3,$D$17:$D$22,),1)","v":{"$error":"#N/A"}},{"$f":"RANK(D17,$D$17:$D$22,1)","v":{"$error":"#N/A"}}]
[{"$nulls":4},{"$f":"VLOOKUP($A18,Participants!$A:$E,4,FALSE)","v":{"$error":"#N/A"}},{"$f":"VLOOKUP($A18,Participants!$A:$E,2,FALSE)","v":{"$error":"#N/A"}},{"$f":"VLOOKUP($A18,Participants!$A:$E,3,FALSE)","v":{"$error":"#N/A"}},{"$f":"VLOOKUP($A18,Participants!$A:$E,5,FALSE)","v":{"$error":"#N/A"}},3,{"$error":"#N/A"},{"$f":"RANK(D18,$D$17:$D$22,1)","v":{"$error":"#N/A"}}]
[{"$nulls":4},{"$f":"VLOOKUP($A19,Participants!$A:$E,4,FALSE)","v":{"$error":"#N/A"}},{"$f":"VLOOKUP($A19,Participants!$A:$E,2,FALSE)","v":{"$error":"#N/A"}},{"$f":"VLOOKUP($A19,Participants!$A:$E,3,FALSE)","v":{"$error":"#N/A"}},{"$f":"VLOOKUP($A19,Participants!$A:$E,5,FALSE)","v":{"$error":"#N/A"}},3,{"$error":"#N/A"},{"$error":"#N/A"}]
[{"$nulls":4},{"$f":"VLOOKUP($A20,Participants!$A:$E,4,FALSE)","v":{"$error":"#N/A"}},{"$f":"VLOOKUP($A20,Participants!$A:$E,2,FALSE)","v":{"$error":"#N/A"}},{"$f":"VLOOKUP($A20,Participants!$A:$E,3,FALSE)","v":{"$error":"#N/A"}},{"$f":"VLOOKUP($A20,Participants!$A:$E,5,FALSE)","v":{"$error":"#N/A"}},3,{"$error":"#N/A"},{"$error":"#N/A"}]
[{"$nulls":4},{"$f":"VLOOKUP($A21,Participants!$A:$E,4,FALSE)","v":{"$error":"#N/A"}},{"$f":"VLOOKUP($A21,Participants!$A:$E,2,FALSE)","v":{"$error":"#N/A"}},{"$f":"VLOOKUP($A21,Participants!$A:$E,3,FALSE)","v":{"$error":"#N/A"}},{"$f":"VLOOKUP($A21,Participants!$A:$E,5,FALSE)","v":{"$error":"#N/A"}},3,{"$error":"#N/A"},{"$error":"#N/A"}]
[{"$nulls":4},{"$f":"VLOOKUP($A22,Participants!$A:$E,4,FALSE)","v":{"$error":"#N/A"}},{"$f":"VLOOKUP($A22,Participants!$A:$E,2,FALSE)","v":{"$error":"#N/A"}},{"$f":"VLOOKUP($A22,Participants!$A:$E,3,FALSE)","v":{"$error":"#N/A"}},{"$f":"VLOOKUP($A22,Participants!$A:$E,5,FALSE)","v":{"$error":"#N/A"}},3,{"$error":"#N/A"},{"$error":"#N/A"}]
[]
[{"$nulls":4},{"$f":"VLOOKUP($A24,Participants!$A:$E,4,FALSE)","v":{"$error":"#N/A"}},{"$f":"VLOOKUP($A24,Participants!$A:$E,2,FALSE)","v":{"$error":"#N/A"}},{"$f":"VLOOKUP($A24,Participants!$A:$E,3,FALSE)","v":{"$error":"#N/A"}},{"$f":"VLOOKUP($A24,Participants!$A:$E,5,FALSE)","v":{"$error":"#N/A"}},4,{"$f":"RANK(D24,IF(I24=4,$D$24:$D$29,),1)","v":{"$error":"#N/A"}},{"$f":"RANK(D24,$D$3:$D$101,1)","v":{"$error":"#N/A"}}]
[{"$nulls":4},{"$f":"VLOOKUP($A25,Participants!$A:$E,4,FALSE)","v":{"$error":"#N/A"}},{"$f":"VLOOKUP($A25,Participants!$A:$E,2,FALSE)","v":{"$error":"#N/A"}},{"$f":"VLOOKUP($A25,Participants!$A:$E,3,FALSE)","v":{"$error":"#N/A"}},{"$f":"VLOOKUP($A25,Participants!$A:$E,5,FALSE)","v":{"$error":"#N/A"}},4,{"$error":"#N/A"},{"$error":"#N/A"}]
[{"$nulls":4},{"$f":"VLOOKUP($A26,Participants!$A:$E,4,FALSE)","v":{"$error":"#N/A"}},{"$f":"VLOOKUP($A26,Participants!$A:$E,2,FALSE)","v":{"$error":"#N/A"}},{"$f":"VLOOKUP($A26,Participants!$A:$E,3,FALSE)","v":{"$error":"#N/A"}},{"$f":"VLOOKUP($A26,Participants!$A:$E,5,FALSE)","v":{"$error":"#N/A"}},4,{"$error":"#N/A"},{"$error":"#N/A"}]
[{"$nulls":4},{"$f":"VLOOKUP($A27,Participants!$A:$E,4,FALSE)","v":{"$error":"#N/A"}},{"$f":"VLOOKUP($A27,Participants!$A:$E,2,FALSE)","v":{"$error":"#N/A"}},{"$f":"VLOOKUP($A27,Participants!$A:$E,3,FALSE)","v":{"$error":"#N/A"}},{"$f":"VLOOKUP($A27,Participants!$A:$E,5,FALSE)","v":{"$error":"#N/A"}},4,{"$error":"#N/A"},{"$error":"#N/A"}]
[{"$nulls":4},{"$f":"VLOOKUP($A28,Participants!$A:$E,4,FALSE)","v":{"$error":"#N/A"}},{"$f":"VLOOKUP($A28,Participants!$A:$E,2,FALSE)","v":{"$error":"#N/A"}},{"$f":"VLOOKUP($A28,Participants!$A:$E,3,FALSE)","v":{"$error":"#N/A"}},{"$f":"VLOOKUP($A28,Participants!$A:$E,5,FALSE)","v":{"$error":"#N/A"}},4,{"$error":"#N/A"},{"$error":"#N/A"}]
[{"$nulls":4},{"$f":"VLOOKUP($A29,Participants!$A:$E,4,FALSE)","v":{"$error":"#N/A"}},{"$f":"VLOOKUP($A29,Participants!$A:$E,2,FALSE)","v":{"$error":"#N/A"}},{"$f":"VLOOKUP($A29,Participants!$A:$E,3,FALSE)","v":{"$error":"#N/A"}},{"$f":"VLOOKUP($A29,Participants!$A:$E,5,FALSE)","v":{"$error":"#N/A"}},4,{"$error":"#N/A"},{"$error":"#N/A"}]
[]
[{"$nulls":4},{"$f":"VLOOKUP($A31,Participants!$A:$E,4,FALSE)","v":{"$error":"#N/A"}},{"$f":"VLOOKUP($A31,Participants!$A:$E,2,FALSE)","v":{"$error":"#N/A"}},{"$f":"VLOOKUP($A31,Participants!$A:$E,3,FALSE)","v":{"$error":"#N/A"}},{"$f":"VLOOKUP($A31,Participants!$A:$E,5,FALSE)","v":{"$error":"#N/A"}},5,{"$f":"RANK(D31,IF(I31=5,$D$31:$D$36,),1)","v":{"$error":"#N/A"}},{"$f":"RANK(D31,$D$3:$D$101,1)","v":{"$error":"#N/A"}}]
[{"$nulls":4},{"$f":"VLOOKUP($A32,Participants!$A:$E,4,FALSE)","v":{"$error":"#N/A"}},{"$f":"VLOOKUP($A32,Participants!$A:$E,2,FALSE)","v":{"$error":"#N/A"}},{"$f":"VLOOKUP($A32,Participants!$A:$E,3,FALSE)","v":{"$error":"#N/A"}},{"$f":"VLOOKUP($A32,Participants!$A:$E,5,FALSE)","v":{"$error":"#N/A"}},5,{"$f":"RANK(D32,IF(I32=5,$D$31:$D$36,),1)","v":{"$error":"#N/A"}},{"$error":"#N/A"}]
[{"$nulls":4},{"$f":"VLOOKUP($A33,Participants!$A:$E,4,FALSE)","v":{"$error":"#N/A"}},{"$f":"VLOOKUP($A33,Participants!$A:$E,2,FALSE)","v":{"$error":"#N/A"}},{"$f":"VLOOKUP($A33,Participants!$A:$E,3,FALSE)","v":{"$error":"#N/A"}},{"$f":"VLOOKUP($A33,Participants!$A:$E,5,FALSE)","v":{"$error":"#N/A"}},5,{"$error":"#N/A"},{"$error":"#N/A"}]
[{"$nulls":4},{"$f":"VLOOKUP($A34,Participants!$A:$E,4,FALSE)","v":{"$error":"#N/A"}},{"$f":"VLOOKUP($A34,Participants!$A:$E,2,FALSE)","v":{"$error":"#N/A"}},{"$f":"VLOOKUP($A34,Participants!$A:$E,3,FALSE)","v":{"$error":"#N/A"}},{"$f":"VLOOKUP($A34,Participants!$A:$E,5,FALSE)","v":{"$error":"#N/A"}},5,{"$error":"#N/A"},{"$error":"#N/A"}]
[{"$nulls":4},{"$f":"VLOOKUP($A35,Participants!$A:$E,4,FALSE)","v":{"$error":"#N/A"}},{"$f":"VLOOKUP($A35,Participants!$A:$E,2,FALSE)","v":{"$error":"#N/A"}},{"$f":"VLOOKUP($A35,Participants!$A:$E,3,FALSE)","v":{"$error":"#N/A"}},{"$f":"VLOOKUP($A35,Participants!$A:$E,5,FALSE)","v":{"$error":"#N/A"}},5,{"$error":"#N/A"},{"$error":"#N/A"}]
[{"$nulls":4},{"$f":"VLOOKUP($A36,Participants!$A:$E,4,FALSE)","v":{"$error":"#N/A"}},{"$f":"VLOOKUP($A36,Participants!$A:$E,2,FALSE)","v":{"$error":"#N/A"}},{"$f":"VLOOKUP($A36,Participants!$A:$E,3,FALSE)","v":{"$error":"#N/A"}},{"$f":"VLOOKUP($A36,Participants!$A:$E,5,FALSE)","v":{"$error":"#N/A"}},5,{"$error":"#N/A"},{"$error":"#N/A"}]
[]
[{"$nulls":4},{"$f":"VLOOKUP($A38,Participants!$A:$E,4,FALSE)","v":{"$error":"#N/A"}},{"$f":"VLOOKUP($A38,Participants!$A:$E,2,FALSE)","v":{"$error":"#N/A"}},{"$f":"VLOOKUP($A38,Participants!$A:$E,3,FALSE)","v":{"$error":"#N/A"}},{"$f":"VLOOKUP($A38,Participants!$A:$E,5,FALSE)","v":{"$error":"#N/A"}},6,{"$f":"RANK(D38,IF(I38=6,$D$38:$D$43,),1)","v":{"$error":"#N/A"}},{"$f":"RANK(D38,$D$3:$D$101,1)","v":{"$error":"#N/A"}}]
[{"$nulls":4},{"$f":"VLOOKUP($A39,Participants!$A:$E,4,FALSE)","v":{"$error":"#N/A"}},{"$f":"VLOOKUP($A39,Participants!$A:$E,2,FALSE)","v":{"$error":"#N/A"}},{"$f":"VLOOKUP($A39,Participants!$A:$E,3,FALSE)","v":{"$error":"#N/A"}},{"$f":"VLOOKUP($A39,Participants!$A:$E,5,FALSE)","v":{"$error":"#N/A"}},6,{"$f":"RANK(D39,IF(I39=6,$D$38:$D$43,),1)","v":{"$error":"#N/A"}},{"$error":"#N/A"}]
[{"$nulls":4},{"$f":"VLOOKUP($A40,Participants!$A:$E,4,FALSE)","v":{"$error":"#N/A"}},{"$f":"VLOOKUP($A40,Participants!$A:$E,2,FALSE)","v":{"$error":"#N/A"}},{"$f":"VLOOKUP($A40,Participants!$A:$E,3,FALSE)","v":{"$error":"#N/A"}},{"$f":"VLOOKUP($A40,Participants!$A:$E,5,FALSE)","v":{"$error":"#N/A"}},6,{"$error":"#N/A"},{"$error":"#N/A"}]
[{"$nulls":4},{"$f":"VLOOKUP($A41,Participants!$A:$E,4,FALSE)","v":{"$error":"#N/A"}},{"$f":"VLOOKUP($A41,Participants!$A:$E,2,FALSE)","v":{"$error":"#N/A"}},{"$f":"VLOOKUP($A41,Participants!$A:$E,3,FALSE)","v":{"$error":"#N/A"}},{"$f":"VLOOKUP($A41,Participants!$A:$E,5,FALSE)","v":{"$error":"#N/A"}},6,{"$error":"#N/A"},{"$error":"#N/A"}]
[{"$nulls":4},{"$f":"VLOOKUP($A42,Participants!$A:$E,4,FALSE)","v":{"$error":"#N/A"}},{"$f":"VLOOKUP($A42,Participants!$A:$E,2,FALSE)","v":{"$error":"#N/A"}},{"$f":"VLOOKUP($A42,Participants!$A:$E,3,FALSE)","v":{"$error":"#N/A"}},{"$f":"VLOOKUP($A42,Participants!$A:$E,5,FALSE)","v":{"$error":"#N/A"}},6,{"$error":"#N/A"},{"$error":"#N/A"}]
[{"$nulls":4},{"$f":"VLOOKUP($A43,Participants!$A:$E,4,FALSE)","v":{"$error":"#N/A"}},{"$f":"VLOOKUP($A43,Participants!$A:$E,2,FALSE)","v":{"$error":"#N/A"}},{"$f":"VLOOKUP($A43,Participants!$A:$E,3,FALSE)","v":{"$error":"#N/A"}},{"$f":"VLOOKUP($A43,Participants!$A:$E,5,FALSE)","v":{"$error":"#N/A"}},6,{"$error":"#N/A"},{"$error":"#N/A"}]

{"sheet":"1600 Girls","index":32,"n_rows":29,"n_cols":14,"rows_kept":29}
["Bib","HeatOrder",null,"Time","Grade","FName","Lname","School","Heat","Heat Place","Overall Place","Group","Return to Schedule of Events"]
[35,null,"00:05:35.360","00:05:35.360",{"$f":"VLOOKUP($A2,Participants!$A:$E,4,FALSE)","v":8},{"$f":"VLOOKUP($A2,Participants!$A:$E,2,FALSE)","v":"Rachel"},{"$f":"VLOOKUP($A2,Participants!$A:$E,3,FALSE)","v":"Flick"},{"$f":"VLOOKUP($A2,Participants!$A:$E,5,FALSE)","v":"St Jude"},1,null,{"$f":"RANK(D2,$D$2:$D$20,1)","v":1},{"$f":"VLOOKUP(A2,Participants!A:G,7,FALSE)","v":"Cadet"},"Add or Update Participants",{"$f":"VLOOKUP($A2,Participants!$A:$F,6,FALSE)","v":"F"}]
[65,null,"00:00:23.430","00:06:03.460",{"$f":"VLOOKUP($A3,Participants!$A:$E,4,FALSE)","v":7},{"$f":"VLOOKUP($A3,Participants!$A:$E,2,FALSE)","v":"Madelyn"},{"$f":"VLOOKUP($A3,Participants!$A:$E,3,FALSE)","v":"Kitchens"},{"$f":"VLOOKUP($A3,Participants!$A:$E,5,FALSE)","v":"St Jude"},1,null,2,{"$f":"VLOOKUP(A3,Participants!A:G,7,FALSE)","v":"Cadet"},"Overall Place and Points",{"$f":"VLOOKUP($A3,Participants!$A:$F,6,FALSE)","v":"F"}]
[26,null,"00:00:00.490","00:06:03.950",{"$f":"VLOOKUP($A4,Participants!$A:$E,4,FALSE)","v":7},{"$f":"VLOOKUP($A4,Participants!$A:$E,2,FALSE)","v":"Ariana"},{"$f":"VLOOKUP($A4,Participants!$A:$E,3,FALSE)","v":"Corona"},{"$f":"VLOOKUP($A4,Participants!$A:$E,5,FALSE)","v":"St Jude"},1,null,3,{"$f":"VLOOKUP(A4,Participants!A:G,7,FALSE)","v":"Cadet"},null,{"$f":"VLOOKUP($A4,Participants!$A:$F,6,FALSE)","v":"F"}]
[291,null,"00:00:09.720","00:06:29.490",{"$f":"VLOOKUP($A5,Participants!$A:$E,4,FALSE)","v":7},{"$f":"VLOOKUP($A5,Participants!$A:$E,2,FALSE)","v":"Claire"},{"$f":"VLOOKUP($A5,Participants!$A:$E,3,FALSE)","v":"Meinerding"},{"$f":"VLOOKUP($A5,Participants!$A:$E,5,FALSE)","v":"St. Barnabas"},1,null,4,{"$f":"VLOOKUP(A5,Participants!A:G,7,FALSE)","v":"Cadet"},null,{"$f":"VLOOKUP($A5,Participants!$A:$F,6,FALSE)","v":"F"}]
[167,null,"00:00:01.730","00:06:31.230",{"$f":"VLOOKUP($A6,Participants!$A:$E,4,FALSE)","v":7},{"$f":"VLOOKUP($A6,Participants!$A:$E,2,FALSE)","v":"Evie"},{"$f":"VLOOKUP($A6,Participants!$A:$E,3,FALSE)","v":"Eble"},{"$f":"VLOOKUP($A6,Participants!$A:$E,5,FALSE)","v":"SSFC"},1,null,5,{"$f":"VLOOKUP(A6,Participants!A:G,7,FALSE)","v":"Cadet"},null,{"$f":"VLOOKUP($A6,Participants!$A:$F,6,FALSE)","v":"F"}]
[100,null,"00:00:14.430","00:07:04.310",{"$f":"VLOOKUP($A7,Participants!$A:$E,4,FALSE)","v":7},{"$f":"VLOOKUP($A7,Participants!$A:$E,2,FALSE)","v":"Penny "},{"$f":"VLOOKUP($A7,Participants!$A:$E,3,FALSE)","v":"Perkins"},{"$f":"VLOOKUP($A7,Participants!$A:$E,5,FALSE)","v":"St Jude"},1,null,6,{"$f":"VLOOKUP(A7,Participants!A:G,7,FALSE)","v":"Cadet"},null,{"$f":"VLOOKUP($A7,Participants!$A:$F,6,FALSE)","v":"F"}]
[251,null,"00:00:09.480","00:07:42.650",{"$f":"VLOOKUP($A8,Participants!$A:$E,4,FALSE)","v":7},{"$f":"VLOOKUP($A8,Participants!$A:$E,2,FALSE)","v":"Molly"},{"$f":"VLOOKUP($A8,Participants!$A:$E,3,FALSE)","v":"Mockaitis"},{"$f":"VLOOKUP($A8,Participants!$A:$E,5,FALSE)","v":"United We Run"},1,null,7,{"$f":"VLOOKUP(A8,Participants!A:G,7,FALSE)","v":"Cadet"},null,{"$f":"VLOOKUP($A8,Participants!$A:$F,6,FALSE)","v":"F"}]
[]
[296,null,null,"00:05:58.790",{"$f":"VLOOKUP($A10,Participants!$A:$E,4,FALSE)","v":6},{"$f":"VLOOKUP($A10,Participants!$A:$E,2,FALSE)","v":"Tessa"},{"$f":"VLOOKUP($A10,Participants!$A:$E,3,FALSE)","v":"Mize"},{"$f":"VLOOKUP($A10,Participants!$A:$E,5,FALSE)","v":"St. Barnabas"},1,null,1,{"$f":"VLOOKUP(A10,Participants!A:G,7,FALSE)","v":"56"}]
[185,null,null,"00:06:05.170",{"$f":"VLOOKUP($A11,Participants!$A:$E,4,FALSE)","v":6},{"$f":"VLOOKUP($A11,Participants!$A:$E,2,FALSE)","v":"Gretchen"},{"$f":"VLOOKUP($A11,Participants!$A:$E,3,FALSE)","v":"Meisberger"},{"$f":"VLOOKUP($A11,Participants!$A:$E,5,FALSE)","v":"SSFC"},1,null,2,{"$f":"VLOOKUP(A11,Participants!A:G,7,FALSE)","v":"56"}]
[173,null,null,"00:06:19.770",{"$f":"VLOOKUP($A12,Participants!$A:$E,4,FALSE)","v":6},{"$f":"VLOOKUP($A12,Participants!$A:$E,2,FALSE)","v":"Alana"},{"$f":"VLOOKUP($A12,Participants!$A:$E,3,FALSE)","v":"Hawkins"},{"$f":"VLOOKUP($A12,Participants!$A:$E,5,FALSE)","v":"SSFC"},1,null,3,{"$f":"VLOOKUP(A12,Participants!A:G,7,FALSE)","v":"56"}]
[18,null,null,"00:06:47.260",{"$f":"VLOOKUP($A13,Participants!$A:$E,4,FALSE)","v":5},{"$f":"VLOOKUP($A13,Participants!$A:$E,2,FALSE)","v":"Ella "},{"$f":"VLOOKUP($A13,Participants!$A:$E,3,FALSE)","v":"Cadwallader"},{"$f":"VLOOKUP($A13,Participants!$A:$E,5,FALSE)","v":"St Jude"},1,null,4,{"$f":"VLOOKUP(A13,Participants!A:G,7,FALSE)","v":"56"}]
[29,null,null,"00:06:49.870",{"$f":"VLOOKUP($A14,Participants!$A:$E,4,FALSE)","v":5},{"$f":"VLOOKUP($A14,Participants!$A:$E,2,FALSE)","v":"Lydia"},{"$f":"VLOOKUP($A14,Participants!$A:$E,3,FALSE)","v":"Dant"},{"$f":"VLOOKUP($A14,Participants!$A:$E,5,FALSE)","v":"St Jude"},1,null,5,{"$f":"VLOOKUP(A14,Participants!A:G,7,FALSE)","v":"56"}]
[224,null,null,"00:07:46.220",{"$f":"VLOOKUP($A15,Participants!$A:$E,4,FALSE)","v":5},{"$f":"VLOOKUP($A15,Participants!$A:$E,2,FALSE)","v":"Clare"},{"$f":"VLOOKUP($A15,Participants!$A:$E,3,FALSE)","v":"Bohacik"},{"$f":"VLOOKUP($A15,Participants!$A:$E,5,FALSE)","v":"United We Run"},1,null,6,{"$f":"VLOOKUP(A15,Participants!A:G,7,FALSE)","v":"56"}]
[255,null,null,"00:08:12.870",{"$f":"VLOOKUP($A16,Participants!$A:$E,4,FALSE)","v":5},{"$f":"VLOOKUP($A16,Participants!$A:$E,2,FALSE)","v":"Ava"},{"$f":"VLOOKUP($A16,Participants!$A:$E,3,FALSE)","v":"Price"},{"$f":"VLOOKUP($A16,Participants!$A:$E,5,FALSE)","v":"United We Run"},1,null,7,{"$f":"VLOOKUP(A16,Participants!A:G,7,FALSE)","v":"56"}]
[136,null,null,"00:08:24.180",{"$f":"VLOOKUP($A17,Participants!$A:$E,4,FALSE)","v":6},{"$f":"VLOOKUP($A17,Participants!$A:$E,2,FALSE)","v":"Alaina"},{"$f":"VLOOKUP($A17,Participants!$A:$E,3,FALSE)","v":"Whiteley"},{"$f":"VLOOKUP($A17,Participants!$A:$E,5,FALSE)","v":"St Jude"},1,null,8,{"$f":"VLOOKUP(A17,Participants!A:G,7,FALSE)","v":"56"}]
[]
[200,null,null,"00:07:33.170",{"$f":"VLOOKUP($A19,Participants!$A:$E,4,FALSE)","v":4},{"$f":"VLOOKUP($A19,Participants!$A:$E,2,FALSE)","v":"Maggie"},{"$f":"VLOOKUP($A19,Participants!$A:$E,3,FALSE)","v":"Shirley"},{"$f":"VLOOKUP($A19,Participants!$A:$E,5,FALSE)","v":"SSFC"},1,null,1,{"$f":"VLOOKUP(A19,Participants!A:G,7,FALSE)","v":"34"}]
[]
[{"$nulls":4},{"$f":"VLOOKUP($A21,Participants!$A:$E,4,FALSE)","v":{"$error":"#N/A"}},{"$f":"VLOOKUP($A21,Participants!$A:$E,2,FALSE)","v":{"$error":"#N/A"}},{"$f":"VLOOKUP($A21,Participants!$A:$E,3,FALSE)","v":{"$error":"#N/A"}},{"$f":"VLOOKUP($A21,Participants!$A:$E,5,FALSE)","v":{"$error":"#N/A"}},4,{"$f":"RANK(D18,IF(I21=4,$D$16:$D$21,),1)","v":{"$error":"#N/A"}},{"$f":"RANK(D18,$D$2:$D$84,1)","v":{"$error":"#N/A"}},{"$f":"VLOOKUP(A21,Participants!A:G,7,FALSE)","v":{"$error":"#N/A"}}]
[{"$nulls":4},{"$f":"VLOOKUP($A22,Participants!$A:$E,4,FALSE)","v":{"$error":"#N/A"}},{"$f":"VLOOKUP($A22,Participants!$A:$E,2,FALSE)","v":{"$error":"#N/A"}},{"$f":"VLOOKUP($A22,Participants!$A:$E,3,FALSE)","v":{"$error":"#N/A"}},{"$f":"VLOOKUP($A22,Participants!$A:$E,5,FALSE)","v":{"$error":"#N/A"}},4,{"$f":"RANK(D20,IF(I22=4,$D$16:$D$21,),1)","v":{"$error":"#N/A"}},{"$f":"RANK(D20,$D$2:$D$84,1)","v":{"$error":"#N/A"}},{"$f":"VLOOKUP(A22,Participants!A:G,7,FALSE)","v":{"$error":"#N/A"}}]
[{"$nulls":4},{"$f":"VLOOKUP($A23,Participants!$A:$E,4,FALSE)","v":{"$error":"#N/A"}},{"$f":"VLOOKUP($A23,Participants!$A:$E,2,FALSE)","v":{"$error":"#N/A"}},{"$f":"VLOOKUP($A23,Participants!$A:$E,3,FALSE)","v":{"$error":"#N/A"}},{"$f":"VLOOKUP($A23,Participants!$A:$E,5,FALSE)","v":{"$error":"#N/A"}},4,{"$f":"RANK(D21,IF(I23=4,$D$16:$D$21,),1)","v":{"$error":"#N/A"}},{"$f":"RANK(D21,$D$2:$D$84,1)","v":{"$error":"#N/A"}},{"$f":"VLOOKUP(A23,Participants!A:G,7,FALSE)","v":{"$error":"#N/A"}}]
[{"$nulls":4},{"$f":"VLOOKUP($A24,Participants!$A:$E,4,FALSE)","v":{"$error":"#N/A"}},{"$f":"VLOOKUP($A24,Participants!$A:$E,2,FALSE)","v":{"$error":"#N/A"}},{"$f":"VLOOKUP($A24,Participants!$A:$E,3,FALSE)","v":{"$error":"#N/A"}},{"$f":"VLOOKUP($A24,Participants!$A:$E,5,FALSE)","v":{"$error":"#N/A"}},5,{"$f":"RANK(#REF!,IF(I24=5,$D$22:$D$26,),1)","v":{"$error":"#REF!"}},{"$f":"RANK(#REF!,$D$2:$D$84,1)","v":{"$error":"#REF!"}},{"$f":"VLOOKUP(A24,Participants!A:G,7,FALSE)","v":{"$error":"#N/A"}}]
[{"$nulls":4},{"$f":"VLOOKUP($A25,Participants!$A:$E,4,FALSE)","v":{"$error":"#N/A"}},{"$f":"VLOOKUP($A25,Participants!$A:$E,2,FALSE)","v":{"$error":"#N/A"}},{"$f":"VLOOKUP($A25,Participants!$A:$E,3,FALSE)","v":{"$error":"#N/A"}},{"$f":"VLOOKUP($A25,Participants!$A:$E,5,FALSE)","v":{"$error":"#N/A"}},5,{"$f":"RANK(D22,IF(I25=5,$D$22:$D$26,),1)","v":{"$error":"#N/A"}},{"$f":"RANK(D22,$D$2:$D$84,1)","v":{"$error":"#N/A"}},{"$f":"VLOOKUP(A25,Participants!A:G,7,FALSE)","v":{"$error":"#N/A"}}]
[{"$nulls":4},{"$f":"VLOOKUP($A26,Participants!$A:$E,4,FALSE)","v":{"$error":"#N/A"}},{"$f":"VLOOKUP($A26,Participants!$A:$E,2,FALSE)","v":{"$error":"#N/A"}},{"$f":"VLOOKUP($A26,Participants!$A:$E,3,FALSE)","v":{"$error":"#N/A"}},{"$f":"VLOOKUP($A26,Participants!$A:$E,5,FALSE)","v":{"$error":"#N/A"}},5,{"$f":"RANK(D23,IF(I26=5,$D$22:$D$26,),1)","v":{"$error":"#N/A"}},{"$f":"RANK(D23,$D$2:$D$84,1)","v":{"$error":"#N/A"}},{"$f":"VLOOKUP(A26,Participants!A:G,7,FALSE)","v":{"$error":"#N/A"}}]
[{"$nulls":4},{"$f":"VLOOKUP($A27,Participants!$A:$E,4,FALSE)","v":{"$error":"#N/A"}},{"$f":"VLOOKUP($A27,Participants!$A:$E,2,FALSE)","v":{"$error":"#N/A"}},{"$f":"VLOOKUP($A27,Participants!$A:$E,3,FALSE)","v":{"$error":"#N/A"}},{"$f":"VLOOKUP($A27,Participants!$A:$E,5,FALSE)","v":{"$error":"#N/A"}},5,{"$f":"RANK(D24,IF(I27=5,$D$22:$D$26,),1)","v":{"$error":"#N/A"}},{"$f":"RANK(D24,$D$2:$D$84,1)","v":{"$error":"#N/A"}},{"$f":"VLOOKUP(A27,Participants!A:G,7,FALSE)","v":{"$error":"#N/A"}}]
[{"$nulls":4},{"$f":"VLOOKUP($A28,Participants!$A:$E,4,FALSE)","v":{"$error":"#N/A"}},{"$f":"VLOOKUP($A28,Participants!$A:$E,2,FALSE)","v":{"$error":"#N/A"}},{"$f":"VLOOKUP($A28,Participants!$A:$E,3,FALSE)","v":{"$error":"#N/A"}},{"$f":"VLOOKUP($A28,Participants!$A:$E,5,FALSE)","v":{"$error":"#N/A"}},5,{"$f":"RANK(D25,IF(I28=5,$D$22:$D$26,),1)","v":{"$error":"#N/A"}},{"$f":"RANK(D25,$D$2:$D$84,1)","v":{"$error":"#N/A"}},{"$f":"VLOOKUP(A28,Participants!A:G,7,FALSE)","v":{"$error":"#N/A"}}]
[{"$nulls":4},{"$f":"VLOOKUP($A29,Participants!$A:$E,4,FALSE)","v":{"$error":"#N/A"}},{"$f":"VLOOKUP($A29,Participants!$A:$E,2,FALSE)","v":{"$error":"#N/A"}},{"$f":"VLOOKUP($A29,Participants!$A:$E,3,FALSE)","v":{"$error":"#N/A"}},{"$f":"VLOOKUP($A29,Participants!$A:$E,5,FALSE)","v":{"$error":"#N/A"}},5,{"$f":"RANK(D26,IF(I29=5,$D$22:$D$26,),1)","v":{"$error":"#N/A"}},{"$f":"RANK(D26,$D$2:$D$84,1)","v":{"$error":"#N/A"}},{"$f":"VLOOKUP(A29,Participants!A:G,7,FALSE)","v":{"$error":"#N/A"}}]

{"sheet":"400 4th Girls","index":33,"n_rows":42,"n_cols":13,"rows_kept":42}
["Bib","HeatOrder",null,"Time","Grade","FName","Lname","School","Heat","Heat Place","Overall Place",null,"Return to Schedule of Events"]
[299,"Lap 1","00:01:23.670","00:01:23.670",{"$f":"VLOOKUP($A2,Participants!$A:$E,4,FALSE)","v":4},{"$f":"VLOOKUP($A2,Participants!$A:$E,2,FALSE)","v":"Amaya"},{"$f":"VLOOKUP($A2,Participants!$A:$E,3,FALSE)","v":"Ripperger"},{"$f":"VLOOKUP($A2,Participants!$A:$E,5,FALSE)","v":"St. Barnabas"},1,{"$f":"RANK(D2,IF(I2=1,$D$2:$D$7,),1)","v":1},{"$f":"RANK(D2,$D$2:$D$100,1)","v":1}]
[307,"Lap 2","00:00:04.140","00:01:27.820",{"$f":"VLOOKUP($A3,Participants!$A:$E,4,FALSE)","v":4},{"$f":"VLOOKUP($A3,Participants!$A:$E,2,FALSE)","v":"Bawi"},{"$f":"VLOOKUP($A3,Participants!$A:$E,3,FALSE)","v":"Thluai"},{"$f":"VLOOKUP($A3,Participants!$A:$E,5,FALSE)","v":"St. Barnabas"},1,2,{"$f":"RANK(D3,$D$2:$D$100,1)","v":2},null,"Add or Update Participants"]
[120,"Lap 3","00:00:00.370","00:01:28.190",{"$f":"VLOOKUP($A4,Participants!$A:$E,4,FALSE)","v":4},{"$f":"VLOOKUP($A4,Participants!$A:$E,2,FALSE)","v":"Taylor "},{"$f":"VLOOKUP($A4,Participants!$A:$E,3,FALSE)","v":"Seibert"},{"$f":"VLOOKUP($A4,Participants!$A:$E,5,FALSE)","v":"St Jude"},1,3,3,null,"Overall Place and Points"]
[200,"Lap 4","00:00:07.480","00:01:35.680",{"$f":"VLOOKUP($A5,Participants!$A:$E,4,FALSE)","v":4},{"$f":"VLOOKUP($A5,Participants!$A:$E,2,FALSE)","v":"Maggie"},{"$f":"VLOOKUP($A5,Participants!$A:$E,3,FALSE)","v":"Shirley"},{"$f":"VLOOKUP($A5,Participants!$A:$E,5,FALSE)","v":"SSFC"},1,4,5]
[241,"Lap 5","00:00:01.500","00:01:37.190",{"$f":"VLOOKUP($A6,Participants!$A:$E,4,FALSE)","v":4},{"$f":"VLOOKUP($A6,Participants!$A:$E,2,FALSE)","v":"Ella"},{"$f":"VLOOKUP($A6,Participants!$A:$E,3,FALSE)","v":"Johnson"},{"$f":"VLOOKUP($A6,Participants!$A:$E,5,FALSE)","v":"United We Run"},1,5,6]
[{"$nulls":4},{"$f":"VLOOKUP($A7,Participants!$A:$E,4,FALSE)","v":{"$error":"#N/A"}},{"$f":"VLOOKUP($A7,Participants!$A:$E,2,FALSE)","v":{"$error":"#N/A"}},{"$f":"VLOOKUP($A7,Participants!$A:$E,3,FALSE)","v":{"$error":"#N/A"}},{"$f":"VLOOKUP($A7,Participants!$A:$E,5,FALSE)","v":{"$error":"#N/A"}},1,{"$error":"#N/A"},{"$error":"#N/A"}]
[]
[23,"Lap 1","00:01:29.180","00:01:29.180",{"$f":"VLOOKUP($A9,Participants!$A:$E,4,FALSE)","v":4},{"$f":"VLOOKUP($A9,Participants!$A:$E,2,FALSE)","v":"Josephine"},{"$f":"VLOOKUP($A9,Participants!$A:$E,3,FALSE)","v":"Clark"},{"$f":"VLOOKUP($A9,Participants!$A:$E,5,FALSE)","v":"St Jude"},2,{"$f":"RANK(D9,IF(I9=2,$D$9:$D$14,),1)","v":1},4]
[188,"Lap 2","00:00:17.950","00:01:47.130",{"$f":"VLOOKUP($A10,Participants!$A:$E,4,FALSE)","v":3},{"$f":"VLOOKUP($A10,Participants!$A:$E,2,FALSE)","v":"Ava"},{"$f":"VLOOKUP($A10,Participants!$A:$E,3,FALSE)","v":"Nalley"},{"$f":"VLOOKUP($A10,Participants!$A:$E,5,FALSE)","v":"SSFC"},2,2,7]
[311,"Lap 3","00:00:01.190","00:01:48.320",{"$f":"VLOOKUP($A11,Participants!$A:$E,4,FALSE)","v":3},{"$f":"VLOOKUP($A11,Participants!$A:$E,2,FALSE)","v":"Kristen"},{"$f":"VLOOKUP($A11,Participants!$A:$E,3,FALSE)","v":"Wilson"},{"$f":"VLOOKUP($A11,Participants!$A:$E,5,FALSE)","v":"St. Barnabas"},2,3,8]
[310,"Lap 4","00:00:06.200","00:01:54.530",{"$f":"VLOOKUP($A12,Participants!$A:$E,4,FALSE)","v":4},{"$f":"VLOOKUP($A12,Participants!$A:$E,2,FALSE)","v":"Caroline"},{"$f":"VLOOKUP($A12,Participants!$A:$E,3,FALSE)","v":"Wilson"},{"$f":"VLOOKUP($A12,Participants!$A:$E,5,FALSE)","v":"St. Barnabas"},2,4,9]
[{"$nulls":4},{"$f":"VLOOKUP($A13,Participants!$A:$E,4,FALSE)","v":{"$error":"#N/A"}},{"$f":"VLOOKUP($A13,Participants!$A:$E,2,FALSE)","v":{"$error":"#N/A"}},{"$f":"VLOOKUP($A13,Participants!$A:$E,3,FALSE)","v":{"$error":"#N/A"}},{"$f":"VLOOKUP($A13,Participants!$A:$E,5,FALSE)","v":{"$error":"#N/A"}},2,{"$error":"#N/A"},{"$error":"#N/A"}]
[{"$nulls":4},{"$f":"VLOOKUP($A14,Participants!$A:$E,4,FALSE)","v":{"$error":"#N/A"}},{"$f":"VLOOKUP($A14,Participants!$A:$E,2,FALSE)","v":{"$error":"#N/A"}},{"$f":"VLOOKUP($A14,Participants!$A:$E,3,FALSE)","v":{"$error":"#N/A"}},{"$f":"VLOOKUP($A14,Participants!$A:$E,5,FALSE)","v":{"$error":"#N/A"}},2,{"$error":"#N/A"},{"$error":"#N/A"}]
[]
[{"$nulls":4},{"$f":"VLOOKUP($A16,Participants!$A:$E,4,FALSE)","v":{"$error":"#N/A"}},{"$f":"VLOOKUP($A16,Participants!$A:$E,2,FALSE)","v":{"$error":"#N/A"}},{"$f":"VLOOKUP($A16,Participants!$A:$E,3,FALSE)","v":{"$error":"#N/A"}},{"$f":"VLOOKUP($A16,Participants!$A:$E,5,FALSE)","v":{"$error":"#N/A"}},3,{"$f":"RANK(D16,IF(I16=3,$D$16:$D$21,),1)","v":{"$error":"#N/A"}},{"$error":"#N/A"}]
[{"$nulls":4},{"$f":"VLOOKUP($A17,Participants!$A:$E,4,FALSE)","v":{"$error":"#N/A"}},{"$f":"VLOOKUP($A17,Participants!$A:$E,2,FALSE)","v":{"$error":"#N/A"}},{"$f":"VLOOKUP($A17,Participants!$A:$E,3,FALSE)","v":{"$error":"#N/A"}},{"$f":"VLOOKUP($A17,Participants!$A:$E,5,FALSE)","v":{"$error":"#N/A"}},3,{"$error":"#N/A"},{"$error":"#N/A"}]
[{"$nulls":4},{"$f":"VLOOKUP($A18,Participants!$A:$E,4,FALSE)","v":{"$error":"#N/A"}},{"$f":"VLOOKUP($A18,Participants!$A:$E,2,FALSE)","v":{"$error":"#N/A"}},{"$f":"VLOOKUP($A18,Participants!$A:$E,3,FALSE)","v":{"$error":"#N/A"}},{"$f":"VLOOKUP($A18,Participants!$A:$E,5,FALSE)","v":{"$error":"#N/A"}},3,{"$error":"#N/A"},{"$error":"#N/A"}]
[{"$nulls":4},{"$f":"VLOOKUP($A19,Participants!$A:$E,4,FALSE)","v":{"$error":"#N/A"}},{"$f":"VLOOKUP($A19,Participants!$A:$E,2,FALSE)","v":{"$error":"#N/A"}},{"$f":"VLOOKUP($A19,Participants!$A:$E,3,FALSE)","v":{"$error":"#N/A"}},{"$f":"VLOOKUP($A19,Participants!$A:$E,5,FALSE)","v":{"$error":"#N/A"}},3,{"$error":"#N/A"},{"$error":"#N/A"}]
[{"$nulls":4},{"$f":"VLOOKUP($A20,Participants!$A:$E,4,FALSE)","v":{"$error":"#N/A"}},{"$f":"VLOOKUP($A20,Participants!$A:$E,2,FALSE)","v":{"$error":"#N/A"}},{"$f":"VLOOKUP($A20,Participants!$A:$E,3,FALSE)","v":{"$error":"#N/A"}},{"$f":"VLOOKUP($A20,Participants!$A:$E,5,FALSE)","v":{"$error":"#N/A"}},3,{"$error":"#N/A"},{"$error":"#N/A"}]
[{"$nulls":4},{"$f":"VLOOKUP($A21,Participants!$A:$E,4,FALSE)","v":{"$error":"#N/A"}},{"$f":"VLOOKUP($A21,Participants!$A:$E,2,FALSE)","v":{"$error":"#N/A"}},{"$f":"VLOOKUP($A21,Participants!$A:$E,3,FALSE)","v":{"$error":"#N/A"}},{"$f":"VLOOKUP($A21,Participants!$A:$E,5,FALSE)","v":{"$error":"#N/A"}},3,{"$error":"#N/A"},{"$error":"#N/A"}]
[]
[{"$nulls":4},{"$f":"VLOOKUP($A23,Participants!$A:$E,4,FALSE)","v":{"$error":"#N/A"}},{"$f":"VLOOKUP($A23,Participants!$A:$E,2,FALSE)","v":{"$error":"#N/A"}},{"$f":"VLOOKUP($A23,Participants!$A:$E,3,FALSE)","v":{"$error":"#N/A"}},{"$f":"VLOOKUP($A23,Participants!$A:$E,5,FALSE)","v":{"$error":"#N/A"}},4,{"$f":"RANK(D23,IF(I23=4,$D$23:$D$28,),1)","v":{"$error":"#N/A"}},{"$error":"#N/A"}]
[{"$nulls":4},{"$f":"VLOOKUP($A24,Participants!$A:$E,4,FALSE)","v":{"$error":"#N/A"}},{"$f":"VLOOKUP($A24,Participants!$A:$E,2,FALSE)","v":{"$error":"#N/A"}},{"$f":"VLOOKUP($A24,Participants!$A:$E,3,FALSE)","v":{"$error":"#N/A"}},{"$f":"VLOOKUP($A24,Participants!$A:$E,5,FALSE)","v":{"$error":"#N/A"}},4,{"$error":"#N/A"},{"$error":"#N/A"}]
[{"$nulls":4},{"$f":"VLOOKUP($A25,Participants!$A:$E,4,FALSE)","v":{"$error":"#N/A"}},{"$f":"VLOOKUP($A25,Participants!$A:$E,2,FALSE)","v":{"$error":"#N/A"}},{"$f":"VLOOKUP($A25,Participants!$A:$E,3,FALSE)","v":{"$error":"#N/A"}},{"$f":"VLOOKUP($A25,Participants!$A:$E,5,FALSE)","v":{"$error":"#N/A"}},4,{"$error":"#N/A"},{"$error":"#N/A"}]
[{"$nulls":4},{"$f":"VLOOKUP($A26,Participants!$A:$E,4,FALSE)","v":{"$error":"#N/A"}},{"$f":"VLOOKUP($A26,Participants!$A:$E,2,FALSE)","v":{"$error":"#N/A"}},{"$f":"VLOOKUP($A26,Participants!$A:$E,3,FALSE)","v":{"$error":"#N/A"}},{"$f":"VLOOKUP($A26,Participants!$A:$E,5,FALSE)","v":{"$error":"#N/A"}},4,{"$error":"#N/A"},{"$error":"#N/A"}]
[{"$nulls":4},{"$f":"VLOOKUP($A27,Participants!$A:$E,4,FALSE)","v":{"$error":"#N/A"}},{"$f":"VLOOKUP($A27,Participants!$A:$E,2,FALSE)","v":{"$error":"#N/A"}},{"$f":"VLOOKUP($A27,Participants!$A:$E,3,FALSE)","v":{"$error":"#N/A"}},{"$f":"VLOOKUP($A27,Participants!$A:$E,5,FALSE)","v":{"$error":"#N/A"}},4,{"$error":"#N/A"},{"$error":"#N/A"}]
[{"$nulls":4},{"$f":"VLOOKUP($A28,Participants!$A:$E,4,FALSE)","v":{"$error":"#N/A"}},{"$f":"VLOOKUP($A28,Participants!$A:$E,2,FALSE)","v":{"$error":"#N/A"}},{"$f":"VLOOKUP($A28,Participants!$A:$E,3,FALSE)","v":{"$error":"#N/A"}},{"$f":"VLOOKUP($A28,Participants!$A:$E,5,FALSE)","v":{"$error":"#N/A"}},4,{"$error":"#N/A"},{"$error":"#N/A"}]
[]
[{"$nulls":4},{"$f":"VLOOKUP($A30,Participants!$A:$E,4,FALSE)","v":{"$error":"#N/A"}},{"$f":"VLOOKUP($A30,Participants!$A:$E,2,FALSE)","v":{"$error":"#N/A"}},{"$f":"VLOOKUP($A30,Participants!$A:$E,3,FALSE)","v":{"$error":"#N/A"}},{"$f":"VLOOKUP($A30,Participants!$A:$E,5,FALSE)","v":{"$error":"#N/A"}},5,{"$f":"RANK(D30,IF(I30=5,$D$30:$D$35,),1)","v":{"$error":"#N/A"}},{"$error":"#N/A"}]
[{"$nulls":4},{"$f":"VLOOKUP($A31,Participants!$A:$E,4,FALSE)","v":{"$error":"#N/A"}},{"$f":"VLOOKUP($A31,Participants!$A:$E,2,FALSE)","v":{"$error":"#N/A"}},{"$f":"VLOOKUP($A31,Participants!$A:$E,3,FALSE)","v":{"$error":"#N/A"}},{"$f":"VLOOKUP($A31,Participants!$A:$E,5,FALSE)","v":{"$error":"#N/A"}},5,{"$f":"RANK(D31,IF(I31=5,$D$30:$D$35,),1)","v":{"$error":"#N/A"}},{"$error":"#N/A"}]
[{"$nulls":4},{"$f":"VLOOKUP($A32,Participants!$A:$E,4,FALSE)","v":{"$error":"#N/A"}},{"$f":"VLOOKUP($A32,Participants!$A:$E,2,FALSE)","v":{"$error":"#N/A"}},{"$f":"VLOOKUP($A32,Participants!$A:$E,3,FALSE)","v":{"$error":"#N/A"}},{"$f":"VLOOKUP($A32,Participants!$A:$E,5,FALSE)","v":{"$error":"#N/A"}},5,{"$error":"#N/A"},{"$error":"#N/A"}]
[{"$nulls":4},{"$f":"VLOOKUP($A33,Participants!$A:$E,4,FALSE)","v":{"$error":"#N/A"}},{"$f":"VLOOKUP($A33,Participants!$A:$E,2,FALSE)","v":{"$error":"#N/A"}},{"$f":"VLOOKUP($A33,Participants!$A:$E,3,FALSE)","v":{"$error":"#N/A"}},{"$f":"VLOOKUP($A33,Participants!$A:$E,5,FALSE)","v":{"$error":"#N/A"}},5,{"$error":"#N/A"},{"$error":"#N/A"}]
[{"$nulls":4},{"$f":"VLOOKUP($A34,Participants!$A:$E,4,FALSE)","v":{"$error":"#N/A"}},{"$f":"VLOOKUP($A34,Participants!$A:$E,2,FALSE)","v":{"$error":"#N/A"}},{"$f":"VLOOKUP($A34,Participants!$A:$E,3,FALSE)","v":{"$error":"#N/A"}},{"$f":"VLOOKUP($A34,Participants!$A:$E,5,FALSE)","v":{"$error":"#N/A"}},5,{"$error":"#N/A"},{"$error":"#N/A"}]
[{"$nulls":4},{"$f":"VLOOKUP($A35,Participants!$A:$E,4,FALSE)","v":{"$error":"#N/A"}},{"$f":"VLOOKUP($A35,Participants!$A:$E,2,FALSE)","v":{"$error":"#N/A"}},{"$f":"VLOOKUP($A35,Participants!$A:$E,3,FALSE)","v":{"$error":"#N/A"}},{"$f":"VLOOKUP($A35,Participants!$A:$E,5,FALSE)","v":{"$error":"#N/A"}},5,{"$error":"#N/A"},{"$error":"#N/A"}]
[]
[{"$nulls":4},{"$f":"VLOOKUP($A37,Participants!$A:$E,4,FALSE)","v":{"$error":"#N/A"}},{"$f":"VLOOKUP($A37,Participants!$A:$E,2,FALSE)","v":{"$error":"#N/A"}},{"$f":"VLOOKUP($A37,Participants!$A:$E,3,FALSE)","v":{"$error":"#N/A"}},{"$f":"VLOOKUP($A37,Participants!$A:$E,5,FALSE)","v":{"$error":"#N/A"}},6,{"$f":"RANK(D37,IF(I37=6,$D$37:$D$42,),1)","v":{"$error":"#N/A"}},{"$error":"#N/A"}]
[{"$nulls":4},{"$f":"VLOOKUP($A38,Participants!$A:$E,4,FALSE)","v":{"$error":"#N/A"}},{"$f":"VLOOKUP($A38,Participants!$A:$E,2,FALSE)","v":{"$error":"#N/A"}},{"$f":"VLOOKUP($A38,Participants!$A:$E,3,FALSE)","v":{"$error":"#N/A"}},{"$f":"VLOOKUP($A38,Participants!$A:$E,5,FALSE)","v":{"$error":"#N/A"}},6,{"$f":"RANK(D38,IF(I38=6,$D$37:$D$42,),1)","v":{"$error":"#N/A"}},{"$error":"#N/A"}]
[{"$nulls":4},{"$f":"VLOOKUP($A39,Participants!$A:$E,4,FALSE)","v":{"$error":"#N/A"}},{"$f":"VLOOKUP($A39,Participants!$A:$E,2,FALSE)","v":{"$error":"#N/A"}},{"$f":"VLOOKUP($A39,Participants!$A:$E,3,FALSE)","v":{"$error":"#N/A"}},{"$f":"VLOOKUP($A39,Participants!$A:$E,5,FALSE)","v":{"$error":"#N/A"}},6,{"$error":"#N/A"},{"$error":"#N/A"}]
[{"$nulls":4},{"$f":"VLOOKUP($A40,Participants!$A:$E,4,FALSE)","v":{"$error":"#N/A"}},{"$f":"VLOOKUP($A40,Participants!$A:$E,2,FALSE)","v":{"$error":"#N/A"}},{"$f":"VLOOKUP($A40,Participants!$A:$E,3,FALSE)","v":{"$error":"#N/A"}},{"$f":"VLOOKUP($A40,Participants!$A:$E,5,FALSE)","v":{"$error":"#N/A"}},6,{"$error":"#N/A"},{"$error":"#N/A"}]
[{"$nulls":4},{"$f":"VLOOKUP($A41,Participants!$A:$E,4,FALSE)","v":{"$error":"#N/A"}},{"$f":"VLOOKUP($A41,Participants!$A:$E,2,FALSE)","v":{"$error":"#N/A"}},{"$f":"VLOOKUP($A41,Participants!$A:$E,3,FALSE)","v":{"$error":"#N/A"}},{"$f":"VLOOKUP($A41,Participants!$A:$E,5,FALSE)","v":{"$error":"#N/A"}},6,{"$error":"#N/A"},{"$error":"#N/A"}]
[{"$nulls":4},{"$f":"VLOOKUP($A42,Participants!$A:$E,4,FALSE)","v":{"$error":"#N/A"}},{"$f":"VLOOKUP($A42,Participants!$A:$E,2,FALSE)","v":{"$error":"#N/A"}},{"$f":"VLOOKUP($A42,Participants!$A:$E,3,FALSE)","v":{"$error":"#N/A"}},{"$f":"VLOOKUP($A42,Participants!$A:$E,5,FALSE)","v":{"$error":"#N/A"}},6,{"$error":"#N/A"},{"$error":"#N/A"}]

{"sheet":"50 4th Girls","index":34,"n_rows":49,"n_cols":13,"rows_kept":49}
["Bib","HeatOrder",null,"Time","Grade","FName","Lname","School","Heat","Heat Place","Overall Place",null,"Return to Schedule of Events"]
[148,"Lap 1","00:00:09.190","00:00:09.190",{"$f":"VLOOKUP($A2,Participants!$A:$E,4,FALSE)","v":3},{"$f":"VLOOKUP($A2,Participants!$A:$E,2,FALSE)","v":"Evelynn"},{"$f":"VLOOKUP($A2,Participants!$A:$E,3,FALSE)","v":"Vermillion"},{"$f":"VLOOKUP($A2,Participants!$A:$E,5,FALSE)","v":"OLG"},1,{"$f":"RANK(D2,IF(I2=1,$D$2:$D$7,),1)","v":1},{"$f":"RANK(D2,$D$2:$D$101,1)","v":2}]
[31,"Lap 2","00:00:00.810","00:00:10",{"$f":"VLOOKUP($A3,Participants!$A:$E,4,FALSE)","v":3},{"$f":"VLOOKUP($A3,Participants!$A:$E,2,FALSE)","v":"Ava"},{"$f":"VLOOKUP($A3,Participants!$A:$E,3,FALSE)","v":"Eckhart"},{"$f":"VLOOKUP($A3,Participants!$A:$E,5,FALSE)","v":"St Jude"},1,2,{"$f":"RANK(D3,$D$2:$D$101,1)","v":5},null,"Add or Update Participants"]
[223,"Lap 3","00:00:00.480","00:00:10.490",{"$f":"VLOOKUP($A4,Participants!$A:$E,4,FALSE)","v":3},{"$f":"VLOOKUP($A4,Participants!$A:$E,2,FALSE)","v":"Brynn"},{"$f":"VLOOKUP($A4,Participants!$A:$E,3,FALSE)","v":"Berry"},{"$f":"VLOOKUP($A4,Participants!$A:$E,5,FALSE)","v":"United We Run"},1,3,7,null,"Overall Place and Points"]
[64,"Lap 4","00:00:00.700","00:00:11.190",{"$f":"VLOOKUP($A5,Participants!$A:$E,4,FALSE)","v":3},{"$f":"VLOOKUP($A5,Participants!$A:$E,2,FALSE)","v":"Katelyn"},{"$f":"VLOOKUP($A5,Participants!$A:$E,3,FALSE)","v":"Kitchens"},{"$f":"VLOOKUP($A5,Participants!$A:$E,5,FALSE)","v":"St Jude"},1,4,10]
[{"$nulls":4},{"$f":"VLOOKUP($A6,Participants!$A:$E,4,FALSE)","v":{"$error":"#N/A"}},{"$f":"VLOOKUP($A6,Participants!$A:$E,2,FALSE)","v":{"$error":"#N/A"}},{"$f":"VLOOKUP($A6,Participants!$A:$E,3,FALSE)","v":{"$error":"#N/A"}},{"$f":"VLOOKUP($A6,Participants!$A:$E,5,FALSE)","v":{"$error":"#N/A"}},1,{"$error":"#N/A"},{"$error":"#N/A"}]
[{"$nulls":4},{"$f":"VLOOKUP($A7,Participants!$A:$E,4,FALSE)","v":{"$error":"#N/A"}},{"$f":"VLOOKUP($A7,Participants!$A:$E,2,FALSE)","v":{"$error":"#N/A"}},{"$f":"VLOOKUP($A7,Participants!$A:$E,3,FALSE)","v":{"$error":"#N/A"}},{"$f":"VLOOKUP($A7,Participants!$A:$E,5,FALSE)","v":{"$error":"#N/A"}},1,{"$error":"#N/A"},{"$error":"#N/A"}]
[]
[171,"Lap 1","00:00:09.700","00:00:09.700",{"$f":"VLOOKUP($A9,Participants!$A:$E,4,FALSE)","v":3},{"$f":"VLOOKUP($A9,Participants!$A:$E,2,FALSE)","v":"Ava"},{"$f":"VLOOKUP($A9,Participants!$A:$E,3,FALSE)","v":"Giacobbe"},{"$f":"VLOOKUP($A9,Participants!$A:$E,5,FALSE)","v":"SSFC"},2,{"$f":"RANK(D9,IF(I9=2,$D$9:$D$14,),1)","v":1},4]
[85,"Lap 2","00:00:01.320","00:00:11.020",{"$f":"VLOOKUP($A10,Participants!$A:$E,4,FALSE)","v":3},{"$f":"VLOOKUP($A10,Participants!$A:$E,2,FALSE)","v":"Julia "},{"$f":"VLOOKUP($A10,Participants!$A:$E,3,FALSE)","v":"Mayer"},{"$f":"VLOOKUP($A10,Participants!$A:$E,5,FALSE)","v":"St Jude"},2,2,8]
[90,"Lap 3","00:00:00.150","00:00:11.180",{"$f":"VLOOKUP($A11,Participants!$A:$E,4,FALSE)","v":3},{"$f":"VLOOKUP($A11,Participants!$A:$E,2,FALSE)","v":"Suri "},{"$f":"VLOOKUP($A11,Participants!$A:$E,3,FALSE)","v":"Mejia-Herrera"},{"$f":"VLOOKUP($A11,Participants!$A:$E,5,FALSE)","v":"St Jude"},2,3,9]
[295,"Lap 4","00:00:02.840","00:00:14.020",{"$f":"VLOOKUP($A12,Participants!$A:$E,4,FALSE)","v":3},{"$f":"VLOOKUP($A12,Participants!$A:$E,2,FALSE)","v":"Emma"},{"$f":"VLOOKUP($A12,Participants!$A:$E,3,FALSE)","v":"Mize"},{"$f":"VLOOKUP($A12,Participants!$A:$E,5,FALSE)","v":"St. Barnabas"},2,4,13]
[{"$nulls":4},{"$f":"VLOOKUP($A13,Participants!$A:$E,4,FALSE)","v":{"$error":"#N/A"}},{"$f":"VLOOKUP($A13,Participants!$A:$E,2,FALSE)","v":{"$error":"#N/A"}},{"$f":"VLOOKUP($A13,Participants!$A:$E,3,FALSE)","v":{"$error":"#N/A"}},{"$f":"VLOOKUP($A13,Participants!$A:$E,5,FALSE)","v":{"$error":"#N/A"}},2,{"$error":"#N/A"},{"$error":"#N/A"}]
[{"$nulls":4},{"$f":"VLOOKUP($A14,Participants!$A:$E,4,FALSE)","v":{"$error":"#N/A"}},{"$f":"VLOOKUP($A14,Participants!$A:$E,2,FALSE)","v":{"$error":"#N/A"}},{"$f":"VLOOKUP($A14,Participants!$A:$E,3,FALSE)","v":{"$error":"#N/A"}},{"$f":"VLOOKUP($A14,Participants!$A:$E,5,FALSE)","v":{"$error":"#N/A"}},2,{"$error":"#N/A"},{"$error":"#N/A"}]
[]
[23,"Lap 1","00:00:09.040","00:00:09.040",{"$f":"VLOOKUP($A16,Participants!$A:$E,4,FALSE)","v":4},{"$f":"VLOOKUP($A16,Participants!$A:$E,2,FALSE)","v":"Josephine"},{"$f":"VLOOKUP($A16,Participants!$A:$E,3,FALSE)","v":"Clark"},{"$f":"VLOOKUP($A16,Participants!$A:$E,5,FALSE)","v":"St Jude"},3,{"$f":"RANK(D16,IF(I16=3,$D$16:$D$21,),1)","v":1},1]
[273,"Lap 2","00:00:00.340","00:00:09.390",{"$f":"VLOOKUP($A17,Participants!$A:$E,4,FALSE)","v":4},{"$f":"VLOOKUP($A17,Participants!$A:$E,2,FALSE)","v":"Olivia"},{"$f":"VLOOKUP($A17,Participants!$A:$E,3,FALSE)","v":"Andrews"},{"$f":"VLOOKUP($A17,Participants!$A:$E,5,FALSE)","v":"St. Barnabas"},3,2,3]
[45,"Lap 3","00:00:00.840","00:00:10.240",{"$f":"VLOOKUP($A18,Participants!$A:$E,4,FALSE)","v":4},{"$f":"VLOOKUP($A18,Participants!$A:$E,2,FALSE)","v":"Sophia "},{"$f":"VLOOKUP($A18,Participants!$A:$E,3,FALSE)","v":"Grabczak"},{"$f":"VLOOKUP($A18,Participants!$A:$E,5,FALSE)","v":"St Jude"},3,3,6]
[310,"Lap 4","00:00:01.500","00:00:11.750",{"$f":"VLOOKUP($A19,Participants!$A:$E,4,FALSE)","v":4},{"$f":"VLOOKUP($A19,Participants!$A:$E,2,FALSE)","v":"Caroline"},{"$f":"VLOOKUP($A19,Participants!$A:$E,3,FALSE)","v":"Wilson"},{"$f":"VLOOKUP($A19,Participants!$A:$E,5,FALSE)","v":"St. Barnabas"},3,4,11]
[292,"Lap 5","00:00:00.160","00:00:11.910",{"$f":"VLOOKUP($A20,Participants!$A:$E,4,FALSE)","v":4},{"$f":"VLOOKUP($A20,Participants!$A:$E,2,FALSE)","v":"Rylie"},{"$f":"VLOOKUP($A20,Participants!$A:$E,3,FALSE)","v":"Meyer"},{"$f":"VLOOKUP($A20,Participants!$A:$E,5,FALSE)","v":"St. Barnabas"},3,5,12]
[{"$nulls":4},{"$f":"VLOOKUP($A21,Participants!$A:$E,4,FALSE)","v":{"$error":"#N/A"}},{"$f":"VLOOKUP($A21,Participants!$A:$E,2,FALSE)","v":{"$error":"#N/A"}},{"$f":"VLOOKUP($A21,Participants!$A:$E,3,FALSE)","v":{"$error":"#N/A"}},{"$f":"VLOOKUP($A21,Participants!$A:$E,5,FALSE)","v":{"$error":"#N/A"}},3,{"$error":"#N/A"},{"$error":"#N/A"}]
[]
[{"$nulls":4},{"$f":"VLOOKUP($A23,Participants!$A:$E,4,FALSE)","v":{"$error":"#N/A"}},{"$f":"VLOOKUP($A23,Participants!$A:$E,2,FALSE)","v":{"$error":"#N/A"}},{"$f":"VLOOKUP($A23,Participants!$A:$E,3,FALSE)","v":{"$error":"#N/A"}},{"$f":"VLOOKUP($A23,Participants!$A:$E,5,FALSE)","v":{"$error":"#N/A"}},4,{"$f":"RANK(D23,IF(I23=4,$D$23:$D$28,),1)","v":{"$error":"#N/A"}},{"$error":"#N/A"}]
[{"$nulls":4},{"$f":"VLOOKUP($A24,Participants!$A:$E,4,FALSE)","v":{"$error":"#N/A"}},{"$f":"VLOOKUP($A24,Participants!$A:$E,2,FALSE)","v":{"$error":"#N/A"}},{"$f":"VLOOKUP($A24,Participants!$A:$E,3,FALSE)","v":{"$error":"#N/A"}},{"$f":"VLOOKUP($A24,Participants!$A:$E,5,FALSE)","v":{"$error":"#N/A"}},4,{"$error":"#N/A"},{"$error":"#N/A"}]
[{"$nulls":4},{"$f":"VLOOKUP($A25,Participants!$A:$E,4,FALSE)","v":{"$error":"#N/A"}},{"$f":"VLOOKUP($A25,Participants!$A:$E,2,FALSE)","v":{"$error":"#N/A"}},{"$f":"VLOOKUP($A25,Participants!$A:$E,3,FALSE)","v":{"$error":"#N/A"}},{"$f":"VLOOKUP($A25,Participants!$A:$E,5,FALSE)","v":{"$error":"#N/A"}},4,{"$error":"#N/A"},{"$error":"#N/A"}]
[{"$nulls":4},{"$f":"VLOOKUP($A26,Participants!$A:$E,4,FALSE)","v":{"$error":"#N/A"}},{"$f":"VLOOKUP($A26,Participants!$A:$E,2,FALSE)","v":{"$error":"#N/A"}},{"$f":"VLOOKUP($A26,Participants!$A:$E,3,FALSE)","v":{"$error":"#N/A"}},{"$f":"VLOOKUP($A26,Participants!$A:$E,5,FALSE)","v":{"$error":"#N/A"}},4,{"$error":"#N/A"},{"$error":"#N/A"}]
[{"$nulls":4},{"$f":"VLOOKUP($A27,Participants!$A:$E,4,FALSE)","v":{"$error":"#N/A"}},{"$f":"VLOOKUP($A27,Participants!$A:$E,2,FALSE)","v":{"$error":"#N/A"}},{"$f":"VLOOKUP($A27,Participants!$A:$E,3,FALSE)","v":{"$error":"#N/A"}},{"$f":"VLOOKUP($A27,Participants!$A:$E,5,FALSE)","v":{"$error":"#N/A"}},4,{"$error":"#N/A"},{"$error":"#N/A"}]
[{"$nulls":4},{"$f":"VLOOKUP($A28,Participants!$A:$E,4,FALSE)","v":{"$error":"#N/A"}},{"$f":"VLOOKUP($A28,Participants!$A:$E,2,FALSE)","v":{"$error":"#N/A"}},{"$f":"VLOOKUP($A28,Participants!$A:$E,3,FALSE)","v":{"$error":"#N/A"}},{"$f":"VLOOKUP($A28,Participants!$A:$E,5,FALSE)","v":{"$error":"#N/A"}},4,{"$error":"#N/A"},{"$error":"#N/A"}]
[]
[{"$nulls":4},{"$f":"VLOOKUP($A30,Participants!$A:$E,4,FALSE)","v":{"$error":"#N/A"}},{"$f":"VLOOKUP($A30,Participants!$A:$E,2,FALSE)","v":{"$error":"#N/A"}},{"$f":"VLOOKUP($A30,Participants!$A:$E,3,FALSE)","v":{"$error":"#N/A"}},{"$f":"VLOOKUP($A30,Participants!$A:$E,5,FALSE)","v":{"$error":"#N/A"}},5,{"$f":"RANK(D30,IF(I30=5,$D$30:$D$35,),1)","v":{"$error":"#N/A"}},{"$error":"#N/A"}]
[{"$nulls":4},{"$f":"VLOOKUP($A31,Participants!$A:$E,4,FALSE)","v":{"$error":"#N/A"}},{"$f":"VLOOKUP($A31,Participants!$A:$E,2,FALSE)","v":{"$error":"#N/A"}},{"$f":"VLOOKUP($A31,Participants!$A:$E,3,FALSE)","v":{"$error":"#N/A"}},{"$f":"VLOOKUP($A31,Participants!$A:$E,5,FALSE)","v":{"$error":"#N/A"}},5,{"$f":"RANK(D31,IF(I31=5,$D$30:$D$35,),1)","v":{"$error":"#N/A"}},{"$error":"#N/A"}]
[{"$nulls":4},{"$f":"VLOOKUP($A32,Participants!$A:$E,4,FALSE)","v":{"$error":"#N/A"}},{"$f":"VLOOKUP($A32,Participants!$A:$E,2,FALSE)","v":{"$error":"#N/A"}},{"$f":"VLOOKUP($A32,Participants!$A:$E,3,FALSE)","v":{"$error":"#N/A"}},{"$f":"VLOOKUP($A32,Participants!$A:$E,5,FALSE)","v":{"$error":"#N/A"}},5,{"$error":"#N/A"},{"$error":"#N/A"}]
[{"$nulls":4},{"$f":"VLOOKUP($A33,Participants!$A:$E,4,FALSE)","v":{"$error":"#N/A"}},{"$f":"VLOOKUP($A33,Participants!$A:$E,2,FALSE)","v":{"$error":"#N/A"}},{"$f":"VLOOKUP($A33,Participants!$A:$E,3,FALSE)","v":{"$error":"#N/A"}},{"$f":"VLOOKUP($A33,Participants!$A:$E,5,FALSE)","v":{"$error":"#N/A"}},5,{"$error":"#N/A"},{"$error":"#N/A"}]
[{"$nulls":4},{"$f":"VLOOKUP($A34,Participants!$A:$E,4,FALSE)","v":{"$error":"#N/A"}},{"$f":"VLOOKUP($A34,Participants!$A:$E,2,FALSE)","v":{"$error":"#N/A"}},{"$f":"VLOOKUP($A34,Participants!$A:$E,3,FALSE)","v":{"$error":"#N/A"}},{"$f":"VLOOKUP($A34,Participants!$A:$E,5,FALSE)","v":{"$error":"#N/A"}},5,{"$error":"#N/A"},{"$error":"#N/A"}]
[{"$nulls":4},{"$f":"VLOOKUP($A35,Participants!$A:$E,4,FALSE)","v":{"$error":"#N/A"}},{"$f":"VLOOKUP($A35,Participants!$A:$E,2,FALSE)","v":{"$error":"#N/A"}},{"$f":"VLOOKUP($A35,Participants!$A:$E,3,FALSE)","v":{"$error":"#N/A"}},{"$f":"VLOOKUP($A35,Participants!$A:$E,5,FALSE)","v":{"$error":"#N/A"}},5,{"$error":"#N/A"},{"$error":"#N/A"}]
[]
[{"$nulls":4},{"$f":"VLOOKUP($A37,Participants!$A:$E,4,FALSE)","v":{"$error":"#N/A"}},{"$f":"VLOOKUP($A37,Participants!$A:$E,2,FALSE)","v":{"$error":"#N/A"}},{"$f":"VLOOKUP($A37,Participants!$A:$E,3,FALSE)","v":{"$error":"#N/A"}},{"$f":"VLOOKUP($A37,Participants!$A:$E,5,FALSE)","v":{"$error":"#N/A"}},6,{"$f":"RANK(D37,IF(I37=6,$D$37:$D$42,),1)","v":{"$error":"#N/A"}},{"$error":"#N/A"}]
[{"$nulls":4},{"$f":"VLOOKUP($A38,Participants!$A:$E,4,FALSE)","v":{"$error":"#N/A"}},{"$f":"VLOOKUP($A38,Participants!$A:$E,2,FALSE)","v":{"$error":"#N/A"}},{"$f":"VLOOKUP($A38,Participants!$A:$E,3,FALSE)","v":{"$error":"#N/A"}},{"$f":"VLOOKUP($A38,Participants!$A:$E,5,FALSE)","v":{"$error":"#N/A"}},6,{"$f":"RANK(D38,IF(I38=6,$D$37:$D$42,),1)","v":{"$error":"#N/A"}},{"$error":"#N/A"}]
[{"$nulls":4},{"$f":"VLOOKUP($A39,Participants!$A:$E,4,FALSE)","v":{"$error":"#N/A"}},{"$f":"VLOOKUP($A39,Participants!$A:$E,2,FALSE)","v":{"$error":"#N/A"}},{"$f":"VLOOKUP($A39,Participants!$A:$E,3,FALSE)","v":{"$error":"#N/A"}},{"$f":"VLOOKUP($A39,Participants!$A:$E,5,FALSE)","v":{"$error":"#N/A"}},6,{"$error":"#N/A"},{"$error":"#N/A"}]
[{"$nulls":4},{"$f":"VLOOKUP($A40,Participants!$A:$E,4,FALSE)","v":{"$error":"#N/A"}},{"$f":"VLOOKUP($A40,Participants!$A:$E,2,FALSE)","v":{"$error":"#N/A"}},{"$f":"VLOOKUP($A40,Participants!$A:$E,3,FALSE)","v":{"$error":"#N/A"}},{"$f":"VLOOKUP($A40,Participants!$A:$E,5,FALSE)","v":{"$error":"#N/A"}},6,{"$error":"#N/A"},{"$error":"#N/A"}]
[{"$nulls":4},{"$f":"VLOOKUP($A41,Participants!$A:$E,4,FALSE)","v":{"$error":"#N/A"}},{"$f":"VLOOKUP($A41,Participants!$A:$E,2,FALSE)","v":{"$error":"#N/A"}},{"$f":"VLOOKUP($A41,Participants!$A:$E,3,FALSE)","v":{"$error":"#N/A"}},{"$f":"VLOOKUP($A41,Participants!$A:$E,5,FALSE)","v":{"$error":"#N/A"}},6,{"$error":"#N/A"},{"$error":"#N/A"}]
[{"$nulls":4},{"$f":"VLOOKUP($A42,Participants!$A:$E,4,FALSE)","v":{"$error":"#N/A"}},{"$f":"VLOOKUP($A42,Participants!$A:$E,2,FALSE)","v":{"$error":"#N/A"}},{"$f":"VLOOKUP($A42,Participants!$A:$E,3,FALSE)","v":{"$error":"#N/A"}},{"$f":"VLOOKUP($A42,Participants!$A:$E,5,FALSE)","v":{"$error":"#N/A"}},6,{"$error":"#N/A"},{"$error":"#N/A"}]
[]
[{"$nulls":4},{"$f":"VLOOKUP($A44,Participants!$A:$E,4,FALSE)","v":{"$error":"#N/A"}},{"$f":"VLOOKUP($A44,Participants!$A:$E,2,FALSE)","v":{"$error":"#N/A"}},{"$f":"VLOOKUP($A44,Participants!$A:$E,3,FALSE)","v":{"$error":"#N/A"}},{"$f":"VLOOKUP($A44,Participants!$A:$E,5,FALSE)","v":{"$error":"#N/A"}},7,{"$f":"RANK(D44,IF(I44=7,$D$44:$D$49,),1)","v":{"$error":"#N/A"}},{"$f":"RANK(D44,$D$2:$D$101,1)","v":{"$error":"#N/A"}}]
[{"$nulls":4},{"$f":"VLOOKUP($A45,Participants!$A:$E,4,FALSE)","v":{"$error":"#N/A"}},{"$f":"VLOOKUP($A45,Participants!$A:$E,2,FALSE)","v":{"$error":"#N/A"}},{"$f":"VLOOKUP($A45,Participants!$A:$E,3,FALSE)","v":{"$error":"#N/A"}},{"$f":"VLOOKUP($A45,Participants!$A:$E,5,FALSE)","v":{"$error":"#N/A"}},7,{"$f":"RANK(D45,IF(I45=7,$D$44:$D$49,),1)","v":{"$error":"#N/A"}},{"$f":"RANK(D45,$D$2:$D$101,1)","v":{"$error":"#N/A"}}]
[{"$nulls":4},{"$f":"VLOOKUP($A46,Participants!$A:$E,4,FALSE)","v":{"$error":"#N/A"}},{"$f":"VLOOKUP($A46,Participants!$A:$E,2,FALSE)","v":{"$error":"#N/A"}},{"$f":"VLOOKUP($A46,Participants!$A:$E,3,FALSE)","v":{"$error":"#N/A"}},{"$f":"VLOOKUP($A46,Participants!$A:$E,5,FALSE)","v":{"$error":"#N/A"}},7,{"$error":"#N/A"},{"$error":"#N/A"}]
[{"$nulls":4},{"$f":"VLOOKUP($A47,Participants!$A:$E,4,FALSE)","v":{"$error":"#N/A"}},{"$f":"VLOOKUP($A47,Participants!$A:$E,2,FALSE)","v":{"$error":"#N/A"}},{"$f":"VLOOKUP($A47,Participants!$A:$E,3,FALSE)","v":{"$error":"#N/A"}},{"$f":"VLOOKUP($A47,Participants!$A:$E,5,FALSE)","v":{"$error":"#N/A"}},7,{"$error":"#N/A"},{"$error":"#N/A"}]
[{"$nulls":4},{"$f":"VLOOKUP($A48,Participants!$A:$E,4,FALSE)","v":{"$error":"#N/A"}},{"$f":"VLOOKUP($A48,Participants!$A:$E,2,FALSE)","v":{"$error":"#N/A"}},{"$f":"VLOOKUP($A48,Participants!$A:$E,3,FALSE)","v":{"$error":"#N/A"}},{"$f":"VLOOKUP($A48,Participants!$A:$E,5,FALSE)","v":{"$error":"#N/A"}},7,{"$error":"#N/A"},{"$error":"#N/A"}]
[{"$nulls":4},{"$f":"VLOOKUP($A49,Participants!$A:$E,4,FALSE)","v":{"$error":"#N/A"}},{"$f":"VLOOKUP($A49,Participants!$A:$E,2,FALSE)","v":{"$error":"#N/A"}},{"$f":"VLOOKUP($A49,Participants!$A:$E,3,FALSE)","v":{"$error":"#N/A"}},{"$f":"VLOOKUP($A49,Participants!$A:$E,5,FALSE)","v":{"$error":"#N/A"}},7,{"$error":"#N/A"},{"$error":"#N/A"}]

{"sheet":"200 4th Girls","index":35,"n_rows":42,"n_cols":13,"rows_kept":42}
["Bib","HeatOrder",null,"Time","Grade","FName","Lname","School","Heat","Heat Place","Overall Place",null,"Return to Schedule of Events"]
[23,"Lap 1","00:00:39.480","00:00:39.480",{"$f":"VLOOKUP($A2,Participants!$A:$E,4,FALSE)","v":4},{"$f":"VLOOKUP($A2,Participants!$A:$E,2,FALSE)","v":"Josephine"},{"$f":"VLOOKUP($A2,Participants!$A:$E,3,FALSE)","v":"Clark"},{"$f":"VLOOKUP($A2,Participants!$A:$E,5,FALSE)","v":"St Jude"},1,{"$f":"RANK(D2,IF(I2=1,$D$2:$D$7,),1)","v":1},{"$f":"RANK(D2,$D$2:$D$100,1)","v":5}]
[306,"Lap 2","00:00:00.530","00:00:40.010",{"$f":"VLOOKUP($A3,Participants!$A:$E,4,FALSE)","v":4},{"$f":"VLOOKUP($A3,Participants!$A:$E,2,FALSE)","v":"Callie"},{"$f":"VLOOKUP($A3,Participants!$A:$E,3,FALSE)","v":"Stephenson"},{"$f":"VLOOKUP($A3,Participants!$A:$E,5,FALSE)","v":"St. Barnabas"},1,2,{"$f":"RANK(D3,$D$2:$D$100,1)","v":6},null,"Add or Update Participants"]
[281,"Lap 3","00:00:01.430","00:00:41.450",{"$f":"VLOOKUP($A4,Participants!$A:$E,4,FALSE)","v":4},{"$f":"VLOOKUP($A4,Participants!$A:$E,2,FALSE)","v":"Stella"},{"$f":"VLOOKUP($A4,Participants!$A:$E,3,FALSE)","v":"Kessenich"},{"$f":"VLOOKUP($A4,Participants!$A:$E,5,FALSE)","v":"St. Barnabas"},1,3,9,null,"Overall Place and Points"]
[200,"Lap 4","00:00:00.880","00:00:42.330",{"$f":"VLOOKUP($A5,Participants!$A:$E,4,FALSE)","v":4},{"$f":"VLOOKUP($A5,Participants!$A:$E,2,FALSE)","v":"Maggie"},{"$f":"VLOOKUP($A5,Participants!$A:$E,3,FALSE)","v":"Shirley"},{"$f":"VLOOKUP($A5,Participants!$A:$E,5,FALSE)","v":"SSFC"},1,4,10]
[148,"Lap 5","00:00:03.310","00:00:45.650",{"$f":"VLOOKUP($A6,Participants!$A:$E,4,FALSE)","v":3},{"$f":"VLOOKUP($A6,Participants!$A:$E,2,FALSE)","v":"Evelynn"},{"$f":"VLOOKUP($A6,Participants!$A:$E,3,FALSE)","v":"Vermillion"},{"$f":"VLOOKUP($A6,Participants!$A:$E,5,FALSE)","v":"OLG"},1,5,11]
[188,"Lap 6","00:00:02.710","00:00:48.360",{"$f":"VLOOKUP($A7,Participants!$A:$E,4,FALSE)","v":3},{"$f":"VLOOKUP($A7,Participants!$A:$E,2,FALSE)","v":"Ava"},{"$f":"VLOOKUP($A7,Participants!$A:$E,3,FALSE)","v":"Nalley"},{"$f":"VLOOKUP($A7,Participants!$A:$E,5,FALSE)","v":"SSFC"},1,6,12]
[]
[null,"Lap 1","00:00:34.030","00:00:34.030",{"$f":"VLOOKUP($A9,Participants!$A:$E,4,FALSE)","v":{"$error":"#N/A"}},{"$f":"VLOOKUP($A9,Participants!$A:$E,2,FALSE)","v":{"$error":"#N/A"}},{"$f":"VLOOKUP($A9,Participants!$A:$E,3,FALSE)","v":{"$error":"#N/A"}},{"$f":"VLOOKUP($A9,Participants!$A:$E,5,FALSE)","v":{"$error":"#N/A"}},2,{"$f":"RANK(D9,IF(I9=2,$D$9:$D$14,),1)","v":1},1]
[null,"Lap 2","00:00:00.460","00:00:34.490",{"$f":"VLOOKUP($A10,Participants!$A:$E,4,FALSE)","v":{"$error":"#N/A"}},{"$f":"VLOOKUP($A10,Participants!$A:$E,2,FALSE)","v":{"$error":"#N/A"}},{"$f":"VLOOKUP($A10,Participants!$A:$E,3,FALSE)","v":{"$error":"#N/A"}},{"$f":"VLOOKUP($A10,Participants!$A:$E,5,FALSE)","v":{"$error":"#N/A"}},2,2,2]
[null,"Lap 3","00:00:00.350","00:00:34.840",{"$f":"VLOOKUP($A11,Participants!$A:$E,4,FALSE)","v":{"$error":"#N/A"}},{"$f":"VLOOKUP($A11,Participants!$A:$E,2,FALSE)","v":{"$error":"#N/A"}},{"$f":"VLOOKUP($A11,Participants!$A:$E,3,FALSE)","v":{"$error":"#N/A"}},{"$f":"VLOOKUP($A11,Participants!$A:$E,5,FALSE)","v":{"$error":"#N/A"}},2,3,3]
[null,"Lap 4","00:00:00.280","00:00:35.130",{"$f":"VLOOKUP($A12,Participants!$A:$E,4,FALSE)","v":{"$error":"#N/A"}},{"$f":"VLOOKUP($A12,Participants!$A:$E,2,FALSE)","v":{"$error":"#N/A"}},{"$f":"VLOOKUP($A12,Participants!$A:$E,3,FALSE)","v":{"$error":"#N/A"}},{"$f":"VLOOKUP($A12,Participants!$A:$E,5,FALSE)","v":{"$error":"#N/A"}},2,4,4]
[null,"Lap 5","00:00:04.890","00:00:40.030",{"$f":"VLOOKUP($A13,Participants!$A:$E,4,FALSE)","v":{"$error":"#N/A"}},{"$f":"VLOOKUP($A13,Participants!$A:$E,2,FALSE)","v":{"$error":"#N/A"}},{"$f":"VLOOKUP($A13,Participants!$A:$E,3,FALSE)","v":{"$error":"#N/A"}},{"$f":"VLOOKUP($A13,Participants!$A:$E,5,FALSE)","v":{"$error":"#N/A"}},2,5,7]
[null,"Lap 6","00:00:00.270","00:00:40.300",{"$f":"VLOOKUP($A14,Participants!$A:$E,4,FALSE)","v":{"$error":"#N/A"}},{"$f":"VLOOKUP($A14,Participants!$A:$E,2,FALSE)","v":{"$error":"#N/A"}},{"$f":"VLOOKUP($A14,Participants!$A:$E,3,FALSE)","v":{"$error":"#N/A"}},{"$f":"VLOOKUP($A14,Participants!$A:$E,5,FALSE)","v":{"$error":"#N/A"}},2,6,8]
[]
[{"$nulls":4},{"$f":"VLOOKUP($A16,Participants!$A:$E,4,FALSE)","v":{"$error":"#N/A"}},{"$f":"VLOOKUP($A16,Participants!$A:$E,2,FALSE)","v":{"$error":"#N/A"}},{"$f":"VLOOKUP($A16,Participants!$A:$E,3,FALSE)","v":{"$error":"#N/A"}},{"$f":"VLOOKUP($A16,Participants!$A:$E,5,FALSE)","v":{"$error":"#N/A"}},3,{"$f":"RANK(D16,IF(I16=3,$D$16:$D$21,),1)","v":{"$error":"#N/A"}},{"$error":"#N/A"}]
[{"$nulls":4},{"$f":"VLOOKUP($A17,Participants!$A:$E,4,FALSE)","v":{"$error":"#N/A"}},{"$f":"VLOOKUP($A17,Participants!$A:$E,2,FALSE)","v":{"$error":"#N/A"}},{"$f":"VLOOKUP($A17,Participants!$A:$E,3,FALSE)","v":{"$error":"#N/A"}},{"$f":"VLOOKUP($A17,Participants!$A:$E,5,FALSE)","v":{"$error":"#N/A"}},3,{"$error":"#N/A"},{"$error":"#N/A"}]
[{"$nulls":4},{"$f":"VLOOKUP($A18,Participants!$A:$E,4,FALSE)","v":{"$error":"#N/A"}},{"$f":"VLOOKUP($A18,Participants!$A:$E,2,FALSE)","v":{"$error":"#N/A"}},{"$f":"VLOOKUP($A18,Participants!$A:$E,3,FALSE)","v":{"$error":"#N/A"}},{"$f":"VLOOKUP($A18,Participants!$A:$E,5,FALSE)","v":{"$error":"#N/A"}},3,{"$error":"#N/A"},{"$error":"#N/A"}]
[{"$nulls":4},{"$f":"VLOOKUP($A19,Participants!$A:$E,4,FALSE)","v":{"$error":"#N/A"}},{"$f":"VLOOKUP($A19,Participants!$A:$E,2,FALSE)","v":{"$error":"#N/A"}},{"$f":"VLOOKUP($A19,Participants!$A:$E,3,FALSE)","v":{"$error":"#N/A"}},{"$f":"VLOOKUP($A19,Participants!$A:$E,5,FALSE)","v":{"$error":"#N/A"}},3,{"$error":"#N/A"},{"$error":"#N/A"}]
[{"$nulls":4},{"$f":"VLOOKUP($A20,Participants!$A:$E,4,FALSE)","v":{"$error":"#N/A"}},{"$f":"VLOOKUP($A20,Participants!$A:$E,2,FALSE)","v":{"$error":"#N/A"}},{"$f":"VLOOKUP($A20,Participants!$A:$E,3,FALSE)","v":{"$error":"#N/A"}},{"$f":"VLOOKUP($A20,Participants!$A:$E,5,FALSE)","v":{"$error":"#N/A"}},3,{"$error":"#N/A"},{"$error":"#N/A"}]
[{"$nulls":4},{"$f":"VLOOKUP($A21,Participants!$A:$E,4,FALSE)","v":{"$error":"#N/A"}},{"$f":"VLOOKUP($A21,Participants!$A:$E,2,FALSE)","v":{"$error":"#N/A"}},{"$f":"VLOOKUP($A21,Participants!$A:$E,3,FALSE)","v":{"$error":"#N/A"}},{"$f":"VLOOKUP($A21,Participants!$A:$E,5,FALSE)","v":{"$error":"#N/A"}},3,{"$error":"#N/A"},{"$error":"#N/A"}]
[]
[{"$nulls":4},{"$f":"VLOOKUP($A23,Participants!$A:$E,4,FALSE)","v":{"$error":"#N/A"}},{"$f":"VLOOKUP($A23,Participants!$A:$E,2,FALSE)","v":{"$error":"#N/A"}},{"$f":"VLOOKUP($A23,Participants!$A:$E,3,FALSE)","v":{"$error":"#N/A"}},{"$f":"VLOOKUP($A23,Participants!$A:$E,5,FALSE)","v":{"$error":"#N/A"}},4,{"$f":"RANK(D23,IF(I23=4,$D$23:$D$28,),1)","v":{"$error":"#N/A"}},{"$error":"#N/A"}]
[{"$nulls":4},{"$f":"VLOOKUP($A24,Participants!$A:$E,4,FALSE)","v":{"$error":"#N/A"}},{"$f":"VLOOKUP($A24,Participants!$A:$E,2,FALSE)","v":{"$error":"#N/A"}},{"$f":"VLOOKUP($A24,Participants!$A:$E,3,FALSE)","v":{"$error":"#N/A"}},{"$f":"VLOOKUP($A24,Participants!$A:$E,5,FALSE)","v":{"$error":"#N/A"}},4,{"$error":"#N/A"},{"$error":"#N/A"}]
[{"$nulls":4},{"$f":"VLOOKUP($A25,Participants!$A:$E,4,FALSE)","v":{"$error":"#N/A"}},{"$f":"VLOOKUP($A25,Participants!$A:$E,2,FALSE)","v":{"$error":"#N/A"}},{"$f":"VLOOKUP($A25,Participants!$A:$E,3,FALSE)","v":{"$error":"#N/A"}},{"$f":"VLOOKUP($A25,Participants!$A:$E,5,FALSE)","v":{"$error":"#N/A"}},4,{"$error":"#N/A"},{"$error":"#N/A"}]
[{"$nulls":4},{"$f":"VLOOKUP($A26,Participants!$A:$E,4,FALSE)","v":{"$error":"#N/A"}},{"$f":"VLOOKUP($A26,Participants!$A:$E,2,FALSE)","v":{"$error":"#N/A"}},{"$f":"VLOOKUP($A26,Participants!$A:$E,3,FALSE)","v":{"$error":"#N/A"}},{"$f":"VLOOKUP($A26,Participants!$A:$E,5,FALSE)","v":{"$error":"#N/A"}},4,{"$error":"#N/A"},{"$error":"#N/A"}]
[{"$nulls":4},{"$f":"VLOOKUP($A27,Participants!$A:$E,4,FALSE)","v":{"$error":"#N/A"}},{"$f":"VLOOKUP($A27,Participants!$A:$E,2,FALSE)","v":{"$error":"#N/A"}},{"$f":"VLOOKUP($A27,Participants!$A:$E,3,FALSE)","v":{"$error":"#N/A"}},{"$f":"VLOOKUP($A27,Participants!$A:$E,5,FALSE)","v":{"$error":"#N/A"}},4,{"$error":"#N/A"},{"$error":"#N/A"}]
[{"$nulls":4},{"$f":"VLOOKUP($A28,Participants!$A:$E,4,FALSE)","v":{"$error":"#N/A"}},{"$f":"VLOOKUP($A28,Participants!$A:$E,2,FALSE)","v":{"$error":"#N/A"}},{"$f":"VLOOKUP($A28,Participants!$A:$E,3,FALSE)","v":{"$error":"#N/A"}},{"$f":"VLOOKUP($A28,Participants!$A:$E,5,FALSE)","v":{"$error":"#N/A"}},4,{"$error":"#N/A"},{"$error":"#N/A"}]
[]
[{"$nulls":4},{"$f":"VLOOKUP($A30,Participants!$A:$E,4,FALSE)","v":{"$error":"#N/A"}},{"$f":"VLOOKUP($A30,Participants!$A:$E,2,FALSE)","v":{"$error":"#N/A"}},{"$f":"VLOOKUP($A30,Participants!$A:$E,3,FALSE)","v":{"$error":"#N/A"}},{"$f":"VLOOKUP($A30,Participants!$A:$E,5,FALSE)","v":{"$error":"#N/A"}},5,{"$f":"RANK(D30,IF(I30=5,$D$30:$D$35,),1)","v":{"$error":"#N/A"}},{"$error":"#N/A"}]
[{"$nulls":4},{"$f":"VLOOKUP($A31,Participants!$A:$E,4,FALSE)","v":{"$error":"#N/A"}},{"$f":"VLOOKUP($A31,Participants!$A:$E,2,FALSE)","v":{"$error":"#N/A"}},{"$f":"VLOOKUP($A31,Participants!$A:$E,3,FALSE)","v":{"$error":"#N/A"}},{"$f":"VLOOKUP($A31,Participants!$A:$E,5,FALSE)","v":{"$error":"#N/A"}},5,{"$f":"RANK(D31,IF(I31=5,$D$30:$D$35,),1)","v":{"$error":"#N/A"}},{"$error":"#N/A"}]
[{"$nulls":4},{"$f":"VLOOKUP($A32,Participants!$A:$E,4,FALSE)","v":{"$error":"#N/A"}},{"$f":"VLOOKUP($A32,Participants!$A:$E,2,FALSE)","v":{"$error":"#N/A"}},{"$f":"VLOOKUP($A32,Participants!$A:$E,3,FALSE)","v":{"$error":"#N/A"}},{"$f":"VLOOKUP($A32,Participants!$A:$E,5,FALSE)","v":{"$error":"#N/A"}},5,{"$error":"#N/A"},{"$error":"#N/A"}]
[{"$nulls":4},{"$f":"VLOOKUP($A33,Participants!$A:$E,4,FALSE)","v":{"$error":"#N/A"}},{"$f":"VLOOKUP($A33,Participants!$A:$E,2,FALSE)","v":{"$error":"#N/A"}},{"$f":"VLOOKUP($A33,Participants!$A:$E,3,FALSE)","v":{"$error":"#N/A"}},{"$f":"VLOOKUP($A33,Participants!$A:$E,5,FALSE)","v":{"$error":"#N/A"}},5,{"$error":"#N/A"},{"$error":"#N/A"}]
[{"$nulls":4},{"$f":"VLOOKUP($A34,Participants!$A:$E,4,FALSE)","v":{"$error":"#N/A"}},{"$f":"VLOOKUP($A34,Participants!$A:$E,2,FALSE)","v":{"$error":"#N/A"}},{"$f":"VLOOKUP($A34,Participants!$A:$E,3,FALSE)","v":{"$error":"#N/A"}},{"$f":"VLOOKUP($A34,Participants!$A:$E,5,FALSE)","v":{"$error":"#N/A"}},5,{"$error":"#N/A"},{"$error":"#N/A"}]
[{"$nulls":4},{"$f":"VLOOKUP($A35,Participants!$A:$E,4,FALSE)","v":{"$error":"#N/A"}},{"$f":"VLOOKUP($A35,Participants!$A:$E,2,FALSE)","v":{"$error":"#N/A"}},{"$f":"VLOOKUP($A35,Participants!$A:$E,3,FALSE)","v":{"$error":"#N/A"}},{"$f":"VLOOKUP($A35,Participants!$A:$E,5,FALSE)","v":{"$error":"#N/A"}},5,{"$error":"#N/A"},{"$error":"#N/A"}]
[]
[{"$nulls":4},{"$f":"VLOOKUP($A37,Participants!$A:$E,4,FALSE)","v":{"$error":"#N/A"}},{"$f":"VLOOKUP($A37,Participants!$A:$E,2,FALSE)","v":{"$error":"#N/A"}},{"$f":"VLOOKUP($A37,Participants!$A:$E,3,FALSE)","v":{"$error":"#N/A"}},{"$f":"VLOOKUP($A37,Participants!$A:$E,5,FALSE)","v":{"$error":"#N/A"}},6,{"$f":"RANK(D37,IF(I37=6,$D$37:$D$42,),1)","v":{"$error":"#N/A"}},{"$error":"#N/A"}]
[{"$nulls":4},{"$f":"VLOOKUP($A38,Participants!$A:$E,4,FALSE)","v":{"$error":"#N/A"}},{"$f":"VLOOKUP($A38,Participants!$A:$E,2,FALSE)","v":{"$error":"#N/A"}},{"$f":"VLOOKUP($A38,Participants!$A:$E,3,FALSE)","v":{"$error":"#N/A"}},{"$f":"VLOOKUP($A38,Participants!$A:$E,5,FALSE)","v":{"$error":"#N/A"}},6,{"$f":"RANK(D38,IF(I38=6,$D$37:$D$42,),1)","v":{"$error":"#N/A"}},{"$error":"#N/A"}]
[{"$nulls":4},{"$f":"VLOOKUP($A39,Participants!$A:$E,4,FALSE)","v":{"$error":"#N/A"}},{"$f":"VLOOKUP($A39,Participants!$A:$E,2,FALSE)","v":{"$error":"#N/A"}},{"$f":"VLOOKUP($A39,Participants!$A:$E,3,FALSE)","v":{"$error":"#N/A"}},{"$f":"VLOOKUP($A39,Participants!$A:$E,5,FALSE)","v":{"$error":"#N/A"}},6,{"$error":"#N/A"},{"$error":"#N/A"}]
[{"$nulls":4},{"$f":"VLOOKUP($A40,Participants!$A:$E,4,FALSE)","v":{"$error":"#N/A"}},{"$f":"VLOOKUP($A40,Participants!$A:$E,2,FALSE)","v":{"$error":"#N/A"}},{"$f":"VLOOKUP($A40,Participants!$A:$E,3,FALSE)","v":{"$error":"#N/A"}},{"$f":"VLOOKUP($A40,Participants!$A:$E,5,FALSE)","v":{"$error":"#N/A"}},6,{"$error":"#N/A"},{"$error":"#N/A"}]
[{"$nulls":4},{"$f":"VLOOKUP($A41,Participants!$A:$E,4,FALSE)","v":{"$error":"#N/A"}},{"$f":"VLOOKUP($A41,Participants!$A:$E,2,FALSE)","v":{"$error":"#N/A"}},{"$f":"VLOOKUP($A41,Participants!$A:$E,3,FALSE)","v":{"$error":"#N/A"}},{"$f":"VLOOKUP($A41,Participants!$A:$E,5,FALSE)","v":{"$error":"#N/A"}},6,{"$error":"#N/A"},{"$error":"#N/A"}]
[{"$nulls":4},{"$f":"VLOOKUP($A42,Participants!$A:$E,4,FALSE)","v":{"$error":"#N/A"}},{"$f":"VLOOKUP($A42,Participants!$A:$E,2,FALSE)","v":{"$error":"#N/A"}},{"$f":"VLOOKUP($A42,Participants!$A:$E,3,FALSE)","v":{"$error":"#N/A"}},{"$f":"VLOOKUP($A42,Participants!$A:$E,5,FALSE)","v":{"$error":"#N/A"}},6,{"$error":"#N/A"},{"$error":"#N/A"}]

{"sheet":"800 4th Girls","index":36,"n_rows":37,"n_cols":13,"rows_kept":37}
["Bib","HeatOrder",null,"Time","Grade","FName","Lname","School","Heat","Heat Place","Overall Place",null,"Return to Schedule of Events"]
[241,"00:03:45.380",null,null,{"$f":"VLOOKUP($A2,Participants!$A:$E,4,FALSE)","v":4},{"$f":"VLOOKUP($A2,Participants!$A:$E,2,FALSE)","v":"Ella"},{"$f":"VLOOKUP($A2,Participants!$A:$E,3,FALSE)","v":"Johnson"},{"$f":"VLOOKUP($A2,Participants!$A:$E,5,FALSE)","v":"United We Run"},1,{"$f":"RANK(D2,IF(I2=1,$D$2:$D$37,),1)","v":{"$error":"#N/A"}},{"$f":"RANK(D2,$D$2:$D$95,1)","v":{"$error":"#N/A"}}]
[{"$nulls":4},{"$f":"VLOOKUP($A3,Participants!$A:$E,4,FALSE)","v":{"$error":"#N/A"}},{"$f":"VLOOKUP($A3,Participants!$A:$E,2,FALSE)","v":{"$error":"#N/A"}},{"$f":"VLOOKUP($A3,Participants!$A:$E,3,FALSE)","v":{"$error":"#N/A"}},{"$f":"VLOOKUP($A3,Participants!$A:$E,5,FALSE)","v":{"$error":"#N/A"}},1,{"$error":"#N/A"},{"$error":"#N/A"},null,"Add or Update Participants"]
[{"$nulls":4},{"$f":"VLOOKUP($A4,Participants!$A:$E,4,FALSE)","v":{"$error":"#N/A"}},{"$f":"VLOOKUP($A4,Participants!$A:$E,2,FALSE)","v":{"$error":"#N/A"}},{"$f":"VLOOKUP($A4,Participants!$A:$E,3,FALSE)","v":{"$error":"#N/A"}},{"$f":"VLOOKUP($A4,Participants!$A:$E,5,FALSE)","v":{"$error":"#N/A"}},1,{"$error":"#N/A"},{"$error":"#N/A"},null,"Overall Place and Points"]
[{"$nulls":4},{"$f":"VLOOKUP($A5,Participants!$A:$E,4,FALSE)","v":{"$error":"#N/A"}},{"$f":"VLOOKUP($A5,Participants!$A:$E,2,FALSE)","v":{"$error":"#N/A"}},{"$f":"VLOOKUP($A5,Participants!$A:$E,3,FALSE)","v":{"$error":"#N/A"}},{"$f":"VLOOKUP($A5,Participants!$A:$E,5,FALSE)","v":{"$error":"#N/A"}},1,{"$error":"#N/A"},{"$error":"#N/A"}]
[{"$nulls":4},{"$f":"VLOOKUP($A6,Participants!$A:$E,4,FALSE)","v":{"$error":"#N/A"}},{"$f":"VLOOKUP($A6,Participants!$A:$E,2,FALSE)","v":{"$error":"#N/A"}},{"$f":"VLOOKUP($A6,Participants!$A:$E,3,FALSE)","v":{"$error":"#N/A"}},{"$f":"VLOOKUP($A6,Participants!$A:$E,5,FALSE)","v":{"$error":"#N/A"}},1,{"$error":"#N/A"},{"$error":"#N/A"}]
[{"$nulls":4},{"$f":"VLOOKUP($A7,Participants!$A:$E,4,FALSE)","v":{"$error":"#N/A"}},{"$f":"VLOOKUP($A7,Participants!$A:$E,2,FALSE)","v":{"$error":"#N/A"}},{"$f":"VLOOKUP($A7,Participants!$A:$E,3,FALSE)","v":{"$error":"#N/A"}},{"$f":"VLOOKUP($A7,Participants!$A:$E,5,FALSE)","v":{"$error":"#N/A"}},1,{"$error":"#N/A"},{"$error":"#N/A"}]
[{"$nulls":4},{"$f":"VLOOKUP($A8,Participants!$A:$E,4,FALSE)","v":{"$error":"#N/A"}},{"$f":"VLOOKUP($A8,Participants!$A:$E,2,FALSE)","v":{"$error":"#N/A"}},{"$f":"VLOOKUP($A8,Participants!$A:$E,3,FALSE)","v":{"$error":"#N/A"}},{"$f":"VLOOKUP($A8,Participants!$A:$E,5,FALSE)","v":{"$error":"#N/A"}},1,{"$error":"#N/A"},{"$error":"#N/A"}]
[{"$nulls":4},{"$f":"VLOOKUP($A9,Participants!$A:$E,4,FALSE)","v":{"$error":"#N/A"}},{"$f":"VLOOKUP($A9,Participants!$A:$E,2,FALSE)","v":{"$error":"#N/A"}},{"$f":"VLOOKUP($A9,Participants!$A:$E,3,FALSE)","v":{"$error":"#N/A"}},{"$f":"VLOOKUP($A9,Participants!$A:$E,5,FALSE)","v":{"$error":"#N/A"}},1,{"$error":"#N/A"},{"$error":"#N/A"}]
[{"$nulls":4},{"$f":"VLOOKUP($A10,Participants!$A:$E,4,FALSE)","v":{"$error":"#N/A"}},{"$f":"VLOOKUP($A10,Participants!$A:$E,2,FALSE)","v":{"$error":"#N/A"}},{"$f":"VLOOKUP($A10,Participants!$A:$E,3,FALSE)","v":{"$error":"#N/A"}},{"$f":"VLOOKUP($A10,Participants!$A:$E,5,FALSE)","v":{"$error":"#N/A"}},1,{"$f":"RANK(D10,IF(I10=1,$D$2:$D$37,),1)","v":{"$error":"#N/A"}},{"$f":"RANK(D10,$D$2:$D$95,1)","v":{"$error":"#N/A"}}]
[{"$nulls":4},{"$f":"VLOOKUP($A11,Participants!$A:$E,4,FALSE)","v":{"$error":"#N/A"}},{"$f":"VLOOKUP($A11,Participants!$A:$E,2,FALSE)","v":{"$error":"#N/A"}},{"$f":"VLOOKUP($A11,Participants!$A:$E,3,FALSE)","v":{"$error":"#N/A"}},{"$f":"VLOOKUP($A11,Participants!$A:$E,5,FALSE)","v":{"$error":"#N/A"}},1,{"$error":"#N/A"},{"$error":"#N/A"}]
[{"$nulls":4},{"$f":"VLOOKUP($A12,Participants!$A:$E,4,FALSE)","v":{"$error":"#N/A"}},{"$f":"VLOOKUP($A12,Participants!$A:$E,2,FALSE)","v":{"$error":"#N/A"}},{"$f":"VLOOKUP($A12,Participants!$A:$E,3,FALSE)","v":{"$error":"#N/A"}},{"$f":"VLOOKUP($A12,Participants!$A:$E,5,FALSE)","v":{"$error":"#N/A"}},1,{"$error":"#N/A"},{"$error":"#N/A"}]
[{"$nulls":4},{"$f":"VLOOKUP($A13,Participants!$A:$E,4,FALSE)","v":{"$error":"#N/A"}},{"$f":"VLOOKUP($A13,Participants!$A:$E,2,FALSE)","v":{"$error":"#N/A"}},{"$f":"VLOOKUP($A13,Participants!$A:$E,3,FALSE)","v":{"$error":"#N/A"}},{"$f":"VLOOKUP($A13,Participants!$A:$E,5,FALSE)","v":{"$error":"#N/A"}},1,{"$error":"#N/A"},{"$error":"#N/A"}]
[{"$nulls":4},{"$f":"VLOOKUP($A14,Participants!$A:$E,4,FALSE)","v":{"$error":"#N/A"}},{"$f":"VLOOKUP($A14,Participants!$A:$E,2,FALSE)","v":{"$error":"#N/A"}},{"$f":"VLOOKUP($A14,Participants!$A:$E,3,FALSE)","v":{"$error":"#N/A"}},{"$f":"VLOOKUP($A14,Participants!$A:$E,5,FALSE)","v":{"$error":"#N/A"}},1,{"$error":"#N/A"},{"$error":"#N/A"}]
[{"$nulls":4},{"$f":"VLOOKUP($A15,Participants!$A:$E,4,FALSE)","v":{"$error":"#N/A"}},{"$f":"VLOOKUP($A15,Participants!$A:$E,2,FALSE)","v":{"$error":"#N/A"}},{"$f":"VLOOKUP($A15,Participants!$A:$E,3,FALSE)","v":{"$error":"#N/A"}},{"$f":"VLOOKUP($A15,Participants!$A:$E,5,FALSE)","v":{"$error":"#N/A"}},1,{"$error":"#N/A"},{"$error":"#N/A"}]
[{"$nulls":4},{"$f":"VLOOKUP($A16,Participants!$A:$E,4,FALSE)","v":{"$error":"#N/A"}},{"$f":"VLOOKUP($A16,Participants!$A:$E,2,FALSE)","v":{"$error":"#N/A"}},{"$f":"VLOOKUP($A16,Participants!$A:$E,3,FALSE)","v":{"$error":"#N/A"}},{"$f":"VLOOKUP($A16,Participants!$A:$E,5,FALSE)","v":{"$error":"#N/A"}},1,{"$error":"#N/A"},{"$error":"#N/A"}]
[{"$nulls":4},{"$f":"VLOOKUP($A17,Participants!$A:$E,4,FALSE)","v":{"$error":"#N/A"}},{"$f":"VLOOKUP($A17,Participants!$A:$E,2,FALSE)","v":{"$error":"#N/A"}},{"$f":"VLOOKUP($A17,Participants!$A:$E,3,FALSE)","v":{"$error":"#N/A"}},{"$f":"VLOOKUP($A17,Participants!$A:$E,5,FALSE)","v":{"$error":"#N/A"}},1,{"$error":"#N/A"},{"$error":"#N/A"}]
[{"$nulls":4},{"$f":"VLOOKUP($A18,Participants!$A:$E,4,FALSE)","v":{"$error":"#N/A"}},{"$f":"VLOOKUP($A18,Participants!$A:$E,2,FALSE)","v":{"$error":"#N/A"}},{"$f":"VLOOKUP($A18,Participants!$A:$E,3,FALSE)","v":{"$error":"#N/A"}},{"$f":"VLOOKUP($A18,Participants!$A:$E,5,FALSE)","v":{"$error":"#N/A"}},1,{"$error":"#N/A"},{"$error":"#N/A"}]
[{"$nulls":4},{"$f":"VLOOKUP($A19,Participants!$A:$E,4,FALSE)","v":{"$error":"#N/A"}},{"$f":"VLOOKUP($A19,Participants!$A:$E,2,FALSE)","v":{"$error":"#N/A"}},{"$f":"VLOOKUP($A19,Participants!$A:$E,3,FALSE)","v":{"$error":"#N/A"}},{"$f":"VLOOKUP($A19,Participants!$A:$E,5,FALSE)","v":{"$error":"#N/A"}},1,{"$error":"#N/A"},{"$error":"#N/A"}]
[{"$nulls":4},{"$f":"VLOOKUP($A20,Participants!$A:$E,4,FALSE)","v":{"$error":"#N/A"}},{"$f":"VLOOKUP($A20,Participants!$A:$E,2,FALSE)","v":{"$error":"#N/A"}},{"$f":"VLOOKUP($A20,Participants!$A:$E,3,FALSE)","v":{"$error":"#N/A"}},{"$f":"VLOOKUP($A20,Participants!$A:$E,5,FALSE)","v":{"$error":"#N/A"}},1,{"$error":"#N/A"},{"$error":"#N/A"}]
[{"$nulls":4},{"$f":"VLOOKUP($A21,Participants!$A:$E,4,FALSE)","v":{"$error":"#N/A"}},{"$f":"VLOOKUP($A21,Participants!$A:$E,2,FALSE)","v":{"$error":"#N/A"}},{"$f":"VLOOKUP($A21,Participants!$A:$E,3,FALSE)","v":{"$error":"#N/A"}},{"$f":"VLOOKUP($A21,Participants!$A:$E,5,FALSE)","v":{"$error":"#N/A"}},1,{"$error":"#N/A"},{"$error":"#N/A"}]
[{"$nulls":4},{"$f":"VLOOKUP($A22,Participants!$A:$E,4,FALSE)","v":{"$error":"#N/A"}},{"$f":"VLOOKUP($A22,Participants!$A:$E,2,FALSE)","v":{"$error":"#N/A"}},{"$f":"VLOOKUP($A22,Participants!$A:$E,3,FALSE)","v":{"$error":"#N/A"}},{"$f":"VLOOKUP($A22,Participants!$A:$E,5,FALSE)","v":{"$error":"#N/A"}},1,{"$error":"#N/A"},{"$error":"#N/A"}]
[{"$nulls":4},{"$f":"VLOOKUP($A23,Participants!$A:$E,4,FALSE)","v":{"$error":"#N/A"}},{"$f":"VLOOKUP($A23,Participants!$A:$E,2,FALSE)","v":{"$error":"#N/A"}},{"$f":"VLOOKUP($A23,Participants!$A:$E,3,FALSE)","v":{"$error":"#N/A"}},{"$f":"VLOOKUP($A23,Participants!$A:$E,5,FALSE)","v":{"$error":"#N/A"}},1,{"$error":"#N/A"},{"$error":"#N/A"}]
[{"$nulls":4},{"$f":"VLOOKUP($A24,Participants!$A:$E,4,FALSE)","v":{"$error":"#N/A"}},{"$f":"VLOOKUP($A24,Participants!$A:$E,2,FALSE)","v":{"$error":"#N/A"}},{"$f":"VLOOKUP($A24,Participants!$A:$E,3,FALSE)","v":{"$error":"#N/A"}},{"$f":"VLOOKUP($A24,Participants!$A:$E,5,FALSE)","v":{"$error":"#N/A"}},1,{"$error":"#N/A"},{"$error":"#N/A"}]
[{"$nulls":4},{"$f":"VLOOKUP($A25,Participants!$A:$E,4,FALSE)","v":{"$error":"#N/A"}},{"$f":"VLOOKUP($A25,Participants!$A:$E,2,FALSE)","v":{"$error":"#N/A"}},{"$f":"VLOOKUP($A25,Participants!$A:$E,3,FALSE)","v":{"$error":"#N/A"}},{"$f":"VLOOKUP($A25,Participants!$A:$E,5,FALSE)","v":{"$error":"#N/A"}},1,{"$error":"#N/A"},{"$error":"#N/A"}]
[{"$nulls":4},{"$f":"VLOOKUP($A26,Participants!$A:$E,4,FALSE)","v":{"$error":"#N/A"}},{"$f":"VLOOKUP($A26,Participants!$A:$E,2,FALSE)","v":{"$error":"#N/A"}},{"$f":"VLOOKUP($A26,Participants!$A:$E,3,FALSE)","v":{"$error":"#N/A"}},{"$f":"VLOOKUP($A26,Participants!$A:$E,5,FALSE)","v":{"$error":"#N/A"}},1,{"$error":"#N/A"},{"$error":"#N/A"}]
[{"$nulls":4},{"$f":"VLOOKUP($A27,Participants!$A:$E,4,FALSE)","v":{"$error":"#N/A"}},{"$f":"VLOOKUP($A27,Participants!$A:$E,2,FALSE)","v":{"$error":"#N/A"}},{"$f":"VLOOKUP($A27,Participants!$A:$E,3,FALSE)","v":{"$error":"#N/A"}},{"$f":"VLOOKUP($A27,Participants!$A:$E,5,FALSE)","v":{"$error":"#N/A"}},1,{"$error":"#N/A"},{"$error":"#N/A"}]
[{"$nulls":4},{"$f":"VLOOKUP($A28,Participants!$A:$E,4,FALSE)","v":{"$error":"#N/A"}},{"$f":"VLOOKUP($A28,Participants!$A:$E,2,FALSE)","v":{"$error":"#N/A"}},{"$f":"VLOOKUP($A28,Participants!$A:$E,3,FALSE)","v":{"$error":"#N/A"}},{"$f":"VLOOKUP($A28,Participants!$A:$E,5,FALSE)","v":{"$error":"#N/A"}},1,{"$error":"#N/A"},{"$error":"#N/A"}]
[{"$nulls":4},{"$f":"VLOOKUP($A29,Participants!$A:$E,4,FALSE)","v":{"$error":"#N/A"}},{"$f":"VLOOKUP($A29,Participants!$A:$E,2,FALSE)","v":{"$error":"#N/A"}},{"$f":"VLOOKUP($A29,Participants!$A:$E,3,FALSE)","v":{"$error":"#N/A"}},{"$f":"VLOOKUP($A29,Participants!$A:$E,5,FALSE)","v":{"$error":"#N/A"}},1,{"$error":"#N/A"},{"$error":"#N/A"}]
[{"$nulls":4},{"$f":"VLOOKUP($A30,Participants!$A:$E,4,FALSE)","v":{"$error":"#N/A"}},{"$f":"VLOOKUP($A30,Participants!$A:$E,2,FALSE)","v":{"$error":"#N/A"}},{"$f":"VLOOKUP($A30,Participants!$A:$E,3,FALSE)","v":{"$error":"#N/A"}},{"$f":"VLOOKUP($A30,Participants!$A:$E,5,FALSE)","v":{"$error":"#N/A"}},1,{"$error":"#N/A"},{"$error":"#N/A"}]
[{"$nulls":4},{"$f":"VLOOKUP($A31,Participants!$A:$E,4,FALSE)","v":{"$error":"#N/A"}},{"$f":"VLOOKUP($A31,Participants!$A:$E,2,FALSE)","v":{"$error":"#N/A"}},{"$f":"VLOOKUP($A31,Participants!$A:$E,3,FALSE)","v":{"$error":"#N/A"}},{"$f":"VLOOKUP($A31,Participants!$A:$E,5,FALSE)","v":{"$error":"#N/A"}},1,{"$error":"#N/A"},{"$error":"#N/A"}]
[{"$nulls":4},{"$f":"VLOOKUP($A32,Participants!$A:$E,4,FALSE)","v":{"$error":"#N/A"}},{"$f":"VLOOKUP($A32,Participants!$A:$E,2,FALSE)","v":{"$error":"#N/A"}},{"$f":"VLOOKUP($A32,Participants!$A:$E,3,FALSE)","v":{"$error":"#N/A"}},{"$f":"VLOOKUP($A32,Participants!$A:$E,5,FALSE)","v":{"$error":"#N/A"}},1,{"$error":"#N/A"},{"$error":"#N/A"}]
[{"$nulls":4},{"$f":"VLOOKUP($A33,Participants!$A:$E,4,FALSE)","v":{"$error":"#N/A"}},{"$f":"VLOOKUP($A33,Participants!$A:$E,2,FALSE)","v":{"$error":"#N/A"}},{"$f":"VLOOKUP($A33,Participants!$A:$E,3,FALSE)","v":{"$error":"#N/A"}},{"$f":"VLOOKUP($A33,Participants!$A:$E,5,FALSE)","v":{"$error":"#N/A"}},1,{"$error":"#N/A"},{"$error":"#N/A"}]
[{"$nulls":4},{"$f":"VLOOKUP($A34,Participants!$A:$E,4,FALSE)","v":{"$error":"#N/A"}},{"$f":"VLOOKUP($A34,Participants!$A:$E,2,FALSE)","v":{"$error":"#N/A"}},{"$f":"VLOOKUP($A34,Participants!$A:$E,3,FALSE)","v":{"$error":"#N/A"}},{"$f":"VLOOKUP($A34,Participants!$A:$E,5,FALSE)","v":{"$error":"#N/A"}},1,{"$error":"#N/A"},{"$error":"#N/A"}]
[{"$nulls":4},{"$f":"VLOOKUP($A35,Participants!$A:$E,4,FALSE)","v":{"$error":"#N/A"}},{"$f":"VLOOKUP($A35,Participants!$A:$E,2,FALSE)","v":{"$error":"#N/A"}},{"$f":"VLOOKUP($A35,Participants!$A:$E,3,FALSE)","v":{"$error":"#N/A"}},{"$f":"VLOOKUP($A35,Participants!$A:$E,5,FALSE)","v":{"$error":"#N/A"}},1,{"$error":"#N/A"},{"$error":"#N/A"}]
[{"$nulls":4},{"$f":"VLOOKUP($A36,Participants!$A:$E,4,FALSE)","v":{"$error":"#N/A"}},{"$f":"VLOOKUP($A36,Participants!$A:$E,2,FALSE)","v":{"$error":"#N/A"}},{"$f":"VLOOKUP($A36,Participants!$A:$E,3,FALSE)","v":{"$error":"#N/A"}},{"$f":"VLOOKUP($A36,Participants!$A:$E,5,FALSE)","v":{"$error":"#N/A"}},1,{"$error":"#N/A"},{"$error":"#N/A"}]
[{"$nulls":4},{"$f":"VLOOKUP($A37,Participants!$A:$E,4,FALSE)","v":{"$error":"#N/A"}},{"$f":"VLOOKUP($A37,Participants!$A:$E,2,FALSE)","v":{"$error":"#N/A"}},{"$f":"VLOOKUP($A37,Participants!$A:$E,3,FALSE)","v":{"$error":"#N/A"}},{"$f":"VLOOKUP($A37,Participants!$A:$E,5,FALSE)","v":{"$error":"#N/A"}},1,{"$error":"#N/A"},{"$error":"#N/A"}]

{"sheet":"100 4th Girls","index":37,"n_rows":49,"n_cols":13,"rows_kept":49}
["Bib","HeatOrder",null,"Time","Grade","FName","Lname","School","Heat","Heat Place","Overall Place",null,"Return to Schedule of Events"]
[148,"Lap 1","00:00:20.130","00:00:20.130",{"$f":"VLOOKUP($A2,Participants!$A:$E,4,FALSE)","v":3},{"$f":"VLOOKUP($A2,Participants!$A:$E,2,FALSE)","v":"Evelynn"},{"$f":"VLOOKUP($A2,Participants!$A:$E,3,FALSE)","v":"Vermillion"},{"$f":"VLOOKUP($A2,Participants!$A:$E,5,FALSE)","v":"OLG"},1,{"$f":"RANK(D2,IF(I2=1,$D$2:$D$7,),1)","v":1},{"$f":"RANK(D2,$D$2:$D$100,1)","v":9}]
[90,"Lap 2","00:00:01.220","00:00:21.350",{"$f":"VLOOKUP($A3,Participants!$A:$E,4,FALSE)","v":3},{"$f":"VLOOKUP($A3,Participants!$A:$E,2,FALSE)","v":"Suri "},{"$f":"VLOOKUP($A3,Participants!$A:$E,3,FALSE)","v":"Mejia-Herrera"},{"$f":"VLOOKUP($A3,Participants!$A:$E,5,FALSE)","v":"St Jude"},1,2,{"$f":"RANK(D3,$D$2:$D$100,1)","v":12},null,"Add or Update Participants"]
[223,"Lap 3","00:00:00.910","00:00:22.270",{"$f":"VLOOKUP($A4,Participants!$A:$E,4,FALSE)","v":3},{"$f":"VLOOKUP($A4,Participants!$A:$E,2,FALSE)","v":"Brynn"},{"$f":"VLOOKUP($A4,Participants!$A:$E,3,FALSE)","v":"Berry"},{"$f":"VLOOKUP($A4,Participants!$A:$E,5,FALSE)","v":"United We Run"},1,3,13,null,"Overall Place and Points"]
[295,"Lap 4","00:00:05.910","00:00:28.180",{"$f":"VLOOKUP($A5,Participants!$A:$E,4,FALSE)","v":3},{"$f":"VLOOKUP($A5,Participants!$A:$E,2,FALSE)","v":"Emma"},{"$f":"VLOOKUP($A5,Participants!$A:$E,3,FALSE)","v":"Mize"},{"$f":"VLOOKUP($A5,Participants!$A:$E,5,FALSE)","v":"St. Barnabas"},1,4,16]
[{"$nulls":4},{"$f":"VLOOKUP($A6,Participants!$A:$E,4,FALSE)","v":{"$error":"#N/A"}},{"$f":"VLOOKUP($A6,Participants!$A:$E,2,FALSE)","v":{"$error":"#N/A"}},{"$f":"VLOOKUP($A6,Participants!$A:$E,3,FALSE)","v":{"$error":"#N/A"}},{"$f":"VLOOKUP($A6,Participants!$A:$E,5,FALSE)","v":{"$error":"#N/A"}},1,{"$error":"#N/A"},{"$error":"#N/A"}]
[{"$nulls":4},{"$f":"VLOOKUP($A7,Participants!$A:$E,4,FALSE)","v":{"$error":"#N/A"}},{"$f":"VLOOKUP($A7,Participants!$A:$E,2,FALSE)","v":{"$error":"#N/A"}},{"$f":"VLOOKUP($A7,Participants!$A:$E,3,FALSE)","v":{"$error":"#N/A"}},{"$f":"VLOOKUP($A7,Participants!$A:$E,5,FALSE)","v":{"$error":"#N/A"}},1,{"$error":"#N/A"},{"$error":"#N/A"}]
[{"$nulls":10},{"$error":"#N/A"}]
[31,"Lap 1","00:00:19.830","00:00:19.830",{"$f":"VLOOKUP($A9,Participants!$A:$E,4,FALSE)","v":3},{"$f":"VLOOKUP($A9,Participants!$A:$E,2,FALSE)","v":"Ava"},{"$f":"VLOOKUP($A9,Participants!$A:$E,3,FALSE)","v":"Eckhart"},{"$f":"VLOOKUP($A9,Participants!$A:$E,5,FALSE)","v":"St Jude"},2,{"$f":"RANK(D9,IF(I9=2,$D$9:$D$14,),1)","v":1},8]
[311,"Lap 2","00:00:00.520","00:00:20.350",{"$f":"VLOOKUP($A10,Participants!$A:$E,4,FALSE)","v":3},{"$f":"VLOOKUP($A10,Participants!$A:$E,2,FALSE)","v":"Kristen"},{"$f":"VLOOKUP($A10,Participants!$A:$E,3,FALSE)","v":"Wilson"},{"$f":"VLOOKUP($A10,Participants!$A:$E,5,FALSE)","v":"St. Barnabas"},2,2,10]
[85,"Lap 3","00:00:00.970","00:00:21.320",{"$f":"VLOOKUP($A11,Participants!$A:$E,4,FALSE)","v":3},{"$f":"VLOOKUP($A11,Participants!$A:$E,2,FALSE)","v":"Julia "},{"$f":"VLOOKUP($A11,Participants!$A:$E,3,FALSE)","v":"Mayer"},{"$f":"VLOOKUP($A11,Participants!$A:$E,5,FALSE)","v":"St Jude"},2,3,11]
[64,"Lap 4","00:00:02.190","00:00:23.520",{"$f":"VLOOKUP($A12,Participants!$A:$E,4,FALSE)","v":3},{"$f":"VLOOKUP($A12,Participants!$A:$E,2,FALSE)","v":"Katelyn"},{"$f":"VLOOKUP($A12,Participants!$A:$E,3,FALSE)","v":"Kitchens"},{"$f":"VLOOKUP($A12,Participants!$A:$E,5,FALSE)","v":"St Jude"},2,4,14]
[{"$nulls":4},{"$f":"VLOOKUP($A13,Participants!$A:$E,4,FALSE)","v":{"$error":"#N/A"}},{"$f":"VLOOKUP($A13,Participants!$A:$E,2,FALSE)","v":{"$error":"#N/A"}},{"$f":"VLOOKUP($A13,Participants!$A:$E,3,FALSE)","v":{"$error":"#N/A"}},{"$f":"VLOOKUP($A13,Participants!$A:$E,5,FALSE)","v":{"$error":"#N/A"}},2,{"$error":"#N/A"},{"$error":"#N/A"}]
[{"$nulls":4},{"$f":"VLOOKUP($A14,Participants!$A:$E,4,FALSE)","v":{"$error":"#N/A"}},{"$f":"VLOOKUP($A14,Participants!$A:$E,2,FALSE)","v":{"$error":"#N/A"}},{"$f":"VLOOKUP($A14,Participants!$A:$E,3,FALSE)","v":{"$error":"#N/A"}},{"$f":"VLOOKUP($A14,Participants!$A:$E,5,FALSE)","v":{"$error":"#N/A"}},2,{"$error":"#N/A"},{"$error":"#N/A"}]
[]
[120,"Lap 1","00:00:17.220","00:00:17.220",{"$f":"VLOOKUP($A16,Participants!$A:$E,4,FALSE)","v":4},{"$f":"VLOOKUP($A16,Participants!$A:$E,2,FALSE)","v":"Taylor "},{"$f":"VLOOKUP($A16,Participants!$A:$E,3,FALSE)","v":"Seibert"},{"$f":"VLOOKUP($A16,Participants!$A:$E,5,FALSE)","v":"St Jude"},3,{"$f":"RANK(D16,IF(I16=3,$D$16:$D$21,),1)","v":1},1]
[299,"Lap 2","00:00:01.250","00:00:18.470",{"$f":"VLOOKUP($A17,Participants!$A:$E,4,FALSE)","v":4},{"$f":"VLOOKUP($A17,Participants!$A:$E,2,FALSE)","v":"Amaya"},{"$f":"VLOOKUP($A17,Participants!$A:$E,3,FALSE)","v":"Ripperger"},{"$f":"VLOOKUP($A17,Participants!$A:$E,5,FALSE)","v":"St. Barnabas"},3,2,3]
[273,"Lap 3","00:00:00.180","00:00:18.660",{"$f":"VLOOKUP($A18,Participants!$A:$E,4,FALSE)","v":4},{"$f":"VLOOKUP($A18,Participants!$A:$E,2,FALSE)","v":"Olivia"},{"$f":"VLOOKUP($A18,Participants!$A:$E,3,FALSE)","v":"Andrews"},{"$f":"VLOOKUP($A18,Participants!$A:$E,5,FALSE)","v":"St. Barnabas"},3,3,4]
[200,"Lap 4","00:00:00.560","00:00:19.220",{"$f":"VLOOKUP($A19,Participants!$A:$E,4,FALSE)","v":4},{"$f":"VLOOKUP($A19,Participants!$A:$E,2,FALSE)","v":"Maggie"},{"$f":"VLOOKUP($A19,Participants!$A:$E,3,FALSE)","v":"Shirley"},{"$f":"VLOOKUP($A19,Participants!$A:$E,5,FALSE)","v":"SSFC"},3,4,6]
[{"$nulls":4},{"$f":"VLOOKUP($A20,Participants!$A:$E,4,FALSE)","v":{"$error":"#N/A"}},{"$f":"VLOOKUP($A20,Participants!$A:$E,2,FALSE)","v":{"$error":"#N/A"}},{"$f":"VLOOKUP($A20,Participants!$A:$E,3,FALSE)","v":{"$error":"#N/A"}},{"$f":"VLOOKUP($A20,Participants!$A:$E,5,FALSE)","v":{"$error":"#N/A"}},3,{"$error":"#N/A"},{"$error":"#N/A"}]
[{"$nulls":4},{"$f":"VLOOKUP($A21,Participants!$A:$E,4,FALSE)","v":{"$error":"#N/A"}},{"$f":"VLOOKUP($A21,Participants!$A:$E,2,FALSE)","v":{"$error":"#N/A"}},{"$f":"VLOOKUP($A21,Participants!$A:$E,3,FALSE)","v":{"$error":"#N/A"}},{"$f":"VLOOKUP($A21,Participants!$A:$E,5,FALSE)","v":{"$error":"#N/A"}},3,{"$error":"#N/A"},{"$error":"#N/A"}]
[]
[307,"Lap 1","00:00:18.450","00:00:18.450",{"$f":"VLOOKUP($A23,Participants!$A:$E,4,FALSE)","v":4},{"$f":"VLOOKUP($A23,Participants!$A:$E,2,FALSE)","v":"Bawi"},{"$f":"VLOOKUP($A23,Participants!$A:$E,3,FALSE)","v":"Thluai"},{"$f":"VLOOKUP($A23,Participants!$A:$E,5,FALSE)","v":"St. Barnabas"},4,{"$f":"RANK(D23,IF(I23=4,$D$23:$D$28,),1)","v":1},2]
[306,"Lap 2","00:00:00.250","00:00:18.710",{"$f":"VLOOKUP($A24,Participants!$A:$E,4,FALSE)","v":4},{"$f":"VLOOKUP($A24,Participants!$A:$E,2,FALSE)","v":"Callie"},{"$f":"VLOOKUP($A24,Participants!$A:$E,3,FALSE)","v":"Stephenson"},{"$f":"VLOOKUP($A24,Participants!$A:$E,5,FALSE)","v":"St. Barnabas"},4,2,5]
[281,"Lap 3","00:00:00.880","00:00:19.590",{"$f":"VLOOKUP($A25,Participants!$A:$E,4,FALSE)","v":4},{"$f":"VLOOKUP($A25,Participants!$A:$E,2,FALSE)","v":"Stella"},{"$f":"VLOOKUP($A25,Participants!$A:$E,3,FALSE)","v":"Kessenich"},{"$f":"VLOOKUP($A25,Participants!$A:$E,5,FALSE)","v":"St. Barnabas"},4,3,7]
[292,"Lap 4","00:00:05.120","00:00:24.720",{"$f":"VLOOKUP($A26,Participants!$A:$E,4,FALSE)","v":4},{"$f":"VLOOKUP($A26,Participants!$A:$E,2,FALSE)","v":"Rylie"},{"$f":"VLOOKUP($A26,Participants!$A:$E,3,FALSE)","v":"Meyer"},{"$f":"VLOOKUP($A26,Participants!$A:$E,5,FALSE)","v":"St. Barnabas"},4,4,15]
[{"$nulls":4},{"$f":"VLOOKUP($A27,Participants!$A:$E,4,FALSE)","v":{"$error":"#N/A"}},{"$f":"VLOOKUP($A27,Participants!$A:$E,2,FALSE)","v":{"$error":"#N/A"}},{"$f":"VLOOKUP($A27,Participants!$A:$E,3,FALSE)","v":{"$error":"#N/A"}},{"$f":"VLOOKUP($A27,Participants!$A:$E,5,FALSE)","v":{"$error":"#N/A"}},4,{"$error":"#N/A"},{"$error":"#N/A"}]
[{"$nulls":4},{"$f":"VLOOKUP($A28,Participants!$A:$E,4,FALSE)","v":{"$error":"#N/A"}},{"$f":"VLOOKUP($A28,Participants!$A:$E,2,FALSE)","v":{"$error":"#N/A"}},{"$f":"VLOOKUP($A28,Participants!$A:$E,3,FALSE)","v":{"$error":"#N/A"}},{"$f":"VLOOKUP($A28,Participants!$A:$E,5,FALSE)","v":{"$error":"#N/A"}},4,{"$error":"#N/A"},{"$error":"#N/A"}]
[]
[{"$nulls":4},{"$f":"VLOOKUP($A30,Participants!$A:$E,4,FALSE)","v":{"$error":"#N/A"}},{"$f":"VLOOKUP($A30,Participants!$A:$E,2,FALSE)","v":{"$error":"#N/A"}},{"$f":"VLOOKUP($A30,Participants!$A:$E,3,FALSE)","v":{"$error":"#N/A"}},{"$f":"VLOOKUP($A30,Participants!$A:$E,5,FALSE)","v":{"$error":"#N/A"}},5,{"$f":"RANK(D30,IF(I30=5,$D$30:$D$35,),1)","v":{"$error":"#N/A"}},{"$error":"#N/A"}]
[{"$nulls":4},{"$f":"VLOOKUP($A31,Participants!$A:$E,4,FALSE)","v":{"$error":"#N/A"}},{"$f":"VLOOKUP($A31,Participants!$A:$E,2,FALSE)","v":{"$error":"#N/A"}},{"$f":"VLOOKUP($A31,Participants!$A:$E,3,FALSE)","v":{"$error":"#N/A"}},{"$f":"VLOOKUP($A31,Participants!$A:$E,5,FALSE)","v":{"$error":"#N/A"}},5,{"$f":"RANK(D31,IF(I31=5,$D$30:$D$35,),1)","v":{"$error":"#N/A"}},{"$error":"#N/A"}]
[{"$nulls":4},{"$f":"VLOOKUP($A32,Participants!$A:$E,4,FALSE)","v":{"$error":"#N/A"}},{"$f":"VLOOKUP($A32,Participants!$A:$E,2,FALSE)","v":{"$error":"#N/A"}},{"$f":"VLOOKUP($A32,Participants!$A:$E,3,FALSE)","v":{"$error":"#N/A"}},{"$f":"VLOOKUP($A32,Participants!$A:$E,5,FALSE)","v":{"$error":"#N/A"}},5,{"$error":"#N/A"},{"$error":"#N/A"}]
[{"$nulls":4},{"$f":"VLOOKUP($A33,Participants!$A:$E,4,FALSE)","v":{"$error":"#N/A"}},{"$f":"VLOOKUP($A33,Participants!$A:$E,2,FALSE)","v":{"$error":"#N/A"}},{"$f":"VLOOKUP($A33,Participants!$A:$E,3,FALSE)","v":{"$error":"#N/A"}},{"$f":"VLOOKUP($A33,Participants!$A:$E,5,FALSE)","v":{"$error":"#N/A"}},5,{"$error":"#N/A"},{"$error":"#N/A"}]
[{"$nulls":4},{"$f":"VLOOKUP($A34,Participants!$A:$E,4,FALSE)","v":{"$error":"#N/A"}},{"$f":"VLOOKUP($A34,Participants!$A:$E,2,FALSE)","v":{"$error":"#N/A"}},{"$f":"VLOOKUP($A34,Participants!$A:$E,3,FALSE)","v":{"$error":"#N/A"}},{"$f":"VLOOKUP($A34,Participants!$A:$E,5,FALSE)","v":{"$error":"#N/A"}},5,{"$error":"#N/A"},{"$error":"#N/A"}]
[{"$nulls":4},{"$f":"VLOOKUP($A35,Participants!$A:$E,4,FALSE)","v":{"$error":"#N/A"}},{"$f":"VLOOKUP($A35,Participants!$A:$E,2,FALSE)","v":{"$error":"#N/A"}},{"$f":"VLOOKUP($A35,Participants!$A:$E,3,FALSE)","v":{"$error":"#N/A"}},{"$f":"VLOOKUP($A35,Participants!$A:$E,5,FALSE)","v":{"$error":"#N/A"}},5,{"$error":"#N/A"},{"$error":"#N/A"}]
[]
[{"$nulls":4},{"$f":"VLOOKUP($A37,Participants!$A:$E,4,FALSE)","v":{"$error":"#N/A"}},{"$f":"VLOOKUP($A37,Participants!$A:$E,2,FALSE)","v":{"$error":"#N/A"}},{"$f":"VLOOKUP($A37,Participants!$A:$E,3,FALSE)","v":{"$error":"#N/A"}},{"$f":"VLOOKUP($A37,Participants!$A:$E,5,FALSE)","v":{"$error":"#N/A"}},6,{"$f":"RANK(D37,IF(I37=6,$D$37:$D$42,),1)","v":{"$error":"#N/A"}},{"$error":"#N/A"}]
[{"$nulls":4},{"$f":"VLOOKUP($A38,Participants!$A:$E,4,FALSE)","v":{"$error":"#N/A"}},{"$f":"VLOOKUP($A38,Participants!$A:$E,2,FALSE)","v":{"$error":"#N/A"}},{"$f":"VLOOKUP($A38,Participants!$A:$E,3,FALSE)","v":{"$error":"#N/A"}},{"$f":"VLOOKUP($A38,Participants!$A:$E,5,FALSE)","v":{"$error":"#N/A"}},6,{"$f":"RANK(D38,IF(I38=6,$D$37:$D$42,),1)","v":{"$error":"#N/A"}},{"$error":"#N/A"}]
[{"$nulls":4},{"$f":"VLOOKUP($A39,Participants!$A:$E,4,FALSE)","v":{"$error":"#N/A"}},{"$f":"VLOOKUP($A39,Participants!$A:$E,2,FALSE)","v":{"$error":"#N/A"}},{"$f":"VLOOKUP($A39,Participants!$A:$E,3,FALSE)","v":{"$error":"#N/A"}},{"$f":"VLOOKUP($A39,Participants!$A:$E,5,FALSE)","v":{"$error":"#N/A"}},6,{"$error":"#N/A"},{"$error":"#N/A"}]
[{"$nulls":4},{"$f":"VLOOKUP($A40,Participants!$A:$E,4,FALSE)","v":{"$error":"#N/A"}},{"$f":"VLOOKUP($A40,Participants!$A:$E,2,FALSE)","v":{"$error":"#N/A"}},{"$f":"VLOOKUP($A40,Participants!$A:$E,3,FALSE)","v":{"$error":"#N/A"}},{"$f":"VLOOKUP($A40,Participants!$A:$E,5,FALSE)","v":{"$error":"#N/A"}},6,{"$error":"#N/A"},{"$error":"#N/A"}]
[{"$nulls":4},{"$f":"VLOOKUP($A41,Participants!$A:$E,4,FALSE)","v":{"$error":"#N/A"}},{"$f":"VLOOKUP($A41,Participants!$A:$E,2,FALSE)","v":{"$error":"#N/A"}},{"$f":"VLOOKUP($A41,Participants!$A:$E,3,FALSE)","v":{"$error":"#N/A"}},{"$f":"VLOOKUP($A41,Participants!$A:$E,5,FALSE)","v":{"$error":"#N/A"}},6,{"$error":"#N/A"},{"$error":"#N/A"}]
[{"$nulls":4},{"$f":"VLOOKUP($A42,Participants!$A:$E,4,FALSE)","v":{"$error":"#N/A"}},{"$f":"VLOOKUP($A42,Participants!$A:$E,2,FALSE)","v":{"$error":"#N/A"}},{"$f":"VLOOKUP($A42,Participants!$A:$E,3,FALSE)","v":{"$error":"#N/A"}},{"$f":"VLOOKUP($A42,Participants!$A:$E,5,FALSE)","v":{"$error":"#N/A"}},6,{"$error":"#N/A"},{"$error":"#N/A"}]
[]
[{"$nulls":4},{"$f":"VLOOKUP($A44,Participants!$A:$E,4,FALSE)","v":{"$error":"#N/A"}},{"$f":"VLOOKUP($A44,Participants!$A:$E,2,FALSE)","v":{"$error":"#N/A"}},{"$f":"VLOOKUP($A44,Participants!$A:$E,3,FALSE)","v":{"$error":"#N/A"}},{"$f":"VLOOKUP($A44,Participants!$A:$E,5,FALSE)","v":{"$error":"#N/A"}},7,{"$f":"RANK(D44,IF(I44=7,$D$44:$D$49,),1)","v":{"$error":"#N/A"}},{"$f":"RANK(D44,$D$2:$D$100,1)","v":{"$error":"#N/A"}}]
[{"$nulls":4},{"$f":"VLOOKUP($A45,Participants!$A:$E,4,FALSE)","v":{"$error":"#N/A"}},{"$f":"VLOOKUP($A45,Participants!$A:$E,2,FALSE)","v":{"$error":"#N/A"}},{"$f":"VLOOKUP($A45,Participants!$A:$E,3,FALSE)","v":{"$error":"#N/A"}},{"$f":"VLOOKUP($A45,Participants!$A:$E,5,FALSE)","v":{"$error":"#N/A"}},7,{"$f":"RANK(D45,IF(I45=7,$D$44:$D$49,),1)","v":{"$error":"#N/A"}},{"$error":"#N/A"}]
[{"$nulls":4},{"$f":"VLOOKUP($A46,Participants!$A:$E,4,FALSE)","v":{"$error":"#N/A"}},{"$f":"VLOOKUP($A46,Participants!$A:$E,2,FALSE)","v":{"$error":"#N/A"}},{"$f":"VLOOKUP($A46,Participants!$A:$E,3,FALSE)","v":{"$error":"#N/A"}},{"$f":"VLOOKUP($A46,Participants!$A:$E,5,FALSE)","v":{"$error":"#N/A"}},7,{"$error":"#N/A"},{"$error":"#N/A"}]
[{"$nulls":4},{"$f":"VLOOKUP($A47,Participants!$A:$E,4,FALSE)","v":{"$error":"#N/A"}},{"$f":"VLOOKUP($A47,Participants!$A:$E,2,FALSE)","v":{"$error":"#N/A"}},{"$f":"VLOOKUP($A47,Participants!$A:$E,3,FALSE)","v":{"$error":"#N/A"}},{"$f":"VLOOKUP($A47,Participants!$A:$E,5,FALSE)","v":{"$error":"#N/A"}},7,{"$error":"#N/A"},{"$error":"#N/A"}]
[{"$nulls":4},{"$f":"VLOOKUP($A48,Participants!$A:$E,4,FALSE)","v":{"$error":"#N/A"}},{"$f":"VLOOKUP($A48,Participants!$A:$E,2,FALSE)","v":{"$error":"#N/A"}},{"$f":"VLOOKUP($A48,Participants!$A:$E,3,FALSE)","v":{"$error":"#N/A"}},{"$f":"VLOOKUP($A48,Participants!$A:$E,5,FALSE)","v":{"$error":"#N/A"}},7,{"$error":"#N/A"},{"$error":"#N/A"}]
[{"$nulls":4},{"$f":"VLOOKUP($A49,Participants!$A:$E,4,FALSE)","v":{"$error":"#N/A"}},{"$f":"VLOOKUP($A49,Participants!$A:$E,2,FALSE)","v":{"$error":"#N/A"}},{"$f":"VLOOKUP($A49,Participants!$A:$E,3,FALSE)","v":{"$error":"#N/A"}},{"$f":"VLOOKUP($A49,Participants!$A:$E,5,FALSE)","v":{"$error":"#N/A"}},7,{"$error":"#N/A"},{"$error":"#N/A"}]

{"sheet":"Softball 4th Girls","index":38,"n_rows":101,"n_cols":13,"rows_kept":101}
["Bib","Best Jump\n\nwill calculate\nautomatically","First Jump\n\nEnter 10 ft 3 3/4 in as 1003.75","Second Jump\n\nEnter 10 ft 3 3/4 in as 1003.75","Third Jump\n\nEnter 10 ft 3 3/4 in as 1003.75","Grade","FName","Lname","School","Overall Place",null,null,"Return to Schedule of Events"]
[307,{"$f":"MAX(C2:E2)","v":5603},5603,null,null,{"$f":"VLOOKUP($A2,Participants!$A:$E,4,FALSE)","v":4},{"$f":"VLOOKUP($A2,Participants!$A:$E,2,FALSE)","v":"Bawi"},{"$f":"VLOOKUP($A2,Participants!$A:$E,3,FALSE)","v":"Thluai"},{"$f":"VLOOKUP($A2,Participants!$A:$E,5,FALSE)","v":"St. Barnabas"},{"$f":"RANK(B2,$B$1:$B$97,0)","v":4}]
[299,{"$f":"MAX(C3:E3)","v":6303},6303,null,null,{"$f":"VLOOKUP($A3,Participants!$A:$E,4,FALSE)","v":4},{"$f":"VLOOKUP($A3,Participants!$A:$E,2,FALSE)","v":"Amaya"},{"$f":"VLOOKUP($A3,Participants!$A:$E,3,FALSE)","v":"Ripperger"},{"$f":"VLOOKUP($A3,Participants!$A:$E,5,FALSE)","v":"St. Barnabas"},{"$f":"RANK(B3,$B$1:$B$97,0)","v":2},null,null,"Add or Update Participants"]
[306,5900,5900,null,null,{"$f":"VLOOKUP($A4,Participants!$A:$E,4,FALSE)","v":4},{"$f":"VLOOKUP($A4,Participants!$A:$E,2,FALSE)","v":"Callie"},{"$f":"VLOOKUP($A4,Participants!$A:$E,3,FALSE)","v":"Stephenson"},{"$f":"VLOOKUP($A4,Participants!$A:$E,5,FALSE)","v":"St. Barnabas"},3,null,null,"Overall Place and Points"]
[281,7003,7003,null,null,{"$f":"VLOOKUP($A5,Participants!$A:$E,4,FALSE)","v":4},{"$f":"VLOOKUP($A5,Participants!$A:$E,2,FALSE)","v":"Stella"},{"$f":"VLOOKUP($A5,Participants!$A:$E,3,FALSE)","v":"Kessenich"},{"$f":"VLOOKUP($A5,Participants!$A:$E,5,FALSE)","v":"St. Barnabas"},1]
[45,3700,3700,null,null,{"$f":"VLOOKUP($A6,Participants!$A:$E,4,FALSE)","v":4},{"$f":"VLOOKUP($A6,Participants!$A:$E,2,FALSE)","v":"Sophia "},{"$f":"VLOOKUP($A6,Participants!$A:$E,3,FALSE)","v":"Grabczak"},{"$f":"VLOOKUP($A6,Participants!$A:$E,5,FALSE)","v":"St Jude"},6]
[144,3611,3611,null,null,{"$f":"VLOOKUP($A7,Participants!$A:$E,4,FALSE)","v":4},{"$f":"VLOOKUP($A7,Participants!$A:$E,2,FALSE)","v":"Corryn"},{"$f":"VLOOKUP($A7,Participants!$A:$E,3,FALSE)","v":"Moster"},{"$f":"VLOOKUP($A7,Participants!$A:$E,5,FALSE)","v":"OLG"},7]
[292,3806,3806,null,null,{"$f":"VLOOKUP($A8,Participants!$A:$E,4,FALSE)","v":4},{"$f":"VLOOKUP($A8,Participants!$A:$E,2,FALSE)","v":"Rylie"},{"$f":"VLOOKUP($A8,Participants!$A:$E,3,FALSE)","v":"Meyer"},{"$f":"VLOOKUP($A8,Participants!$A:$E,5,FALSE)","v":"St. Barnabas"},5]
[null,0,{"$nulls":3},{"$f":"VLOOKUP($A9,Participants!$A:$E,4,FALSE)","v":{"$error":"#N/A"}},{"$f":"VLOOKUP($A9,Participants!$A:$E,2,FALSE)","v":{"$error":"#N/A"}},{"$f":"VLOOKUP($A9,Participants!$A:$E,3,FALSE)","v":{"$error":"#N/A"}},{"$f":"VLOOKUP($A9,Participants!$A:$E,5,FALSE)","v":{"$error":"#N/A"}},8]
[null,0,{"$nulls":3},{"$f":"VLOOKUP($A10,Participants!$A:$E,4,FALSE)","v":{"$error":"#N/A"}},{"$f":"VLOOKUP($A10,Participants!$A:$E,2,FALSE)","v":{"$error":"#N/A"}},{"$f":"VLOOKUP($A10,Participants!$A:$E,3,FALSE)","v":{"$error":"#N/A"}},{"$f":"VLOOKUP($A10,Participants!$A:$E,5,FALSE)","v":{"$error":"#N/A"}},8]
[null,0,{"$nulls":3},{"$f":"VLOOKUP($A11,Participants!$A:$E,4,FALSE)","v":{"$error":"#N/A"}},{"$f":"VLOOKUP($A11,Participants!$A:$E,2,FALSE)","v":{"$error":"#N/A"}},{"$f":"VLOOKUP($A11,Participants!$A:$E,3,FALSE)","v":{"$error":"#N/A"}},{"$f":"VLOOKUP($A11,Participants!$A:$E,5,FALSE)","v":{"$error":"#N/A"}},8]
[null,0,{"$nulls":3},{"$f":"VLOOKUP($A12,Participants!$A:$E,4,FALSE)","v":{"$error":"#N/A"}},{"$f":"VLOOKUP($A12,Participants!$A:$E,2,FALSE)","v":{"$error":"#N/A"}},{"$f":"VLOOKUP($A12,Participants!$A:$E,3,FALSE)","v":{"$error":"#N/A"}},{"$f":"VLOOKUP($A12,Participants!$A:$E,5,FALSE)","v":{"$error":"#N/A"}},8]
[null,0,{"$nulls":3},{"$f":"VLOOKUP($A13,Participants!$A:$E,4,FALSE)","v":{"$error":"#N/A"}},{"$f":"VLOOKUP($A13,Participants!$A:$E,2,FALSE)","v":{"$error":"#N/A"}},{"$f":"VLOOKUP($A13,Participants!$A:$E,3,FALSE)","v":{"$error":"#N/A"}},{"$f":"VLOOKUP($A13,Participants!$A:$E,5,FALSE)","v":{"$error":"#N/A"}},8]
[null,0,{"$nulls":3},{"$f":"VLOOKUP($A14,Participants!$A:$E,4,FALSE)","v":{"$error":"#N/A"}},{"$f":"VLOOKUP($A14,Participants!$A:$E,2,FALSE)","v":{"$error":"#N/A"}},{"$f":"VLOOKUP($A14,Participants!$A:$E,3,FALSE)","v":{"$error":"#N/A"}},{"$f":"VLOOKUP($A14,Participants!$A:$E,5,FALSE)","v":{"$error":"#N/A"}},8]
[null,0,{"$nulls":3},{"$f":"VLOOKUP($A15,Participants!$A:$E,4,FALSE)","v":{"$error":"#N/A"}},{"$f":"VLOOKUP($A15,Participants!$A:$E,2,FALSE)","v":{"$error":"#N/A"}},{"$f":"VLOOKUP($A15,Participants!$A:$E,3,FALSE)","v":{"$error":"#N/A"}},{"$f":"VLOOKUP($A15,Participants!$A:$E,5,FALSE)","v":{"$error":"#N/A"}},8]
[null,0,{"$nulls":3},{"$f":"VLOOKUP($A16,Participants!$A:$E,4,FALSE)","v":{"$error":"#N/A"}},{"$f":"VLOOKUP($A16,Participants!$A:$E,2,FALSE)","v":{"$error":"#N/A"}},{"$f":"VLOOKUP($A16,Participants!$A:$E,3,FALSE)","v":{"$error":"#N/A"}},{"$f":"VLOOKUP($A16,Participants!$A:$E,5,FALSE)","v":{"$error":"#N/A"}},8]
[null,0,{"$nulls":3},{"$f":"VLOOKUP($A17,Participants!$A:$E,4,FALSE)","v":{"$error":"#N/A"}},{"$f":"VLOOKUP($A17,Participants!$A:$E,2,FALSE)","v":{"$error":"#N/A"}},{"$f":"VLOOKUP($A17,Participants!$A:$E,3,FALSE)","v":{"$error":"#N/A"}},{"$f":"VLOOKUP($A17,Participants!$A:$E,5,FALSE)","v":{"$error":"#N/A"}},8]
[null,0,{"$nulls":3},{"$f":"VLOOKUP($A18,Participants!$A:$E,4,FALSE)","v":{"$error":"#N/A"}},{"$f":"VLOOKUP($A18,Participants!$A:$E,2,FALSE)","v":{"$error":"#N/A"}},{"$f":"VLOOKUP($A18,Participants!$A:$E,3,FALSE)","v":{"$error":"#N/A"}},{"$f":"VLOOKUP($A18,Participants!$A:$E,5,FALSE)","v":{"$error":"#N/A"}},8]
[null,0,{"$nulls":3},{"$f":"VLOOKUP($A19,Participants!$A:$E,4,FALSE)","v":{"$error":"#N/A"}},{"$f":"VLOOKUP($A19,Participants!$A:$E,2,FALSE)","v":{"$error":"#N/A"}},{"$f":"VLOOKUP($A19,Participants!$A:$E,3,FALSE)","v":{"$error":"#N/A"}},{"$f":"VLOOKUP($A19,Participants!$A:$E,5,FALSE)","v":{"$error":"#N/A"}},8]
[null,0,{"$nulls":3},{"$f":"VLOOKUP($A20,Participants!$A:$E,4,FALSE)","v":{"$error":"#N/A"}},{"$f":"VLOOKUP($A20,Participants!$A:$E,2,FALSE)","v":{"$error":"#N/A"}},{"$f":"VLOOKUP($A20,Participants!$A:$E,3,FALSE)","v":{"$error":"#N/A"}},{"$f":"VLOOKUP($A20,Participants!$A:$E,5,FALSE)","v":{"$error":"#N/A"}},8]
[null,0,{"$nulls":3},{"$f":"VLOOKUP($A21,Participants!$A:$E,4,FALSE)","v":{"$error":"#N/A"}},{"$f":"VLOOKUP($A21,Participants!$A:$E,2,FALSE)","v":{"$error":"#N/A"}},{"$f":"VLOOKUP($A21,Participants!$A:$E,3,FALSE)","v":{"$error":"#N/A"}},{"$f":"VLOOKUP($A21,Participants!$A:$E,5,FALSE)","v":{"$error":"#N/A"}},8]
[null,0,{"$nulls":3},{"$f":"VLOOKUP($A22,Participants!$A:$E,4,FALSE)","v":{"$error":"#N/A"}},{"$f":"VLOOKUP($A22,Participants!$A:$E,2,FALSE)","v":{"$error":"#N/A"}},{"$f":"VLOOKUP($A22,Participants!$A:$E,3,FALSE)","v":{"$error":"#N/A"}},{"$f":"VLOOKUP($A22,Participants!$A:$E,5,FALSE)","v":{"$error":"#N/A"}},8]
[null,0,{"$nulls":3},{"$f":"VLOOKUP($A23,Participants!$A:$E,4,FALSE)","v":{"$error":"#N/A"}},{"$f":"VLOOKUP($A23,Participants!$A:$E,2,FALSE)","v":{"$error":"#N/A"}},{"$f":"VLOOKUP($A23,Participants!$A:$E,3,FALSE)","v":{"$error":"#N/A"}},{"$f":"VLOOKUP($A23,Participants!$A:$E,5,FALSE)","v":{"$error":"#N/A"}},8]
[null,0,{"$nulls":3},{"$f":"VLOOKUP($A24,Participants!$A:$E,4,FALSE)","v":{"$error":"#N/A"}},{"$f":"VLOOKUP($A24,Participants!$A:$E,2,FALSE)","v":{"$error":"#N/A"}},{"$f":"VLOOKUP($A24,Participants!$A:$E,3,FALSE)","v":{"$error":"#N/A"}},{"$f":"VLOOKUP($A24,Participants!$A:$E,5,FALSE)","v":{"$error":"#N/A"}},8]
[null,0,{"$nulls":3},{"$f":"VLOOKUP($A25,Participants!$A:$E,4,FALSE)","v":{"$error":"#N/A"}},{"$f":"VLOOKUP($A25,Participants!$A:$E,2,FALSE)","v":{"$error":"#N/A"}},{"$f":"VLOOKUP($A25,Participants!$A:$E,3,FALSE)","v":{"$error":"#N/A"}},{"$f":"VLOOKUP($A25,Participants!$A:$E,5,FALSE)","v":{"$error":"#N/A"}},8]
[null,0,{"$nulls":3},{"$f":"VLOOKUP($A26,Participants!$A:$E,4,FALSE)","v":{"$error":"#N/A"}},{"$f":"VLOOKUP($A26,Participants!$A:$E,2,FALSE)","v":{"$error":"#N/A"}},{"$f":"VLOOKUP($A26,Participants!$A:$E,3,FALSE)","v":{"$error":"#N/A"}},{"$f":"VLOOKUP($A26,Participants!$A:$E,5,FALSE)","v":{"$error":"#N/A"}},8]
[null,0,{"$nulls":3},{"$f":"VLOOKUP($A27,Participants!$A:$E,4,FALSE)","v":{"$error":"#N/A"}},{"$f":"VLOOKUP($A27,Participants!$A:$E,2,FALSE)","v":{"$error":"#N/A"}},{"$f":"VLOOKUP($A27,Participants!$A:$E,3,FALSE)","v":{"$error":"#N/A"}},{"$f":"VLOOKUP($A27,Participants!$A:$E,5,FALSE)","v":{"$error":"#N/A"}},8]
[null,0,{"$nulls":3},{"$f":"VLOOKUP($A28,Participants!$A:$E,4,FALSE)","v":{"$error":"#N/A"}},{"$f":"VLOOKUP($A28,Participants!$A:$E,2,FALSE)","v":{"$error":"#N/A"}},{"$f":"VLOOKUP($A28,Participants!$A:$E,3,FALSE)","v":{"$error":"#N/A"}},{"$f":"VLOOKUP($A28,Participants!$A:$E,5,FALSE)","v":{"$error":"#N/A"}},8]
[null,0,{"$nulls":3},{"$f":"VLOOKUP($A29,Participants!$A:$E,4,FALSE)","v":{"$error":"#N/A"}},{"$f":"VLOOKUP($A29,Participants!$A:$E,2,FALSE)","v":{"$error":"#N/A"}},{"$f":"VLOOKUP($A29,Participants!$A:$E,3,FALSE)","v":{"$error":"#N/A"}},{"$f":"VLOOKUP($A29,Participants!$A:$E,5,FALSE)","v":{"$error":"#N/A"}},8]
[null,0,{"$nulls":3},{"$f":"VLOOKUP($A30,Participants!$A:$E,4,FALSE)","v":{"$error":"#N/A"}},{"$f":"VLOOKUP($A30,Participants!$A:$E,2,FALSE)","v":{"$error":"#N/A"}},{"$f":"VLOOKUP($A30,Participants!$A:$E,3,FALSE)","v":{"$error":"#N/A"}},{"$f":"VLOOKUP($A30,Participants!$A:$E,5,FALSE)","v":{"$error":"#N/A"}},8]
[null,0,{"$nulls":3},{"$f":"VLOOKUP($A31,Participants!$A:$E,4,FALSE)","v":{"$error":"#N/A"}},{"$f":"VLOOKUP($A31,Participants!$A:$E,2,FALSE)","v":{"$error":"#N/A"}},{"$f":"VLOOKUP($A31,Participants!$A:$E,3,FALSE)","v":{"$error":"#N/A"}},{"$f":"VLOOKUP($A31,Participants!$A:$E,5,FALSE)","v":{"$error":"#N/A"}},8]
[null,0,{"$nulls":3},{"$f":"VLOOKUP($A32,Participants!$A:$E,4,FALSE)","v":{"$error":"#N/A"}},{"$f":"VLOOKUP($A32,Participants!$A:$E,2,FALSE)","v":{"$error":"#N/A"}},{"$f":"VLOOKUP($A32,Participants!$A:$E,3,FALSE)","v":{"$error":"#N/A"}},{"$f":"VLOOKUP($A32,Participants!$A:$E,5,FALSE)","v":{"$error":"#N/A"}},8]
[null,0,{"$nulls":3},{"$f":"VLOOKUP($A33,Participants!$A:$E,4,FALSE)","v":{"$error":"#N/A"}},{"$f":"VLOOKUP($A33,Participants!$A:$E,2,FALSE)","v":{"$error":"#N/A"}},{"$f":"VLOOKUP($A33,Participants!$A:$E,3,FALSE)","v":{"$error":"#N/A"}},{"$f":"VLOOKUP($A33,Participants!$A:$E,5,FALSE)","v":{"$error":"#N/A"}},8]
[null,0,{"$nulls":3},{"$f":"VLOOKUP($A34,Participants!$A:$E,4,FALSE)","v":{"$error":"#N/A"}},{"$f":"VLOOKUP($A34,Participants!$A:$E,2,FALSE)","v":{"$error":"#N/A"}},{"$f":"VLOOKUP($A34,Participants!$A:$E,3,FALSE)","v":{"$error":"#N/A"}},{"$f":"VLOOKUP($A34,Participants!$A:$E,5,FALSE)","v":{"$error":"#N/A"}},8]
[null,0,{"$nulls":3},{"$f":"VLOOKUP($A35,Participants!$A:$E,4,FALSE)","v":{"$error":"#N/A"}},{"$f":"VLOOKUP($A35,Participants!$A:$E,2,FALSE)","v":{"$error":"#N/A"}},{"$f":"VLOOKUP($A35,Participants!$A:$E,3,FALSE)","v":{"$error":"#N/A"}},{"$f":"VLOOKUP($A35,Participants!$A:$E,5,FALSE)","v":{"$error":"#N/A"}},8]
[null,0,{"$nulls":3},{"$f":"VLOOKUP($A36,Participants!$A:$E,4,FALSE)","v":{"$error":"#N/A"}},{"$f":"VLOOKUP($A36,Participants!$A:$E,2,FALSE)","v":{"$error":"#N/A"}},{"$f":"VLOOKUP($A36,Participants!$A:$E,3,FALSE)","v":{"$error":"#N/A"}},{"$f":"VLOOKUP($A36,Participants!$A:$E,5,FALSE)","v":{"$error":"#N/A"}},8]
[null,0,{"$nulls":3},{"$f":"VLOOKUP($A37,Participants!$A:$E,4,FALSE)","v":{"$error":"#N/A"}},{"$f":"VLOOKUP($A37,Participants!$A:$E,2,FALSE)","v":{"$error":"#N/A"}},{"$f":"VLOOKUP($A37,Participants!$A:$E,3,FALSE)","v":{"$error":"#N/A"}},{"$f":"VLOOKUP($A37,Participants!$A:$E,5,FALSE)","v":{"$error":"#N/A"}},8]
[null,0,{"$nulls":3},{"$f":"VLOOKUP($A38,Participants!$A:$E,4,FALSE)","v":{"$error":"#N/A"}},{"$f":"VLOOKUP($A38,Participants!$A:$E,2,FALSE)","v":{"$error":"#N/A"}},{"$f":"VLOOKUP($A38,Participants!$A:$E,3,FALSE)","v":{"$error":"#N/A"}},{"$f":"VLOOKUP($A38,Participants!$A:$E,5,FALSE)","v":{"$error":"#N/A"}},8]
[null,0,{"$nulls":3},{"$f":"VLOOKUP($A39,Participants!$A:$E,4,FALSE)","v":{"$error":"#N/A"}},{"$f":"VLOOKUP($A39,Participants!$A:$E,2,FALSE)","v":{"$error":"#N/A"}},{"$f":"VLOOKUP($A39,Participants!$A:$E,3,FALSE)","v":{"$error":"#N/A"}},{"$f":"VLOOKUP($A39,Participants!$A:$E,5,FALSE)","v":{"$error":"#N/A"}},8]
[null,0,{"$nulls":3},{"$f":"VLOOKUP($A40,Participants!$A:$E,4,FALSE)","v":{"$error":"#N/A"}},{"$f":"VLOOKUP($A40,Participants!$A:$E,2,FALSE)","v":{"$error":"#N/A"}},{"$f":"VLOOKUP($A40,Participants!$A:$E,3,FALSE)","v":{"$error":"#N/A"}},{"$f":"VLOOKUP($A40,Participants!$A:$E,5,FALSE)","v":{"$error":"#N/A"}},8]
[null,0,{"$nulls":3},{"$f":"VLOOKUP($A41,Participants!$A:$E,4,FALSE)","v":{"$error":"#N/A"}},{"$f":"VLOOKUP($A41,Participants!$A:$E,2,FALSE)","v":{"$error":"#N/A"}},{"$f":"VLOOKUP($A41,Participants!$A:$E,3,FALSE)","v":{"$error":"#N/A"}},{"$f":"VLOOKUP($A41,Participants!$A:$E,5,FALSE)","v":{"$error":"#N/A"}},8]
[null,0,{"$nulls":3},{"$f":"VLOOKUP($A42,Participants!$A:$E,4,FALSE)","v":{"$error":"#N/A"}},{"$f":"VLOOKUP($A42,Participants!$A:$E,2,FALSE)","v":{"$error":"#N/A"}},{"$f":"VLOOKUP($A42,Participants!$A:$E,3,FALSE)","v":{"$error":"#N/A"}},{"$f":"VLOOKUP($A42,Participants!$A:$E,5,FALSE)","v":{"$error":"#N/A"}},8]
[null,0,{"$nulls":3},{"$f":"VLOOKUP($A43,Participants!$A:$E,4,FALSE)","v":{"$error":"#N/A"}},{"$f":"VLOOKUP($A43,Participants!$A:$E,2,FALSE)","v":{"$error":"#N/A"}},{"$f":"VLOOKUP($A43,Participants!$A:$E,3,FALSE)","v":{"$error":"#N/A"}},{"$f":"VLOOKUP($A43,Participants!$A:$E,5,FALSE)","v":{"$error":"#N/A"}},8]
[null,0,{"$nulls":3},{"$f":"VLOOKUP($A44,Participants!$A:$E,4,FALSE)","v":{"$error":"#N/A"}},{"$f":"VLOOKUP($A44,Participants!$A:$E,2,FALSE)","v":{"$error":"#N/A"}},{"$f":"VLOOKUP($A44,Participants!$A:$E,3,FALSE)","v":{"$error":"#N/A"}},{"$f":"VLOOKUP($A44,Participants!$A:$E,5,FALSE)","v":{"$error":"#N/A"}},8]
[null,0,{"$nulls":3},{"$f":"VLOOKUP($A45,Participants!$A:$E,4,FALSE)","v":{"$error":"#N/A"}},{"$f":"VLOOKUP($A45,Participants!$A:$E,2,FALSE)","v":{"$error":"#N/A"}},{"$f":"VLOOKUP($A45,Participants!$A:$E,3,FALSE)","v":{"$error":"#N/A"}},{"$f":"VLOOKUP($A45,Participants!$A:$E,5,FALSE)","v":{"$error":"#N/A"}},8]
[null,0,{"$nulls":3},{"$f":"VLOOKUP($A46,Participants!$A:$E,4,FALSE)","v":{"$error":"#N/A"}},{"$f":"VLOOKUP($A46,Participants!$A:$E,2,FALSE)","v":{"$error":"#N/A"}},{"$f":"VLOOKUP($A46,Participants!$A:$E,3,FALSE)","v":{"$error":"#N/A"}},{"$f":"VLOOKUP($A46,Participants!$A:$E,5,FALSE)","v":{"$error":"#N/A"}},8]
[null,0,{"$nulls":3},{"$f":"VLOOKUP($A47,Participants!$A:$E,4,FALSE)","v":{"$error":"#N/A"}},{"$f":"VLOOKUP($A47,Participants!$A:$E,2,FALSE)","v":{"$error":"#N/A"}},{"$f":"VLOOKUP($A47,Participants!$A:$E,3,FALSE)","v":{"$error":"#N/A"}},{"$f":"VLOOKUP($A47,Participants!$A:$E,5,FALSE)","v":{"$error":"#N/A"}},8]
[null,0,{"$nulls":3},{"$f":"VLOOKUP($A48,Participants!$A:$E,4,FALSE)","v":{"$error":"#N/A"}},{"$f":"VLOOKUP($A48,Participants!$A:$E,2,FALSE)","v":{"$error":"#N/A"}},{"$f":"VLOOKUP($A48,Participants!$A:$E,3,FALSE)","v":{"$error":"#N/A"}},{"$f":"VLOOKUP($A48,Participants!$A:$E,5,FALSE)","v":{"$error":"#N/A"}},8]
[null,0,{"$nulls":3},{"$f":"VLOOKUP($A49,Participants!$A:$E,4,FALSE)","v":{"$error":"#N/A"}},{"$f":"VLOOKUP($A49,Participants!$A:$E,2,FALSE)","v":{"$error":"#N/A"}},{"$f":"VLOOKUP($A49,Participants!$A:$E,3,FALSE)","v":{"$error":"#N/A"}},{"$f":"VLOOKUP($A49,Participants!$A:$E,5,FALSE)","v":{"$error":"#N/A"}},8]
[null,0,{"$nulls":3},{"$f":"VLOOKUP($A50,Participants!$A:$E,4,FALSE)","v":{"$error":"#N/A"}},{"$f":"VLOOKUP($A50,Participants!$A:$E,2,FALSE)","v":{"$error":"#N/A"}},{"$f":"VLOOKUP($A50,Participants!$A:$E,3,FALSE)","v":{"$error":"#N/A"}},{"$f":"VLOOKUP($A50,Participants!$A:$E,5,FALSE)","v":{"$error":"#N/A"}},8]
[null,0,{"$nulls":3},{"$f":"VLOOKUP($A51,Participants!$A:$E,4,FALSE)","v":{"$error":"#N/A"}},{"$f":"VLOOKUP($A51,Participants!$A:$E,2,FALSE)","v":{"$error":"#N/A"}},{"$f":"VLOOKUP($A51,Participants!$A:$E,3,FALSE)","v":{"$error":"#N/A"}},{"$f":"VLOOKUP($A51,Participants!$A:$E,5,FALSE)","v":{"$error":"#N/A"}},8]
[null,0,{"$nulls":3},{"$f":"VLOOKUP($A52,Participants!$A:$E,4,FALSE)","v":{"$error":"#N/A"}},{"$f":"VLOOKUP($A52,Participants!$A:$E,2,FALSE)","v":{"$error":"#N/A"}},{"$f":"VLOOKUP($A52,Participants!$A:$E,3,FALSE)","v":{"$error":"#N/A"}},{"$f":"VLOOKUP($A52,Participants!$A:$E,5,FALSE)","v":{"$error":"#N/A"}},8]
[null,0,{"$nulls":3},{"$f":"VLOOKUP($A53,Participants!$A:$E,4,FALSE)","v":{"$error":"#N/A"}},{"$f":"VLOOKUP($A53,Participants!$A:$E,2,FALSE)","v":{"$error":"#N/A"}},{"$f":"VLOOKUP($A53,Participants!$A:$E,3,FALSE)","v":{"$error":"#N/A"}},{"$f":"VLOOKUP($A53,Participants!$A:$E,5,FALSE)","v":{"$error":"#N/A"}},8]
[null,0,{"$nulls":3},{"$f":"VLOOKUP($A54,Participants!$A:$E,4,FALSE)","v":{"$error":"#N/A"}},{"$f":"VLOOKUP($A54,Participants!$A:$E,2,FALSE)","v":{"$error":"#N/A"}},{"$f":"VLOOKUP($A54,Participants!$A:$E,3,FALSE)","v":{"$error":"#N/A"}},{"$f":"VLOOKUP($A54,Participants!$A:$E,5,FALSE)","v":{"$error":"#N/A"}},8]
[null,0,{"$nulls":3},{"$f":"VLOOKUP($A55,Participants!$A:$E,4,FALSE)","v":{"$error":"#N/A"}},{"$f":"VLOOKUP($A55,Participants!$A:$E,2,FALSE)","v":{"$error":"#N/A"}},{"$f":"VLOOKUP($A55,Participants!$A:$E,3,FALSE)","v":{"$error":"#N/A"}},{"$f":"VLOOKUP($A55,Participants!$A:$E,5,FALSE)","v":{"$error":"#N/A"}},8]
[null,0,{"$nulls":3},{"$f":"VLOOKUP($A56,Participants!$A:$E,4,FALSE)","v":{"$error":"#N/A"}},{"$f":"VLOOKUP($A56,Participants!$A:$E,2,FALSE)","v":{"$error":"#N/A"}},{"$f":"VLOOKUP($A56,Participants!$A:$E,3,FALSE)","v":{"$error":"#N/A"}},{"$f":"VLOOKUP($A56,Participants!$A:$E,5,FALSE)","v":{"$error":"#N/A"}},8]
[null,0,{"$nulls":3},{"$f":"VLOOKUP($A57,Participants!$A:$E,4,FALSE)","v":{"$error":"#N/A"}},{"$f":"VLOOKUP($A57,Participants!$A:$E,2,FALSE)","v":{"$error":"#N/A"}},{"$f":"VLOOKUP($A57,Participants!$A:$E,3,FALSE)","v":{"$error":"#N/A"}},{"$f":"VLOOKUP($A57,Participants!$A:$E,5,FALSE)","v":{"$error":"#N/A"}},8]
[null,0,{"$nulls":3},{"$f":"VLOOKUP($A58,Participants!$A:$E,4,FALSE)","v":{"$error":"#N/A"}},{"$f":"VLOOKUP($A58,Participants!$A:$E,2,FALSE)","v":{"$error":"#N/A"}},{"$f":"VLOOKUP($A58,Participants!$A:$E,3,FALSE)","v":{"$error":"#N/A"}},{"$f":"VLOOKUP($A58,Participants!$A:$E,5,FALSE)","v":{"$error":"#N/A"}},8]
[null,0,{"$nulls":3},{"$f":"VLOOKUP($A59,Participants!$A:$E,4,FALSE)","v":{"$error":"#N/A"}},{"$f":"VLOOKUP($A59,Participants!$A:$E,2,FALSE)","v":{"$error":"#N/A"}},{"$f":"VLOOKUP($A59,Participants!$A:$E,3,FALSE)","v":{"$error":"#N/A"}},{"$f":"VLOOKUP($A59,Participants!$A:$E,5,FALSE)","v":{"$error":"#N/A"}},8]
[null,0,{"$nulls":3},{"$f":"VLOOKUP($A60,Participants!$A:$E,4,FALSE)","v":{"$error":"#N/A"}},{"$f":"VLOOKUP($A60,Participants!$A:$E,2,FALSE)","v":{"$error":"#N/A"}},{"$f":"VLOOKUP($A60,Participants!$A:$E,3,FALSE)","v":{"$error":"#N/A"}},{"$f":"VLOOKUP($A60,Participants!$A:$E,5,FALSE)","v":{"$error":"#N/A"}},8]
[null,0,{"$nulls":3},{"$f":"VLOOKUP($A61,Participants!$A:$E,4,FALSE)","v":{"$error":"#N/A"}},{"$f":"VLOOKUP($A61,Participants!$A:$E,2,FALSE)","v":{"$error":"#N/A"}},{"$f":"VLOOKUP($A61,Participants!$A:$E,3,FALSE)","v":{"$error":"#N/A"}},{"$f":"VLOOKUP($A61,Participants!$A:$E,5,FALSE)","v":{"$error":"#N/A"}},8]
[null,0,{"$nulls":3},{"$f":"VLOOKUP($A62,Participants!$A:$E,4,FALSE)","v":{"$error":"#N/A"}},{"$f":"VLOOKUP($A62,Participants!$A:$E,2,FALSE)","v":{"$error":"#N/A"}},{"$f":"VLOOKUP($A62,Participants!$A:$E,3,FALSE)","v":{"$error":"#N/A"}},{"$f":"VLOOKUP($A62,Participants!$A:$E,5,FALSE)","v":{"$error":"#N/A"}},8]
[null,0,{"$nulls":3},{"$f":"VLOOKUP($A63,Participants!$A:$E,4,FALSE)","v":{"$error":"#N/A"}},{"$f":"VLOOKUP($A63,Participants!$A:$E,2,FALSE)","v":{"$error":"#N/A"}},{"$f":"VLOOKUP($A63,Participants!$A:$E,3,FALSE)","v":{"$error":"#N/A"}},{"$f":"VLOOKUP($A63,Participants!$A:$E,5,FALSE)","v":{"$error":"#N/A"}},8]
[null,0,{"$nulls":3},{"$f":"VLOOKUP($A64,Participants!$A:$E,4,FALSE)","v":{"$error":"#N/A"}},{"$f":"VLOOKUP($A64,Participants!$A:$E,2,FALSE)","v":{"$error":"#N/A"}},{"$f":"VLOOKUP($A64,Participants!$A:$E,3,FALSE)","v":{"$error":"#N/A"}},{"$f":"VLOOKUP($A64,Participants!$A:$E,5,FALSE)","v":{"$error":"#N/A"}},8]
[null,0,{"$nulls":3},{"$f":"VLOOKUP($A65,Participants!$A:$E,4,FALSE)","v":{"$error":"#N/A"}},{"$f":"VLOOKUP($A65,Participants!$A:$E,2,FALSE)","v":{"$error":"#N/A"}},{"$f":"VLOOKUP($A65,Participants!$A:$E,3,FALSE)","v":{"$error":"#N/A"}},{"$f":"VLOOKUP($A65,Participants!$A:$E,5,FALSE)","v":{"$error":"#N/A"}},8]
[null,0,{"$nulls":3},{"$f":"VLOOKUP($A66,Participants!$A:$E,4,FALSE)","v":{"$error":"#N/A"}},{"$f":"VLOOKUP($A66,Participants!$A:$E,2,FALSE)","v":{"$error":"#N/A"}},{"$f":"VLOOKUP($A66,Participants!$A:$E,3,FALSE)","v":{"$error":"#N/A"}},{"$f":"VLOOKUP($A66,Participants!$A:$E,5,FALSE)","v":{"$error":"#N/A"}},8]
[null,{"$f":"MAX(C67:E67)","v":0},{"$nulls":3},{"$f":"VLOOKUP($A67,Participants!$A:$E,4,FALSE)","v":{"$error":"#N/A"}},{"$f":"VLOOKUP($A67,Participants!$A:$E,2,FALSE)","v":{"$error":"#N/A"}},{"$f":"VLOOKUP($A67,Participants!$A:$E,3,FALSE)","v":{"$error":"#N/A"}},{"$f":"VLOOKUP($A67,Participants!$A:$E,5,FALSE)","v":{"$error":"#N/A"}},{"$f":"RANK(B67,$B$1:$B$97,0)","v":8}]
[null,0,{"$nulls":3},{"$f":"VLOOKUP($A68,Participants!$A:$E,4,FALSE)","v":{"$error":"#N/A"}},{"$f":"VLOOKUP($A68,Participants!$A:$E,2,FALSE)","v":{"$error":"#N/A"}},{"$f":"VLOOKUP($A68,Participants!$A:$E,3,FALSE)","v":{"$error":"#N/A"}},{"$f":"VLOOKUP($A68,Participants!$A:$E,5,FALSE)","v":{"$error":"#N/A"}},8]
[null,0,{"$nulls":3},{"$f":"VLOOKUP($A69,Participants!$A:$E,4,FALSE)","v":{"$error":"#N/A"}},{"$f":"VLOOKUP($A69,Participants!$A:$E,2,FALSE)","v":{"$error":"#N/A"}},{"$f":"VLOOKUP($A69,Participants!$A:$E,3,FALSE)","v":{"$error":"#N/A"}},{"$f":"VLOOKUP($A69,Participants!$A:$E,5,FALSE)","v":{"$error":"#N/A"}},8]
[null,0,{"$nulls":3},{"$f":"VLOOKUP($A70,Participants!$A:$E,4,FALSE)","v":{"$error":"#N/A"}},{"$f":"VLOOKUP($A70,Participants!$A:$E,2,FALSE)","v":{"$error":"#N/A"}},{"$f":"VLOOKUP($A70,Participants!$A:$E,3,FALSE)","v":{"$error":"#N/A"}},{"$f":"VLOOKUP($A70,Participants!$A:$E,5,FALSE)","v":{"$error":"#N/A"}},8]
[null,0,{"$nulls":3},{"$f":"VLOOKUP($A71,Participants!$A:$E,4,FALSE)","v":{"$error":"#N/A"}},{"$f":"VLOOKUP($A71,Participants!$A:$E,2,FALSE)","v":{"$error":"#N/A"}},{"$f":"VLOOKUP($A71,Participants!$A:$E,3,FALSE)","v":{"$error":"#N/A"}},{"$f":"VLOOKUP($A71,Participants!$A:$E,5,FALSE)","v":{"$error":"#N/A"}},8]
[null,0,{"$nulls":3},{"$f":"VLOOKUP($A72,Participants!$A:$E,4,FALSE)","v":{"$error":"#N/A"}},{"$f":"VLOOKUP($A72,Participants!$A:$E,2,FALSE)","v":{"$error":"#N/A"}},{"$f":"VLOOKUP($A72,Participants!$A:$E,3,FALSE)","v":{"$error":"#N/A"}},{"$f":"VLOOKUP($A72,Participants!$A:$E,5,FALSE)","v":{"$error":"#N/A"}},8]
[null,0,{"$nulls":3},{"$f":"VLOOKUP($A73,Participants!$A:$E,4,FALSE)","v":{"$error":"#N/A"}},{"$f":"VLOOKUP($A73,Participants!$A:$E,2,FALSE)","v":{"$error":"#N/A"}},{"$f":"VLOOKUP($A73,Participants!$A:$E,3,FALSE)","v":{"$error":"#N/A"}},{"$f":"VLOOKUP($A73,Participants!$A:$E,5,FALSE)","v":{"$error":"#N/A"}},8]
[null,0,{"$nulls":3},{"$f":"VLOOKUP($A74,Participants!$A:$E,4,FALSE)","v":{"$error":"#N/A"}},{"$f":"VLOOKUP($A74,Participants!$A:$E,2,FALSE)","v":{"$error":"#N/A"}},{"$f":"VLOOKUP($A74,Participants!$A:$E,3,FALSE)","v":{"$error":"#N/A"}},{"$f":"VLOOKUP($A74,Participants!$A:$E,5,FALSE)","v":{"$error":"#N/A"}},8]
[null,0,{"$nulls":3},{"$f":"VLOOKUP($A75,Participants!$A:$E,4,FALSE)","v":{"$error":"#N/A"}},{"$f":"VLOOKUP($A75,Participants!$A:$E,2,FALSE)","v":{"$error":"#N/A"}},{"$f":"VLOOKUP($A75,Participants!$A:$E,3,FALSE)","v":{"$error":"#N/A"}},{"$f":"VLOOKUP($A75,Participants!$A:$E,5,FALSE)","v":{"$error":"#N/A"}},8]
[null,0,{"$nulls":3},{"$f":"VLOOKUP($A76,Participants!$A:$E,4,FALSE)","v":{"$error":"#N/A"}},{"$f":"VLOOKUP($A76,Participants!$A:$E,2,FALSE)","v":{"$error":"#N/A"}},{"$f":"VLOOKUP($A76,Participants!$A:$E,3,FALSE)","v":{"$error":"#N/A"}},{"$f":"VLOOKUP($A76,Participants!$A:$E,5,FALSE)","v":{"$error":"#N/A"}},8]
[null,0,{"$nulls":3},{"$f":"VLOOKUP($A77,Participants!$A:$E,4,FALSE)","v":{"$error":"#N/A"}},{"$f":"VLOOKUP($A77,Participants!$A:$E,2,FALSE)","v":{"$error":"#N/A"}},{"$f":"VLOOKUP($A77,Participants!$A:$E,3,FALSE)","v":{"$error":"#N/A"}},{"$f":"VLOOKUP($A77,Participants!$A:$E,5,FALSE)","v":{"$error":"#N/A"}},8]
[null,0,{"$nulls":3},{"$f":"VLOOKUP($A78,Participants!$A:$E,4,FALSE)","v":{"$error":"#N/A"}},{"$f":"VLOOKUP($A78,Participants!$A:$E,2,FALSE)","v":{"$error":"#N/A"}},{"$f":"VLOOKUP($A78,Participants!$A:$E,3,FALSE)","v":{"$error":"#N/A"}},{"$f":"VLOOKUP($A78,Participants!$A:$E,5,FALSE)","v":{"$error":"#N/A"}},8]
[null,0,{"$nulls":3},{"$f":"VLOOKUP($A79,Participants!$A:$E,4,FALSE)","v":{"$error":"#N/A"}},{"$f":"VLOOKUP($A79,Participants!$A:$E,2,FALSE)","v":{"$error":"#N/A"}},{"$f":"VLOOKUP($A79,Participants!$A:$E,3,FALSE)","v":{"$error":"#N/A"}},{"$f":"VLOOKUP($A79,Participants!$A:$E,5,FALSE)","v":{"$error":"#N/A"}},8]
[null,0,{"$nulls":3},{"$f":"VLOOKUP($A80,Participants!$A:$E,4,FALSE)","v":{"$error":"#N/A"}},{"$f":"VLOOKUP($A80,Participants!$A:$E,2,FALSE)","v":{"$error":"#N/A"}},{"$f":"VLOOKUP($A80,Participants!$A:$E,3,FALSE)","v":{"$error":"#N/A"}},{"$f":"VLOOKUP($A80,Participants!$A:$E,5,FALSE)","v":{"$error":"#N/A"}},8]
[null,0,{"$nulls":3},{"$f":"VLOOKUP($A81,Participants!$A:$E,4,FALSE)","v":{"$error":"#N/A"}},{"$f":"VLOOKUP($A81,Participants!$A:$E,2,FALSE)","v":{"$error":"#N/A"}},{"$f":"VLOOKUP($A81,Participants!$A:$E,3,FALSE)","v":{"$error":"#N/A"}},{"$f":"VLOOKUP($A81,Participants!$A:$E,5,FALSE)","v":{"$error":"#N/A"}},8]
[null,0,{"$nulls":3},{"$f":"VLOOKUP($A82,Participants!$A:$E,4,FALSE)","v":{"$error":"#N/A"}},{"$f":"VLOOKUP($A82,Participants!$A:$E,2,FALSE)","v":{"$error":"#N/A"}},{"$f":"VLOOKUP($A82,Participants!$A:$E,3,FALSE)","v":{"$error":"#N/A"}},{"$f":"VLOOKUP($A82,Participants!$A:$E,5,FALSE)","v":{"$error":"#N/A"}},8]
[null,0,{"$nulls":3},{"$f":"VLOOKUP($A83,Participants!$A:$E,4,FALSE)","v":{"$error":"#N/A"}},{"$f":"VLOOKUP($A83,Participants!$A:$E,2,FALSE)","v":{"$error":"#N/A"}},{"$f":"VLOOKUP($A83,Participants!$A:$E,3,FALSE)","v":{"$error":"#N/A"}},{"$f":"VLOOKUP($A83,Participants!$A:$E,5,FALSE)","v":{"$error":"#N/A"}},8]
[null,0,{"$nulls":3},{"$f":"VLOOKUP($A84,Participants!$A:$E,4,FALSE)","v":{"$error":"#N/A"}},{"$f":"VLOOKUP($A84,Participants!$A:$E,2,FALSE)","v":{"$error":"#N/A"}},{"$f":"VLOOKUP($A84,Participants!$A:$E,3,FALSE)","v":{"$error":"#N/A"}},{"$f":"VLOOKUP($A84,Participants!$A:$E,5,FALSE)","v":{"$error":"#N/A"}},8]
[null,0,{"$nulls":3},{"$f":"VLOOKUP($A85,Participants!$A:$E,4,FALSE)","v":{"$error":"#N/A"}},{"$f":"VLOOKUP($A85,Participants!$A:$E,2,FALSE)","v":{"$error":"#N/A"}},{"$f":"VLOOKUP($A85,Participants!$A:$E,3,FALSE)","v":{"$error":"#N/A"}},{"$f":"VLOOKUP($A85,Participants!$A:$E,5,FALSE)","v":{"$error":"#N/A"}},8]
[null,0,{"$nulls":3},{"$f":"VLOOKUP($A86,Participants!$A:$E,4,FALSE)","v":{"$error":"#N/A"}},{"$f":"VLOOKUP($A86,Participants!$A:$E,2,FALSE)","v":{"$error":"#N/A"}},{"$f":"VLOOKUP($A86,Participants!$A:$E,3,FALSE)","v":{"$error":"#N/A"}},{"$f":"VLOOKUP($A86,Participants!$A:$E,5,FALSE)","v":{"$error":"#N/A"}},8]
[null,0,{"$nulls":3},{"$f":"VLOOKUP($A87,Participants!$A:$E,4,FALSE)","v":{"$error":"#N/A"}},{"$f":"VLOOKUP($A87,Participants!$A:$E,2,FALSE)","v":{"$error":"#N/A"}},{"$f":"VLOOKUP($A87,Participants!$A:$E,3,FALSE)","v":{"$error":"#N/A"}},{"$f":"VLOOKUP($A87,Participants!$A:$E,5,FALSE)","v":{"$error":"#N/A"}},8]
[null,0,{"$nulls":3},{"$f":"VLOOKUP($A88,Participants!$A:$E,4,FALSE)","v":{"$error":"#N/A"}},{"$f":"VLOOKUP($A88,Participants!$A:$E,2,FALSE)","v":{"$error":"#N/A"}},{"$f":"VLOOKUP($A88,Participants!$A:$E,3,FALSE)","v":{"$error":"#N/A"}},{"$f":"VLOOKUP($A88,Participants!$A:$E,5,FALSE)","v":{"$error":"#N/A"}},8]
[null,0,{"$nulls":3},{"$f":"VLOOKUP($A89,Participants!$A:$E,4,FALSE)","v":{"$error":"#N/A"}},{"$f":"VLOOKUP($A89,Participants!$A:$E,2,FALSE)","v":{"$error":"#N/A"}},{"$f":"VLOOKUP($A89,Participants!$A:$E,3,FALSE)","v":{"$error":"#N/A"}},{"$f":"VLOOKUP($A89,Participants!$A:$E,5,FALSE)","v":{"$error":"#N/A"}},8]
[null,0,{"$nulls":3},{"$f":"VLOOKUP($A90,Participants!$A:$E,4,FALSE)","v":{"$error":"#N/A"}},{"$f":"VLOOKUP($A90,Participants!$A:$E,2,FALSE)","v":{"$error":"#N/A"}},{"$f":"VLOOKUP($A90,Participants!$A:$E,3,FALSE)","v":{"$error":"#N/A"}},{"$f":"VLOOKUP($A90,Participants!$A:$E,5,FALSE)","v":{"$error":"#N/A"}},8]
[null,0,{"$nulls":3},{"$f":"VLOOKUP($A91,Participants!$A:$E,4,FALSE)","v":{"$error":"#N/A"}},{"$f":"VLOOKUP($A91,Participants!$A:$E,2,FALSE)","v":{"$error":"#N/A"}},{"$f":"VLOOKUP($A91,Participants!$A:$E,3,FALSE)","v":{"$error":"#N/A"}},{"$f":"VLOOKUP($A91,Participants!$A:$E,5,FALSE)","v":{"$error":"#N/A"}},8]
[null,0,{"$nulls":3},{"$f":"VLOOKUP($A92,Participants!$A:$E,4,FALSE)","v":{"$error":"#N/A"}},{"$f":"VLOOKUP($A92,Participants!$A:$E,2,FALSE)","v":{"$error":"#N/A"}},{"$f":"VLOOKUP($A92,Participants!$A:$E,3,FALSE)","v":{"$error":"#N/A"}},{"$f":"VLOOKUP($A92,Participants!$A:$E,5,FALSE)","v":{"$error":"#N/A"}},8]
[null,0,{"$nulls":3},{"$f":"VLOOKUP($A93,Participants!$A:$E,4,FALSE)","v":{"$error":"#N/A"}},{"$f":"VLOOKUP($A93,Participants!$A:$E,2,FALSE)","v":{"$error":"#N/A"}},{"$f":"VLOOKUP($A93,Participants!$A:$E,3,FALSE)","v":{"$error":"#N/A"}},{"$f":"VLOOKUP($A93,Participants!$A:$E,5,FALSE)","v":{"$error":"#N/A"}},8]
[null,0,{"$nulls":3},{"$f":"VLOOKUP($A94,Participants!$A:$E,4,FALSE)","v":{"$error":"#N/A"}},{"$f":"VLOOKUP($A94,Participants!$A:$E,2,FALSE)","v":{"$error":"#N/A"}},{"$f":"VLOOKUP($A94,Participants!$A:$E,3,FALSE)","v":{"$error":"#N/A"}},{"$f":"VLOOKUP($A94,Participants!$A:$E,5,FALSE)","v":{"$error":"#N/A"}},8]
[null,0,{"$nulls":3},{"$f":"VLOOKUP($A95,Participants!$A:$E,4,FALSE)","v":{"$error":"#N/A"}},{"$f":"VLOOKUP($A95,Participants!$A:$E,2,FALSE)","v":{"$error":"#N/A"}},{"$f":"VLOOKUP($A95,Participants!$A:$E,3,FALSE)","v":{"$error":"#N/A"}},{"$f":"VLOOKUP($A95,Participants!$A:$E,5,FALSE)","v":{"$error":"#N/A"}},8]
[null,0,{"$nulls":3},{"$f":"VLOOKUP($A96,Participants!$A:$E,4,FALSE)","v":{"$error":"#N/A"}},{"$f":"VLOOKUP($A96,Participants!$A:$E,2,FALSE)","v":{"$error":"#N/A"}},{"$f":"VLOOKUP($A96,Participants!$A:$E,3,FALSE)","v":{"$error":"#N/A"}},{"$f":"VLOOKUP($A96,Participants!$A:$E,5,FALSE)","v":{"$error":"#N/A"}},8]
[null,0,{"$nulls":3},{"$f":"VLOOKUP($A97,Participants!$A:$E,4,FALSE)","v":{"$error":"#N/A"}},{"$f":"VLOOKUP($A97,Participants!$A:$E,2,FALSE)","v":{"$error":"#N/A"}},{"$f":"VLOOKUP($A97,Participants!$A:$E,3,FALSE)","v":{"$error":"#N/A"}},{"$f":"VLOOKUP($A97,Participants!$A:$E,5,FALSE)","v":{"$error":"#N/A"}},8]
[null,0,{"$nulls":3},{"$f":"VLOOKUP($A98,Participants!$A:$E,4,FALSE)","v":{"$error":"#N/A"}},{"$f":"VLOOKUP($A98,Participants!$A:$E,2,FALSE)","v":{"$error":"#N/A"}},{"$f":"VLOOKUP($A98,Participants!$A:$E,3,FALSE)","v":{"$error":"#N/A"}},{"$f":"VLOOKUP($A98,Participants!$A:$E,5,FALSE)","v":{"$error":"#N/A"}},8]
[null,0,{"$nulls":3},{"$f":"VLOOKUP($A99,Participants!$A:$E,4,FALSE)","v":{"$error":"#N/A"}},{"$f":"VLOOKUP($A99,Participants!$A:$E,2,FALSE)","v":{"$error":"#N/A"}},{"$f":"VLOOKUP($A99,Participants!$A:$E,3,FALSE)","v":{"$error":"#N/A"}},{"$f":"VLOOKUP($A99,Participants!$A:$E,5,FALSE)","v":{"$error":"#N/A"}},8]
[null,0,{"$nulls":3},{"$f":"VLOOKUP($A100,Participants!$A:$E,4,FALSE)","v":{"$error":"#N/A"}},{"$f":"VLOOKUP($A100,Participants!$A:$E,2,FALSE)","v":{"$error":"#N/A"}},{"$f":"VLOOKUP($A100,Participants!$A:$E,3,FALSE)","v":{"$error":"#N/A"}},{"$f":"VLOOKUP($A100,Participants!$A:$E,5,FALSE)","v":{"$error":"#N/A"}},8]
[null,0,{"$nulls":3},{"$f":"VLOOKUP($A101,Participants!$A:$E,4,FALSE)","v":{"$error":"#N/A"}},{"$f":"VLOOKUP($A101,Participants!$A:$E,2,FALSE)","v":{"$error":"#N/A"}},{"$f":"VLOOKUP($A101,Participants!$A:$E,3,FALSE)","v":{"$error":"#N/A"}},{"$f":"VLOOKUP($A101,Participants!$A:$E,5,FALSE)","v":{"$error":"#N/A"}},8]

{"sheet":"Kickball 4th Girls","index":39,"n_rows":101,"n_cols":13,"rows_kept":101}
["Bib","Best Jump\n\nwill calculate\nautomatically","First Jump\n\nEnter 10 ft 3 3/4 in as 1003.75","Second Jump\n\nEnter 10 ft 3 3/4 in as 1003.75","Third Jump\n\nEnter 10 ft 3 3/4 in as 1003.75","Grade","FName","Lname","School","Overall Place",null,null,"Return to Schedule of Events"]
[144,{"$f":"MAX(C2:E2)","v":2102},2102,null,null,{"$f":"VLOOKUP($A2,Participants!$A:$E,4,FALSE)","v":4},{"$f":"VLOOKUP($A2,Participants!$A:$E,2,FALSE)","v":"Corryn"},{"$f":"VLOOKUP($A2,Participants!$A:$E,3,FALSE)","v":"Moster"},{"$f":"VLOOKUP($A2,Participants!$A:$E,5,FALSE)","v":"OLG"},{"$f":"RANK(B2,$B$1:$B$97,0)","v":2}]
[64,{"$f":"MAX(C3:E3)","v":2611},2611,null,null,{"$f":"VLOOKUP($A3,Participants!$A:$E,4,FALSE)","v":3},{"$f":"VLOOKUP($A3,Participants!$A:$E,2,FALSE)","v":"Katelyn"},{"$f":"VLOOKUP($A3,Participants!$A:$E,3,FALSE)","v":"Kitchens"},{"$f":"VLOOKUP($A3,Participants!$A:$E,5,FALSE)","v":"St Jude"},{"$f":"RANK(B3,$B$1:$B$97,0)","v":1},null,null,"Add or Update Participants"]
[85,1910,1910,null,null,{"$f":"VLOOKUP($A4,Participants!$A:$E,4,FALSE)","v":3},{"$f":"VLOOKUP($A4,Participants!$A:$E,2,FALSE)","v":"Julia "},{"$f":"VLOOKUP($A4,Participants!$A:$E,3,FALSE)","v":"Mayer"},{"$f":"VLOOKUP($A4,Participants!$A:$E,5,FALSE)","v":"St Jude"},3,null,null,"Overall Place and Points"]
[null,0,{"$nulls":3},{"$f":"VLOOKUP($A5,Participants!$A:$E,4,FALSE)","v":{"$error":"#N/A"}},{"$f":"VLOOKUP($A5,Participants!$A:$E,2,FALSE)","v":{"$error":"#N/A"}},{"$f":"VLOOKUP($A5,Participants!$A:$E,3,FALSE)","v":{"$error":"#N/A"}},{"$f":"VLOOKUP($A5,Participants!$A:$E,5,FALSE)","v":{"$error":"#N/A"}},4]
[null,0,{"$nulls":3},{"$f":"VLOOKUP($A6,Participants!$A:$E,4,FALSE)","v":{"$error":"#N/A"}},{"$f":"VLOOKUP($A6,Participants!$A:$E,2,FALSE)","v":{"$error":"#N/A"}},{"$f":"VLOOKUP($A6,Participants!$A:$E,3,FALSE)","v":{"$error":"#N/A"}},{"$f":"VLOOKUP($A6,Participants!$A:$E,5,FALSE)","v":{"$error":"#N/A"}},4]
[null,0,{"$nulls":3},{"$f":"VLOOKUP($A7,Participants!$A:$E,4,FALSE)","v":{"$error":"#N/A"}},{"$f":"VLOOKUP($A7,Participants!$A:$E,2,FALSE)","v":{"$error":"#N/A"}},{"$f":"VLOOKUP($A7,Participants!$A:$E,3,FALSE)","v":{"$error":"#N/A"}},{"$f":"VLOOKUP($A7,Participants!$A:$E,5,FALSE)","v":{"$error":"#N/A"}},4]
[null,0,{"$nulls":3},{"$f":"VLOOKUP($A8,Participants!$A:$E,4,FALSE)","v":{"$error":"#N/A"}},{"$f":"VLOOKUP($A8,Participants!$A:$E,2,FALSE)","v":{"$error":"#N/A"}},{"$f":"VLOOKUP($A8,Participants!$A:$E,3,FALSE)","v":{"$error":"#N/A"}},{"$f":"VLOOKUP($A8,Participants!$A:$E,5,FALSE)","v":{"$error":"#N/A"}},4]
[null,0,{"$nulls":3},{"$f":"VLOOKUP($A9,Participants!$A:$E,4,FALSE)","v":{"$error":"#N/A"}},{"$f":"VLOOKUP($A9,Participants!$A:$E,2,FALSE)","v":{"$error":"#N/A"}},{"$f":"VLOOKUP($A9,Participants!$A:$E,3,FALSE)","v":{"$error":"#N/A"}},{"$f":"VLOOKUP($A9,Participants!$A:$E,5,FALSE)","v":{"$error":"#N/A"}},4]
[null,0,{"$nulls":3},{"$f":"VLOOKUP($A10,Participants!$A:$E,4,FALSE)","v":{"$error":"#N/A"}},{"$f":"VLOOKUP($A10,Participants!$A:$E,2,FALSE)","v":{"$error":"#N/A"}},{"$f":"VLOOKUP($A10,Participants!$A:$E,3,FALSE)","v":{"$error":"#N/A"}},{"$f":"VLOOKUP($A10,Participants!$A:$E,5,FALSE)","v":{"$error":"#N/A"}},4]
[null,0,{"$nulls":3},{"$f":"VLOOKUP($A11,Participants!$A:$E,4,FALSE)","v":{"$error":"#N/A"}},{"$f":"VLOOKUP($A11,Participants!$A:$E,2,FALSE)","v":{"$error":"#N/A"}},{"$f":"VLOOKUP($A11,Participants!$A:$E,3,FALSE)","v":{"$error":"#N/A"}},{"$f":"VLOOKUP($A11,Participants!$A:$E,5,FALSE)","v":{"$error":"#N/A"}},4]
[null,0,{"$nulls":3},{"$f":"VLOOKUP($A12,Participants!$A:$E,4,FALSE)","v":{"$error":"#N/A"}},{"$f":"VLOOKUP($A12,Participants!$A:$E,2,FALSE)","v":{"$error":"#N/A"}},{"$f":"VLOOKUP($A12,Participants!$A:$E,3,FALSE)","v":{"$error":"#N/A"}},{"$f":"VLOOKUP($A12,Participants!$A:$E,5,FALSE)","v":{"$error":"#N/A"}},4]
[null,0,{"$nulls":3},{"$f":"VLOOKUP($A13,Participants!$A:$E,4,FALSE)","v":{"$error":"#N/A"}},{"$f":"VLOOKUP($A13,Participants!$A:$E,2,FALSE)","v":{"$error":"#N/A"}},{"$f":"VLOOKUP($A13,Participants!$A:$E,3,FALSE)","v":{"$error":"#N/A"}},{"$f":"VLOOKUP($A13,Participants!$A:$E,5,FALSE)","v":{"$error":"#N/A"}},4]
[null,0,{"$nulls":3},{"$f":"VLOOKUP($A14,Participants!$A:$E,4,FALSE)","v":{"$error":"#N/A"}},{"$f":"VLOOKUP($A14,Participants!$A:$E,2,FALSE)","v":{"$error":"#N/A"}},{"$f":"VLOOKUP($A14,Participants!$A:$E,3,FALSE)","v":{"$error":"#N/A"}},{"$f":"VLOOKUP($A14,Participants!$A:$E,5,FALSE)","v":{"$error":"#N/A"}},4]
[null,0,{"$nulls":3},{"$f":"VLOOKUP($A15,Participants!$A:$E,4,FALSE)","v":{"$error":"#N/A"}},{"$f":"VLOOKUP($A15,Participants!$A:$E,2,FALSE)","v":{"$error":"#N/A"}},{"$f":"VLOOKUP($A15,Participants!$A:$E,3,FALSE)","v":{"$error":"#N/A"}},{"$f":"VLOOKUP($A15,Participants!$A:$E,5,FALSE)","v":{"$error":"#N/A"}},4]
[null,0,{"$nulls":3},{"$f":"VLOOKUP($A16,Participants!$A:$E,4,FALSE)","v":{"$error":"#N/A"}},{"$f":"VLOOKUP($A16,Participants!$A:$E,2,FALSE)","v":{"$error":"#N/A"}},{"$f":"VLOOKUP($A16,Participants!$A:$E,3,FALSE)","v":{"$error":"#N/A"}},{"$f":"VLOOKUP($A16,Participants!$A:$E,5,FALSE)","v":{"$error":"#N/A"}},4]
[null,0,{"$nulls":3},{"$f":"VLOOKUP($A17,Participants!$A:$E,4,FALSE)","v":{"$error":"#N/A"}},{"$f":"VLOOKUP($A17,Participants!$A:$E,2,FALSE)","v":{"$error":"#N/A"}},{"$f":"VLOOKUP($A17,Participants!$A:$E,3,FALSE)","v":{"$error":"#N/A"}},{"$f":"VLOOKUP($A17,Participants!$A:$E,5,FALSE)","v":{"$error":"#N/A"}},4]
[null,0,{"$nulls":3},{"$f":"VLOOKUP($A18,Participants!$A:$E,4,FALSE)","v":{"$error":"#N/A"}},{"$f":"VLOOKUP($A18,Participants!$A:$E,2,FALSE)","v":{"$error":"#N/A"}},{"$f":"VLOOKUP($A18,Participants!$A:$E,3,FALSE)","v":{"$error":"#N/A"}},{"$f":"VLOOKUP($A18,Participants!$A:$E,5,FALSE)","v":{"$error":"#N/A"}},4]
[null,0,{"$nulls":3},{"$f":"VLOOKUP($A19,Participants!$A:$E,4,FALSE)","v":{"$error":"#N/A"}},{"$f":"VLOOKUP($A19,Participants!$A:$E,2,FALSE)","v":{"$error":"#N/A"}},{"$f":"VLOOKUP($A19,Participants!$A:$E,3,FALSE)","v":{"$error":"#N/A"}},{"$f":"VLOOKUP($A19,Participants!$A:$E,5,FALSE)","v":{"$error":"#N/A"}},4]
[null,0,{"$nulls":3},{"$f":"VLOOKUP($A20,Participants!$A:$E,4,FALSE)","v":{"$error":"#N/A"}},{"$f":"VLOOKUP($A20,Participants!$A:$E,2,FALSE)","v":{"$error":"#N/A"}},{"$f":"VLOOKUP($A20,Participants!$A:$E,3,FALSE)","v":{"$error":"#N/A"}},{"$f":"VLOOKUP($A20,Participants!$A:$E,5,FALSE)","v":{"$error":"#N/A"}},4]
[null,0,{"$nulls":3},{"$f":"VLOOKUP($A21,Participants!$A:$E,4,FALSE)","v":{"$error":"#N/A"}},{"$f":"VLOOKUP($A21,Participants!$A:$E,2,FALSE)","v":{"$error":"#N/A"}},{"$f":"VLOOKUP($A21,Participants!$A:$E,3,FALSE)","v":{"$error":"#N/A"}},{"$f":"VLOOKUP($A21,Participants!$A:$E,5,FALSE)","v":{"$error":"#N/A"}},4]
[null,0,{"$nulls":3},{"$f":"VLOOKUP($A22,Participants!$A:$E,4,FALSE)","v":{"$error":"#N/A"}},{"$f":"VLOOKUP($A22,Participants!$A:$E,2,FALSE)","v":{"$error":"#N/A"}},{"$f":"VLOOKUP($A22,Participants!$A:$E,3,FALSE)","v":{"$error":"#N/A"}},{"$f":"VLOOKUP($A22,Participants!$A:$E,5,FALSE)","v":{"$error":"#N/A"}},4]
[null,0,{"$nulls":3},{"$f":"VLOOKUP($A23,Participants!$A:$E,4,FALSE)","v":{"$error":"#N/A"}},{"$f":"VLOOKUP($A23,Participants!$A:$E,2,FALSE)","v":{"$error":"#N/A"}},{"$f":"VLOOKUP($A23,Participants!$A:$E,3,FALSE)","v":{"$error":"#N/A"}},{"$f":"VLOOKUP($A23,Participants!$A:$E,5,FALSE)","v":{"$error":"#N/A"}},4]
[null,0,{"$nulls":3},{"$f":"VLOOKUP($A24,Participants!$A:$E,4,FALSE)","v":{"$error":"#N/A"}},{"$f":"VLOOKUP($A24,Participants!$A:$E,2,FALSE)","v":{"$error":"#N/A"}},{"$f":"VLOOKUP($A24,Participants!$A:$E,3,FALSE)","v":{"$error":"#N/A"}},{"$f":"VLOOKUP($A24,Participants!$A:$E,5,FALSE)","v":{"$error":"#N/A"}},4]
[null,0,{"$nulls":3},{"$f":"VLOOKUP($A25,Participants!$A:$E,4,FALSE)","v":{"$error":"#N/A"}},{"$f":"VLOOKUP($A25,Participants!$A:$E,2,FALSE)","v":{"$error":"#N/A"}},{"$f":"VLOOKUP($A25,Participants!$A:$E,3,FALSE)","v":{"$error":"#N/A"}},{"$f":"VLOOKUP($A25,Participants!$A:$E,5,FALSE)","v":{"$error":"#N/A"}},4]
[null,0,{"$nulls":3},{"$f":"VLOOKUP($A26,Participants!$A:$E,4,FALSE)","v":{"$error":"#N/A"}},{"$f":"VLOOKUP($A26,Participants!$A:$E,2,FALSE)","v":{"$error":"#N/A"}},{"$f":"VLOOKUP($A26,Participants!$A:$E,3,FALSE)","v":{"$error":"#N/A"}},{"$f":"VLOOKUP($A26,Participants!$A:$E,5,FALSE)","v":{"$error":"#N/A"}},4]
[null,0,{"$nulls":3},{"$f":"VLOOKUP($A27,Participants!$A:$E,4,FALSE)","v":{"$error":"#N/A"}},{"$f":"VLOOKUP($A27,Participants!$A:$E,2,FALSE)","v":{"$error":"#N/A"}},{"$f":"VLOOKUP($A27,Participants!$A:$E,3,FALSE)","v":{"$error":"#N/A"}},{"$f":"VLOOKUP($A27,Participants!$A:$E,5,FALSE)","v":{"$error":"#N/A"}},4]
[null,0,{"$nulls":3},{"$f":"VLOOKUP($A28,Participants!$A:$E,4,FALSE)","v":{"$error":"#N/A"}},{"$f":"VLOOKUP($A28,Participants!$A:$E,2,FALSE)","v":{"$error":"#N/A"}},{"$f":"VLOOKUP($A28,Participants!$A:$E,3,FALSE)","v":{"$error":"#N/A"}},{"$f":"VLOOKUP($A28,Participants!$A:$E,5,FALSE)","v":{"$error":"#N/A"}},4]
[null,0,{"$nulls":3},{"$f":"VLOOKUP($A29,Participants!$A:$E,4,FALSE)","v":{"$error":"#N/A"}},{"$f":"VLOOKUP($A29,Participants!$A:$E,2,FALSE)","v":{"$error":"#N/A"}},{"$f":"VLOOKUP($A29,Participants!$A:$E,3,FALSE)","v":{"$error":"#N/A"}},{"$f":"VLOOKUP($A29,Participants!$A:$E,5,FALSE)","v":{"$error":"#N/A"}},4]
[null,0,{"$nulls":3},{"$f":"VLOOKUP($A30,Participants!$A:$E,4,FALSE)","v":{"$error":"#N/A"}},{"$f":"VLOOKUP($A30,Participants!$A:$E,2,FALSE)","v":{"$error":"#N/A"}},{"$f":"VLOOKUP($A30,Participants!$A:$E,3,FALSE)","v":{"$error":"#N/A"}},{"$f":"VLOOKUP($A30,Participants!$A:$E,5,FALSE)","v":{"$error":"#N/A"}},4]
[null,0,{"$nulls":3},{"$f":"VLOOKUP($A31,Participants!$A:$E,4,FALSE)","v":{"$error":"#N/A"}},{"$f":"VLOOKUP($A31,Participants!$A:$E,2,FALSE)","v":{"$error":"#N/A"}},{"$f":"VLOOKUP($A31,Participants!$A:$E,3,FALSE)","v":{"$error":"#N/A"}},{"$f":"VLOOKUP($A31,Participants!$A:$E,5,FALSE)","v":{"$error":"#N/A"}},4]
[null,0,{"$nulls":3},{"$f":"VLOOKUP($A32,Participants!$A:$E,4,FALSE)","v":{"$error":"#N/A"}},{"$f":"VLOOKUP($A32,Participants!$A:$E,2,FALSE)","v":{"$error":"#N/A"}},{"$f":"VLOOKUP($A32,Participants!$A:$E,3,FALSE)","v":{"$error":"#N/A"}},{"$f":"VLOOKUP($A32,Participants!$A:$E,5,FALSE)","v":{"$error":"#N/A"}},4]
[null,0,{"$nulls":3},{"$f":"VLOOKUP($A33,Participants!$A:$E,4,FALSE)","v":{"$error":"#N/A"}},{"$f":"VLOOKUP($A33,Participants!$A:$E,2,FALSE)","v":{"$error":"#N/A"}},{"$f":"VLOOKUP($A33,Participants!$A:$E,3,FALSE)","v":{"$error":"#N/A"}},{"$f":"VLOOKUP($A33,Participants!$A:$E,5,FALSE)","v":{"$error":"#N/A"}},4]
[null,0,{"$nulls":3},{"$f":"VLOOKUP($A34,Participants!$A:$E,4,FALSE)","v":{"$error":"#N/A"}},{"$f":"VLOOKUP($A34,Participants!$A:$E,2,FALSE)","v":{"$error":"#N/A"}},{"$f":"VLOOKUP($A34,Participants!$A:$E,3,FALSE)","v":{"$error":"#N/A"}},{"$f":"VLOOKUP($A34,Participants!$A:$E,5,FALSE)","v":{"$error":"#N/A"}},4]
[null,0,{"$nulls":3},{"$f":"VLOOKUP($A35,Participants!$A:$E,4,FALSE)","v":{"$error":"#N/A"}},{"$f":"VLOOKUP($A35,Participants!$A:$E,2,FALSE)","v":{"$error":"#N/A"}},{"$f":"VLOOKUP($A35,Participants!$A:$E,3,FALSE)","v":{"$error":"#N/A"}},{"$f":"VLOOKUP($A35,Participants!$A:$E,5,FALSE)","v":{"$error":"#N/A"}},4]
[null,0,{"$nulls":3},{"$f":"VLOOKUP($A36,Participants!$A:$E,4,FALSE)","v":{"$error":"#N/A"}},{"$f":"VLOOKUP($A36,Participants!$A:$E,2,FALSE)","v":{"$error":"#N/A"}},{"$f":"VLOOKUP($A36,Participants!$A:$E,3,FALSE)","v":{"$error":"#N/A"}},{"$f":"VLOOKUP($A36,Participants!$A:$E,5,FALSE)","v":{"$error":"#N/A"}},4]
[null,0,{"$nulls":3},{"$f":"VLOOKUP($A37,Participants!$A:$E,4,FALSE)","v":{"$error":"#N/A"}},{"$f":"VLOOKUP($A37,Participants!$A:$E,2,FALSE)","v":{"$error":"#N/A"}},{"$f":"VLOOKUP($A37,Participants!$A:$E,3,FALSE)","v":{"$error":"#N/A"}},{"$f":"VLOOKUP($A37,Participants!$A:$E,5,FALSE)","v":{"$error":"#N/A"}},4]
[null,0,{"$nulls":3},{"$f":"VLOOKUP($A38,Participants!$A:$E,4,FALSE)","v":{"$error":"#N/A"}},{"$f":"VLOOKUP($A38,Participants!$A:$E,2,FALSE)","v":{"$error":"#N/A"}},{"$f":"VLOOKUP($A38,Participants!$A:$E,3,FALSE)","v":{"$error":"#N/A"}},{"$f":"VLOOKUP($A38,Participants!$A:$E,5,FALSE)","v":{"$error":"#N/A"}},4]
[null,0,{"$nulls":3},{"$f":"VLOOKUP($A39,Participants!$A:$E,4,FALSE)","v":{"$error":"#N/A"}},{"$f":"VLOOKUP($A39,Participants!$A:$E,2,FALSE)","v":{"$error":"#N/A"}},{"$f":"VLOOKUP($A39,Participants!$A:$E,3,FALSE)","v":{"$error":"#N/A"}},{"$f":"VLOOKUP($A39,Participants!$A:$E,5,FALSE)","v":{"$error":"#N/A"}},4]
[null,0,{"$nulls":3},{"$f":"VLOOKUP($A40,Participants!$A:$E,4,FALSE)","v":{"$error":"#N/A"}},{"$f":"VLOOKUP($A40,Participants!$A:$E,2,FALSE)","v":{"$error":"#N/A"}},{"$f":"VLOOKUP($A40,Participants!$A:$E,3,FALSE)","v":{"$error":"#N/A"}},{"$f":"VLOOKUP($A40,Participants!$A:$E,5,FALSE)","v":{"$error":"#N/A"}},4]
[null,0,{"$nulls":3},{"$f":"VLOOKUP($A41,Participants!$A:$E,4,FALSE)","v":{"$error":"#N/A"}},{"$f":"VLOOKUP($A41,Participants!$A:$E,2,FALSE)","v":{"$error":"#N/A"}},{"$f":"VLOOKUP($A41,Participants!$A:$E,3,FALSE)","v":{"$error":"#N/A"}},{"$f":"VLOOKUP($A41,Participants!$A:$E,5,FALSE)","v":{"$error":"#N/A"}},4]
[null,0,{"$nulls":3},{"$f":"VLOOKUP($A42,Participants!$A:$E,4,FALSE)","v":{"$error":"#N/A"}},{"$f":"VLOOKUP($A42,Participants!$A:$E,2,FALSE)","v":{"$error":"#N/A"}},{"$f":"VLOOKUP($A42,Participants!$A:$E,3,FALSE)","v":{"$error":"#N/A"}},{"$f":"VLOOKUP($A42,Participants!$A:$E,5,FALSE)","v":{"$error":"#N/A"}},4]
[null,0,{"$nulls":3},{"$f":"VLOOKUP($A43,Participants!$A:$E,4,FALSE)","v":{"$error":"#N/A"}},{"$f":"VLOOKUP($A43,Participants!$A:$E,2,FALSE)","v":{"$error":"#N/A"}},{"$f":"VLOOKUP($A43,Participants!$A:$E,3,FALSE)","v":{"$error":"#N/A"}},{"$f":"VLOOKUP($A43,Participants!$A:$E,5,FALSE)","v":{"$error":"#N/A"}},4]
[null,0,{"$nulls":3},{"$f":"VLOOKUP($A44,Participants!$A:$E,4,FALSE)","v":{"$error":"#N/A"}},{"$f":"VLOOKUP($A44,Participants!$A:$E,2,FALSE)","v":{"$error":"#N/A"}},{"$f":"VLOOKUP($A44,Participants!$A:$E,3,FALSE)","v":{"$error":"#N/A"}},{"$f":"VLOOKUP($A44,Participants!$A:$E,5,FALSE)","v":{"$error":"#N/A"}},4]
[null,0,{"$nulls":3},{"$f":"VLOOKUP($A45,Participants!$A:$E,4,FALSE)","v":{"$error":"#N/A"}},{"$f":"VLOOKUP($A45,Participants!$A:$E,2,FALSE)","v":{"$error":"#N/A"}},{"$f":"VLOOKUP($A45,Participants!$A:$E,3,FALSE)","v":{"$error":"#N/A"}},{"$f":"VLOOKUP($A45,Participants!$A:$E,5,FALSE)","v":{"$error":"#N/A"}},4]
[null,0,{"$nulls":3},{"$f":"VLOOKUP($A46,Participants!$A:$E,4,FALSE)","v":{"$error":"#N/A"}},{"$f":"VLOOKUP($A46,Participants!$A:$E,2,FALSE)","v":{"$error":"#N/A"}},{"$f":"VLOOKUP($A46,Participants!$A:$E,3,FALSE)","v":{"$error":"#N/A"}},{"$f":"VLOOKUP($A46,Participants!$A:$E,5,FALSE)","v":{"$error":"#N/A"}},4]
[null,0,{"$nulls":3},{"$f":"VLOOKUP($A47,Participants!$A:$E,4,FALSE)","v":{"$error":"#N/A"}},{"$f":"VLOOKUP($A47,Participants!$A:$E,2,FALSE)","v":{"$error":"#N/A"}},{"$f":"VLOOKUP($A47,Participants!$A:$E,3,FALSE)","v":{"$error":"#N/A"}},{"$f":"VLOOKUP($A47,Participants!$A:$E,5,FALSE)","v":{"$error":"#N/A"}},4]
[null,0,{"$nulls":3},{"$f":"VLOOKUP($A48,Participants!$A:$E,4,FALSE)","v":{"$error":"#N/A"}},{"$f":"VLOOKUP($A48,Participants!$A:$E,2,FALSE)","v":{"$error":"#N/A"}},{"$f":"VLOOKUP($A48,Participants!$A:$E,3,FALSE)","v":{"$error":"#N/A"}},{"$f":"VLOOKUP($A48,Participants!$A:$E,5,FALSE)","v":{"$error":"#N/A"}},4]
[null,0,{"$nulls":3},{"$f":"VLOOKUP($A49,Participants!$A:$E,4,FALSE)","v":{"$error":"#N/A"}},{"$f":"VLOOKUP($A49,Participants!$A:$E,2,FALSE)","v":{"$error":"#N/A"}},{"$f":"VLOOKUP($A49,Participants!$A:$E,3,FALSE)","v":{"$error":"#N/A"}},{"$f":"VLOOKUP($A49,Participants!$A:$E,5,FALSE)","v":{"$error":"#N/A"}},4]
[null,0,{"$nulls":3},{"$f":"VLOOKUP($A50,Participants!$A:$E,4,FALSE)","v":{"$error":"#N/A"}},{"$f":"VLOOKUP($A50,Participants!$A:$E,2,FALSE)","v":{"$error":"#N/A"}},{"$f":"VLOOKUP($A50,Participants!$A:$E,3,FALSE)","v":{"$error":"#N/A"}},{"$f":"VLOOKUP($A50,Participants!$A:$E,5,FALSE)","v":{"$error":"#N/A"}},4]
[null,0,{"$nulls":3},{"$f":"VLOOKUP($A51,Participants!$A:$E,4,FALSE)","v":{"$error":"#N/A"}},{"$f":"VLOOKUP($A51,Participants!$A:$E,2,FALSE)","v":{"$error":"#N/A"}},{"$f":"VLOOKUP($A51,Participants!$A:$E,3,FALSE)","v":{"$error":"#N/A"}},{"$f":"VLOOKUP($A51,Participants!$A:$E,5,FALSE)","v":{"$error":"#N/A"}},4]
[null,0,{"$nulls":3},{"$f":"VLOOKUP($A52,Participants!$A:$E,4,FALSE)","v":{"$error":"#N/A"}},{"$f":"VLOOKUP($A52,Participants!$A:$E,2,FALSE)","v":{"$error":"#N/A"}},{"$f":"VLOOKUP($A52,Participants!$A:$E,3,FALSE)","v":{"$error":"#N/A"}},{"$f":"VLOOKUP($A52,Participants!$A:$E,5,FALSE)","v":{"$error":"#N/A"}},4]
[null,0,{"$nulls":3},{"$f":"VLOOKUP($A53,Participants!$A:$E,4,FALSE)","v":{"$error":"#N/A"}},{"$f":"VLOOKUP($A53,Participants!$A:$E,2,FALSE)","v":{"$error":"#N/A"}},{"$f":"VLOOKUP($A53,Participants!$A:$E,3,FALSE)","v":{"$error":"#N/A"}},{"$f":"VLOOKUP($A53,Participants!$A:$E,5,FALSE)","v":{"$error":"#N/A"}},4]
[null,0,{"$nulls":3},{"$f":"VLOOKUP($A54,Participants!$A:$E,4,FALSE)","v":{"$error":"#N/A"}},{"$f":"VLOOKUP($A54,Participants!$A:$E,2,FALSE)","v":{"$error":"#N/A"}},{"$f":"VLOOKUP($A54,Participants!$A:$E,3,FALSE)","v":{"$error":"#N/A"}},{"$f":"VLOOKUP($A54,Participants!$A:$E,5,FALSE)","v":{"$error":"#N/A"}},4]
[null,0,{"$nulls":3},{"$f":"VLOOKUP($A55,Participants!$A:$E,4,FALSE)","v":{"$error":"#N/A"}},{"$f":"VLOOKUP($A55,Participants!$A:$E,2,FALSE)","v":{"$error":"#N/A"}},{"$f":"VLOOKUP($A55,Participants!$A:$E,3,FALSE)","v":{"$error":"#N/A"}},{"$f":"VLOOKUP($A55,Participants!$A:$E,5,FALSE)","v":{"$error":"#N/A"}},4]
[null,0,{"$nulls":3},{"$f":"VLOOKUP($A56,Participants!$A:$E,4,FALSE)","v":{"$error":"#N/A"}},{"$f":"VLOOKUP($A56,Participants!$A:$E,2,FALSE)","v":{"$error":"#N/A"}},{"$f":"VLOOKUP($A56,Participants!$A:$E,3,FALSE)","v":{"$error":"#N/A"}},{"$f":"VLOOKUP($A56,Participants!$A:$E,5,FALSE)","v":{"$error":"#N/A"}},4]
[null,0,{"$nulls":3},{"$f":"VLOOKUP($A57,Participants!$A:$E,4,FALSE)","v":{"$error":"#N/A"}},{"$f":"VLOOKUP($A57,Participants!$A:$E,2,FALSE)","v":{"$error":"#N/A"}},{"$f":"VLOOKUP($A57,Participants!$A:$E,3,FALSE)","v":{"$error":"#N/A"}},{"$f":"VLOOKUP($A57,Participants!$A:$E,5,FALSE)","v":{"$error":"#N/A"}},4]
[null,0,{"$nulls":3},{"$f":"VLOOKUP($A58,Participants!$A:$E,4,FALSE)","v":{"$error":"#N/A"}},{"$f":"VLOOKUP($A58,Participants!$A:$E,2,FALSE)","v":{"$error":"#N/A"}},{"$f":"VLOOKUP($A58,Participants!$A:$E,3,FALSE)","v":{"$error":"#N/A"}},{"$f":"VLOOKUP($A58,Participants!$A:$E,5,FALSE)","v":{"$error":"#N/A"}},4]
[null,0,{"$nulls":3},{"$f":"VLOOKUP($A59,Participants!$A:$E,4,FALSE)","v":{"$error":"#N/A"}},{"$f":"VLOOKUP($A59,Participants!$A:$E,2,FALSE)","v":{"$error":"#N/A"}},{"$f":"VLOOKUP($A59,Participants!$A:$E,3,FALSE)","v":{"$error":"#N/A"}},{"$f":"VLOOKUP($A59,Participants!$A:$E,5,FALSE)","v":{"$error":"#N/A"}},4]
[null,0,{"$nulls":3},{"$f":"VLOOKUP($A60,Participants!$A:$E,4,FALSE)","v":{"$error":"#N/A"}},{"$f":"VLOOKUP($A60,Participants!$A:$E,2,FALSE)","v":{"$error":"#N/A"}},{"$f":"VLOOKUP($A60,Participants!$A:$E,3,FALSE)","v":{"$error":"#N/A"}},{"$f":"VLOOKUP($A60,Participants!$A:$E,5,FALSE)","v":{"$error":"#N/A"}},4]
[null,0,{"$nulls":3},{"$f":"VLOOKUP($A61,Participants!$A:$E,4,FALSE)","v":{"$error":"#N/A"}},{"$f":"VLOOKUP($A61,Participants!$A:$E,2,FALSE)","v":{"$error":"#N/A"}},{"$f":"VLOOKUP($A61,Participants!$A:$E,3,FALSE)","v":{"$error":"#N/A"}},{"$f":"VLOOKUP($A61,Participants!$A:$E,5,FALSE)","v":{"$error":"#N/A"}},4]
[null,0,{"$nulls":3},{"$f":"VLOOKUP($A62,Participants!$A:$E,4,FALSE)","v":{"$error":"#N/A"}},{"$f":"VLOOKUP($A62,Participants!$A:$E,2,FALSE)","v":{"$error":"#N/A"}},{"$f":"VLOOKUP($A62,Participants!$A:$E,3,FALSE)","v":{"$error":"#N/A"}},{"$f":"VLOOKUP($A62,Participants!$A:$E,5,FALSE)","v":{"$error":"#N/A"}},4]
[null,0,{"$nulls":3},{"$f":"VLOOKUP($A63,Participants!$A:$E,4,FALSE)","v":{"$error":"#N/A"}},{"$f":"VLOOKUP($A63,Participants!$A:$E,2,FALSE)","v":{"$error":"#N/A"}},{"$f":"VLOOKUP($A63,Participants!$A:$E,3,FALSE)","v":{"$error":"#N/A"}},{"$f":"VLOOKUP($A63,Participants!$A:$E,5,FALSE)","v":{"$error":"#N/A"}},4]
[null,0,{"$nulls":3},{"$f":"VLOOKUP($A64,Participants!$A:$E,4,FALSE)","v":{"$error":"#N/A"}},{"$f":"VLOOKUP($A64,Participants!$A:$E,2,FALSE)","v":{"$error":"#N/A"}},{"$f":"VLOOKUP($A64,Participants!$A:$E,3,FALSE)","v":{"$error":"#N/A"}},{"$f":"VLOOKUP($A64,Participants!$A:$E,5,FALSE)","v":{"$error":"#N/A"}},4]
[null,0,{"$nulls":3},{"$f":"VLOOKUP($A65,Participants!$A:$E,4,FALSE)","v":{"$error":"#N/A"}},{"$f":"VLOOKUP($A65,Participants!$A:$E,2,FALSE)","v":{"$error":"#N/A"}},{"$f":"VLOOKUP($A65,Participants!$A:$E,3,FALSE)","v":{"$error":"#N/A"}},{"$f":"VLOOKUP($A65,Participants!$A:$E,5,FALSE)","v":{"$error":"#N/A"}},4]
[null,0,{"$nulls":3},{"$f":"VLOOKUP($A66,Participants!$A:$E,4,FALSE)","v":{"$error":"#N/A"}},{"$f":"VLOOKUP($A66,Participants!$A:$E,2,FALSE)","v":{"$error":"#N/A"}},{"$f":"VLOOKUP($A66,Participants!$A:$E,3,FALSE)","v":{"$error":"#N/A"}},{"$f":"VLOOKUP($A66,Participants!$A:$E,5,FALSE)","v":{"$error":"#N/A"}},4]
[null,{"$f":"MAX(C67:E67)","v":0},{"$nulls":3},{"$f":"VLOOKUP($A67,Participants!$A:$E,4,FALSE)","v":{"$error":"#N/A"}},{"$f":"VLOOKUP($A67,Participants!$A:$E,2,FALSE)","v":{"$error":"#N/A"}},{"$f":"VLOOKUP($A67,Participants!$A:$E,3,FALSE)","v":{"$error":"#N/A"}},{"$f":"VLOOKUP($A67,Participants!$A:$E,5,FALSE)","v":{"$error":"#N/A"}},{"$f":"RANK(B67,$B$1:$B$97,0)","v":4}]
[null,0,{"$nulls":3},{"$f":"VLOOKUP($A68,Participants!$A:$E,4,FALSE)","v":{"$error":"#N/A"}},{"$f":"VLOOKUP($A68,Participants!$A:$E,2,FALSE)","v":{"$error":"#N/A"}},{"$f":"VLOOKUP($A68,Participants!$A:$E,3,FALSE)","v":{"$error":"#N/A"}},{"$f":"VLOOKUP($A68,Participants!$A:$E,5,FALSE)","v":{"$error":"#N/A"}},4]
[null,0,{"$nulls":3},{"$f":"VLOOKUP($A69,Participants!$A:$E,4,FALSE)","v":{"$error":"#N/A"}},{"$f":"VLOOKUP($A69,Participants!$A:$E,2,FALSE)","v":{"$error":"#N/A"}},{"$f":"VLOOKUP($A69,Participants!$A:$E,3,FALSE)","v":{"$error":"#N/A"}},{"$f":"VLOOKUP($A69,Participants!$A:$E,5,FALSE)","v":{"$error":"#N/A"}},4]
[null,0,{"$nulls":3},{"$f":"VLOOKUP($A70,Participants!$A:$E,4,FALSE)","v":{"$error":"#N/A"}},{"$f":"VLOOKUP($A70,Participants!$A:$E,2,FALSE)","v":{"$error":"#N/A"}},{"$f":"VLOOKUP($A70,Participants!$A:$E,3,FALSE)","v":{"$error":"#N/A"}},{"$f":"VLOOKUP($A70,Participants!$A:$E,5,FALSE)","v":{"$error":"#N/A"}},4]
[null,0,{"$nulls":3},{"$f":"VLOOKUP($A71,Participants!$A:$E,4,FALSE)","v":{"$error":"#N/A"}},{"$f":"VLOOKUP($A71,Participants!$A:$E,2,FALSE)","v":{"$error":"#N/A"}},{"$f":"VLOOKUP($A71,Participants!$A:$E,3,FALSE)","v":{"$error":"#N/A"}},{"$f":"VLOOKUP($A71,Participants!$A:$E,5,FALSE)","v":{"$error":"#N/A"}},4]
[null,0,{"$nulls":3},{"$f":"VLOOKUP($A72,Participants!$A:$E,4,FALSE)","v":{"$error":"#N/A"}},{"$f":"VLOOKUP($A72,Participants!$A:$E,2,FALSE)","v":{"$error":"#N/A"}},{"$f":"VLOOKUP($A72,Participants!$A:$E,3,FALSE)","v":{"$error":"#N/A"}},{"$f":"VLOOKUP($A72,Participants!$A:$E,5,FALSE)","v":{"$error":"#N/A"}},4]
[null,0,{"$nulls":3},{"$f":"VLOOKUP($A73,Participants!$A:$E,4,FALSE)","v":{"$error":"#N/A"}},{"$f":"VLOOKUP($A73,Participants!$A:$E,2,FALSE)","v":{"$error":"#N/A"}},{"$f":"VLOOKUP($A73,Participants!$A:$E,3,FALSE)","v":{"$error":"#N/A"}},{"$f":"VLOOKUP($A73,Participants!$A:$E,5,FALSE)","v":{"$error":"#N/A"}},4]
[null,0,{"$nulls":3},{"$f":"VLOOKUP($A74,Participants!$A:$E,4,FALSE)","v":{"$error":"#N/A"}},{"$f":"VLOOKUP($A74,Participants!$A:$E,2,FALSE)","v":{"$error":"#N/A"}},{"$f":"VLOOKUP($A74,Participants!$A:$E,3,FALSE)","v":{"$error":"#N/A"}},{"$f":"VLOOKUP($A74,Participants!$A:$E,5,FALSE)","v":{"$error":"#N/A"}},4]
[null,0,{"$nulls":3},{"$f":"VLOOKUP($A75,Participants!$A:$E,4,FALSE)","v":{"$error":"#N/A"}},{"$f":"VLOOKUP($A75,Participants!$A:$E,2,FALSE)","v":{"$error":"#N/A"}},{"$f":"VLOOKUP($A75,Participants!$A:$E,3,FALSE)","v":{"$error":"#N/A"}},{"$f":"VLOOKUP($A75,Participants!$A:$E,5,FALSE)","v":{"$error":"#N/A"}},4]
[null,0,{"$nulls":3},{"$f":"VLOOKUP($A76,Participants!$A:$E,4,FALSE)","v":{"$error":"#N/A"}},{"$f":"VLOOKUP($A76,Participants!$A:$E,2,FALSE)","v":{"$error":"#N/A"}},{"$f":"VLOOKUP($A76,Participants!$A:$E,3,FALSE)","v":{"$error":"#N/A"}},{"$f":"VLOOKUP($A76,Participants!$A:$E,5,FALSE)","v":{"$error":"#N/A"}},4]
[null,0,{"$nulls":3},{"$f":"VLOOKUP($A77,Participants!$A:$E,4,FALSE)","v":{"$error":"#N/A"}},{"$f":"VLOOKUP($A77,Participants!$A:$E,2,FALSE)","v":{"$error":"#N/A"}},{"$f":"VLOOKUP($A77,Participants!$A:$E,3,FALSE)","v":{"$error":"#N/A"}},{"$f":"VLOOKUP($A77,Participants!$A:$E,5,FALSE)","v":{"$error":"#N/A"}},4]
[null,0,{"$nulls":3},{"$f":"VLOOKUP($A78,Participants!$A:$E,4,FALSE)","v":{"$error":"#N/A"}},{"$f":"VLOOKUP($A78,Participants!$A:$E,2,FALSE)","v":{"$error":"#N/A"}},{"$f":"VLOOKUP($A78,Participants!$A:$E,3,FALSE)","v":{"$error":"#N/A"}},{"$f":"VLOOKUP($A78,Participants!$A:$E,5,FALSE)","v":{"$error":"#N/A"}},4]
[null,0,{"$nulls":3},{"$f":"VLOOKUP($A79,Participants!$A:$E,4,FALSE)","v":{"$error":"#N/A"}},{"$f":"VLOOKUP($A79,Participants!$A:$E,2,FALSE)","v":{"$error":"#N/A"}},{"$f":"VLOOKUP($A79,Participants!$A:$E,3,FALSE)","v":{"$error":"#N/A"}},{"$f":"VLOOKUP($A79,Participants!$A:$E,5,FALSE)","v":{"$error":"#N/A"}},4]
[null,0,{"$nulls":3},{"$f":"VLOOKUP($A80,Participants!$A:$E,4,FALSE)","v":{"$error":"#N/A"}},{"$f":"VLOOKUP($A80,Participants!$A:$E,2,FALSE)","v":{"$error":"#N/A"}},{"$f":"VLOOKUP($A80,Participants!$A:$E,3,FALSE)","v":{"$error":"#N/A"}},{"$f":"VLOOKUP($A80,Participants!$A:$E,5,FALSE)","v":{"$error":"#N/A"}},4]
[null,0,{"$nulls":3},{"$f":"VLOOKUP($A81,Participants!$A:$E,4,FALSE)","v":{"$error":"#N/A"}},{"$f":"VLOOKUP($A81,Participants!$A:$E,2,FALSE)","v":{"$error":"#N/A"}},{"$f":"VLOOKUP($A81,Participants!$A:$E,3,FALSE)","v":{"$error":"#N/A"}},{"$f":"VLOOKUP($A81,Participants!$A:$E,5,FALSE)","v":{"$error":"#N/A"}},4]
[null,0,{"$nulls":3},{"$f":"VLOOKUP($A82,Participants!$A:$E,4,FALSE)","v":{"$error":"#N/A"}},{"$f":"VLOOKUP($A82,Participants!$A:$E,2,FALSE)","v":{"$error":"#N/A"}},{"$f":"VLOOKUP($A82,Participants!$A:$E,3,FALSE)","v":{"$error":"#N/A"}},{"$f":"VLOOKUP($A82,Participants!$A:$E,5,FALSE)","v":{"$error":"#N/A"}},4]
[null,0,{"$nulls":3},{"$f":"VLOOKUP($A83,Participants!$A:$E,4,FALSE)","v":{"$error":"#N/A"}},{"$f":"VLOOKUP($A83,Participants!$A:$E,2,FALSE)","v":{"$error":"#N/A"}},{"$f":"VLOOKUP($A83,Participants!$A:$E,3,FALSE)","v":{"$error":"#N/A"}},{"$f":"VLOOKUP($A83,Participants!$A:$E,5,FALSE)","v":{"$error":"#N/A"}},4]
[null,0,{"$nulls":3},{"$f":"VLOOKUP($A84,Participants!$A:$E,4,FALSE)","v":{"$error":"#N/A"}},{"$f":"VLOOKUP($A84,Participants!$A:$E,2,FALSE)","v":{"$error":"#N/A"}},{"$f":"VLOOKUP($A84,Participants!$A:$E,3,FALSE)","v":{"$error":"#N/A"}},{"$f":"VLOOKUP($A84,Participants!$A:$E,5,FALSE)","v":{"$error":"#N/A"}},4]
[null,0,{"$nulls":3},{"$f":"VLOOKUP($A85,Participants!$A:$E,4,FALSE)","v":{"$error":"#N/A"}},{"$f":"VLOOKUP($A85,Participants!$A:$E,2,FALSE)","v":{"$error":"#N/A"}},{"$f":"VLOOKUP($A85,Participants!$A:$E,3,FALSE)","v":{"$error":"#N/A"}},{"$f":"VLOOKUP($A85,Participants!$A:$E,5,FALSE)","v":{"$error":"#N/A"}},4]
[null,0,{"$nulls":3},{"$f":"VLOOKUP($A86,Participants!$A:$E,4,FALSE)","v":{"$error":"#N/A"}},{"$f":"VLOOKUP($A86,Participants!$A:$E,2,FALSE)","v":{"$error":"#N/A"}},{"$f":"VLOOKUP($A86,Participants!$A:$E,3,FALSE)","v":{"$error":"#N/A"}},{"$f":"VLOOKUP($A86,Participants!$A:$E,5,FALSE)","v":{"$error":"#N/A"}},4]
[null,0,{"$nulls":3},{"$f":"VLOOKUP($A87,Participants!$A:$E,4,FALSE)","v":{"$error":"#N/A"}},{"$f":"VLOOKUP($A87,Participants!$A:$E,2,FALSE)","v":{"$error":"#N/A"}},{"$f":"VLOOKUP($A87,Participants!$A:$E,3,FALSE)","v":{"$error":"#N/A"}},{"$f":"VLOOKUP($A87,Participants!$A:$E,5,FALSE)","v":{"$error":"#N/A"}},4]
[null,0,{"$nulls":3},{"$f":"VLOOKUP($A88,Participants!$A:$E,4,FALSE)","v":{"$error":"#N/A"}},{"$f":"VLOOKUP($A88,Participants!$A:$E,2,FALSE)","v":{"$error":"#N/A"}},{"$f":"VLOOKUP($A88,Participants!$A:$E,3,FALSE)","v":{"$error":"#N/A"}},{"$f":"VLOOKUP($A88,Participants!$A:$E,5,FALSE)","v":{"$error":"#N/A"}},4]
[null,0,{"$nulls":3},{"$f":"VLOOKUP($A89,Participants!$A:$E,4,FALSE)","v":{"$error":"#N/A"}},{"$f":"VLOOKUP($A89,Participants!$A:$E,2,FALSE)","v":{"$error":"#N/A"}},{"$f":"VLOOKUP($A89,Participants!$A:$E,3,FALSE)","v":{"$error":"#N/A"}},{"$f":"VLOOKUP($A89,Participants!$A:$E,5,FALSE)","v":{"$error":"#N/A"}},4]
[null,0,{"$nulls":3},{"$f":"VLOOKUP($A90,Participants!$A:$E,4,FALSE)","v":{"$error":"#N/A"}},{"$f":"VLOOKUP($A90,Participants!$A:$E,2,FALSE)","v":{"$error":"#N/A"}},{"$f":"VLOOKUP($A90,Participants!$A:$E,3,FALSE)","v":{"$error":"#N/A"}},{"$f":"VLOOKUP($A90,Participants!$A:$E,5,FALSE)","v":{"$error":"#N/A"}},4]
[null,0,{"$nulls":3},{"$f":"VLOOKUP($A91,Participants!$A:$E,4,FALSE)","v":{"$error":"#N/A"}},{"$f":"VLOOKUP($A91,Participants!$A:$E,2,FALSE)","v":{"$error":"#N/A"}},{"$f":"VLOOKUP($A91,Participants!$A:$E,3,FALSE)","v":{"$error":"#N/A"}},{"$f":"VLOOKUP($A91,Participants!$A:$E,5,FALSE)","v":{"$error":"#N/A"}},4]
[null,0,{"$nulls":3},{"$f":"VLOOKUP($A92,Participants!$A:$E,4,FALSE)","v":{"$error":"#N/A"}},{"$f":"VLOOKUP($A92,Participants!$A:$E,2,FALSE)","v":{"$error":"#N/A"}},{"$f":"VLOOKUP($A92,Participants!$A:$E,3,FALSE)","v":{"$error":"#N/A"}},{"$f":"VLOOKUP($A92,Participants!$A:$E,5,FALSE)","v":{"$error":"#N/A"}},4]
[null,0,{"$nulls":3},{"$f":"VLOOKUP($A93,Participants!$A:$E,4,FALSE)","v":{"$error":"#N/A"}},{"$f":"VLOOKUP($A93,Participants!$A:$E,2,FALSE)","v":{"$error":"#N/A"}},{"$f":"VLOOKUP($A93,Participants!$A:$E,3,FALSE)","v":{"$error":"#N/A"}},{"$f":"VLOOKUP($A93,Participants!$A:$E,5,FALSE)","v":{"$error":"#N/A"}},4]
[null,0,{"$nulls":3},{"$f":"VLOOKUP($A94,Participants!$A:$E,4,FALSE)","v":{"$error":"#N/A"}},{"$f":"VLOOKUP($A94,Participants!$A:$E,2,FALSE)","v":{"$error":"#N/A"}},{"$f":"VLOOKUP($A94,Participants!$A:$E,3,FALSE)","v":{"$error":"#N/A"}},{"$f":"VLOOKUP($A94,Participants!$A:$E,5,FALSE)","v":{"$error":"#N/A"}},4]
[null,0,{"$nulls":3},{"$f":"VLOOKUP($A95,Participants!$A:$E,4,FALSE)","v":{"$error":"#N/A"}},{"$f":"VLOOKUP($A95,Participants!$A:$E,2,FALSE)","v":{"$error":"#N/A"}},{"$f":"VLOOKUP($A95,Participants!$A:$E,3,FALSE)","v":{"$error":"#N/A"}},{"$f":"VLOOKUP($A95,Participants!$A:$E,5,FALSE)","v":{"$error":"#N/A"}},4]
[null,0,{"$nulls":3},{"$f":"VLOOKUP($A96,Participants!$A:$E,4,FALSE)","v":{"$error":"#N/A"}},{"$f":"VLOOKUP($A96,Participants!$A:$E,2,FALSE)","v":{"$error":"#N/A"}},{"$f":"VLOOKUP($A96,Participants!$A:$E,3,FALSE)","v":{"$error":"#N/A"}},{"$f":"VLOOKUP($A96,Participants!$A:$E,5,FALSE)","v":{"$error":"#N/A"}},4]
[null,0,{"$nulls":3},{"$f":"VLOOKUP($A97,Participants!$A:$E,4,FALSE)","v":{"$error":"#N/A"}},{"$f":"VLOOKUP($A97,Participants!$A:$E,2,FALSE)","v":{"$error":"#N/A"}},{"$f":"VLOOKUP($A97,Participants!$A:$E,3,FALSE)","v":{"$error":"#N/A"}},{"$f":"VLOOKUP($A97,Participants!$A:$E,5,FALSE)","v":{"$error":"#N/A"}},4]
[null,0,{"$nulls":3},{"$f":"VLOOKUP($A98,Participants!$A:$E,4,FALSE)","v":{"$error":"#N/A"}},{"$f":"VLOOKUP($A98,Participants!$A:$E,2,FALSE)","v":{"$error":"#N/A"}},{"$f":"VLOOKUP($A98,Participants!$A:$E,3,FALSE)","v":{"$error":"#N/A"}},{"$f":"VLOOKUP($A98,Participants!$A:$E,5,FALSE)","v":{"$error":"#N/A"}},4]
[null,0,{"$nulls":3},{"$f":"VLOOKUP($A99,Participants!$A:$E,4,FALSE)","v":{"$error":"#N/A"}},{"$f":"VLOOKUP($A99,Participants!$A:$E,2,FALSE)","v":{"$error":"#N/A"}},{"$f":"VLOOKUP($A99,Participants!$A:$E,3,FALSE)","v":{"$error":"#N/A"}},{"$f":"VLOOKUP($A99,Participants!$A:$E,5,FALSE)","v":{"$error":"#N/A"}},4]
[null,0,{"$nulls":3},{"$f":"VLOOKUP($A100,Participants!$A:$E,4,FALSE)","v":{"$error":"#N/A"}},{"$f":"VLOOKUP($A100,Participants!$A:$E,2,FALSE)","v":{"$error":"#N/A"}},{"$f":"VLOOKUP($A100,Participants!$A:$E,3,FALSE)","v":{"$error":"#N/A"}},{"$f":"VLOOKUP($A100,Participants!$A:$E,5,FALSE)","v":{"$error":"#N/A"}},4]
[null,0,{"$nulls":3},{"$f":"VLOOKUP($A101,Participants!$A:$E,4,FALSE)","v":{"$error":"#N/A"}},{"$f":"VLOOKUP($A101,Participants!$A:$E,2,FALSE)","v":{"$error":"#N/A"}},{"$f":"VLOOKUP($A101,Participants!$A:$E,3,FALSE)","v":{"$error":"#N/A"}},{"$f":"VLOOKUP($A101,Participants!$A:$E,5,FALSE)","v":{"$error":"#N/A"}},4]

{"sheet":"LongJump 4th Girls","index":40,"n_rows":101,"n_cols":13,"rows_kept":101}
["Bib","Best Jump\n\nwill calculate\nautomatically","First Jump\n\nEnter 10 ft 3 3/4 in as 1003.75","Second Jump\n\nEnter 10 ft 3 3/4 in as 1003.75","Third Jump\n\nEnter 10 ft 3 3/4 in as 1003.75","Grade","FName","Lname","School","Overall Place",null,null,"Return to Schedule of Events"]
[120,{"$f":"MAX(C2:E2)","v":709},703.75,708.75,709,{"$f":"VLOOKUP($A2,Participants!$A:$E,4,FALSE)","v":4},{"$f":"VLOOKUP($A2,Participants!$A:$E,2,FALSE)","v":"Taylor "},{"$f":"VLOOKUP($A2,Participants!$A:$E,3,FALSE)","v":"Seibert"},{"$f":"VLOOKUP($A2,Participants!$A:$E,5,FALSE)","v":"St Jude"},{"$f":"RANK(B2,$B$1:$B$97,0)","v":1}]
[64,{"$f":"MAX(C3:E3)","v":410.5},0,0,410.5,{"$f":"VLOOKUP($A3,Participants!$A:$E,4,FALSE)","v":3},{"$f":"VLOOKUP($A3,Participants!$A:$E,2,FALSE)","v":"Katelyn"},{"$f":"VLOOKUP($A3,Participants!$A:$E,3,FALSE)","v":"Kitchens"},{"$f":"VLOOKUP($A3,Participants!$A:$E,5,FALSE)","v":"St Jude"},{"$f":"RANK(B3,$B$1:$B$97,0)","v":11},null,null,"Add or Update Participants"]
[45,601.75,505,507.5,601.75,{"$f":"VLOOKUP($A4,Participants!$A:$E,4,FALSE)","v":4},{"$f":"VLOOKUP($A4,Participants!$A:$E,2,FALSE)","v":"Sophia "},{"$f":"VLOOKUP($A4,Participants!$A:$E,3,FALSE)","v":"Grabczak"},{"$f":"VLOOKUP($A4,Participants!$A:$E,5,FALSE)","v":"St Jude"},4,null,null,"Overall Place and Points"]
[31,506.5,504.5,505,506.5,{"$f":"VLOOKUP($A5,Participants!$A:$E,4,FALSE)","v":3},{"$f":"VLOOKUP($A5,Participants!$A:$E,2,FALSE)","v":"Ava"},{"$f":"VLOOKUP($A5,Participants!$A:$E,3,FALSE)","v":"Eckhart"},{"$f":"VLOOKUP($A5,Participants!$A:$E,5,FALSE)","v":"St Jude"},5]
[85,0,0,0,0,{"$f":"VLOOKUP($A6,Participants!$A:$E,4,FALSE)","v":3},{"$f":"VLOOKUP($A6,Participants!$A:$E,2,FALSE)","v":"Julia "},{"$f":"VLOOKUP($A6,Participants!$A:$E,3,FALSE)","v":"Mayer"},{"$f":"VLOOKUP($A6,Participants!$A:$E,5,FALSE)","v":"St Jude"},14]
[90,701.75,503,605,701.75,{"$f":"VLOOKUP($A7,Participants!$A:$E,4,FALSE)","v":3},{"$f":"VLOOKUP($A7,Participants!$A:$E,2,FALSE)","v":"Suri "},{"$f":"VLOOKUP($A7,Participants!$A:$E,3,FALSE)","v":"Mejia-Herrera"},{"$f":"VLOOKUP($A7,Participants!$A:$E,5,FALSE)","v":"St Jude"},2]
[193,405,405,0,0,{"$f":"VLOOKUP($A8,Participants!$A:$E,4,FALSE)","v":4},{"$f":"VLOOKUP($A8,Participants!$A:$E,2,FALSE)","v":"Gabrielle"},{"$f":"VLOOKUP($A8,Participants!$A:$E,3,FALSE)","v":"Sallee"},{"$f":"VLOOKUP($A8,Participants!$A:$E,5,FALSE)","v":"SSFC"},13]
[223,506,0,0,506,{"$f":"VLOOKUP($A9,Participants!$A:$E,4,FALSE)","v":3},{"$f":"VLOOKUP($A9,Participants!$A:$E,2,FALSE)","v":"Brynn"},{"$f":"VLOOKUP($A9,Participants!$A:$E,3,FALSE)","v":"Berry"},{"$f":"VLOOKUP($A9,Participants!$A:$E,5,FALSE)","v":"United We Run"},6]
[311,409,409,407.5,406.5,{"$f":"VLOOKUP($A10,Participants!$A:$E,4,FALSE)","v":3},{"$f":"VLOOKUP($A10,Participants!$A:$E,2,FALSE)","v":"Kristen"},{"$f":"VLOOKUP($A10,Participants!$A:$E,3,FALSE)","v":"Wilson"},{"$f":"VLOOKUP($A10,Participants!$A:$E,5,FALSE)","v":"St. Barnabas"},12]
[295,0,0,0,0,{"$f":"VLOOKUP($A11,Participants!$A:$E,4,FALSE)","v":3},{"$f":"VLOOKUP($A11,Participants!$A:$E,2,FALSE)","v":"Emma"},{"$f":"VLOOKUP($A11,Participants!$A:$E,3,FALSE)","v":"Mize"},{"$f":"VLOOKUP($A11,Participants!$A:$E,5,FALSE)","v":"St. Barnabas"},14]
[310,502.5,500,502.5,0,{"$f":"VLOOKUP($A12,Participants!$A:$E,4,FALSE)","v":4},{"$f":"VLOOKUP($A12,Participants!$A:$E,2,FALSE)","v":"Caroline"},{"$f":"VLOOKUP($A12,Participants!$A:$E,3,FALSE)","v":"Wilson"},{"$f":"VLOOKUP($A12,Participants!$A:$E,5,FALSE)","v":"St. Barnabas"},8]
[273,605.75,603,605.75,0,{"$f":"VLOOKUP($A13,Participants!$A:$E,4,FALSE)","v":4},{"$f":"VLOOKUP($A13,Participants!$A:$E,2,FALSE)","v":"Olivia"},{"$f":"VLOOKUP($A13,Participants!$A:$E,3,FALSE)","v":"Andrews"},{"$f":"VLOOKUP($A13,Participants!$A:$E,5,FALSE)","v":"St. Barnabas"},3]
[190,504.75,404.5,406,504.75,{"$f":"VLOOKUP($A14,Participants!$A:$E,4,FALSE)","v":3},{"$f":"VLOOKUP($A14,Participants!$A:$E,2,FALSE)","v":"Ellie"},{"$f":"VLOOKUP($A14,Participants!$A:$E,3,FALSE)","v":"Neufelder"},{"$f":"VLOOKUP($A14,Participants!$A:$E,5,FALSE)","v":"SSFC"},7]
[171,411,411,0,408,{"$f":"VLOOKUP($A15,Participants!$A:$E,4,FALSE)","v":3},{"$f":"VLOOKUP($A15,Participants!$A:$E,2,FALSE)","v":"Ava"},{"$f":"VLOOKUP($A15,Participants!$A:$E,3,FALSE)","v":"Giacobbe"},{"$f":"VLOOKUP($A15,Participants!$A:$E,5,FALSE)","v":"SSFC"},10]
[188,502,408,502,405,{"$f":"VLOOKUP($A16,Participants!$A:$E,4,FALSE)","v":3},{"$f":"VLOOKUP($A16,Participants!$A:$E,2,FALSE)","v":"Ava"},{"$f":"VLOOKUP($A16,Participants!$A:$E,3,FALSE)","v":"Nalley"},{"$f":"VLOOKUP($A16,Participants!$A:$E,5,FALSE)","v":"SSFC"},9]
[191,0,0,0,0,{"$f":"VLOOKUP($A17,Participants!$A:$E,4,FALSE)","v":4},{"$f":"VLOOKUP($A17,Participants!$A:$E,2,FALSE)","v":"Lillie"},{"$f":"VLOOKUP($A17,Participants!$A:$E,3,FALSE)","v":"Neufelder"},{"$f":"VLOOKUP($A17,Participants!$A:$E,5,FALSE)","v":"SSFC"},14]
[null,0,{"$nulls":3},{"$f":"VLOOKUP($A18,Participants!$A:$E,4,FALSE)","v":{"$error":"#N/A"}},{"$f":"VLOOKUP($A18,Participants!$A:$E,2,FALSE)","v":{"$error":"#N/A"}},{"$f":"VLOOKUP($A18,Participants!$A:$E,3,FALSE)","v":{"$error":"#N/A"}},{"$f":"VLOOKUP($A18,Participants!$A:$E,5,FALSE)","v":{"$error":"#N/A"}},14]
[null,0,{"$nulls":3},{"$f":"VLOOKUP($A19,Participants!$A:$E,4,FALSE)","v":{"$error":"#N/A"}},{"$f":"VLOOKUP($A19,Participants!$A:$E,2,FALSE)","v":{"$error":"#N/A"}},{"$f":"VLOOKUP($A19,Participants!$A:$E,3,FALSE)","v":{"$error":"#N/A"}},{"$f":"VLOOKUP($A19,Participants!$A:$E,5,FALSE)","v":{"$error":"#N/A"}},14]
[null,0,{"$nulls":3},{"$f":"VLOOKUP($A20,Participants!$A:$E,4,FALSE)","v":{"$error":"#N/A"}},{"$f":"VLOOKUP($A20,Participants!$A:$E,2,FALSE)","v":{"$error":"#N/A"}},{"$f":"VLOOKUP($A20,Participants!$A:$E,3,FALSE)","v":{"$error":"#N/A"}},{"$f":"VLOOKUP($A20,Participants!$A:$E,5,FALSE)","v":{"$error":"#N/A"}},14]
[null,0,{"$nulls":3},{"$f":"VLOOKUP($A21,Participants!$A:$E,4,FALSE)","v":{"$error":"#N/A"}},{"$f":"VLOOKUP($A21,Participants!$A:$E,2,FALSE)","v":{"$error":"#N/A"}},{"$f":"VLOOKUP($A21,Participants!$A:$E,3,FALSE)","v":{"$error":"#N/A"}},{"$f":"VLOOKUP($A21,Participants!$A:$E,5,FALSE)","v":{"$error":"#N/A"}},14]
[null,0,{"$nulls":3},{"$f":"VLOOKUP($A22,Participants!$A:$E,4,FALSE)","v":{"$error":"#N/A"}},{"$f":"VLOOKUP($A22,Participants!$A:$E,2,FALSE)","v":{"$error":"#N/A"}},{"$f":"VLOOKUP($A22,Participants!$A:$E,3,FALSE)","v":{"$error":"#N/A"}},{"$f":"VLOOKUP($A22,Participants!$A:$E,5,FALSE)","v":{"$error":"#N/A"}},14]
[null,0,{"$nulls":3},{"$f":"VLOOKUP($A23,Participants!$A:$E,4,FALSE)","v":{"$error":"#N/A"}},{"$f":"VLOOKUP($A23,Participants!$A:$E,2,FALSE)","v":{"$error":"#N/A"}},{"$f":"VLOOKUP($A23,Participants!$A:$E,3,FALSE)","v":{"$error":"#N/A"}},{"$f":"VLOOKUP($A23,Participants!$A:$E,5,FALSE)","v":{"$error":"#N/A"}},14]
[null,0,{"$nulls":3},{"$f":"VLOOKUP($A24,Participants!$A:$E,4,FALSE)","v":{"$error":"#N/A"}},{"$f":"VLOOKUP($A24,Participants!$A:$E,2,FALSE)","v":{"$error":"#N/A"}},{"$f":"VLOOKUP($A24,Participants!$A:$E,3,FALSE)","v":{"$error":"#N/A"}},{"$f":"VLOOKUP($A24,Participants!$A:$E,5,FALSE)","v":{"$error":"#N/A"}},14]
[null,0,{"$nulls":3},{"$f":"VLOOKUP($A25,Participants!$A:$E,4,FALSE)","v":{"$error":"#N/A"}},{"$f":"VLOOKUP($A25,Participants!$A:$E,2,FALSE)","v":{"$error":"#N/A"}},{"$f":"VLOOKUP($A25,Participants!$A:$E,3,FALSE)","v":{"$error":"#N/A"}},{"$f":"VLOOKUP($A25,Participants!$A:$E,5,FALSE)","v":{"$error":"#N/A"}},14]
[null,0,{"$nulls":3},{"$f":"VLOOKUP($A26,Participants!$A:$E,4,FALSE)","v":{"$error":"#N/A"}},{"$f":"VLOOKUP($A26,Participants!$A:$E,2,FALSE)","v":{"$error":"#N/A"}},{"$f":"VLOOKUP($A26,Participants!$A:$E,3,FALSE)","v":{"$error":"#N/A"}},{"$f":"VLOOKUP($A26,Participants!$A:$E,5,FALSE)","v":{"$error":"#N/A"}},14]
[null,0,{"$nulls":3},{"$f":"VLOOKUP($A27,Participants!$A:$E,4,FALSE)","v":{"$error":"#N/A"}},{"$f":"VLOOKUP($A27,Participants!$A:$E,2,FALSE)","v":{"$error":"#N/A"}},{"$f":"VLOOKUP($A27,Participants!$A:$E,3,FALSE)","v":{"$error":"#N/A"}},{"$f":"VLOOKUP($A27,Participants!$A:$E,5,FALSE)","v":{"$error":"#N/A"}},14]
[null,0,{"$nulls":3},{"$f":"VLOOKUP($A28,Participants!$A:$E,4,FALSE)","v":{"$error":"#N/A"}},{"$f":"VLOOKUP($A28,Participants!$A:$E,2,FALSE)","v":{"$error":"#N/A"}},{"$f":"VLOOKUP($A28,Participants!$A:$E,3,FALSE)","v":{"$error":"#N/A"}},{"$f":"VLOOKUP($A28,Participants!$A:$E,5,FALSE)","v":{"$error":"#N/A"}},14]
[null,0,{"$nulls":3},{"$f":"VLOOKUP($A29,Participants!$A:$E,4,FALSE)","v":{"$error":"#N/A"}},{"$f":"VLOOKUP($A29,Participants!$A:$E,2,FALSE)","v":{"$error":"#N/A"}},{"$f":"VLOOKUP($A29,Participants!$A:$E,3,FALSE)","v":{"$error":"#N/A"}},{"$f":"VLOOKUP($A29,Participants!$A:$E,5,FALSE)","v":{"$error":"#N/A"}},14]
[null,0,{"$nulls":3},{"$f":"VLOOKUP($A30,Participants!$A:$E,4,FALSE)","v":{"$error":"#N/A"}},{"$f":"VLOOKUP($A30,Participants!$A:$E,2,FALSE)","v":{"$error":"#N/A"}},{"$f":"VLOOKUP($A30,Participants!$A:$E,3,FALSE)","v":{"$error":"#N/A"}},{"$f":"VLOOKUP($A30,Participants!$A:$E,5,FALSE)","v":{"$error":"#N/A"}},14]
[null,0,{"$nulls":3},{"$f":"VLOOKUP($A31,Participants!$A:$E,4,FALSE)","v":{"$error":"#N/A"}},{"$f":"VLOOKUP($A31,Participants!$A:$E,2,FALSE)","v":{"$error":"#N/A"}},{"$f":"VLOOKUP($A31,Participants!$A:$E,3,FALSE)","v":{"$error":"#N/A"}},{"$f":"VLOOKUP($A31,Participants!$A:$E,5,FALSE)","v":{"$error":"#N/A"}},14]
[null,0,{"$nulls":3},{"$f":"VLOOKUP($A32,Participants!$A:$E,4,FALSE)","v":{"$error":"#N/A"}},{"$f":"VLOOKUP($A32,Participants!$A:$E,2,FALSE)","v":{"$error":"#N/A"}},{"$f":"VLOOKUP($A32,Participants!$A:$E,3,FALSE)","v":{"$error":"#N/A"}},{"$f":"VLOOKUP($A32,Participants!$A:$E,5,FALSE)","v":{"$error":"#N/A"}},14]
[null,0,{"$nulls":3},{"$f":"VLOOKUP($A33,Participants!$A:$E,4,FALSE)","v":{"$error":"#N/A"}},{"$f":"VLOOKUP($A33,Participants!$A:$E,2,FALSE)","v":{"$error":"#N/A"}},{"$f":"VLOOKUP($A33,Participants!$A:$E,3,FALSE)","v":{"$error":"#N/A"}},{"$f":"VLOOKUP($A33,Participants!$A:$E,5,FALSE)","v":{"$error":"#N/A"}},14]
[null,0,{"$nulls":3},{"$f":"VLOOKUP($A34,Participants!$A:$E,4,FALSE)","v":{"$error":"#N/A"}},{"$f":"VLOOKUP($A34,Participants!$A:$E,2,FALSE)","v":{"$error":"#N/A"}},{"$f":"VLOOKUP($A34,Participants!$A:$E,3,FALSE)","v":{"$error":"#N/A"}},{"$f":"VLOOKUP($A34,Participants!$A:$E,5,FALSE)","v":{"$error":"#N/A"}},14]
[null,0,{"$nulls":3},{"$f":"VLOOKUP($A35,Participants!$A:$E,4,FALSE)","v":{"$error":"#N/A"}},{"$f":"VLOOKUP($A35,Participants!$A:$E,2,FALSE)","v":{"$error":"#N/A"}},{"$f":"VLOOKUP($A35,Participants!$A:$E,3,FALSE)","v":{"$error":"#N/A"}},{"$f":"VLOOKUP($A35,Participants!$A:$E,5,FALSE)","v":{"$error":"#N/A"}},14]
[null,0,{"$nulls":3},{"$f":"VLOOKUP($A36,Participants!$A:$E,4,FALSE)","v":{"$error":"#N/A"}},{"$f":"VLOOKUP($A36,Participants!$A:$E,2,FALSE)","v":{"$error":"#N/A"}},{"$f":"VLOOKUP($A36,Participants!$A:$E,3,FALSE)","v":{"$error":"#N/A"}},{"$f":"VLOOKUP($A36,Participants!$A:$E,5,FALSE)","v":{"$error":"#N/A"}},14]
[null,0,{"$nulls":3},{"$f":"VLOOKUP($A37,Participants!$A:$E,4,FALSE)","v":{"$error":"#N/A"}},{"$f":"VLOOKUP($A37,Participants!$A:$E,2,FALSE)","v":{"$error":"#N/A"}},{"$f":"VLOOKUP($A37,Participants!$A:$E,3,FALSE)","v":{"$error":"#N/A"}},{"$f":"VLOOKUP($A37,Participants!$A:$E,5,FALSE)","v":{"$error":"#N/A"}},14]
[null,0,{"$nulls":3},{"$f":"VLOOKUP($A38,Participants!$A:$E,4,FALSE)","v":{"$error":"#N/A"}},{"$f":"VLOOKUP($A38,Participants!$A:$E,2,FALSE)","v":{"$error":"#N/A"}},{"$f":"VLOOKUP($A38,Participants!$A:$E,3,FALSE)","v":{"$error":"#N/A"}},{"$f":"VLOOKUP($A38,Participants!$A:$E,5,FALSE)","v":{"$error":"#N/A"}},14]
[null,0,{"$nulls":3},{"$f":"VLOOKUP($A39,Participants!$A:$E,4,FALSE)","v":{"$error":"#N/A"}},{"$f":"VLOOKUP($A39,Participants!$A:$E,2,FALSE)","v":{"$error":"#N/A"}},{"$f":"VLOOKUP($A39,Participants!$A:$E,3,FALSE)","v":{"$error":"#N/A"}},{"$f":"VLOOKUP($A39,Participants!$A:$E,5,FALSE)","v":{"$error":"#N/A"}},14]
[null,0,{"$nulls":3},{"$f":"VLOOKUP($A40,Participants!$A:$E,4,FALSE)","v":{"$error":"#N/A"}},{"$f":"VLOOKUP($A40,Participants!$A:$E,2,FALSE)","v":{"$error":"#N/A"}},{"$f":"VLOOKUP($A40,Participants!$A:$E,3,FALSE)","v":{"$error":"#N/A"}},{"$f":"VLOOKUP($A40,Participants!$A:$E,5,FALSE)","v":{"$error":"#N/A"}},14]
[null,0,{"$nulls":3},{"$f":"VLOOKUP($A41,Participants!$A:$E,4,FALSE)","v":{"$error":"#N/A"}},{"$f":"VLOOKUP($A41,Participants!$A:$E,2,FALSE)","v":{"$error":"#N/A"}},{"$f":"VLOOKUP($A41,Participants!$A:$E,3,FALSE)","v":{"$error":"#N/A"}},{"$f":"VLOOKUP($A41,Participants!$A:$E,5,FALSE)","v":{"$error":"#N/A"}},14]
[null,0,{"$nulls":3},{"$f":"VLOOKUP($A42,Participants!$A:$E,4,FALSE)","v":{"$error":"#N/A"}},{"$f":"VLOOKUP($A42,Participants!$A:$E,2,FALSE)","v":{"$error":"#N/A"}},{"$f":"VLOOKUP($A42,Participants!$A:$E,3,FALSE)","v":{"$error":"#N/A"}},{"$f":"VLOOKUP($A42,Participants!$A:$E,5,FALSE)","v":{"$error":"#N/A"}},14]
[null,0,{"$nulls":3},{"$f":"VLOOKUP($A43,Participants!$A:$E,4,FALSE)","v":{"$error":"#N/A"}},{"$f":"VLOOKUP($A43,Participants!$A:$E,2,FALSE)","v":{"$error":"#N/A"}},{"$f":"VLOOKUP($A43,Participants!$A:$E,3,FALSE)","v":{"$error":"#N/A"}},{"$f":"VLOOKUP($A43,Participants!$A:$E,5,FALSE)","v":{"$error":"#N/A"}},14]
[null,0,{"$nulls":3},{"$f":"VLOOKUP($A44,Participants!$A:$E,4,FALSE)","v":{"$error":"#N/A"}},{"$f":"VLOOKUP($A44,Participants!$A:$E,2,FALSE)","v":{"$error":"#N/A"}},{"$f":"VLOOKUP($A44,Participants!$A:$E,3,FALSE)","v":{"$error":"#N/A"}},{"$f":"VLOOKUP($A44,Participants!$A:$E,5,FALSE)","v":{"$error":"#N/A"}},14]
[null,0,{"$nulls":3},{"$f":"VLOOKUP($A45,Participants!$A:$E,4,FALSE)","v":{"$error":"#N/A"}},{"$f":"VLOOKUP($A45,Participants!$A:$E,2,FALSE)","v":{"$error":"#N/A"}},{"$f":"VLOOKUP($A45,Participants!$A:$E,3,FALSE)","v":{"$error":"#N/A"}},{"$f":"VLOOKUP($A45,Participants!$A:$E,5,FALSE)","v":{"$error":"#N/A"}},14]
[null,0,{"$nulls":3},{"$f":"VLOOKUP($A46,Participants!$A:$E,4,FALSE)","v":{"$error":"#N/A"}},{"$f":"VLOOKUP($A46,Participants!$A:$E,2,FALSE)","v":{"$error":"#N/A"}},{"$f":"VLOOKUP($A46,Participants!$A:$E,3,FALSE)","v":{"$error":"#N/A"}},{"$f":"VLOOKUP($A46,Participants!$A:$E,5,FALSE)","v":{"$error":"#N/A"}},14]
[null,0,{"$nulls":3},{"$f":"VLOOKUP($A47,Participants!$A:$E,4,FALSE)","v":{"$error":"#N/A"}},{"$f":"VLOOKUP($A47,Participants!$A:$E,2,FALSE)","v":{"$error":"#N/A"}},{"$f":"VLOOKUP($A47,Participants!$A:$E,3,FALSE)","v":{"$error":"#N/A"}},{"$f":"VLOOKUP($A47,Participants!$A:$E,5,FALSE)","v":{"$error":"#N/A"}},14]
[null,0,{"$nulls":3},{"$f":"VLOOKUP($A48,Participants!$A:$E,4,FALSE)","v":{"$error":"#N/A"}},{"$f":"VLOOKUP($A48,Participants!$A:$E,2,FALSE)","v":{"$error":"#N/A"}},{"$f":"VLOOKUP($A48,Participants!$A:$E,3,FALSE)","v":{"$error":"#N/A"}},{"$f":"VLOOKUP($A48,Participants!$A:$E,5,FALSE)","v":{"$error":"#N/A"}},14]
[null,0,{"$nulls":3},{"$f":"VLOOKUP($A49,Participants!$A:$E,4,FALSE)","v":{"$error":"#N/A"}},{"$f":"VLOOKUP($A49,Participants!$A:$E,2,FALSE)","v":{"$error":"#N/A"}},{"$f":"VLOOKUP($A49,Participants!$A:$E,3,FALSE)","v":{"$error":"#N/A"}},{"$f":"VLOOKUP($A49,Participants!$A:$E,5,FALSE)","v":{"$error":"#N/A"}},14]
[null,0,{"$nulls":3},{"$f":"VLOOKUP($A50,Participants!$A:$E,4,FALSE)","v":{"$error":"#N/A"}},{"$f":"VLOOKUP($A50,Participants!$A:$E,2,FALSE)","v":{"$error":"#N/A"}},{"$f":"VLOOKUP($A50,Participants!$A:$E,3,FALSE)","v":{"$error":"#N/A"}},{"$f":"VLOOKUP($A50,Participants!$A:$E,5,FALSE)","v":{"$error":"#N/A"}},14]
[null,0,{"$nulls":3},{"$f":"VLOOKUP($A51,Participants!$A:$E,4,FALSE)","v":{"$error":"#N/A"}},{"$f":"VLOOKUP($A51,Participants!$A:$E,2,FALSE)","v":{"$error":"#N/A"}},{"$f":"VLOOKUP($A51,Participants!$A:$E,3,FALSE)","v":{"$error":"#N/A"}},{"$f":"VLOOKUP($A51,Participants!$A:$E,5,FALSE)","v":{"$error":"#N/A"}},14]
[null,0,{"$nulls":3},{"$f":"VLOOKUP($A52,Participants!$A:$E,4,FALSE)","v":{"$error":"#N/A"}},{"$f":"VLOOKUP($A52,Participants!$A:$E,2,FALSE)","v":{"$error":"#N/A"}},{"$f":"VLOOKUP($A52,Participants!$A:$E,3,FALSE)","v":{"$error":"#N/A"}},{"$f":"VLOOKUP($A52,Participants!$A:$E,5,FALSE)","v":{"$error":"#N/A"}},14]
[null,0,{"$nulls":3},{"$f":"VLOOKUP($A53,Participants!$A:$E,4,FALSE)","v":{"$error":"#N/A"}},{"$f":"VLOOKUP($A53,Participants!$A:$E,2,FALSE)","v":{"$error":"#N/A"}},{"$f":"VLOOKUP($A53,Participants!$A:$E,3,FALSE)","v":{"$error":"#N/A"}},{"$f":"VLOOKUP($A53,Participants!$A:$E,5,FALSE)","v":{"$error":"#N/A"}},14]
[null,0,{"$nulls":3},{"$f":"VLOOKUP($A54,Participants!$A:$E,4,FALSE)","v":{"$error":"#N/A"}},{"$f":"VLOOKUP($A54,Participants!$A:$E,2,FALSE)","v":{"$error":"#N/A"}},{"$f":"VLOOKUP($A54,Participants!$A:$E,3,FALSE)","v":{"$error":"#N/A"}},{"$f":"VLOOKUP($A54,Participants!$A:$E,5,FALSE)","v":{"$error":"#N/A"}},14]
[null,0,{"$nulls":3},{"$f":"VLOOKUP($A55,Participants!$A:$E,4,FALSE)","v":{"$error":"#N/A"}},{"$f":"VLOOKUP($A55,Participants!$A:$E,2,FALSE)","v":{"$error":"#N/A"}},{"$f":"VLOOKUP($A55,Participants!$A:$E,3,FALSE)","v":{"$error":"#N/A"}},{"$f":"VLOOKUP($A55,Participants!$A:$E,5,FALSE)","v":{"$error":"#N/A"}},14]
[null,0,{"$nulls":3},{"$f":"VLOOKUP($A56,Participants!$A:$E,4,FALSE)","v":{"$error":"#N/A"}},{"$f":"VLOOKUP($A56,Participants!$A:$E,2,FALSE)","v":{"$error":"#N/A"}},{"$f":"VLOOKUP($A56,Participants!$A:$E,3,FALSE)","v":{"$error":"#N/A"}},{"$f":"VLOOKUP($A56,Participants!$A:$E,5,FALSE)","v":{"$error":"#N/A"}},14]
[null,0,{"$nulls":3},{"$f":"VLOOKUP($A57,Participants!$A:$E,4,FALSE)","v":{"$error":"#N/A"}},{"$f":"VLOOKUP($A57,Participants!$A:$E,2,FALSE)","v":{"$error":"#N/A"}},{"$f":"VLOOKUP($A57,Participants!$A:$E,3,FALSE)","v":{"$error":"#N/A"}},{"$f":"VLOOKUP($A57,Participants!$A:$E,5,FALSE)","v":{"$error":"#N/A"}},14]
[null,0,{"$nulls":3},{"$f":"VLOOKUP($A58,Participants!$A:$E,4,FALSE)","v":{"$error":"#N/A"}},{"$f":"VLOOKUP($A58,Participants!$A:$E,2,FALSE)","v":{"$error":"#N/A"}},{"$f":"VLOOKUP($A58,Participants!$A:$E,3,FALSE)","v":{"$error":"#N/A"}},{"$f":"VLOOKUP($A58,Participants!$A:$E,5,FALSE)","v":{"$error":"#N/A"}},14]
[null,0,{"$nulls":3},{"$f":"VLOOKUP($A59,Participants!$A:$E,4,FALSE)","v":{"$error":"#N/A"}},{"$f":"VLOOKUP($A59,Participants!$A:$E,2,FALSE)","v":{"$error":"#N/A"}},{"$f":"VLOOKUP($A59,Participants!$A:$E,3,FALSE)","v":{"$error":"#N/A"}},{"$f":"VLOOKUP($A59,Participants!$A:$E,5,FALSE)","v":{"$error":"#N/A"}},14]
[null,0,{"$nulls":3},{"$f":"VLOOKUP($A60,Participants!$A:$E,4,FALSE)","v":{"$error":"#N/A"}},{"$f":"VLOOKUP($A60,Participants!$A:$E,2,FALSE)","v":{"$error":"#N/A"}},{"$f":"VLOOKUP($A60,Participants!$A:$E,3,FALSE)","v":{"$error":"#N/A"}},{"$f":"VLOOKUP($A60,Participants!$A:$E,5,FALSE)","v":{"$error":"#N/A"}},14]
[null,0,{"$nulls":3},{"$f":"VLOOKUP($A61,Participants!$A:$E,4,FALSE)","v":{"$error":"#N/A"}},{"$f":"VLOOKUP($A61,Participants!$A:$E,2,FALSE)","v":{"$error":"#N/A"}},{"$f":"VLOOKUP($A61,Participants!$A:$E,3,FALSE)","v":{"$error":"#N/A"}},{"$f":"VLOOKUP($A61,Participants!$A:$E,5,FALSE)","v":{"$error":"#N/A"}},14]
[null,0,{"$nulls":3},{"$f":"VLOOKUP($A62,Participants!$A:$E,4,FALSE)","v":{"$error":"#N/A"}},{"$f":"VLOOKUP($A62,Participants!$A:$E,2,FALSE)","v":{"$error":"#N/A"}},{"$f":"VLOOKUP($A62,Participants!$A:$E,3,FALSE)","v":{"$error":"#N/A"}},{"$f":"VLOOKUP($A62,Participants!$A:$E,5,FALSE)","v":{"$error":"#N/A"}},14]
[null,0,{"$nulls":3},{"$f":"VLOOKUP($A63,Participants!$A:$E,4,FALSE)","v":{"$error":"#N/A"}},{"$f":"VLOOKUP($A63,Participants!$A:$E,2,FALSE)","v":{"$error":"#N/A"}},{"$f":"VLOOKUP($A63,Participants!$A:$E,3,FALSE)","v":{"$error":"#N/A"}},{"$f":"VLOOKUP($A63,Participants!$A:$E,5,FALSE)","v":{"$error":"#N/A"}},14]
[null,0,{"$nulls":3},{"$f":"VLOOKUP($A64,Participants!$A:$E,4,FALSE)","v":{"$error":"#N/A"}},{"$f":"VLOOKUP($A64,Participants!$A:$E,2,FALSE)","v":{"$error":"#N/A"}},{"$f":"VLOOKUP($A64,Participants!$A:$E,3,FALSE)","v":{"$error":"#N/A"}},{"$f":"VLOOKUP($A64,Participants!$A:$E,5,FALSE)","v":{"$error":"#N/A"}},14]
[null,0,{"$nulls":3},{"$f":"VLOOKUP($A65,Participants!$A:$E,4,FALSE)","v":{"$error":"#N/A"}},{"$f":"VLOOKUP($A65,Participants!$A:$E,2,FALSE)","v":{"$error":"#N/A"}},{"$f":"VLOOKUP($A65,Participants!$A:$E,3,FALSE)","v":{"$error":"#N/A"}},{"$f":"VLOOKUP($A65,Participants!$A:$E,5,FALSE)","v":{"$error":"#N/A"}},14]
[null,0,{"$nulls":3},{"$f":"VLOOKUP($A66,Participants!$A:$E,4,FALSE)","v":{"$error":"#N/A"}},{"$f":"VLOOKUP($A66,Participants!$A:$E,2,FALSE)","v":{"$error":"#N/A"}},{"$f":"VLOOKUP($A66,Participants!$A:$E,3,FALSE)","v":{"$error":"#N/A"}},{"$f":"VLOOKUP($A66,Participants!$A:$E,5,FALSE)","v":{"$error":"#N/A"}},14]
[null,{"$f":"MAX(C67:E67)","v":0},{"$nulls":3},{"$f":"VLOOKUP($A67,Participants!$A:$E,4,FALSE)","v":{"$error":"#N/A"}},{"$f":"VLOOKUP($A67,Participants!$A:$E,2,FALSE)","v":{"$error":"#N/A"}},{"$f":"VLOOKUP($A67,Participants!$A:$E,3,FALSE)","v":{"$error":"#N/A"}},{"$f":"VLOOKUP($A67,Participants!$A:$E,5,FALSE)","v":{"$error":"#N/A"}},{"$f":"RANK(B67,$B$1:$B$97,0)","v":14}]
[null,0,{"$nulls":3},{"$f":"VLOOKUP($A68,Participants!$A:$E,4,FALSE)","v":{"$error":"#N/A"}},{"$f":"VLOOKUP($A68,Participants!$A:$E,2,FALSE)","v":{"$error":"#N/A"}},{"$f":"VLOOKUP($A68,Participants!$A:$E,3,FALSE)","v":{"$error":"#N/A"}},{"$f":"VLOOKUP($A68,Participants!$A:$E,5,FALSE)","v":{"$error":"#N/A"}},14]
[null,0,{"$nulls":3},{"$f":"VLOOKUP($A69,Participants!$A:$E,4,FALSE)","v":{"$error":"#N/A"}},{"$f":"VLOOKUP($A69,Participants!$A:$E,2,FALSE)","v":{"$error":"#N/A"}},{"$f":"VLOOKUP($A69,Participants!$A:$E,3,FALSE)","v":{"$error":"#N/A"}},{"$f":"VLOOKUP($A69,Participants!$A:$E,5,FALSE)","v":{"$error":"#N/A"}},14]
[null,0,{"$nulls":3},{"$f":"VLOOKUP($A70,Participants!$A:$E,4,FALSE)","v":{"$error":"#N/A"}},{"$f":"VLOOKUP($A70,Participants!$A:$E,2,FALSE)","v":{"$error":"#N/A"}},{"$f":"VLOOKUP($A70,Participants!$A:$E,3,FALSE)","v":{"$error":"#N/A"}},{"$f":"VLOOKUP($A70,Participants!$A:$E,5,FALSE)","v":{"$error":"#N/A"}},14]
[null,0,{"$nulls":3},{"$f":"VLOOKUP($A71,Participants!$A:$E,4,FALSE)","v":{"$error":"#N/A"}},{"$f":"VLOOKUP($A71,Participants!$A:$E,2,FALSE)","v":{"$error":"#N/A"}},{"$f":"VLOOKUP($A71,Participants!$A:$E,3,FALSE)","v":{"$error":"#N/A"}},{"$f":"VLOOKUP($A71,Participants!$A:$E,5,FALSE)","v":{"$error":"#N/A"}},14]
[null,0,{"$nulls":3},{"$f":"VLOOKUP($A72,Participants!$A:$E,4,FALSE)","v":{"$error":"#N/A"}},{"$f":"VLOOKUP($A72,Participants!$A:$E,2,FALSE)","v":{"$error":"#N/A"}},{"$f":"VLOOKUP($A72,Participants!$A:$E,3,FALSE)","v":{"$error":"#N/A"}},{"$f":"VLOOKUP($A72,Participants!$A:$E,5,FALSE)","v":{"$error":"#N/A"}},14]
[null,0,{"$nulls":3},{"$f":"VLOOKUP($A73,Participants!$A:$E,4,FALSE)","v":{"$error":"#N/A"}},{"$f":"VLOOKUP($A73,Participants!$A:$E,2,FALSE)","v":{"$error":"#N/A"}},{"$f":"VLOOKUP($A73,Participants!$A:$E,3,FALSE)","v":{"$error":"#N/A"}},{"$f":"VLOOKUP($A73,Participants!$A:$E,5,FALSE)","v":{"$error":"#N/A"}},14]
[null,0,{"$nulls":3},{"$f":"VLOOKUP($A74,Participants!$A:$E,4,FALSE)","v":{"$error":"#N/A"}},{"$f":"VLOOKUP($A74,Participants!$A:$E,2,FALSE)","v":{"$error":"#N/A"}},{"$f":"VLOOKUP($A74,Participants!$A:$E,3,FALSE)","v":{"$error":"#N/A"}},{"$f":"VLOOKUP($A74,Participants!$A:$E,5,FALSE)","v":{"$error":"#N/A"}},14]
[null,0,{"$nulls":3},{"$f":"VLOOKUP($A75,Participants!$A:$E,4,FALSE)","v":{"$error":"#N/A"}},{"$f":"VLOOKUP($A75,Participants!$A:$E,2,FALSE)","v":{"$error":"#N/A"}},{"$f":"VLOOKUP($A75,Participants!$A:$E,3,FALSE)","v":{"$error":"#N/A"}},{"$f":"VLOOKUP($A75,Participants!$A:$E,5,FALSE)","v":{"$error":"#N/A"}},14]
[null,0,{"$nulls":3},{"$f":"VLOOKUP($A76,Participants!$A:$E,4,FALSE)","v":{"$error":"#N/A"}},{"$f":"VLOOKUP($A76,Participants!$A:$E,2,FALSE)","v":{"$error":"#N/A"}},{"$f":"VLOOKUP($A76,Participants!$A:$E,3,FALSE)","v":{"$error":"#N/A"}},{"$f":"VLOOKUP($A76,Participants!$A:$E,5,FALSE)","v":{"$error":"#N/A"}},14]
[null,0,{"$nulls":3},{"$f":"VLOOKUP($A77,Participants!$A:$E,4,FALSE)","v":{"$error":"#N/A"}},{"$f":"VLOOKUP($A77,Participants!$A:$E,2,FALSE)","v":{"$error":"#N/A"}},{"$f":"VLOOKUP($A77,Participants!$A:$E,3,FALSE)","v":{"$error":"#N/A"}},{"$f":"VLOOKUP($A77,Participants!$A:$E,5,FALSE)","v":{"$error":"#N/A"}},14]
[null,0,{"$nulls":3},{"$f":"VLOOKUP($A78,Participants!$A:$E,4,FALSE)","v":{"$error":"#N/A"}},{"$f":"VLOOKUP($A78,Participants!$A:$E,2,FALSE)","v":{"$error":"#N/A"}},{"$f":"VLOOKUP($A78,Participants!$A:$E,3,FALSE)","v":{"$error":"#N/A"}},{"$f":"VLOOKUP($A78,Participants!$A:$E,5,FALSE)","v":{"$error":"#N/A"}},14]
[null,0,{"$nulls":3},{"$f":"VLOOKUP($A79,Participants!$A:$E,4,FALSE)","v":{"$error":"#N/A"}},{"$f":"VLOOKUP($A79,Participants!$A:$E,2,FALSE)","v":{"$error":"#N/A"}},{"$f":"VLOOKUP($A79,Participants!$A:$E,3,FALSE)","v":{"$error":"#N/A"}},{"$f":"VLOOKUP($A79,Participants!$A:$E,5,FALSE)","v":{"$error":"#N/A"}},14]
[null,0,{"$nulls":3},{"$f":"VLOOKUP($A80,Participants!$A:$E,4,FALSE)","v":{"$error":"#N/A"}},{"$f":"VLOOKUP($A80,Participants!$A:$E,2,FALSE)","v":{"$error":"#N/A"}},{"$f":"VLOOKUP($A80,Participants!$A:$E,3,FALSE)","v":{"$error":"#N/A"}},{"$f":"VLOOKUP($A80,Participants!$A:$E,5,FALSE)","v":{"$error":"#N/A"}},14]
[null,0,{"$nulls":3},{"$f":"VLOOKUP($A81,Participants!$A:$E,4,FALSE)","v":{"$error":"#N/A"}},{"$f":"VLOOKUP($A81,Participants!$A:$E,2,FALSE)","v":{"$error":"#N/A"}},{"$f":"VLOOKUP($A81,Participants!$A:$E,3,FALSE)","v":{"$error":"#N/A"}},{"$f":"VLOOKUP($A81,Participants!$A:$E,5,FALSE)","v":{"$error":"#N/A"}},14]
[null,0,{"$nulls":3},{"$f":"VLOOKUP($A82,Participants!$A:$E,4,FALSE)","v":{"$error":"#N/A"}},{"$f":"VLOOKUP($A82,Participants!$A:$E,2,FALSE)","v":{"$error":"#N/A"}},{"$f":"VLOOKUP($A82,Participants!$A:$E,3,FALSE)","v":{"$error":"#N/A"}},{"$f":"VLOOKUP($A82,Participants!$A:$E,5,FALSE)","v":{"$error":"#N/A"}},14]
[null,0,{"$nulls":3},{"$f":"VLOOKUP($A83,Participants!$A:$E,4,FALSE)","v":{"$error":"#N/A"}},{"$f":"VLOOKUP($A83,Participants!$A:$E,2,FALSE)","v":{"$error":"#N/A"}},{"$f":"VLOOKUP($A83,Participants!$A:$E,3,FALSE)","v":{"$error":"#N/A"}},{"$f":"VLOOKUP($A83,Participants!$A:$E,5,FALSE)","v":{"$error":"#N/A"}},14]
[null,0,{"$nulls":3},{"$f":"VLOOKUP($A84,Participants!$A:$E,4,FALSE)","v":{"$error":"#N/A"}},{"$f":"VLOOKUP($A84,Participants!$A:$E,2,FALSE)","v":{"$error":"#N/A"}},{"$f":"VLOOKUP($A84,Participants!$A:$E,3,FALSE)","v":{"$error":"#N/A"}},{"$f":"VLOOKUP($A84,Participants!$A:$E,5,FALSE)","v":{"$error":"#N/A"}},14]
[null,0,{"$nulls":3},{"$f":"VLOOKUP($A85,Participants!$A:$E,4,FALSE)","v":{"$error":"#N/A"}},{"$f":"VLOOKUP($A85,Participants!$A:$E,2,FALSE)","v":{"$error":"#N/A"}},{"$f":"VLOOKUP($A85,Participants!$A:$E,3,FALSE)","v":{"$error":"#N/A"}},{"$f":"VLOOKUP($A85,Participants!$A:$E,5,FALSE)","v":{"$error":"#N/A"}},14]
[null,0,{"$nulls":3},{"$f":"VLOOKUP($A86,Participants!$A:$E,4,FALSE)","v":{"$error":"#N/A"}},{"$f":"VLOOKUP($A86,Participants!$A:$E,2,FALSE)","v":{"$error":"#N/A"}},{"$f":"VLOOKUP($A86,Participants!$A:$E,3,FALSE)","v":{"$error":"#N/A"}},{"$f":"VLOOKUP($A86,Participants!$A:$E,5,FALSE)","v":{"$error":"#N/A"}},14]
[null,0,{"$nulls":3},{"$f":"VLOOKUP($A87,Participants!$A:$E,4,FALSE)","v":{"$error":"#N/A"}},{"$f":"VLOOKUP($A87,Participants!$A:$E,2,FALSE)","v":{"$error":"#N/A"}},{"$f":"VLOOKUP($A87,Participants!$A:$E,3,FALSE)","v":{"$error":"#N/A"}},{"$f":"VLOOKUP($A87,Participants!$A:$E,5,FALSE)","v":{"$error":"#N/A"}},14]
[null,0,{"$nulls":3},{"$f":"VLOOKUP($A88,Participants!$A:$E,4,FALSE)","v":{"$error":"#N/A"}},{"$f":"VLOOKUP($A88,Participants!$A:$E,2,FALSE)","v":{"$error":"#N/A"}},{"$f":"VLOOKUP($A88,Participants!$A:$E,3,FALSE)","v":{"$error":"#N/A"}},{"$f":"VLOOKUP($A88,Participants!$A:$E,5,FALSE)","v":{"$error":"#N/A"}},14]
[null,0,{"$nulls":3},{"$f":"VLOOKUP($A89,Participants!$A:$E,4,FALSE)","v":{"$error":"#N/A"}},{"$f":"VLOOKUP($A89,Participants!$A:$E,2,FALSE)","v":{"$error":"#N/A"}},{"$f":"VLOOKUP($A89,Participants!$A:$E,3,FALSE)","v":{"$error":"#N/A"}},{"$f":"VLOOKUP($A89,Participants!$A:$E,5,FALSE)","v":{"$error":"#N/A"}},14]
[null,0,{"$nulls":3},{"$f":"VLOOKUP($A90,Participants!$A:$E,4,FALSE)","v":{"$error":"#N/A"}},{"$f":"VLOOKUP($A90,Participants!$A:$E,2,FALSE)","v":{"$error":"#N/A"}},{"$f":"VLOOKUP($A90,Participants!$A:$E,3,FALSE)","v":{"$error":"#N/A"}},{"$f":"VLOOKUP($A90,Participants!$A:$E,5,FALSE)","v":{"$error":"#N/A"}},14]
[null,0,{"$nulls":3},{"$f":"VLOOKUP($A91,Participants!$A:$E,4,FALSE)","v":{"$error":"#N/A"}},{"$f":"VLOOKUP($A91,Participants!$A:$E,2,FALSE)","v":{"$error":"#N/A"}},{"$f":"VLOOKUP($A91,Participants!$A:$E,3,FALSE)","v":{"$error":"#N/A"}},{"$f":"VLOOKUP($A91,Participants!$A:$E,5,FALSE)","v":{"$error":"#N/A"}},14]
[null,0,{"$nulls":3},{"$f":"VLOOKUP($A92,Participants!$A:$E,4,FALSE)","v":{"$error":"#N/A"}},{"$f":"VLOOKUP($A92,Participants!$A:$E,2,FALSE)","v":{"$error":"#N/A"}},{"$f":"VLOOKUP($A92,Participants!$A:$E,3,FALSE)","v":{"$error":"#N/A"}},{"$f":"VLOOKUP($A92,Participants!$A:$E,5,FALSE)","v":{"$error":"#N/A"}},14]
[null,0,{"$nulls":3},{"$f":"VLOOKUP($A93,Participants!$A:$E,4,FALSE)","v":{"$error":"#N/A"}},{"$f":"VLOOKUP($A93,Participants!$A:$E,2,FALSE)","v":{"$error":"#N/A"}},{"$f":"VLOOKUP($A93,Participants!$A:$E,3,FALSE)","v":{"$error":"#N/A"}},{"$f":"VLOOKUP($A93,Participants!$A:$E,5,FALSE)","v":{"$error":"#N/A"}},14]
[null,0,{"$nulls":3},{"$f":"VLOOKUP($A94,Participants!$A:$E,4,FALSE)","v":{"$error":"#N/A"}},{"$f":"VLOOKUP($A94,Participants!$A:$E,2,FALSE)","v":{"$error":"#N/A"}},{"$f":"VLOOKUP($A94,Participants!$A:$E,3,FALSE)","v":{"$error":"#N/A"}},{"$f":"VLOOKUP($A94,Participants!$A:$E,5,FALSE)","v":{"$error":"#N/A"}},14]
[null,0,{"$nulls":3},{"$f":"VLOOKUP($A95,Participants!$A:$E,4,FALSE)","v":{"$error":"#N/A"}},{"$f":"VLOOKUP($A95,Participants!$A:$E,2,FALSE)","v":{"$error":"#N/A"}},{"$f":"VLOOKUP($A95,Participants!$A:$E,3,FALSE)","v":{"$error":"#N/A"}},{"$f":"VLOOKUP($A95,Participants!$A:$E,5,FALSE)","v":{"$error":"#N/A"}},14]
[null,0,{"$nulls":3},{"$f":"VLOOKUP($A96,Participants!$A:$E,4,FALSE)","v":{"$error":"#N/A"}},{"$f":"VLOOKUP($A96,Participants!$A:$E,2,FALSE)","v":{"$error":"#N/A"}},{"$f":"VLOOKUP($A96,Participants!$A:$E,3,FALSE)","v":{"$error":"#N/A"}},{"$f":"VLOOKUP($A96,Participants!$A:$E,5,FALSE)","v":{"$error":"#N/A"}},14]
[null,0,{"$nulls":3},{"$f":"VLOOKUP($A97,Participants!$A:$E,4,FALSE)","v":{"$error":"#N/A"}},{"$f":"VLOOKUP($A97,Participants!$A:$E,2,FALSE)","v":{"$error":"#N/A"}},{"$f":"VLOOKUP($A97,Participants!$A:$E,3,FALSE)","v":{"$error":"#N/A"}},{"$f":"VLOOKUP($A97,Participants!$A:$E,5,FALSE)","v":{"$error":"#N/A"}},14]
[null,0,{"$nulls":3},{"$f":"VLOOKUP($A98,Participants!$A:$E,4,FALSE)","v":{"$error":"#N/A"}},{"$f":"VLOOKUP($A98,Participants!$A:$E,2,FALSE)","v":{"$error":"#N/A"}},{"$f":"VLOOKUP($A98,Participants!$A:$E,3,FALSE)","v":{"$error":"#N/A"}},{"$f":"VLOOKUP($A98,Participants!$A:$E,5,FALSE)","v":{"$error":"#N/A"}},14]
[null,0,{"$nulls":3},{"$f":"VLOOKUP($A99,Participants!$A:$E,4,FALSE)","v":{"$error":"#N/A"}},{"$f":"VLOOKUP($A99,Participants!$A:$E,2,FALSE)","v":{"$error":"#N/A"}},{"$f":"VLOOKUP($A99,Participants!$A:$E,3,FALSE)","v":{"$error":"#N/A"}},{"$f":"VLOOKUP($A99,Participants!$A:$E,5,FALSE)","v":{"$error":"#N/A"}},14]
[null,0,{"$nulls":3},{"$f":"VLOOKUP($A100,Participants!$A:$E,4,FALSE)","v":{"$error":"#N/A"}},{"$f":"VLOOKUP($A100,Participants!$A:$E,2,FALSE)","v":{"$error":"#N/A"}},{"$f":"VLOOKUP($A100,Participants!$A:$E,3,FALSE)","v":{"$error":"#N/A"}},{"$f":"VLOOKUP($A100,Participants!$A:$E,5,FALSE)","v":{"$error":"#N/A"}},14]
[null,0,{"$nulls":3},{"$f":"VLOOKUP($A101,Participants!$A:$E,4,FALSE)","v":{"$error":"#N/A"}},{"$f":"VLOOKUP($A101,Participants!$A:$E,2,FALSE)","v":{"$error":"#N/A"}},{"$f":"VLOOKUP($A101,Participants!$A:$E,3,FALSE)","v":{"$error":"#N/A"}},{"$f":"VLOOKUP($A101,Participants!$A:$E,5,FALSE)","v":{"$error":"#N/A"}},14]

{"sheet":"HighJump 4th Girls","index":41,"n_rows":98,"n_cols":13,"rows_kept":98}
["Bib","Enter Best Only\nEnter 10 ft 3 3/4 in as 1003.75",{"$nulls":3},"Grade","FName","Lname","School","Overall Place",null,null,"Return to Schedule of Events"]
[171,"NH",{"$nulls":3},{"$f":"VLOOKUP($A2,Participants!$A:$E,4,FALSE)","v":3},{"$f":"VLOOKUP($A2,Participants!$A:$E,2,FALSE)","v":"Ava"},{"$f":"VLOOKUP($A2,Participants!$A:$E,3,FALSE)","v":"Giacobbe"},{"$f":"VLOOKUP($A2,Participants!$A:$E,5,FALSE)","v":"SSFC"},{"$f":"RANK(B2,$B$1:$B$97,0)","v":{"$error":"#VALUE!"}}]
[148,302,{"$nulls":3},{"$f":"VLOOKUP($A3,Participants!$A:$E,4,FALSE)","v":3},{"$f":"VLOOKUP($A3,Participants!$A:$E,2,FALSE)","v":"Evelynn"},{"$f":"VLOOKUP($A3,Participants!$A:$E,3,FALSE)","v":"Vermillion"},{"$f":"VLOOKUP($A3,Participants!$A:$E,5,FALSE)","v":"OLG"},{"$f":"RANK(B3,$B$1:$B$97,0)","v":1},null,null,"Add or Update Participants"]
[191,300,{"$nulls":3},{"$f":"VLOOKUP($A4,Participants!$A:$E,4,FALSE)","v":4},{"$f":"VLOOKUP($A4,Participants!$A:$E,2,FALSE)","v":"Lillie"},{"$f":"VLOOKUP($A4,Participants!$A:$E,3,FALSE)","v":"Neufelder"},{"$f":"VLOOKUP($A4,Participants!$A:$E,5,FALSE)","v":"SSFC"},2,null,null,"Overall Place and Points"]
[188,"NH",{"$nulls":3},{"$f":"VLOOKUP($A5,Participants!$A:$E,4,FALSE)","v":3},{"$f":"VLOOKUP($A5,Participants!$A:$E,2,FALSE)","v":"Ava"},{"$f":"VLOOKUP($A5,Participants!$A:$E,3,FALSE)","v":"Nalley"},{"$f":"VLOOKUP($A5,Participants!$A:$E,5,FALSE)","v":"SSFC"},{"$error":"#VALUE!"}]
[190,"NH",{"$nulls":3},{"$f":"VLOOKUP($A6,Participants!$A:$E,4,FALSE)","v":3},{"$f":"VLOOKUP($A6,Participants!$A:$E,2,FALSE)","v":"Ellie"},{"$f":"VLOOKUP($A6,Participants!$A:$E,3,FALSE)","v":"Neufelder"},{"$f":"VLOOKUP($A6,Participants!$A:$E,5,FALSE)","v":"SSFC"},{"$error":"#VALUE!"}]
[241,"NH",{"$nulls":3},{"$f":"VLOOKUP($A7,Participants!$A:$E,4,FALSE)","v":4},{"$f":"VLOOKUP($A7,Participants!$A:$E,2,FALSE)","v":"Ella"},{"$f":"VLOOKUP($A7,Participants!$A:$E,3,FALSE)","v":"Johnson"},{"$f":"VLOOKUP($A7,Participants!$A:$E,5,FALSE)","v":"United We Run"},{"$error":"#VALUE!"}]
[292,"NH",{"$nulls":3},{"$f":"VLOOKUP($A8,Participants!$A:$E,4,FALSE)","v":4},{"$f":"VLOOKUP($A8,Participants!$A:$E,2,FALSE)","v":"Rylie"},{"$f":"VLOOKUP($A8,Participants!$A:$E,3,FALSE)","v":"Meyer"},{"$f":"VLOOKUP($A8,Participants!$A:$E,5,FALSE)","v":"St. Barnabas"},{"$error":"#VALUE!"}]
[{"$nulls":5},{"$f":"VLOOKUP($A9,Participants!$A:$E,4,FALSE)","v":{"$error":"#N/A"}},{"$f":"VLOOKUP($A9,Participants!$A:$E,2,FALSE)","v":{"$error":"#N/A"}},{"$f":"VLOOKUP($A9,Participants!$A:$E,3,FALSE)","v":{"$error":"#N/A"}},{"$f":"VLOOKUP($A9,Participants!$A:$E,5,FALSE)","v":{"$error":"#N/A"}},{"$error":"#N/A"}]
[{"$nulls":5},{"$f":"VLOOKUP($A10,Participants!$A:$E,4,FALSE)","v":{"$error":"#N/A"}},{"$f":"VLOOKUP($A10,Participants!$A:$E,2,FALSE)","v":{"$error":"#N/A"}},{"$f":"VLOOKUP($A10,Participants!$A:$E,3,FALSE)","v":{"$error":"#N/A"}},{"$f":"VLOOKUP($A10,Participants!$A:$E,5,FALSE)","v":{"$error":"#N/A"}},{"$error":"#N/A"}]
[{"$nulls":5},{"$f":"VLOOKUP($A11,Participants!$A:$E,4,FALSE)","v":{"$error":"#N/A"}},{"$f":"VLOOKUP($A11,Participants!$A:$E,2,FALSE)","v":{"$error":"#N/A"}},{"$f":"VLOOKUP($A11,Participants!$A:$E,3,FALSE)","v":{"$error":"#N/A"}},{"$f":"VLOOKUP($A11,Participants!$A:$E,5,FALSE)","v":{"$error":"#N/A"}},{"$error":"#N/A"}]
[{"$nulls":5},{"$f":"VLOOKUP($A12,Participants!$A:$E,4,FALSE)","v":{"$error":"#N/A"}},{"$f":"VLOOKUP($A12,Participants!$A:$E,2,FALSE)","v":{"$error":"#N/A"}},{"$f":"VLOOKUP($A12,Participants!$A:$E,3,FALSE)","v":{"$error":"#N/A"}},{"$f":"VLOOKUP($A12,Participants!$A:$E,5,FALSE)","v":{"$error":"#N/A"}},{"$error":"#N/A"}]
[{"$nulls":5},{"$f":"VLOOKUP($A13,Participants!$A:$E,4,FALSE)","v":{"$error":"#N/A"}},{"$f":"VLOOKUP($A13,Participants!$A:$E,2,FALSE)","v":{"$error":"#N/A"}},{"$f":"VLOOKUP($A13,Participants!$A:$E,3,FALSE)","v":{"$error":"#N/A"}},{"$f":"VLOOKUP($A13,Participants!$A:$E,5,FALSE)","v":{"$error":"#N/A"}},{"$error":"#N/A"}]
[{"$nulls":5},{"$f":"VLOOKUP($A14,Participants!$A:$E,4,FALSE)","v":{"$error":"#N/A"}},{"$f":"VLOOKUP($A14,Participants!$A:$E,2,FALSE)","v":{"$error":"#N/A"}},{"$f":"VLOOKUP($A14,Participants!$A:$E,3,FALSE)","v":{"$error":"#N/A"}},{"$f":"VLOOKUP($A14,Participants!$A:$E,5,FALSE)","v":{"$error":"#N/A"}},{"$error":"#N/A"}]
[{"$nulls":5},{"$f":"VLOOKUP($A15,Participants!$A:$E,4,FALSE)","v":{"$error":"#N/A"}},{"$f":"VLOOKUP($A15,Participants!$A:$E,2,FALSE)","v":{"$error":"#N/A"}},{"$f":"VLOOKUP($A15,Participants!$A:$E,3,FALSE)","v":{"$error":"#N/A"}},{"$f":"VLOOKUP($A15,Participants!$A:$E,5,FALSE)","v":{"$error":"#N/A"}},{"$error":"#N/A"}]
[{"$nulls":5},{"$f":"VLOOKUP($A16,Participants!$A:$E,4,FALSE)","v":{"$error":"#N/A"}},{"$f":"VLOOKUP($A16,Participants!$A:$E,2,FALSE)","v":{"$error":"#N/A"}},{"$f":"VLOOKUP($A16,Participants!$A:$E,3,FALSE)","v":{"$error":"#N/A"}},{"$f":"VLOOKUP($A16,Participants!$A:$E,5,FALSE)","v":{"$error":"#N/A"}},{"$error":"#N/A"}]
[{"$nulls":5},{"$f":"VLOOKUP($A17,Participants!$A:$E,4,FALSE)","v":{"$error":"#N/A"}},{"$f":"VLOOKUP($A17,Participants!$A:$E,2,FALSE)","v":{"$error":"#N/A"}},{"$f":"VLOOKUP($A17,Participants!$A:$E,3,FALSE)","v":{"$error":"#N/A"}},{"$f":"VLOOKUP($A17,Participants!$A:$E,5,FALSE)","v":{"$error":"#N/A"}},{"$error":"#N/A"}]
[{"$nulls":5},{"$f":"VLOOKUP($A18,Participants!$A:$E,4,FALSE)","v":{"$error":"#N/A"}},{"$f":"VLOOKUP($A18,Participants!$A:$E,2,FALSE)","v":{"$error":"#N/A"}},{"$f":"VLOOKUP($A18,Participants!$A:$E,3,FALSE)","v":{"$error":"#N/A"}},{"$f":"VLOOKUP($A18,Participants!$A:$E,5,FALSE)","v":{"$error":"#N/A"}},{"$error":"#N/A"}]
[{"$nulls":5},{"$f":"VLOOKUP($A19,Participants!$A:$E,4,FALSE)","v":{"$error":"#N/A"}},{"$f":"VLOOKUP($A19,Participants!$A:$E,2,FALSE)","v":{"$error":"#N/A"}},{"$f":"VLOOKUP($A19,Participants!$A:$E,3,FALSE)","v":{"$error":"#N/A"}},{"$f":"VLOOKUP($A19,Participants!$A:$E,5,FALSE)","v":{"$error":"#N/A"}},{"$error":"#N/A"}]
[{"$nulls":5},{"$f":"VLOOKUP($A20,Participants!$A:$E,4,FALSE)","v":{"$error":"#N/A"}},{"$f":"VLOOKUP($A20,Participants!$A:$E,2,FALSE)","v":{"$error":"#N/A"}},{"$f":"VLOOKUP($A20,Participants!$A:$E,3,FALSE)","v":{"$error":"#N/A"}},{"$f":"VLOOKUP($A20,Participants!$A:$E,5,FALSE)","v":{"$error":"#N/A"}},{"$error":"#N/A"}]
[{"$nulls":5},{"$f":"VLOOKUP($A21,Participants!$A:$E,4,FALSE)","v":{"$error":"#N/A"}},{"$f":"VLOOKUP($A21,Participants!$A:$E,2,FALSE)","v":{"$error":"#N/A"}},{"$f":"VLOOKUP($A21,Participants!$A:$E,3,FALSE)","v":{"$error":"#N/A"}},{"$f":"VLOOKUP($A21,Participants!$A:$E,5,FALSE)","v":{"$error":"#N/A"}},{"$error":"#N/A"}]
[{"$nulls":5},{"$f":"VLOOKUP($A22,Participants!$A:$E,4,FALSE)","v":{"$error":"#N/A"}},{"$f":"VLOOKUP($A22,Participants!$A:$E,2,FALSE)","v":{"$error":"#N/A"}},{"$f":"VLOOKUP($A22,Participants!$A:$E,3,FALSE)","v":{"$error":"#N/A"}},{"$f":"VLOOKUP($A22,Participants!$A:$E,5,FALSE)","v":{"$error":"#N/A"}},{"$error":"#N/A"}]
[{"$nulls":5},{"$f":"VLOOKUP($A23,Participants!$A:$E,4,FALSE)","v":{"$error":"#N/A"}},{"$f":"VLOOKUP($A23,Participants!$A:$E,2,FALSE)","v":{"$error":"#N/A"}},{"$f":"VLOOKUP($A23,Participants!$A:$E,3,FALSE)","v":{"$error":"#N/A"}},{"$f":"VLOOKUP($A23,Participants!$A:$E,5,FALSE)","v":{"$error":"#N/A"}},{"$error":"#N/A"}]
[{"$nulls":5},{"$f":"VLOOKUP($A24,Participants!$A:$E,4,FALSE)","v":{"$error":"#N/A"}},{"$f":"VLOOKUP($A24,Participants!$A:$E,2,FALSE)","v":{"$error":"#N/A"}},{"$f":"VLOOKUP($A24,Participants!$A:$E,3,FALSE)","v":{"$error":"#N/A"}},{"$f":"VLOOKUP($A24,Participants!$A:$E,5,FALSE)","v":{"$error":"#N/A"}},{"$error":"#N/A"}]
[{"$nulls":5},{"$f":"VLOOKUP($A25,Participants!$A:$E,4,FALSE)","v":{"$error":"#N/A"}},{"$f":"VLOOKUP($A25,Participants!$A:$E,2,FALSE)","v":{"$error":"#N/A"}},{"$f":"VLOOKUP($A25,Participants!$A:$E,3,FALSE)","v":{"$error":"#N/A"}},{"$f":"VLOOKUP($A25,Participants!$A:$E,5,FALSE)","v":{"$error":"#N/A"}},{"$error":"#N/A"}]
[{"$nulls":5},{"$f":"VLOOKUP($A26,Participants!$A:$E,4,FALSE)","v":{"$error":"#N/A"}},{"$f":"VLOOKUP($A26,Participants!$A:$E,2,FALSE)","v":{"$error":"#N/A"}},{"$f":"VLOOKUP($A26,Participants!$A:$E,3,FALSE)","v":{"$error":"#N/A"}},{"$f":"VLOOKUP($A26,Participants!$A:$E,5,FALSE)","v":{"$error":"#N/A"}},{"$error":"#N/A"}]
[{"$nulls":5},{"$f":"VLOOKUP($A27,Participants!$A:$E,4,FALSE)","v":{"$error":"#N/A"}},{"$f":"VLOOKUP($A27,Participants!$A:$E,2,FALSE)","v":{"$error":"#N/A"}},{"$f":"VLOOKUP($A27,Participants!$A:$E,3,FALSE)","v":{"$error":"#N/A"}},{"$f":"VLOOKUP($A27,Participants!$A:$E,5,FALSE)","v":{"$error":"#N/A"}},{"$error":"#N/A"}]
[{"$nulls":5},{"$f":"VLOOKUP($A28,Participants!$A:$E,4,FALSE)","v":{"$error":"#N/A"}},{"$f":"VLOOKUP($A28,Participants!$A:$E,2,FALSE)","v":{"$error":"#N/A"}},{"$f":"VLOOKUP($A28,Participants!$A:$E,3,FALSE)","v":{"$error":"#N/A"}},{"$f":"VLOOKUP($A28,Participants!$A:$E,5,FALSE)","v":{"$error":"#N/A"}},{"$error":"#N/A"}]
[{"$nulls":5},{"$f":"VLOOKUP($A29,Participants!$A:$E,4,FALSE)","v":{"$error":"#N/A"}},{"$f":"VLOOKUP($A29,Participants!$A:$E,2,FALSE)","v":{"$error":"#N/A"}},{"$f":"VLOOKUP($A29,Participants!$A:$E,3,FALSE)","v":{"$error":"#N/A"}},{"$f":"VLOOKUP($A29,Participants!$A:$E,5,FALSE)","v":{"$error":"#N/A"}},{"$error":"#N/A"}]
[{"$nulls":5},{"$f":"VLOOKUP($A30,Participants!$A:$E,4,FALSE)","v":{"$error":"#N/A"}},{"$f":"VLOOKUP($A30,Participants!$A:$E,2,FALSE)","v":{"$error":"#N/A"}},{"$f":"VLOOKUP($A30,Participants!$A:$E,3,FALSE)","v":{"$error":"#N/A"}},{"$f":"VLOOKUP($A30,Participants!$A:$E,5,FALSE)","v":{"$error":"#N/A"}},{"$error":"#N/A"}]
[{"$nulls":5},{"$f":"VLOOKUP($A31,Participants!$A:$E,4,FALSE)","v":{"$error":"#N/A"}},{"$f":"VLOOKUP($A31,Participants!$A:$E,2,FALSE)","v":{"$error":"#N/A"}},{"$f":"VLOOKUP($A31,Participants!$A:$E,3,FALSE)","v":{"$error":"#N/A"}},{"$f":"VLOOKUP($A31,Participants!$A:$E,5,FALSE)","v":{"$error":"#N/A"}},{"$error":"#N/A"}]
[{"$nulls":5},{"$f":"VLOOKUP($A32,Participants!$A:$E,4,FALSE)","v":{"$error":"#N/A"}},{"$f":"VLOOKUP($A32,Participants!$A:$E,2,FALSE)","v":{"$error":"#N/A"}},{"$f":"VLOOKUP($A32,Participants!$A:$E,3,FALSE)","v":{"$error":"#N/A"}},{"$f":"VLOOKUP($A32,Participants!$A:$E,5,FALSE)","v":{"$error":"#N/A"}},{"$error":"#N/A"}]
[{"$nulls":5},{"$f":"VLOOKUP($A33,Participants!$A:$E,4,FALSE)","v":{"$error":"#N/A"}},{"$f":"VLOOKUP($A33,Participants!$A:$E,2,FALSE)","v":{"$error":"#N/A"}},{"$f":"VLOOKUP($A33,Participants!$A:$E,3,FALSE)","v":{"$error":"#N/A"}},{"$f":"VLOOKUP($A33,Participants!$A:$E,5,FALSE)","v":{"$error":"#N/A"}},{"$error":"#N/A"}]
[{"$nulls":5},{"$f":"VLOOKUP($A34,Participants!$A:$E,4,FALSE)","v":{"$error":"#N/A"}},{"$f":"VLOOKUP($A34,Participants!$A:$E,2,FALSE)","v":{"$error":"#N/A"}},{"$f":"VLOOKUP($A34,Participants!$A:$E,3,FALSE)","v":{"$error":"#N/A"}},{"$f":"VLOOKUP($A34,Participants!$A:$E,5,FALSE)","v":{"$error":"#N/A"}},{"$error":"#N/A"}]
[{"$nulls":5},{"$f":"VLOOKUP($A35,Participants!$A:$E,4,FALSE)","v":{"$error":"#N/A"}},{"$f":"VLOOKUP($A35,Participants!$A:$E,2,FALSE)","v":{"$error":"#N/A"}},{"$f":"VLOOKUP($A35,Participants!$A:$E,3,FALSE)","v":{"$error":"#N/A"}},{"$f":"VLOOKUP($A35,Participants!$A:$E,5,FALSE)","v":{"$error":"#N/A"}},{"$error":"#N/A"}]
[{"$nulls":5},{"$f":"VLOOKUP($A36,Participants!$A:$E,4,FALSE)","v":{"$error":"#N/A"}},{"$f":"VLOOKUP($A36,Participants!$A:$E,2,FALSE)","v":{"$error":"#N/A"}},{"$f":"VLOOKUP($A36,Participants!$A:$E,3,FALSE)","v":{"$error":"#N/A"}},{"$f":"VLOOKUP($A36,Participants!$A:$E,5,FALSE)","v":{"$error":"#N/A"}},{"$error":"#N/A"}]
[{"$nulls":5},{"$f":"VLOOKUP($A37,Participants!$A:$E,4,FALSE)","v":{"$error":"#N/A"}},{"$f":"VLOOKUP($A37,Participants!$A:$E,2,FALSE)","v":{"$error":"#N/A"}},{"$f":"VLOOKUP($A37,Participants!$A:$E,3,FALSE)","v":{"$error":"#N/A"}},{"$f":"VLOOKUP($A37,Participants!$A:$E,5,FALSE)","v":{"$error":"#N/A"}},{"$error":"#N/A"}]
[{"$nulls":5},{"$f":"VLOOKUP($A38,Participants!$A:$E,4,FALSE)","v":{"$error":"#N/A"}},{"$f":"VLOOKUP($A38,Participants!$A:$E,2,FALSE)","v":{"$error":"#N/A"}},{"$f":"VLOOKUP($A38,Participants!$A:$E,3,FALSE)","v":{"$error":"#N/A"}},{"$f":"VLOOKUP($A38,Participants!$A:$E,5,FALSE)","v":{"$error":"#N/A"}},{"$error":"#N/A"}]
[{"$nulls":5},{"$f":"VLOOKUP($A39,Participants!$A:$E,4,FALSE)","v":{"$error":"#N/A"}},{"$f":"VLOOKUP($A39,Participants!$A:$E,2,FALSE)","v":{"$error":"#N/A"}},{"$f":"VLOOKUP($A39,Participants!$A:$E,3,FALSE)","v":{"$error":"#N/A"}},{"$f":"VLOOKUP($A39,Participants!$A:$E,5,FALSE)","v":{"$error":"#N/A"}},{"$error":"#N/A"}]
[{"$nulls":5},{"$f":"VLOOKUP($A40,Participants!$A:$E,4,FALSE)","v":{"$error":"#N/A"}},{"$f":"VLOOKUP($A40,Participants!$A:$E,2,FALSE)","v":{"$error":"#N/A"}},{"$f":"VLOOKUP($A40,Participants!$A:$E,3,FALSE)","v":{"$error":"#N/A"}},{"$f":"VLOOKUP($A40,Participants!$A:$E,5,FALSE)","v":{"$error":"#N/A"}},{"$error":"#N/A"}]
[{"$nulls":5},{"$f":"VLOOKUP($A41,Participants!$A:$E,4,FALSE)","v":{"$error":"#N/A"}},{"$f":"VLOOKUP($A41,Participants!$A:$E,2,FALSE)","v":{"$error":"#N/A"}},{"$f":"VLOOKUP($A41,Participants!$A:$E,3,FALSE)","v":{"$error":"#N/A"}},{"$f":"VLOOKUP($A41,Participants!$A:$E,5,FALSE)","v":{"$error":"#N/A"}},{"$error":"#N/A"}]
[{"$nulls":5},{"$f":"VLOOKUP($A42,Participants!$A:$E,4,FALSE)","v":{"$error":"#N/A"}},{"$f":"VLOOKUP($A42,Participants!$A:$E,2,FALSE)","v":{"$error":"#N/A"}},{"$f":"VLOOKUP($A42,Participants!$A:$E,3,FALSE)","v":{"$error":"#N/A"}},{"$f":"VLOOKUP($A42,Participants!$A:$E,5,FALSE)","v":{"$error":"#N/A"}},{"$error":"#N/A"}]
[{"$nulls":5},{"$f":"VLOOKUP($A43,Participants!$A:$E,4,FALSE)","v":{"$error":"#N/A"}},{"$f":"VLOOKUP($A43,Participants!$A:$E,2,FALSE)","v":{"$error":"#N/A"}},{"$f":"VLOOKUP($A43,Participants!$A:$E,3,FALSE)","v":{"$error":"#N/A"}},{"$f":"VLOOKUP($A43,Participants!$A:$E,5,FALSE)","v":{"$error":"#N/A"}},{"$error":"#N/A"}]
[{"$nulls":5},{"$f":"VLOOKUP($A44,Participants!$A:$E,4,FALSE)","v":{"$error":"#N/A"}},{"$f":"VLOOKUP($A44,Participants!$A:$E,2,FALSE)","v":{"$error":"#N/A"}},{"$f":"VLOOKUP($A44,Participants!$A:$E,3,FALSE)","v":{"$error":"#N/A"}},{"$f":"VLOOKUP($A44,Participants!$A:$E,5,FALSE)","v":{"$error":"#N/A"}},{"$error":"#N/A"}]
[{"$nulls":5},{"$f":"VLOOKUP($A45,Participants!$A:$E,4,FALSE)","v":{"$error":"#N/A"}},{"$f":"VLOOKUP($A45,Participants!$A:$E,2,FALSE)","v":{"$error":"#N/A"}},{"$f":"VLOOKUP($A45,Participants!$A:$E,3,FALSE)","v":{"$error":"#N/A"}},{"$f":"VLOOKUP($A45,Participants!$A:$E,5,FALSE)","v":{"$error":"#N/A"}},{"$error":"#N/A"}]
[{"$nulls":5},{"$f":"VLOOKUP($A46,Participants!$A:$E,4,FALSE)","v":{"$error":"#N/A"}},{"$f":"VLOOKUP($A46,Participants!$A:$E,2,FALSE)","v":{"$error":"#N/A"}},{"$f":"VLOOKUP($A46,Participants!$A:$E,3,FALSE)","v":{"$error":"#N/A"}},{"$f":"VLOOKUP($A46,Participants!$A:$E,5,FALSE)","v":{"$error":"#N/A"}},{"$error":"#N/A"}]
[{"$nulls":5},{"$f":"VLOOKUP($A47,Participants!$A:$E,4,FALSE)","v":{"$error":"#N/A"}},{"$f":"VLOOKUP($A47,Participants!$A:$E,2,FALSE)","v":{"$error":"#N/A"}},{"$f":"VLOOKUP($A47,Participants!$A:$E,3,FALSE)","v":{"$error":"#N/A"}},{"$f":"VLOOKUP($A47,Participants!$A:$E,5,FALSE)","v":{"$error":"#N/A"}},{"$error":"#N/A"}]
[{"$nulls":5},{"$f":"VLOOKUP($A48,Participants!$A:$E,4,FALSE)","v":{"$error":"#N/A"}},{"$f":"VLOOKUP($A48,Participants!$A:$E,2,FALSE)","v":{"$error":"#N/A"}},{"$f":"VLOOKUP($A48,Participants!$A:$E,3,FALSE)","v":{"$error":"#N/A"}},{"$f":"VLOOKUP($A48,Participants!$A:$E,5,FALSE)","v":{"$error":"#N/A"}},{"$error":"#N/A"}]
[{"$nulls":5},{"$f":"VLOOKUP($A49,Participants!$A:$E,4,FALSE)","v":{"$error":"#N/A"}},{"$f":"VLOOKUP($A49,Participants!$A:$E,2,FALSE)","v":{"$error":"#N/A"}},{"$f":"VLOOKUP($A49,Participants!$A:$E,3,FALSE)","v":{"$error":"#N/A"}},{"$f":"VLOOKUP($A49,Participants!$A:$E,5,FALSE)","v":{"$error":"#N/A"}},{"$error":"#N/A"}]
[{"$nulls":5},{"$f":"VLOOKUP($A50,Participants!$A:$E,4,FALSE)","v":{"$error":"#N/A"}},{"$f":"VLOOKUP($A50,Participants!$A:$E,2,FALSE)","v":{"$error":"#N/A"}},{"$f":"VLOOKUP($A50,Participants!$A:$E,3,FALSE)","v":{"$error":"#N/A"}},{"$f":"VLOOKUP($A50,Participants!$A:$E,5,FALSE)","v":{"$error":"#N/A"}},{"$error":"#N/A"}]
[{"$nulls":5},{"$f":"VLOOKUP($A51,Participants!$A:$E,4,FALSE)","v":{"$error":"#N/A"}},{"$f":"VLOOKUP($A51,Participants!$A:$E,2,FALSE)","v":{"$error":"#N/A"}},{"$f":"VLOOKUP($A51,Participants!$A:$E,3,FALSE)","v":{"$error":"#N/A"}},{"$f":"VLOOKUP($A51,Participants!$A:$E,5,FALSE)","v":{"$error":"#N/A"}},{"$error":"#N/A"}]
[{"$nulls":5},{"$f":"VLOOKUP($A52,Participants!$A:$E,4,FALSE)","v":{"$error":"#N/A"}},{"$f":"VLOOKUP($A52,Participants!$A:$E,2,FALSE)","v":{"$error":"#N/A"}},{"$f":"VLOOKUP($A52,Participants!$A:$E,3,FALSE)","v":{"$error":"#N/A"}},{"$f":"VLOOKUP($A52,Participants!$A:$E,5,FALSE)","v":{"$error":"#N/A"}},{"$error":"#N/A"}]
[{"$nulls":5},{"$f":"VLOOKUP($A53,Participants!$A:$E,4,FALSE)","v":{"$error":"#N/A"}},{"$f":"VLOOKUP($A53,Participants!$A:$E,2,FALSE)","v":{"$error":"#N/A"}},{"$f":"VLOOKUP($A53,Participants!$A:$E,3,FALSE)","v":{"$error":"#N/A"}},{"$f":"VLOOKUP($A53,Participants!$A:$E,5,FALSE)","v":{"$error":"#N/A"}},{"$error":"#N/A"}]
[{"$nulls":5},{"$f":"VLOOKUP($A54,Participants!$A:$E,4,FALSE)","v":{"$error":"#N/A"}},{"$f":"VLOOKUP($A54,Participants!$A:$E,2,FALSE)","v":{"$error":"#N/A"}},{"$f":"VLOOKUP($A54,Participants!$A:$E,3,FALSE)","v":{"$error":"#N/A"}},{"$f":"VLOOKUP($A54,Participants!$A:$E,5,FALSE)","v":{"$error":"#N/A"}},{"$error":"#N/A"}]
[{"$nulls":5},{"$f":"VLOOKUP($A55,Participants!$A:$E,4,FALSE)","v":{"$error":"#N/A"}},{"$f":"VLOOKUP($A55,Participants!$A:$E,2,FALSE)","v":{"$error":"#N/A"}},{"$f":"VLOOKUP($A55,Participants!$A:$E,3,FALSE)","v":{"$error":"#N/A"}},{"$f":"VLOOKUP($A55,Participants!$A:$E,5,FALSE)","v":{"$error":"#N/A"}},{"$error":"#N/A"}]
[{"$nulls":5},{"$f":"VLOOKUP($A56,Participants!$A:$E,4,FALSE)","v":{"$error":"#N/A"}},{"$f":"VLOOKUP($A56,Participants!$A:$E,2,FALSE)","v":{"$error":"#N/A"}},{"$f":"VLOOKUP($A56,Participants!$A:$E,3,FALSE)","v":{"$error":"#N/A"}},{"$f":"VLOOKUP($A56,Participants!$A:$E,5,FALSE)","v":{"$error":"#N/A"}},{"$error":"#N/A"}]
[{"$nulls":5},{"$f":"VLOOKUP($A57,Participants!$A:$E,4,FALSE)","v":{"$error":"#N/A"}},{"$f":"VLOOKUP($A57,Participants!$A:$E,2,FALSE)","v":{"$error":"#N/A"}},{"$f":"VLOOKUP($A57,Participants!$A:$E,3,FALSE)","v":{"$error":"#N/A"}},{"$f":"VLOOKUP($A57,Participants!$A:$E,5,FALSE)","v":{"$error":"#N/A"}},{"$error":"#N/A"}]
[{"$nulls":5},{"$f":"VLOOKUP($A58,Participants!$A:$E,4,FALSE)","v":{"$error":"#N/A"}},{"$f":"VLOOKUP($A58,Participants!$A:$E,2,FALSE)","v":{"$error":"#N/A"}},{"$f":"VLOOKUP($A58,Participants!$A:$E,3,FALSE)","v":{"$error":"#N/A"}},{"$f":"VLOOKUP($A58,Participants!$A:$E,5,FALSE)","v":{"$error":"#N/A"}},{"$error":"#N/A"}]
[{"$nulls":5},{"$f":"VLOOKUP($A59,Participants!$A:$E,4,FALSE)","v":{"$error":"#N/A"}},{"$f":"VLOOKUP($A59,Participants!$A:$E,2,FALSE)","v":{"$error":"#N/A"}},{"$f":"VLOOKUP($A59,Participants!$A:$E,3,FALSE)","v":{"$error":"#N/A"}},{"$f":"VLOOKUP($A59,Participants!$A:$E,5,FALSE)","v":{"$error":"#N/A"}},{"$error":"#N/A"}]
[{"$nulls":5},{"$f":"VLOOKUP($A60,Participants!$A:$E,4,FALSE)","v":{"$error":"#N/A"}},{"$f":"VLOOKUP($A60,Participants!$A:$E,2,FALSE)","v":{"$error":"#N/A"}},{"$f":"VLOOKUP($A60,Participants!$A:$E,3,FALSE)","v":{"$error":"#N/A"}},{"$f":"VLOOKUP($A60,Participants!$A:$E,5,FALSE)","v":{"$error":"#N/A"}},{"$error":"#N/A"}]
[{"$nulls":5},{"$f":"VLOOKUP($A61,Participants!$A:$E,4,FALSE)","v":{"$error":"#N/A"}},{"$f":"VLOOKUP($A61,Participants!$A:$E,2,FALSE)","v":{"$error":"#N/A"}},{"$f":"VLOOKUP($A61,Participants!$A:$E,3,FALSE)","v":{"$error":"#N/A"}},{"$f":"VLOOKUP($A61,Participants!$A:$E,5,FALSE)","v":{"$error":"#N/A"}},{"$error":"#N/A"}]
[{"$nulls":5},{"$f":"VLOOKUP($A62,Participants!$A:$E,4,FALSE)","v":{"$error":"#N/A"}},{"$f":"VLOOKUP($A62,Participants!$A:$E,2,FALSE)","v":{"$error":"#N/A"}},{"$f":"VLOOKUP($A62,Participants!$A:$E,3,FALSE)","v":{"$error":"#N/A"}},{"$f":"VLOOKUP($A62,Participants!$A:$E,5,FALSE)","v":{"$error":"#N/A"}},{"$error":"#N/A"}]
[{"$nulls":5},{"$f":"VLOOKUP($A63,Participants!$A:$E,4,FALSE)","v":{"$error":"#N/A"}},{"$f":"VLOOKUP($A63,Participants!$A:$E,2,FALSE)","v":{"$error":"#N/A"}},{"$f":"VLOOKUP($A63,Participants!$A:$E,3,FALSE)","v":{"$error":"#N/A"}},{"$f":"VLOOKUP($A63,Participants!$A:$E,5,FALSE)","v":{"$error":"#N/A"}},{"$error":"#N/A"}]
[{"$nulls":5},{"$f":"VLOOKUP($A64,Participants!$A:$E,4,FALSE)","v":{"$error":"#N/A"}},{"$f":"VLOOKUP($A64,Participants!$A:$E,2,FALSE)","v":{"$error":"#N/A"}},{"$f":"VLOOKUP($A64,Participants!$A:$E,3,FALSE)","v":{"$error":"#N/A"}},{"$f":"VLOOKUP($A64,Participants!$A:$E,5,FALSE)","v":{"$error":"#N/A"}},{"$error":"#N/A"}]
[{"$nulls":5},{"$f":"VLOOKUP($A65,Participants!$A:$E,4,FALSE)","v":{"$error":"#N/A"}},{"$f":"VLOOKUP($A65,Participants!$A:$E,2,FALSE)","v":{"$error":"#N/A"}},{"$f":"VLOOKUP($A65,Participants!$A:$E,3,FALSE)","v":{"$error":"#N/A"}},{"$f":"VLOOKUP($A65,Participants!$A:$E,5,FALSE)","v":{"$error":"#N/A"}},{"$error":"#N/A"}]
[{"$nulls":5},{"$f":"VLOOKUP($A66,Participants!$A:$E,4,FALSE)","v":{"$error":"#N/A"}},{"$f":"VLOOKUP($A66,Participants!$A:$E,2,FALSE)","v":{"$error":"#N/A"}},{"$f":"VLOOKUP($A66,Participants!$A:$E,3,FALSE)","v":{"$error":"#N/A"}},{"$f":"VLOOKUP($A66,Participants!$A:$E,5,FALSE)","v":{"$error":"#N/A"}},{"$error":"#N/A"}]
[{"$nulls":5},{"$f":"VLOOKUP($A67,Participants!$A:$E,4,FALSE)","v":{"$error":"#N/A"}},{"$f":"VLOOKUP($A67,Participants!$A:$E,2,FALSE)","v":{"$error":"#N/A"}},{"$f":"VLOOKUP($A67,Participants!$A:$E,3,FALSE)","v":{"$error":"#N/A"}},{"$f":"VLOOKUP($A67,Participants!$A:$E,5,FALSE)","v":{"$error":"#N/A"}},{"$f":"RANK(B67,$B$1:$B$97,0)","v":{"$error":"#N/A"}}]
[{"$nulls":5},{"$f":"VLOOKUP($A68,Participants!$A:$E,4,FALSE)","v":{"$error":"#N/A"}},{"$f":"VLOOKUP($A68,Participants!$A:$E,2,FALSE)","v":{"$error":"#N/A"}},{"$f":"VLOOKUP($A68,Participants!$A:$E,3,FALSE)","v":{"$error":"#N/A"}},{"$f":"VLOOKUP($A68,Participants!$A:$E,5,FALSE)","v":{"$error":"#N/A"}},{"$error":"#N/A"}]
[{"$nulls":5},{"$f":"VLOOKUP($A69,Participants!$A:$E,4,FALSE)","v":{"$error":"#N/A"}},{"$f":"VLOOKUP($A69,Participants!$A:$E,2,FALSE)","v":{"$error":"#N/A"}},{"$f":"VLOOKUP($A69,Participants!$A:$E,3,FALSE)","v":{"$error":"#N/A"}},{"$f":"VLOOKUP($A69,Participants!$A:$E,5,FALSE)","v":{"$error":"#N/A"}},{"$error":"#N/A"}]
[{"$nulls":5},{"$f":"VLOOKUP($A70,Participants!$A:$E,4,FALSE)","v":{"$error":"#N/A"}},{"$f":"VLOOKUP($A70,Participants!$A:$E,2,FALSE)","v":{"$error":"#N/A"}},{"$f":"VLOOKUP($A70,Participants!$A:$E,3,FALSE)","v":{"$error":"#N/A"}},{"$f":"VLOOKUP($A70,Participants!$A:$E,5,FALSE)","v":{"$error":"#N/A"}},{"$error":"#N/A"}]
[{"$nulls":5},{"$f":"VLOOKUP($A71,Participants!$A:$E,4,FALSE)","v":{"$error":"#N/A"}},{"$f":"VLOOKUP($A71,Participants!$A:$E,2,FALSE)","v":{"$error":"#N/A"}},{"$f":"VLOOKUP($A71,Participants!$A:$E,3,FALSE)","v":{"$error":"#N/A"}},{"$f":"VLOOKUP($A71,Participants!$A:$E,5,FALSE)","v":{"$error":"#N/A"}},{"$error":"#N/A"}]
[{"$nulls":5},{"$f":"VLOOKUP($A72,Participants!$A:$E,4,FALSE)","v":{"$error":"#N/A"}},{"$f":"VLOOKUP($A72,Participants!$A:$E,2,FALSE)","v":{"$error":"#N/A"}},{"$f":"VLOOKUP($A72,Participants!$A:$E,3,FALSE)","v":{"$error":"#N/A"}},{"$f":"VLOOKUP($A72,Participants!$A:$E,5,FALSE)","v":{"$error":"#N/A"}},{"$error":"#N/A"}]
[{"$nulls":5},{"$f":"VLOOKUP($A73,Participants!$A:$E,4,FALSE)","v":{"$error":"#N/A"}},{"$f":"VLOOKUP($A73,Participants!$A:$E,2,FALSE)","v":{"$error":"#N/A"}},{"$f":"VLOOKUP($A73,Participants!$A:$E,3,FALSE)","v":{"$error":"#N/A"}},{"$f":"VLOOKUP($A73,Participants!$A:$E,5,FALSE)","v":{"$error":"#N/A"}},{"$error":"#N/A"}]
[{"$nulls":5},{"$f":"VLOOKUP($A74,Participants!$A:$E,4,FALSE)","v":{"$error":"#N/A"}},{"$f":"VLOOKUP($A74,Participants!$A:$E,2,FALSE)","v":{"$error":"#N/A"}},{"$f":"VLOOKUP($A74,Participants!$A:$E,3,FALSE)","v":{"$error":"#N/A"}},{"$f":"VLOOKUP($A74,Participants!$A:$E,5,FALSE)","v":{"$error":"#N/A"}},{"$error":"#N/A"}]
[{"$nulls":5},{"$f":"VLOOKUP($A75,Participants!$A:$E,4,FALSE)","v":{"$error":"#N/A"}},{"$f":"VLOOKUP($A75,Participants!$A:$E,2,FALSE)","v":{"$error":"#N/A"}},{"$f":"VLOOKUP($A75,Participants!$A:$E,3,FALSE)","v":{"$error":"#N/A"}},{"$f":"VLOOKUP($A75,Participants!$A:$E,5,FALSE)","v":{"$error":"#N/A"}},{"$error":"#N/A"}]
[{"$nulls":5},{"$f":"VLOOKUP($A76,Participants!$A:$E,4,FALSE)","v":{"$error":"#N/A"}},{"$f":"VLOOKUP($A76,Participants!$A:$E,2,FALSE)","v":{"$error":"#N/A"}},{"$f":"VLOOKUP($A76,Participants!$A:$E,3,FALSE)","v":{"$error":"#N/A"}},{"$f":"VLOOKUP($A76,Participants!$A:$E,5,FALSE)","v":{"$error":"#N/A"}},{"$error":"#N/A"}]
[{"$nulls":5},{"$f":"VLOOKUP($A77,Participants!$A:$E,4,FALSE)","v":{"$error":"#N/A"}},{"$f":"VLOOKUP($A77,Participants!$A:$E,2,FALSE)","v":{"$error":"#N/A"}},{"$f":"VLOOKUP($A77,Participants!$A:$E,3,FALSE)","v":{"$error":"#N/A"}},{"$f":"VLOOKUP($A77,Participants!$A:$E,5,FALSE)","v":{"$error":"#N/A"}},{"$error":"#N/A"}]
[{"$nulls":5},{"$f":"VLOOKUP($A78,Participants!$A:$E,4,FALSE)","v":{"$error":"#N/A"}},{"$f":"VLOOKUP($A78,Participants!$A:$E,2,FALSE)","v":{"$error":"#N/A"}},{"$f":"VLOOKUP($A78,Participants!$A:$E,3,FALSE)","v":{"$error":"#N/A"}},{"$f":"VLOOKUP($A78,Participants!$A:$E,5,FALSE)","v":{"$error":"#N/A"}},{"$error":"#N/A"}]
[{"$nulls":5},{"$f":"VLOOKUP($A79,Participants!$A:$E,4,FALSE)","v":{"$error":"#N/A"}},{"$f":"VLOOKUP($A79,Participants!$A:$E,2,FALSE)","v":{"$error":"#N/A"}},{"$f":"VLOOKUP($A79,Participants!$A:$E,3,FALSE)","v":{"$error":"#N/A"}},{"$f":"VLOOKUP($A79,Participants!$A:$E,5,FALSE)","v":{"$error":"#N/A"}},{"$error":"#N/A"}]
[{"$nulls":5},{"$f":"VLOOKUP($A80,Participants!$A:$E,4,FALSE)","v":{"$error":"#N/A"}},{"$f":"VLOOKUP($A80,Participants!$A:$E,2,FALSE)","v":{"$error":"#N/A"}},{"$f":"VLOOKUP($A80,Participants!$A:$E,3,FALSE)","v":{"$error":"#N/A"}},{"$f":"VLOOKUP($A80,Participants!$A:$E,5,FALSE)","v":{"$error":"#N/A"}},{"$error":"#N/A"}]
[{"$nulls":5},{"$f":"VLOOKUP($A81,Participants!$A:$E,4,FALSE)","v":{"$error":"#N/A"}},{"$f":"VLOOKUP($A81,Participants!$A:$E,2,FALSE)","v":{"$error":"#N/A"}},{"$f":"VLOOKUP($A81,Participants!$A:$E,3,FALSE)","v":{"$error":"#N/A"}},{"$f":"VLOOKUP($A81,Participants!$A:$E,5,FALSE)","v":{"$error":"#N/A"}},{"$error":"#N/A"}]
[{"$nulls":5},{"$f":"VLOOKUP($A82,Participants!$A:$E,4,FALSE)","v":{"$error":"#N/A"}},{"$f":"VLOOKUP($A82,Participants!$A:$E,2,FALSE)","v":{"$error":"#N/A"}},{"$f":"VLOOKUP($A82,Participants!$A:$E,3,FALSE)","v":{"$error":"#N/A"}},{"$f":"VLOOKUP($A82,Participants!$A:$E,5,FALSE)","v":{"$error":"#N/A"}},{"$error":"#N/A"}]
[{"$nulls":5},{"$f":"VLOOKUP($A83,Participants!$A:$E,4,FALSE)","v":{"$error":"#N/A"}},{"$f":"VLOOKUP($A83,Participants!$A:$E,2,FALSE)","v":{"$error":"#N/A"}},{"$f":"VLOOKUP($A83,Participants!$A:$E,3,FALSE)","v":{"$error":"#N/A"}},{"$f":"VLOOKUP($A83,Participants!$A:$E,5,FALSE)","v":{"$error":"#N/A"}},{"$error":"#N/A"}]
[{"$nulls":5},{"$f":"VLOOKUP($A84,Participants!$A:$E,4,FALSE)","v":{"$error":"#N/A"}},{"$f":"VLOOKUP($A84,Participants!$A:$E,2,FALSE)","v":{"$error":"#N/A"}},{"$f":"VLOOKUP($A84,Participants!$A:$E,3,FALSE)","v":{"$error":"#N/A"}},{"$f":"VLOOKUP($A84,Participants!$A:$E,5,FALSE)","v":{"$error":"#N/A"}},{"$error":"#N/A"}]
[{"$nulls":5},{"$f":"VLOOKUP($A85,Participants!$A:$E,4,FALSE)","v":{"$error":"#N/A"}},{"$f":"VLOOKUP($A85,Participants!$A:$E,2,FALSE)","v":{"$error":"#N/A"}},{"$f":"VLOOKUP($A85,Participants!$A:$E,3,FALSE)","v":{"$error":"#N/A"}},{"$f":"VLOOKUP($A85,Participants!$A:$E,5,FALSE)","v":{"$error":"#N/A"}},{"$error":"#N/A"}]
[{"$nulls":5},{"$f":"VLOOKUP($A86,Participants!$A:$E,4,FALSE)","v":{"$error":"#N/A"}},{"$f":"VLOOKUP($A86,Participants!$A:$E,2,FALSE)","v":{"$error":"#N/A"}},{"$f":"VLOOKUP($A86,Participants!$A:$E,3,FALSE)","v":{"$error":"#N/A"}},{"$f":"VLOOKUP($A86,Participants!$A:$E,5,FALSE)","v":{"$error":"#N/A"}},{"$error":"#N/A"}]
[{"$nulls":5},{"$f":"VLOOKUP($A87,Participants!$A:$E,4,FALSE)","v":{"$error":"#N/A"}},{"$f":"VLOOKUP($A87,Participants!$A:$E,2,FALSE)","v":{"$error":"#N/A"}},{"$f":"VLOOKUP($A87,Participants!$A:$E,3,FALSE)","v":{"$error":"#N/A"}},{"$f":"VLOOKUP($A87,Participants!$A:$E,5,FALSE)","v":{"$error":"#N/A"}},{"$error":"#N/A"}]
[{"$nulls":5},{"$f":"VLOOKUP($A88,Participants!$A:$E,4,FALSE)","v":{"$error":"#N/A"}},{"$f":"VLOOKUP($A88,Participants!$A:$E,2,FALSE)","v":{"$error":"#N/A"}},{"$f":"VLOOKUP($A88,Participants!$A:$E,3,FALSE)","v":{"$error":"#N/A"}},{"$f":"VLOOKUP($A88,Participants!$A:$E,5,FALSE)","v":{"$error":"#N/A"}},{"$error":"#N/A"}]
[{"$nulls":5},{"$f":"VLOOKUP($A89,Participants!$A:$E,4,FALSE)","v":{"$error":"#N/A"}},{"$f":"VLOOKUP($A89,Participants!$A:$E,2,FALSE)","v":{"$error":"#N/A"}},{"$f":"VLOOKUP($A89,Participants!$A:$E,3,FALSE)","v":{"$error":"#N/A"}},{"$f":"VLOOKUP($A89,Participants!$A:$E,5,FALSE)","v":{"$error":"#N/A"}},{"$error":"#N/A"}]
[{"$nulls":5},{"$f":"VLOOKUP($A90,Participants!$A:$E,4,FALSE)","v":{"$error":"#N/A"}},{"$f":"VLOOKUP($A90,Participants!$A:$E,2,FALSE)","v":{"$error":"#N/A"}},{"$f":"VLOOKUP($A90,Participants!$A:$E,3,FALSE)","v":{"$error":"#N/A"}},{"$f":"VLOOKUP($A90,Participants!$A:$E,5,FALSE)","v":{"$error":"#N/A"}},{"$error":"#N/A"}]
[{"$nulls":5},{"$f":"VLOOKUP($A91,Participants!$A:$E,4,FALSE)","v":{"$error":"#N/A"}},{"$f":"VLOOKUP($A91,Participants!$A:$E,2,FALSE)","v":{"$error":"#N/A"}},{"$f":"VLOOKUP($A91,Participants!$A:$E,3,FALSE)","v":{"$error":"#N/A"}},{"$f":"VLOOKUP($A91,Participants!$A:$E,5,FALSE)","v":{"$error":"#N/A"}},{"$error":"#N/A"}]
[{"$nulls":5},{"$f":"VLOOKUP($A92,Participants!$A:$E,4,FALSE)","v":{"$error":"#N/A"}},{"$f":"VLOOKUP($A92,Participants!$A:$E,2,FALSE)","v":{"$error":"#N/A"}},{"$f":"VLOOKUP($A92,Participants!$A:$E,3,FALSE)","v":{"$error":"#N/A"}},{"$f":"VLOOKUP($A92,Participants!$A:$E,5,FALSE)","v":{"$error":"#N/A"}},{"$error":"#N/A"}]
[{"$nulls":5},{"$f":"VLOOKUP($A93,Participants!$A:$E,4,FALSE)","v":{"$error":"#N/A"}},{"$f":"VLOOKUP($A93,Participants!$A:$E,2,FALSE)","v":{"$error":"#N/A"}},{"$f":"VLOOKUP($A93,Participants!$A:$E,3,FALSE)","v":{"$error":"#N/A"}},{"$f":"VLOOKUP($A93,Participants!$A:$E,5,FALSE)","v":{"$error":"#N/A"}},{"$error":"#N/A"}]
[{"$nulls":5},{"$f":"VLOOKUP($A94,Participants!$A:$E,4,FALSE)","v":{"$error":"#N/A"}},{"$f":"VLOOKUP($A94,Participants!$A:$E,2,FALSE)","v":{"$error":"#N/A"}},{"$f":"VLOOKUP($A94,Participants!$A:$E,3,FALSE)","v":{"$error":"#N/A"}},{"$f":"VLOOKUP($A94,Participants!$A:$E,5,FALSE)","v":{"$error":"#N/A"}},{"$error":"#N/A"}]
[{"$nulls":5},{"$f":"VLOOKUP($A95,Participants!$A:$E,4,FALSE)","v":{"$error":"#N/A"}},{"$f":"VLOOKUP($A95,Participants!$A:$E,2,FALSE)","v":{"$error":"#N/A"}},{"$f":"VLOOKUP($A95,Participants!$A:$E,3,FALSE)","v":{"$error":"#N/A"}},{"$f":"VLOOKUP($A95,Participants!$A:$E,5,FALSE)","v":{"$error":"#N/A"}},{"$error":"#N/A"}]
[{"$nulls":5},{"$f":"VLOOKUP($A96,Participants!$A:$E,4,FALSE)","v":{"$error":"#N/A"}},{"$f":"VLOOKUP($A96,Participants!$A:$E,2,FALSE)","v":{"$error":"#N/A"}},{"$f":"VLOOKUP($A96,Participants!$A:$E,3,FALSE)","v":{"$error":"#N/A"}},{"$f":"VLOOKUP($A96,Participants!$A:$E,5,FALSE)","v":{"$error":"#N/A"}},{"$error":"#N/A"}]
[{"$nulls":5},{"$f":"VLOOKUP($A97,Participants!$A:$E,4,FALSE)","v":{"$error":"#N/A"}},{"$f":"VLOOKUP($A97,Participants!$A:$E,2,FALSE)","v":{"$error":"#N/A"}},{"$f":"VLOOKUP($A97,Participants!$A:$E,3,FALSE)","v":{"$error":"#N/A"}},{"$f":"VLOOKUP($A97,Participants!$A:$E,5,FALSE)","v":{"$error":"#N/A"}},{"$error":"#N/A"}]
[{"$nulls":5},{"$f":"VLOOKUP($A98,Participants!$A:$E,4,FALSE)","v":{"$error":"#N/A"}},{"$f":"VLOOKUP($A98,Participants!$A:$E,2,FALSE)","v":{"$error":"#N/A"}},{"$f":"VLOOKUP($A98,Participants!$A:$E,3,FALSE)","v":{"$error":"#N/A"}},{"$f":"VLOOKUP($A98,Participants!$A:$E,5,FALSE)","v":{"$error":"#N/A"}},{"$error":"#N/A"}]

{"sheet":"400 56 Girls","index":42,"n_rows":43,"n_cols":13,"rows_kept":43}
["Bib","HeatOrder",null,"Time","Grade","FName","Lname","School","Heat","Heat Place","Overall Place",null,"Return to Schedule of Events"]
[123,"Lap 1","00:01:16.090","00:01:16.090",{"$f":"VLOOKUP($A2,Participants!$A:$E,4,FALSE)","v":5},{"$f":"VLOOKUP($A2,Participants!$A:$E,2,FALSE)","v":"Nora"},{"$f":"VLOOKUP($A2,Participants!$A:$E,3,FALSE)","v":"Smith"},{"$f":"VLOOKUP($A2,Participants!$A:$E,5,FALSE)","v":"St Jude"},1,{"$f":"RANK(D2,IF(I2=1,$D$2:$D$7,),1)","v":1},{"$f":"RANK(D2,$D$2:$D$101,1)","v":2}]
[116,"Lap 2","00:00:10.280","00:01:26.380",{"$f":"VLOOKUP($A3,Participants!$A:$E,4,FALSE)","v":5},{"$f":"VLOOKUP($A3,Participants!$A:$E,2,FALSE)","v":"Aleigha"},{"$f":"VLOOKUP($A3,Participants!$A:$E,3,FALSE)","v":"Schoettle"},{"$f":"VLOOKUP($A3,Participants!$A:$E,5,FALSE)","v":"St Jude"},1,2,6,null,"Add or Update Participants"]
[255,"Lap 3","00:00:06.320","00:01:32.700",{"$f":"VLOOKUP($A4,Participants!$A:$E,4,FALSE)","v":5},{"$f":"VLOOKUP($A4,Participants!$A:$E,2,FALSE)","v":"Ava"},{"$f":"VLOOKUP($A4,Participants!$A:$E,3,FALSE)","v":"Price"},{"$f":"VLOOKUP($A4,Participants!$A:$E,5,FALSE)","v":"United We Run"},1,3,8,null,"Overall Place and Points"]
[293,"Lap 4","00:00:13.930","00:01:46.640",{"$f":"VLOOKUP($A5,Participants!$A:$E,4,FALSE)","v":5},{"$f":"VLOOKUP($A5,Participants!$A:$E,2,FALSE)","v":"Eva"},{"$f":"VLOOKUP($A5,Participants!$A:$E,3,FALSE)","v":"Miller"},{"$f":"VLOOKUP($A5,Participants!$A:$E,5,FALSE)","v":"St. Barnabas"},1,4,10]
[168,"Lap 5","00:00:04.390","00:01:51.030",{"$f":"VLOOKUP($A6,Participants!$A:$E,4,FALSE)","v":6},{"$f":"VLOOKUP($A6,Participants!$A:$E,2,FALSE)","v":"Noel"},{"$f":"VLOOKUP($A6,Participants!$A:$E,3,FALSE)","v":"Eble"},{"$f":"VLOOKUP($A6,Participants!$A:$E,5,FALSE)","v":"SSFC"},1,5,11]
[{"$nulls":4},{"$f":"VLOOKUP($A7,Participants!$A:$E,4,FALSE)","v":{"$error":"#N/A"}},{"$f":"VLOOKUP($A7,Participants!$A:$E,2,FALSE)","v":{"$error":"#N/A"}},{"$f":"VLOOKUP($A7,Participants!$A:$E,3,FALSE)","v":{"$error":"#N/A"}},{"$f":"VLOOKUP($A7,Participants!$A:$E,5,FALSE)","v":{"$error":"#N/A"}},1,{"$error":"#N/A"},{"$error":"#N/A"}]
[{"$nulls":10},{"$error":"#N/A"}]
[]
[185,"Lap 1","00:01:16.010","00:01:16.010",{"$f":"VLOOKUP($A10,Participants!$A:$E,4,FALSE)","v":6},{"$f":"VLOOKUP($A10,Participants!$A:$E,2,FALSE)","v":"Gretchen"},{"$f":"VLOOKUP($A10,Participants!$A:$E,3,FALSE)","v":"Meisberger"},{"$f":"VLOOKUP($A10,Participants!$A:$E,5,FALSE)","v":"SSFC"},2,{"$f":"RANK(D10,IF(I10=2,$D$10:$D$15,),1)","v":1},{"$f":"RANK(D10,$D$2:$D$101,1)","v":1}]
[162,"Lap 2","00:00:01.750","00:01:17.760",{"$f":"VLOOKUP($A11,Participants!$A:$E,4,FALSE)","v":6},{"$f":"VLOOKUP($A11,Participants!$A:$E,2,FALSE)","v":"Ava"},{"$f":"VLOOKUP($A11,Participants!$A:$E,3,FALSE)","v":"Cox"},{"$f":"VLOOKUP($A11,Participants!$A:$E,5,FALSE)","v":"SSFC"},2,2,3]
[305,"Lap 3","00:00:03.570","00:01:21.330",{"$f":"VLOOKUP($A12,Participants!$A:$E,4,FALSE)","v":6},{"$f":"VLOOKUP($A12,Participants!$A:$E,2,FALSE)","v":"Cecelia"},{"$f":"VLOOKUP($A12,Participants!$A:$E,3,FALSE)","v":"Schoettle"},{"$f":"VLOOKUP($A12,Participants!$A:$E,5,FALSE)","v":"St. Barnabas"},2,3,4]
[103,"Lap 4","00:00:02.620","00:01:23.960",{"$f":"VLOOKUP($A13,Participants!$A:$E,4,FALSE)","v":5},{"$f":"VLOOKUP($A13,Participants!$A:$E,2,FALSE)","v":"Nora"},{"$f":"VLOOKUP($A13,Participants!$A:$E,3,FALSE)","v":"Phillips"},{"$f":"VLOOKUP($A13,Participants!$A:$E,5,FALSE)","v":"St Jude"},2,4,5]
[68,"Lap 5","00:00:02.520","00:01:26.480",{"$f":"VLOOKUP($A14,Participants!$A:$E,4,FALSE)","v":5},{"$f":"VLOOKUP($A14,Participants!$A:$E,2,FALSE)","v":"Maric"},{"$f":"VLOOKUP($A14,Participants!$A:$E,3,FALSE)","v":"Kramer"},{"$f":"VLOOKUP($A14,Participants!$A:$E,5,FALSE)","v":"St Jude"},2,5,7]
[null,"Lap 6","00:00:08.790","00:01:35.280",{"$f":"VLOOKUP($A15,Participants!$A:$E,4,FALSE)","v":{"$error":"#N/A"}},{"$f":"VLOOKUP($A15,Participants!$A:$E,2,FALSE)","v":{"$error":"#N/A"}},{"$f":"VLOOKUP($A15,Participants!$A:$E,3,FALSE)","v":{"$error":"#N/A"}},{"$f":"VLOOKUP($A15,Participants!$A:$E,5,FALSE)","v":{"$error":"#N/A"}},2,6,9]
[]
[{"$nulls":4},{"$f":"VLOOKUP($A17,Participants!$A:$E,4,FALSE)","v":{"$error":"#N/A"}},{"$f":"VLOOKUP($A17,Participants!$A:$E,2,FALSE)","v":{"$error":"#N/A"}},{"$f":"VLOOKUP($A17,Participants!$A:$E,3,FALSE)","v":{"$error":"#N/A"}},{"$f":"VLOOKUP($A17,Participants!$A:$E,5,FALSE)","v":{"$error":"#N/A"}},3,{"$f":"RANK(D17,IF(I17=3,$D$17:$D$22,),1)","v":{"$error":"#N/A"}},{"$f":"RANK(D17,$D$2:$D$101,1)","v":{"$error":"#N/A"}}]
[{"$nulls":4},{"$f":"VLOOKUP($A18,Participants!$A:$E,4,FALSE)","v":{"$error":"#N/A"}},{"$f":"VLOOKUP($A18,Participants!$A:$E,2,FALSE)","v":{"$error":"#N/A"}},{"$f":"VLOOKUP($A18,Participants!$A:$E,3,FALSE)","v":{"$error":"#N/A"}},{"$f":"VLOOKUP($A18,Participants!$A:$E,5,FALSE)","v":{"$error":"#N/A"}},3,{"$error":"#N/A"},{"$error":"#N/A"}]
[{"$nulls":4},{"$f":"VLOOKUP($A19,Participants!$A:$E,4,FALSE)","v":{"$error":"#N/A"}},{"$f":"VLOOKUP($A19,Participants!$A:$E,2,FALSE)","v":{"$error":"#N/A"}},{"$f":"VLOOKUP($A19,Participants!$A:$E,3,FALSE)","v":{"$error":"#N/A"}},{"$f":"VLOOKUP($A19,Participants!$A:$E,5,FALSE)","v":{"$error":"#N/A"}},3,{"$error":"#N/A"},{"$error":"#N/A"}]
[{"$nulls":4},{"$f":"VLOOKUP($A20,Participants!$A:$E,4,FALSE)","v":{"$error":"#N/A"}},{"$f":"VLOOKUP($A20,Participants!$A:$E,2,FALSE)","v":{"$error":"#N/A"}},{"$f":"VLOOKUP($A20,Participants!$A:$E,3,FALSE)","v":{"$error":"#N/A"}},{"$f":"VLOOKUP($A20,Participants!$A:$E,5,FALSE)","v":{"$error":"#N/A"}},3,{"$error":"#N/A"},{"$error":"#N/A"}]
[{"$nulls":4},{"$f":"VLOOKUP($A21,Participants!$A:$E,4,FALSE)","v":{"$error":"#N/A"}},{"$f":"VLOOKUP($A21,Participants!$A:$E,2,FALSE)","v":{"$error":"#N/A"}},{"$f":"VLOOKUP($A21,Participants!$A:$E,3,FALSE)","v":{"$error":"#N/A"}},{"$f":"VLOOKUP($A21,Participants!$A:$E,5,FALSE)","v":{"$error":"#N/A"}},3,{"$error":"#N/A"},{"$error":"#N/A"}]
[{"$nulls":4},{"$f":"VLOOKUP($A22,Participants!$A:$E,4,FALSE)","v":{"$error":"#N/A"}},{"$f":"VLOOKUP($A22,Participants!$A:$E,2,FALSE)","v":{"$error":"#N/A"}},{"$f":"VLOOKUP($A22,Participants!$A:$E,3,FALSE)","v":{"$error":"#N/A"}},{"$f":"VLOOKUP($A22,Participants!$A:$E,5,FALSE)","v":{"$error":"#N/A"}},3,{"$error":"#N/A"},{"$error":"#N/A"}]
[]
[{"$nulls":4},{"$f":"VLOOKUP($A24,Participants!$A:$E,4,FALSE)","v":{"$error":"#N/A"}},{"$f":"VLOOKUP($A24,Participants!$A:$E,2,FALSE)","v":{"$error":"#N/A"}},{"$f":"VLOOKUP($A24,Participants!$A:$E,3,FALSE)","v":{"$error":"#N/A"}},{"$f":"VLOOKUP($A24,Participants!$A:$E,5,FALSE)","v":{"$error":"#N/A"}},4,{"$f":"RANK(D24,IF(I24=4,$D$24:$D$29,),1)","v":{"$error":"#N/A"}},{"$f":"RANK(D24,$D$2:$D$101,1)","v":{"$error":"#N/A"}}]
[{"$nulls":4},{"$f":"VLOOKUP($A25,Participants!$A:$E,4,FALSE)","v":{"$error":"#N/A"}},{"$f":"VLOOKUP($A25,Participants!$A:$E,2,FALSE)","v":{"$error":"#N/A"}},{"$f":"VLOOKUP($A25,Participants!$A:$E,3,FALSE)","v":{"$error":"#N/A"}},{"$f":"VLOOKUP($A25,Participants!$A:$E,5,FALSE)","v":{"$error":"#N/A"}},4,{"$error":"#N/A"},{"$error":"#N/A"}]
[{"$nulls":4},{"$f":"VLOOKUP($A26,Participants!$A:$E,4,FALSE)","v":{"$error":"#N/A"}},{"$f":"VLOOKUP($A26,Participants!$A:$E,2,FALSE)","v":{"$error":"#N/A"}},{"$f":"VLOOKUP($A26,Participants!$A:$E,3,FALSE)","v":{"$error":"#N/A"}},{"$f":"VLOOKUP($A26,Participants!$A:$E,5,FALSE)","v":{"$error":"#N/A"}},4,{"$error":"#N/A"},{"$error":"#N/A"}]
[{"$nulls":4},{"$f":"VLOOKUP($A27,Participants!$A:$E,4,FALSE)","v":{"$error":"#N/A"}},{"$f":"VLOOKUP($A27,Participants!$A:$E,2,FALSE)","v":{"$error":"#N/A"}},{"$f":"VLOOKUP($A27,Participants!$A:$E,3,FALSE)","v":{"$error":"#N/A"}},{"$f":"VLOOKUP($A27,Participants!$A:$E,5,FALSE)","v":{"$error":"#N/A"}},4,{"$error":"#N/A"},{"$error":"#N/A"}]
[{"$nulls":4},{"$f":"VLOOKUP($A28,Participants!$A:$E,4,FALSE)","v":{"$error":"#N/A"}},{"$f":"VLOOKUP($A28,Participants!$A:$E,2,FALSE)","v":{"$error":"#N/A"}},{"$f":"VLOOKUP($A28,Participants!$A:$E,3,FALSE)","v":{"$error":"#N/A"}},{"$f":"VLOOKUP($A28,Participants!$A:$E,5,FALSE)","v":{"$error":"#N/A"}},4,{"$error":"#N/A"},{"$error":"#N/A"}]
[{"$nulls":4},{"$f":"VLOOKUP($A29,Participants!$A:$E,4,FALSE)","v":{"$error":"#N/A"}},{"$f":"VLOOKUP($A29,Participants!$A:$E,2,FALSE)","v":{"$error":"#N/A"}},{"$f":"VLOOKUP($A29,Participants!$A:$E,3,FALSE)","v":{"$error":"#N/A"}},{"$f":"VLOOKUP($A29,Participants!$A:$E,5,FALSE)","v":{"$error":"#N/A"}},4,{"$error":"#N/A"},{"$error":"#N/A"}]
[]
[{"$nulls":4},{"$f":"VLOOKUP($A31,Participants!$A:$E,4,FALSE)","v":{"$error":"#N/A"}},{"$f":"VLOOKUP($A31,Participants!$A:$E,2,FALSE)","v":{"$error":"#N/A"}},{"$f":"VLOOKUP($A31,Participants!$A:$E,3,FALSE)","v":{"$error":"#N/A"}},{"$f":"VLOOKUP($A31,Participants!$A:$E,5,FALSE)","v":{"$error":"#N/A"}},5,{"$f":"RANK(D31,IF(I31=5,$D$31:$D$36,),1)","v":{"$error":"#N/A"}},{"$f":"RANK(D31,$D$2:$D$101,1)","v":{"$error":"#N/A"}}]
[{"$nulls":4},{"$f":"VLOOKUP($A32,Participants!$A:$E,4,FALSE)","v":{"$error":"#N/A"}},{"$f":"VLOOKUP($A32,Participants!$A:$E,2,FALSE)","v":{"$error":"#N/A"}},{"$f":"VLOOKUP($A32,Participants!$A:$E,3,FALSE)","v":{"$error":"#N/A"}},{"$f":"VLOOKUP($A32,Participants!$A:$E,5,FALSE)","v":{"$error":"#N/A"}},5,{"$f":"RANK(D32,IF(I32=5,$D$31:$D$36,),1)","v":{"$error":"#N/A"}},{"$error":"#N/A"}]
[{"$nulls":4},{"$f":"VLOOKUP($A33,Participants!$A:$E,4,FALSE)","v":{"$error":"#N/A"}},{"$f":"VLOOKUP($A33,Participants!$A:$E,2,FALSE)","v":{"$error":"#N/A"}},{"$f":"VLOOKUP($A33,Participants!$A:$E,3,FALSE)","v":{"$error":"#N/A"}},{"$f":"VLOOKUP($A33,Participants!$A:$E,5,FALSE)","v":{"$error":"#N/A"}},5,{"$error":"#N/A"},{"$error":"#N/A"}]
[{"$nulls":4},{"$f":"VLOOKUP($A34,Participants!$A:$E,4,FALSE)","v":{"$error":"#N/A"}},{"$f":"VLOOKUP($A34,Participants!$A:$E,2,FALSE)","v":{"$error":"#N/A"}},{"$f":"VLOOKUP($A34,Participants!$A:$E,3,FALSE)","v":{"$error":"#N/A"}},{"$f":"VLOOKUP($A34,Participants!$A:$E,5,FALSE)","v":{"$error":"#N/A"}},5,{"$error":"#N/A"},{"$error":"#N/A"}]
[{"$nulls":4},{"$f":"VLOOKUP($A35,Participants!$A:$E,4,FALSE)","v":{"$error":"#N/A"}},{"$f":"VLOOKUP($A35,Participants!$A:$E,2,FALSE)","v":{"$error":"#N/A"}},{"$f":"VLOOKUP($A35,Participants!$A:$E,3,FALSE)","v":{"$error":"#N/A"}},{"$f":"VLOOKUP($A35,Participants!$A:$E,5,FALSE)","v":{"$error":"#N/A"}},5,{"$error":"#N/A"},{"$error":"#N/A"}]
[{"$nulls":4},{"$f":"VLOOKUP($A36,Participants!$A:$E,4,FALSE)","v":{"$error":"#N/A"}},{"$f":"VLOOKUP($A36,Participants!$A:$E,2,FALSE)","v":{"$error":"#N/A"}},{"$f":"VLOOKUP($A36,Participants!$A:$E,3,FALSE)","v":{"$error":"#N/A"}},{"$f":"VLOOKUP($A36,Participants!$A:$E,5,FALSE)","v":{"$error":"#N/A"}},5,{"$error":"#N/A"},{"$error":"#N/A"}]
[]
[{"$nulls":4},{"$f":"VLOOKUP($A38,Participants!$A:$E,4,FALSE)","v":{"$error":"#N/A"}},{"$f":"VLOOKUP($A38,Participants!$A:$E,2,FALSE)","v":{"$error":"#N/A"}},{"$f":"VLOOKUP($A38,Participants!$A:$E,3,FALSE)","v":{"$error":"#N/A"}},{"$f":"VLOOKUP($A38,Participants!$A:$E,5,FALSE)","v":{"$error":"#N/A"}},6,{"$f":"RANK(D38,IF(I38=6,$D$38:$D$43,),1)","v":{"$error":"#N/A"}},{"$f":"RANK(D38,$D$2:$D$101,1)","v":{"$error":"#N/A"}}]
[{"$nulls":4},{"$f":"VLOOKUP($A39,Participants!$A:$E,4,FALSE)","v":{"$error":"#N/A"}},{"$f":"VLOOKUP($A39,Participants!$A:$E,2,FALSE)","v":{"$error":"#N/A"}},{"$f":"VLOOKUP($A39,Participants!$A:$E,3,FALSE)","v":{"$error":"#N/A"}},{"$f":"VLOOKUP($A39,Participants!$A:$E,5,FALSE)","v":{"$error":"#N/A"}},6,{"$f":"RANK(D39,IF(I39=6,$D$38:$D$43,),1)","v":{"$error":"#N/A"}},{"$error":"#N/A"}]
[{"$nulls":4},{"$f":"VLOOKUP($A40,Participants!$A:$E,4,FALSE)","v":{"$error":"#N/A"}},{"$f":"VLOOKUP($A40,Participants!$A:$E,2,FALSE)","v":{"$error":"#N/A"}},{"$f":"VLOOKUP($A40,Participants!$A:$E,3,FALSE)","v":{"$error":"#N/A"}},{"$f":"VLOOKUP($A40,Participants!$A:$E,5,FALSE)","v":{"$error":"#N/A"}},6,{"$error":"#N/A"},{"$error":"#N/A"}]
[{"$nulls":4},{"$f":"VLOOKUP($A41,Participants!$A:$E,4,FALSE)","v":{"$error":"#N/A"}},{"$f":"VLOOKUP($A41,Participants!$A:$E,2,FALSE)","v":{"$error":"#N/A"}},{"$f":"VLOOKUP($A41,Participants!$A:$E,3,FALSE)","v":{"$error":"#N/A"}},{"$f":"VLOOKUP($A41,Participants!$A:$E,5,FALSE)","v":{"$error":"#N/A"}},6,{"$error":"#N/A"},{"$error":"#N/A"}]
[{"$nulls":4},{"$f":"VLOOKUP($A42,Participants!$A:$E,4,FALSE)","v":{"$error":"#N/A"}},{"$f":"VLOOKUP($A42,Participants!$A:$E,2,FALSE)","v":{"$error":"#N/A"}},{"$f":"VLOOKUP($A42,Participants!$A:$E,3,FALSE)","v":{"$error":"#N/A"}},{"$f":"VLOOKUP($A42,Participants!$A:$E,5,FALSE)","v":{"$error":"#N/A"}},6,{"$error":"#N/A"},{"$error":"#N/A"}]
[{"$nulls":4},{"$f":"VLOOKUP($A43,Participants!$A:$E,4,FALSE)","v":{"$error":"#N/A"}},{"$f":"VLOOKUP($A43,Participants!$A:$E,2,FALSE)","v":{"$error":"#N/A"}},{"$f":"VLOOKUP($A43,Participants!$A:$E,3,FALSE)","v":{"$error":"#N/A"}},{"$f":"VLOOKUP($A43,Participants!$A:$E,5,FALSE)","v":{"$error":"#N/A"}},6,{"$error":"#N/A"},{"$error":"#N/A"}]

{"sheet":"50 56 Girls","index":43,"n_rows":42,"n_cols":13,"rows_kept":42}
["Bib","HeatOrder",null,"Time","Grade","FName","Lname","School","Heat","Heat Place","Overall Place",null,"Return to Schedule of Events"]
[16,"Lap 1","00:00:08.260","00:00:08.260",{"$f":"VLOOKUP($A2,Participants!$A:$E,4,FALSE)","v":5},{"$f":"VLOOKUP($A2,Participants!$A:$E,2,FALSE)","v":"Delanie"},{"$f":"VLOOKUP($A2,Participants!$A:$E,3,FALSE)","v":"Bullock"},{"$f":"VLOOKUP($A2,Participants!$A:$E,5,FALSE)","v":"St Jude"},1,{"$f":"RANK(D2,IF(I2=1,$D$2:$D$7,),1)","v":1},{"$f":"RANK(D2,$D$2:$D$100,1)","v":1}]
[6,"Lap 2","00:00:00.850","00:00:09.120",{"$f":"VLOOKUP($A3,Participants!$A:$E,4,FALSE)","v":5},{"$f":"VLOOKUP($A3,Participants!$A:$E,2,FALSE)","v":"Olivia"},{"$f":"VLOOKUP($A3,Participants!$A:$E,3,FALSE)","v":"Antolin"},{"$f":"VLOOKUP($A3,Participants!$A:$E,5,FALSE)","v":"St Jude"},1,2,{"$f":"RANK(D3,$D$2:$D$100,1)","v":5},null,"Add or Update Participants"]
[204,"Lap 3","00:00:00.150","00:00:09.270",{"$f":"VLOOKUP($A4,Participants!$A:$E,4,FALSE)","v":6},{"$f":"VLOOKUP($A4,Participants!$A:$E,2,FALSE)","v":"Emma"},{"$f":"VLOOKUP($A4,Participants!$A:$E,3,FALSE)","v":"Timberlake"},{"$f":"VLOOKUP($A4,Participants!$A:$E,5,FALSE)","v":"SSFC"},1,3,6,null,"Overall Place and Points"]
[155,"Lap 4","00:00:00.670","00:00:09.940",{"$f":"VLOOKUP($A5,Participants!$A:$E,4,FALSE)","v":6},{"$f":"VLOOKUP($A5,Participants!$A:$E,2,FALSE)","v":"Madalyn"},{"$f":"VLOOKUP($A5,Participants!$A:$E,3,FALSE)","v":"Back"},{"$f":"VLOOKUP($A5,Participants!$A:$E,5,FALSE)","v":"SSFC"},1,4,9]
[168,"Lap 5","00:00:00.650","00:00:10.590",{"$f":"VLOOKUP($A6,Participants!$A:$E,4,FALSE)","v":6},{"$f":"VLOOKUP($A6,Participants!$A:$E,2,FALSE)","v":"Noel"},{"$f":"VLOOKUP($A6,Participants!$A:$E,3,FALSE)","v":"Eble"},{"$f":"VLOOKUP($A6,Participants!$A:$E,5,FALSE)","v":"SSFC"},1,5,12]
[{"$nulls":4},{"$f":"VLOOKUP($A7,Participants!$A:$E,4,FALSE)","v":{"$error":"#N/A"}},{"$f":"VLOOKUP($A7,Participants!$A:$E,2,FALSE)","v":{"$error":"#N/A"}},{"$f":"VLOOKUP($A7,Participants!$A:$E,3,FALSE)","v":{"$error":"#N/A"}},{"$f":"VLOOKUP($A7,Participants!$A:$E,5,FALSE)","v":{"$error":"#N/A"}},1,{"$error":"#N/A"},{"$error":"#N/A"}]
[]
[162,"Lap 1","00:00:08.440","00:00:08.440",{"$f":"VLOOKUP($A9,Participants!$A:$E,4,FALSE)","v":6},{"$f":"VLOOKUP($A9,Participants!$A:$E,2,FALSE)","v":"Ava"},{"$f":"VLOOKUP($A9,Participants!$A:$E,3,FALSE)","v":"Cox"},{"$f":"VLOOKUP($A9,Participants!$A:$E,5,FALSE)","v":"SSFC"},2,{"$f":"RANK(D9,IF(I9=2,$D$9:$D$14,),1)","v":1},2]
[94,"Lap 2","00:00:00.190","00:00:08.630",{"$f":"VLOOKUP($A10,Participants!$A:$E,4,FALSE)","v":5},{"$f":"VLOOKUP($A10,Participants!$A:$E,2,FALSE)","v":"Lola"},{"$f":"VLOOKUP($A10,Participants!$A:$E,3,FALSE)","v":"Morelli"},{"$f":"VLOOKUP($A10,Participants!$A:$E,5,FALSE)","v":"St Jude"},2,2,4]
[229,"Lap 3","00:00:01.030","00:00:09.670",{"$f":"VLOOKUP($A11,Participants!$A:$E,4,FALSE)","v":6},{"$f":"VLOOKUP($A11,Participants!$A:$E,2,FALSE)","v":"Leah"},{"$f":"VLOOKUP($A11,Participants!$A:$E,3,FALSE)","v":"Clark"},{"$f":"VLOOKUP($A11,Participants!$A:$E,5,FALSE)","v":"United We Run"},2,3,7]
[215,"Lap 4","00:00:00.180","00:00:09.860",{"$f":"VLOOKUP($A12,Participants!$A:$E,4,FALSE)","v":5},{"$f":"VLOOKUP($A12,Participants!$A:$E,2,FALSE)","v":"Ashley"},{"$f":"VLOOKUP($A12,Participants!$A:$E,3,FALSE)","v":"Woodburn"},{"$f":"VLOOKUP($A12,Participants!$A:$E,5,FALSE)","v":"SSFC"},2,4,8]
[207,"Lap 5","00:00:00.980","00:00:10.840",{"$f":"VLOOKUP($A13,Participants!$A:$E,4,FALSE)","v":5},{"$f":"VLOOKUP($A13,Participants!$A:$E,2,FALSE)","v":"Megan"},{"$f":"VLOOKUP($A13,Participants!$A:$E,3,FALSE)","v":"Trieste"},{"$f":"VLOOKUP($A13,Participants!$A:$E,5,FALSE)","v":"SSFC"},2,5,13]
[{"$nulls":4},{"$f":"VLOOKUP($A14,Participants!$A:$E,4,FALSE)","v":{"$error":"#N/A"}},{"$f":"VLOOKUP($A14,Participants!$A:$E,2,FALSE)","v":{"$error":"#N/A"}},{"$f":"VLOOKUP($A14,Participants!$A:$E,3,FALSE)","v":{"$error":"#N/A"}},{"$f":"VLOOKUP($A14,Participants!$A:$E,5,FALSE)","v":{"$error":"#N/A"}},2,{"$error":"#N/A"},{"$error":"#N/A"}]
[]
[57,"Lap 1","00:00:08.590","00:00:08.590",{"$f":"VLOOKUP($A16,Participants!$A:$E,4,FALSE)","v":5},{"$f":"VLOOKUP($A16,Participants!$A:$E,2,FALSE)","v":"Lucy "},{"$f":"VLOOKUP($A16,Participants!$A:$E,3,FALSE)","v":"Jackson"},{"$f":"VLOOKUP($A16,Participants!$A:$E,5,FALSE)","v":"St Jude"},3,{"$f":"RANK(D16,IF(I16=3,$D$16:$D$21,),1)","v":1},3]
[181,"Lap 2","00:00:01.380","00:00:09.970",{"$f":"VLOOKUP($A17,Participants!$A:$E,4,FALSE)","v":5},{"$f":"VLOOKUP($A17,Participants!$A:$E,2,FALSE)","v":"Evelyn"},{"$f":"VLOOKUP($A17,Participants!$A:$E,3,FALSE)","v":"Lewis"},{"$f":"VLOOKUP($A17,Participants!$A:$E,5,FALSE)","v":"SSFC"},3,2,10]
[153,"Lap 3","00:00:00.290","00:00:10.270",{"$f":"VLOOKUP($A18,Participants!$A:$E,4,FALSE)","v":5},{"$f":"VLOOKUP($A18,Participants!$A:$E,2,FALSE)","v":"Lilah"},{"$f":"VLOOKUP($A18,Participants!$A:$E,3,FALSE)","v":"Argiris"},{"$f":"VLOOKUP($A18,Participants!$A:$E,5,FALSE)","v":"SSFC"},3,3,11]
[{"$nulls":4},{"$f":"VLOOKUP($A19,Participants!$A:$E,4,FALSE)","v":{"$error":"#N/A"}},{"$f":"VLOOKUP($A19,Participants!$A:$E,2,FALSE)","v":{"$error":"#N/A"}},{"$f":"VLOOKUP($A19,Participants!$A:$E,3,FALSE)","v":{"$error":"#N/A"}},{"$f":"VLOOKUP($A19,Participants!$A:$E,5,FALSE)","v":{"$error":"#N/A"}},3,{"$error":"#N/A"},{"$error":"#N/A"}]
[{"$nulls":4},{"$f":"VLOOKUP($A20,Participants!$A:$E,4,FALSE)","v":{"$error":"#N/A"}},{"$f":"VLOOKUP($A20,Participants!$A:$E,2,FALSE)","v":{"$error":"#N/A"}},{"$f":"VLOOKUP($A20,Participants!$A:$E,3,FALSE)","v":{"$error":"#N/A"}},{"$f":"VLOOKUP($A20,Participants!$A:$E,5,FALSE)","v":{"$error":"#N/A"}},3,{"$error":"#N/A"},{"$error":"#N/A"}]
[{"$nulls":4},{"$f":"VLOOKUP($A21,Participants!$A:$E,4,FALSE)","v":{"$error":"#N/A"}},{"$f":"VLOOKUP($A21,Participants!$A:$E,2,FALSE)","v":{"$error":"#N/A"}},{"$f":"VLOOKUP($A21,Participants!$A:$E,3,FALSE)","v":{"$error":"#N/A"}},{"$f":"VLOOKUP($A21,Participants!$A:$E,5,FALSE)","v":{"$error":"#N/A"}},3,{"$error":"#N/A"},{"$error":"#N/A"}]
[]
[{"$nulls":4},{"$f":"VLOOKUP($A23,Participants!$A:$E,4,FALSE)","v":{"$error":"#N/A"}},{"$f":"VLOOKUP($A23,Participants!$A:$E,2,FALSE)","v":{"$error":"#N/A"}},{"$f":"VLOOKUP($A23,Participants!$A:$E,3,FALSE)","v":{"$error":"#N/A"}},{"$f":"VLOOKUP($A23,Participants!$A:$E,5,FALSE)","v":{"$error":"#N/A"}},4,{"$f":"RANK(D23,IF(I23=4,$D$23:$D$28,),1)","v":{"$error":"#N/A"}},{"$error":"#N/A"}]
[{"$nulls":4},{"$f":"VLOOKUP($A24,Participants!$A:$E,4,FALSE)","v":{"$error":"#N/A"}},{"$f":"VLOOKUP($A24,Participants!$A:$E,2,FALSE)","v":{"$error":"#N/A"}},{"$f":"VLOOKUP($A24,Participants!$A:$E,3,FALSE)","v":{"$error":"#N/A"}},{"$f":"VLOOKUP($A24,Participants!$A:$E,5,FALSE)","v":{"$error":"#N/A"}},4,{"$error":"#N/A"},{"$error":"#N/A"}]
[{"$nulls":4},{"$f":"VLOOKUP($A25,Participants!$A:$E,4,FALSE)","v":{"$error":"#N/A"}},{"$f":"VLOOKUP($A25,Participants!$A:$E,2,FALSE)","v":{"$error":"#N/A"}},{"$f":"VLOOKUP($A25,Participants!$A:$E,3,FALSE)","v":{"$error":"#N/A"}},{"$f":"VLOOKUP($A25,Participants!$A:$E,5,FALSE)","v":{"$error":"#N/A"}},4,{"$error":"#N/A"},{"$error":"#N/A"}]
[{"$nulls":4},{"$f":"VLOOKUP($A26,Participants!$A:$E,4,FALSE)","v":{"$error":"#N/A"}},{"$f":"VLOOKUP($A26,Participants!$A:$E,2,FALSE)","v":{"$error":"#N/A"}},{"$f":"VLOOKUP($A26,Participants!$A:$E,3,FALSE)","v":{"$error":"#N/A"}},{"$f":"VLOOKUP($A26,Participants!$A:$E,5,FALSE)","v":{"$error":"#N/A"}},4,{"$error":"#N/A"},{"$error":"#N/A"}]
[{"$nulls":4},{"$f":"VLOOKUP($A27,Participants!$A:$E,4,FALSE)","v":{"$error":"#N/A"}},{"$f":"VLOOKUP($A27,Participants!$A:$E,2,FALSE)","v":{"$error":"#N/A"}},{"$f":"VLOOKUP($A27,Participants!$A:$E,3,FALSE)","v":{"$error":"#N/A"}},{"$f":"VLOOKUP($A27,Participants!$A:$E,5,FALSE)","v":{"$error":"#N/A"}},4,{"$error":"#N/A"},{"$error":"#N/A"}]
[{"$nulls":4},{"$f":"VLOOKUP($A28,Participants!$A:$E,4,FALSE)","v":{"$error":"#N/A"}},{"$f":"VLOOKUP($A28,Participants!$A:$E,2,FALSE)","v":{"$error":"#N/A"}},{"$f":"VLOOKUP($A28,Participants!$A:$E,3,FALSE)","v":{"$error":"#N/A"}},{"$f":"VLOOKUP($A28,Participants!$A:$E,5,FALSE)","v":{"$error":"#N/A"}},4,{"$error":"#N/A"},{"$error":"#N/A"}]
[]
[{"$nulls":4},{"$f":"VLOOKUP($A30,Participants!$A:$E,4,FALSE)","v":{"$error":"#N/A"}},{"$f":"VLOOKUP($A30,Participants!$A:$E,2,FALSE)","v":{"$error":"#N/A"}},{"$f":"VLOOKUP($A30,Participants!$A:$E,3,FALSE)","v":{"$error":"#N/A"}},{"$f":"VLOOKUP($A30,Participants!$A:$E,5,FALSE)","v":{"$error":"#N/A"}},5,{"$f":"RANK(D30,IF(I30=5,$D$30:$D$35,),1)","v":{"$error":"#N/A"}},{"$error":"#N/A"}]
[{"$nulls":4},{"$f":"VLOOKUP($A31,Participants!$A:$E,4,FALSE)","v":{"$error":"#N/A"}},{"$f":"VLOOKUP($A31,Participants!$A:$E,2,FALSE)","v":{"$error":"#N/A"}},{"$f":"VLOOKUP($A31,Participants!$A:$E,3,FALSE)","v":{"$error":"#N/A"}},{"$f":"VLOOKUP($A31,Participants!$A:$E,5,FALSE)","v":{"$error":"#N/A"}},5,{"$f":"RANK(D31,IF(I31=5,$D$30:$D$35,),1)","v":{"$error":"#N/A"}},{"$error":"#N/A"}]
[{"$nulls":4},{"$f":"VLOOKUP($A32,Participants!$A:$E,4,FALSE)","v":{"$error":"#N/A"}},{"$f":"VLOOKUP($A32,Participants!$A:$E,2,FALSE)","v":{"$error":"#N/A"}},{"$f":"VLOOKUP($A32,Participants!$A:$E,3,FALSE)","v":{"$error":"#N/A"}},{"$f":"VLOOKUP($A32,Participants!$A:$E,5,FALSE)","v":{"$error":"#N/A"}},5,{"$error":"#N/A"},{"$error":"#N/A"}]
[{"$nulls":4},{"$f":"VLOOKUP($A33,Participants!$A:$E,4,FALSE)","v":{"$error":"#N/A"}},{"$f":"VLOOKUP($A33,Participants!$A:$E,2,FALSE)","v":{"$error":"#N/A"}},{"$f":"VLOOKUP($A33,Participants!$A:$E,3,FALSE)","v":{"$error":"#N/A"}},{"$f":"VLOOKUP($A33,Participants!$A:$E,5,FALSE)","v":{"$error":"#N/A"}},5,{"$error":"#N/A"},{"$error":"#N/A"}]
[{"$nulls":4},{"$f":"VLOOKUP($A34,Participants!$A:$E,4,FALSE)","v":{"$error":"#N/A"}},{"$f":"VLOOKUP($A34,Participants!$A:$E,2,FALSE)","v":{"$error":"#N/A"}},{"$f":"VLOOKUP($A34,Participants!$A:$E,3,FALSE)","v":{"$error":"#N/A"}},{"$f":"VLOOKUP($A34,Participants!$A:$E,5,FALSE)","v":{"$error":"#N/A"}},5,{"$error":"#N/A"},{"$error":"#N/A"}]
[{"$nulls":4},{"$f":"VLOOKUP($A35,Participants!$A:$E,4,FALSE)","v":{"$error":"#N/A"}},{"$f":"VLOOKUP($A35,Participants!$A:$E,2,FALSE)","v":{"$error":"#N/A"}},{"$f":"VLOOKUP($A35,Participants!$A:$E,3,FALSE)","v":{"$error":"#N/A"}},{"$f":"VLOOKUP($A35,Participants!$A:$E,5,FALSE)","v":{"$error":"#N/A"}},5,{"$error":"#N/A"},{"$error":"#N/A"}]
[]
[{"$nulls":4},{"$f":"VLOOKUP($A37,Participants!$A:$E,4,FALSE)","v":{"$error":"#N/A"}},{"$f":"VLOOKUP($A37,Participants!$A:$E,2,FALSE)","v":{"$error":"#N/A"}},{"$f":"VLOOKUP($A37,Participants!$A:$E,3,FALSE)","v":{"$error":"#N/A"}},{"$f":"VLOOKUP($A37,Participants!$A:$E,5,FALSE)","v":{"$error":"#N/A"}},6,{"$f":"RANK(D37,IF(I37=6,$D$37:$D$42,),1)","v":{"$error":"#N/A"}},{"$error":"#N/A"}]
[{"$nulls":4},{"$f":"VLOOKUP($A38,Participants!$A:$E,4,FALSE)","v":{"$error":"#N/A"}},{"$f":"VLOOKUP($A38,Participants!$A:$E,2,FALSE)","v":{"$error":"#N/A"}},{"$f":"VLOOKUP($A38,Participants!$A:$E,3,FALSE)","v":{"$error":"#N/A"}},{"$f":"VLOOKUP($A38,Participants!$A:$E,5,FALSE)","v":{"$error":"#N/A"}},6,{"$f":"RANK(D38,IF(I38=6,$D$37:$D$42,),1)","v":{"$error":"#N/A"}},{"$error":"#N/A"}]
[{"$nulls":4},{"$f":"VLOOKUP($A39,Participants!$A:$E,4,FALSE)","v":{"$error":"#N/A"}},{"$f":"VLOOKUP($A39,Participants!$A:$E,2,FALSE)","v":{"$error":"#N/A"}},{"$f":"VLOOKUP($A39,Participants!$A:$E,3,FALSE)","v":{"$error":"#N/A"}},{"$f":"VLOOKUP($A39,Participants!$A:$E,5,FALSE)","v":{"$error":"#N/A"}},6,{"$error":"#N/A"},{"$error":"#N/A"}]
[{"$nulls":4},{"$f":"VLOOKUP($A40,Participants!$A:$E,4,FALSE)","v":{"$error":"#N/A"}},{"$f":"VLOOKUP($A40,Participants!$A:$E,2,FALSE)","v":{"$error":"#N/A"}},{"$f":"VLOOKUP($A40,Participants!$A:$E,3,FALSE)","v":{"$error":"#N/A"}},{"$f":"VLOOKUP($A40,Participants!$A:$E,5,FALSE)","v":{"$error":"#N/A"}},6,{"$error":"#N/A"},{"$error":"#N/A"}]
[{"$nulls":4},{"$f":"VLOOKUP($A41,Participants!$A:$E,4,FALSE)","v":{"$error":"#N/A"}},{"$f":"VLOOKUP($A41,Participants!$A:$E,2,FALSE)","v":{"$error":"#N/A"}},{"$f":"VLOOKUP($A41,Participants!$A:$E,3,FALSE)","v":{"$error":"#N/A"}},{"$f":"VLOOKUP($A41,Participants!$A:$E,5,FALSE)","v":{"$error":"#N/A"}},6,{"$error":"#N/A"},{"$error":"#N/A"}]
[{"$nulls":4},{"$f":"VLOOKUP($A42,Participants!$A:$E,4,FALSE)","v":{"$error":"#N/A"}},{"$f":"VLOOKUP($A42,Participants!$A:$E,2,FALSE)","v":{"$error":"#N/A"}},{"$f":"VLOOKUP($A42,Participants!$A:$E,3,FALSE)","v":{"$error":"#N/A"}},{"$f":"VLOOKUP($A42,Participants!$A:$E,5,FALSE)","v":{"$error":"#N/A"}},6,{"$error":"#N/A"},{"$error":"#N/A"}]

{"sheet":"200 56 Girls","index":44,"n_rows":42,"n_cols":13,"rows_kept":42}
["Bib","HeatOrder",null,"Time","Grade","FName","Lname","School","Heat","Heat Place","Overall Place",null,"Return to Schedule of Events"]
[123,"Lap 1","00:00:34.320","00:00:34.320",{"$f":"VLOOKUP($A2,Participants!$A:$E,4,FALSE)","v":5},{"$f":"VLOOKUP($A2,Participants!$A:$E,2,FALSE)","v":"Nora"},{"$f":"VLOOKUP($A2,Participants!$A:$E,3,FALSE)","v":"Smith"},{"$f":"VLOOKUP($A2,Participants!$A:$E,5,FALSE)","v":"St Jude"},1,{"$f":"RANK(D2,IF(I2=1,$D$2:$D$7,),1)","v":1},{"$f":"RANK(D2,$D$2:$D$100,1)","v":2}]
[243,"Lap 2","00:00:01.580","00:00:35.900",{"$f":"VLOOKUP($A3,Participants!$A:$E,4,FALSE)","v":6},{"$f":"VLOOKUP($A3,Participants!$A:$E,2,FALSE)","v":"Peyton"},{"$f":"VLOOKUP($A3,Participants!$A:$E,3,FALSE)","v":"Kocher"},{"$f":"VLOOKUP($A3,Participants!$A:$E,5,FALSE)","v":"United We Run"},1,2,{"$f":"RANK(D3,$D$2:$D$100,1)","v":8},null,"Add or Update Participants"]
[94,"Lap 3","00:00:00.220","00:00:36.130",{"$f":"VLOOKUP($A4,Participants!$A:$E,4,FALSE)","v":5},{"$f":"VLOOKUP($A4,Participants!$A:$E,2,FALSE)","v":"Lola"},{"$f":"VLOOKUP($A4,Participants!$A:$E,3,FALSE)","v":"Morelli"},{"$f":"VLOOKUP($A4,Participants!$A:$E,5,FALSE)","v":"St Jude"},1,3,9,null,"Overall Place and Points"]
[283,"Lap 4","00:00:00.470","00:00:36.610",{"$f":"VLOOKUP($A5,Participants!$A:$E,4,FALSE)","v":6},{"$f":"VLOOKUP($A5,Participants!$A:$E,2,FALSE)","v":"Alexis "},{"$f":"VLOOKUP($A5,Participants!$A:$E,3,FALSE)","v":"Koleszar"},{"$f":"VLOOKUP($A5,Participants!$A:$E,5,FALSE)","v":"St. Barnabas"},1,4,12]
[235,"Lap 5","00:00:00.470","00:00:37.080",{"$f":"VLOOKUP($A6,Participants!$A:$E,4,FALSE)","v":6},{"$f":"VLOOKUP($A6,Participants!$A:$E,2,FALSE)","v":"Hailey"},{"$f":"VLOOKUP($A6,Participants!$A:$E,3,FALSE)","v":"Engel"},{"$f":"VLOOKUP($A6,Participants!$A:$E,5,FALSE)","v":"United We Run"},1,5,14]
[155,"Lap 6","00:00:00.610","00:00:37.690",{"$f":"VLOOKUP($A7,Participants!$A:$E,4,FALSE)","v":6},{"$f":"VLOOKUP($A7,Participants!$A:$E,2,FALSE)","v":"Madalyn"},{"$f":"VLOOKUP($A7,Participants!$A:$E,3,FALSE)","v":"Back"},{"$f":"VLOOKUP($A7,Participants!$A:$E,5,FALSE)","v":"SSFC"},1,6,16]
[]
[16,"Lap 1","00:00:35.150","00:00:34.030",{"$f":"VLOOKUP($A9,Participants!$A:$E,4,FALSE)","v":5},{"$f":"VLOOKUP($A9,Participants!$A:$E,2,FALSE)","v":"Delanie"},{"$f":"VLOOKUP($A9,Participants!$A:$E,3,FALSE)","v":"Bullock"},{"$f":"VLOOKUP($A9,Participants!$A:$E,5,FALSE)","v":"St Jude"},2,{"$f":"RANK(D9,IF(I9=2,$D$9:$D$14,),1)","v":1},1]
[270,"Lap 2","00:00:01.010","00:00:34.490",{"$f":"VLOOKUP($A10,Participants!$A:$E,4,FALSE)","v":6},{"$f":"VLOOKUP($A10,Participants!$A:$E,2,FALSE)","v":"Anna"},{"$f":"VLOOKUP($A10,Participants!$A:$E,3,FALSE)","v":"Wilson"},{"$f":"VLOOKUP($A10,Participants!$A:$E,5,FALSE)","v":"United We Run"},2,2,3]
[116,"Lap 3","00:00:00.160","00:00:34.840",{"$f":"VLOOKUP($A11,Participants!$A:$E,4,FALSE)","v":5},{"$f":"VLOOKUP($A11,Participants!$A:$E,2,FALSE)","v":"Aleigha"},{"$f":"VLOOKUP($A11,Participants!$A:$E,3,FALSE)","v":"Schoettle"},{"$f":"VLOOKUP($A11,Participants!$A:$E,5,FALSE)","v":"St Jude"},2,3,4]
[244,"Lap 4","00:00:01.590","00:00:35.130",{"$f":"VLOOKUP($A12,Participants!$A:$E,4,FALSE)","v":6},{"$f":"VLOOKUP($A12,Participants!$A:$E,2,FALSE)","v":"Ava"},{"$f":"VLOOKUP($A12,Participants!$A:$E,3,FALSE)","v":"Kress"},{"$f":"VLOOKUP($A12,Participants!$A:$E,5,FALSE)","v":"United We Run"},2,4,5]
[278,"Lap 5","00:00:00.770","00:00:40.030",{"$f":"VLOOKUP($A13,Participants!$A:$E,4,FALSE)","v":5},{"$f":"VLOOKUP($A13,Participants!$A:$E,2,FALSE)","v":"Savannah"},{"$f":"VLOOKUP($A13,Participants!$A:$E,3,FALSE)","v":"Duhammel"},{"$f":"VLOOKUP($A13,Participants!$A:$E,5,FALSE)","v":"St. Barnabas"},2,5,19]
[204,null,null,"00:00:40.300",{"$f":"VLOOKUP($A14,Participants!$A:$E,4,FALSE)","v":6},{"$f":"VLOOKUP($A14,Participants!$A:$E,2,FALSE)","v":"Emma"},{"$f":"VLOOKUP($A14,Participants!$A:$E,3,FALSE)","v":"Timberlake"},{"$f":"VLOOKUP($A14,Participants!$A:$E,5,FALSE)","v":"SSFC"},2,6,20]
[]
[162,"Lap 1","00:00:35.490","00:00:35.150",{"$f":"VLOOKUP($A16,Participants!$A:$E,4,FALSE)","v":6},{"$f":"VLOOKUP($A16,Participants!$A:$E,2,FALSE)","v":"Ava"},{"$f":"VLOOKUP($A16,Participants!$A:$E,3,FALSE)","v":"Cox"},{"$f":"VLOOKUP($A16,Participants!$A:$E,5,FALSE)","v":"SSFC"},3,{"$f":"RANK(D16,IF(I16=3,$D$16:$D$21,),1)","v":1},6]
[305,"Lap 2","00:00:01.400","00:00:36.160",{"$f":"VLOOKUP($A17,Participants!$A:$E,4,FALSE)","v":6},{"$f":"VLOOKUP($A17,Participants!$A:$E,2,FALSE)","v":"Cecelia"},{"$f":"VLOOKUP($A17,Participants!$A:$E,3,FALSE)","v":"Schoettle"},{"$f":"VLOOKUP($A17,Participants!$A:$E,5,FALSE)","v":"St. Barnabas"},3,2,10]
[106,"Lap 3","00:00:00.570","00:00:36.320",{"$f":"VLOOKUP($A18,Participants!$A:$E,4,FALSE)","v":6},{"$f":"VLOOKUP($A18,Participants!$A:$E,2,FALSE)","v":"Emilia"},{"$f":"VLOOKUP($A18,Participants!$A:$E,3,FALSE)","v":"Reutebuch"},{"$f":"VLOOKUP($A18,Participants!$A:$E,5,FALSE)","v":"St Jude"},3,3,11]
[68,"Lap 4","00:00:04.430","00:00:37.920",{"$f":"VLOOKUP($A19,Participants!$A:$E,4,FALSE)","v":5},{"$f":"VLOOKUP($A19,Participants!$A:$E,2,FALSE)","v":"Maric"},{"$f":"VLOOKUP($A19,Participants!$A:$E,3,FALSE)","v":"Kramer"},{"$f":"VLOOKUP($A19,Participants!$A:$E,5,FALSE)","v":"St Jude"},3,4,17]
[272,null,null,"00:00:38.700",{"$f":"VLOOKUP($A20,Participants!$A:$E,4,FALSE)","v":5},{"$f":"VLOOKUP($A20,Participants!$A:$E,2,FALSE)","v":"Isabella"},{"$f":"VLOOKUP($A20,Participants!$A:$E,3,FALSE)","v":"Andrews"},{"$f":"VLOOKUP($A20,Participants!$A:$E,5,FALSE)","v":"St. Barnabas"},3,5,18]
[{"$nulls":4},{"$f":"VLOOKUP($A21,Participants!$A:$E,4,FALSE)","v":{"$error":"#N/A"}},{"$f":"VLOOKUP($A21,Participants!$A:$E,2,FALSE)","v":{"$error":"#N/A"}},{"$f":"VLOOKUP($A21,Participants!$A:$E,3,FALSE)","v":{"$error":"#N/A"}},{"$f":"VLOOKUP($A21,Participants!$A:$E,5,FALSE)","v":{"$error":"#N/A"}},3,{"$error":"#N/A"},{"$error":"#N/A"}]
[]
[18,null,null,"00:00:35.490",{"$f":"VLOOKUP($A23,Participants!$A:$E,4,FALSE)","v":5},{"$f":"VLOOKUP($A23,Participants!$A:$E,2,FALSE)","v":"Ella "},{"$f":"VLOOKUP($A23,Participants!$A:$E,3,FALSE)","v":"Cadwallader"},{"$f":"VLOOKUP($A23,Participants!$A:$E,5,FALSE)","v":"St Jude"},4,{"$f":"RANK(D23,IF(I23=4,$D$23:$D$28,),1)","v":1},7]
[103,null,null,"00:00:36.900",{"$f":"VLOOKUP($A24,Participants!$A:$E,4,FALSE)","v":5},{"$f":"VLOOKUP($A24,Participants!$A:$E,2,FALSE)","v":"Nora"},{"$f":"VLOOKUP($A24,Participants!$A:$E,3,FALSE)","v":"Phillips"},{"$f":"VLOOKUP($A24,Participants!$A:$E,5,FALSE)","v":"St Jude"},4,2,13]
[304,null,null,"00:00:37.470",{"$f":"VLOOKUP($A25,Participants!$A:$E,4,FALSE)","v":6},{"$f":"VLOOKUP($A25,Participants!$A:$E,2,FALSE)","v":"Annie"},{"$f":"VLOOKUP($A25,Participants!$A:$E,3,FALSE)","v":"Schoettle"},{"$f":"VLOOKUP($A25,Participants!$A:$E,5,FALSE)","v":"St. Barnabas"},4,3,15]
[153,null,null,"00:00:41.900",{"$f":"VLOOKUP($A26,Participants!$A:$E,4,FALSE)","v":5},{"$f":"VLOOKUP($A26,Participants!$A:$E,2,FALSE)","v":"Lilah"},{"$f":"VLOOKUP($A26,Participants!$A:$E,3,FALSE)","v":"Argiris"},{"$f":"VLOOKUP($A26,Participants!$A:$E,5,FALSE)","v":"SSFC"},4,4,21]
[{"$nulls":4},{"$f":"VLOOKUP($A27,Participants!$A:$E,4,FALSE)","v":{"$error":"#N/A"}},{"$f":"VLOOKUP($A27,Participants!$A:$E,2,FALSE)","v":{"$error":"#N/A"}},{"$f":"VLOOKUP($A27,Participants!$A:$E,3,FALSE)","v":{"$error":"#N/A"}},{"$f":"VLOOKUP($A27,Participants!$A:$E,5,FALSE)","v":{"$error":"#N/A"}},4,{"$error":"#N/A"},{"$error":"#N/A"}]
[{"$nulls":4},{"$f":"VLOOKUP($A28,Participants!$A:$E,4,FALSE)","v":{"$error":"#N/A"}},{"$f":"VLOOKUP($A28,Participants!$A:$E,2,FALSE)","v":{"$error":"#N/A"}},{"$f":"VLOOKUP($A28,Participants!$A:$E,3,FALSE)","v":{"$error":"#N/A"}},{"$f":"VLOOKUP($A28,Participants!$A:$E,5,FALSE)","v":{"$error":"#N/A"}},4,{"$error":"#N/A"},{"$error":"#N/A"}]
[]
[{"$nulls":4},{"$f":"VLOOKUP($A30,Participants!$A:$E,4,FALSE)","v":{"$error":"#N/A"}},{"$f":"VLOOKUP($A30,Participants!$A:$E,2,FALSE)","v":{"$error":"#N/A"}},{"$f":"VLOOKUP($A30,Participants!$A:$E,3,FALSE)","v":{"$error":"#N/A"}},{"$f":"VLOOKUP($A30,Participants!$A:$E,5,FALSE)","v":{"$error":"#N/A"}},5,{"$f":"RANK(D30,IF(I30=5,$D$30:$D$35,),1)","v":{"$error":"#N/A"}},{"$error":"#N/A"}]
[{"$nulls":4},{"$f":"VLOOKUP($A31,Participants!$A:$E,4,FALSE)","v":{"$error":"#N/A"}},{"$f":"VLOOKUP($A31,Participants!$A:$E,2,FALSE)","v":{"$error":"#N/A"}},{"$f":"VLOOKUP($A31,Participants!$A:$E,3,FALSE)","v":{"$error":"#N/A"}},{"$f":"VLOOKUP($A31,Participants!$A:$E,5,FALSE)","v":{"$error":"#N/A"}},5,{"$f":"RANK(D31,IF(I31=5,$D$30:$D$35,),1)","v":{"$error":"#N/A"}},{"$error":"#N/A"}]
[{"$nulls":4},{"$f":"VLOOKUP($A32,Participants!$A:$E,4,FALSE)","v":{"$error":"#N/A"}},{"$f":"VLOOKUP($A32,Participants!$A:$E,2,FALSE)","v":{"$error":"#N/A"}},{"$f":"VLOOKUP($A32,Participants!$A:$E,3,FALSE)","v":{"$error":"#N/A"}},{"$f":"VLOOKUP($A32,Participants!$A:$E,5,FALSE)","v":{"$error":"#N/A"}},5,{"$error":"#N/A"},{"$error":"#N/A"}]
[{"$nulls":4},{"$f":"VLOOKUP($A33,Participants!$A:$E,4,FALSE)","v":{"$error":"#N/A"}},{"$f":"VLOOKUP($A33,Participants!$A:$E,2,FALSE)","v":{"$error":"#N/A"}},{"$f":"VLOOKUP($A33,Participants!$A:$E,3,FALSE)","v":{"$error":"#N/A"}},{"$f":"VLOOKUP($A33,Participants!$A:$E,5,FALSE)","v":{"$error":"#N/A"}},5,{"$error":"#N/A"},{"$error":"#N/A"}]
[{"$nulls":4},{"$f":"VLOOKUP($A34,Participants!$A:$E,4,FALSE)","v":{"$error":"#N/A"}},{"$f":"VLOOKUP($A34,Participants!$A:$E,2,FALSE)","v":{"$error":"#N/A"}},{"$f":"VLOOKUP($A34,Participants!$A:$E,3,FALSE)","v":{"$error":"#N/A"}},{"$f":"VLOOKUP($A34,Participants!$A:$E,5,FALSE)","v":{"$error":"#N/A"}},5,{"$error":"#N/A"},{"$error":"#N/A"}]
[{"$nulls":4},{"$f":"VLOOKUP($A35,Participants!$A:$E,4,FALSE)","v":{"$error":"#N/A"}},{"$f":"VLOOKUP($A35,Participants!$A:$E,2,FALSE)","v":{"$error":"#N/A"}},{"$f":"VLOOKUP($A35,Participants!$A:$E,3,FALSE)","v":{"$error":"#N/A"}},{"$f":"VLOOKUP($A35,Participants!$A:$E,5,FALSE)","v":{"$error":"#N/A"}},5,{"$error":"#N/A"},{"$error":"#N/A"}]
[]
[{"$nulls":4},{"$f":"VLOOKUP($A37,Participants!$A:$E,4,FALSE)","v":{"$error":"#N/A"}},{"$f":"VLOOKUP($A37,Participants!$A:$E,2,FALSE)","v":{"$error":"#N/A"}},{"$f":"VLOOKUP($A37,Participants!$A:$E,3,FALSE)","v":{"$error":"#N/A"}},{"$f":"VLOOKUP($A37,Participants!$A:$E,5,FALSE)","v":{"$error":"#N/A"}},6,{"$f":"RANK(D37,IF(I37=6,$D$37:$D$42,),1)","v":{"$error":"#N/A"}},{"$error":"#N/A"}]
[{"$nulls":4},{"$f":"VLOOKUP($A38,Participants!$A:$E,4,FALSE)","v":{"$error":"#N/A"}},{"$f":"VLOOKUP($A38,Participants!$A:$E,2,FALSE)","v":{"$error":"#N/A"}},{"$f":"VLOOKUP($A38,Participants!$A:$E,3,FALSE)","v":{"$error":"#N/A"}},{"$f":"VLOOKUP($A38,Participants!$A:$E,5,FALSE)","v":{"$error":"#N/A"}},6,{"$f":"RANK(D38,IF(I38=6,$D$37:$D$42,),1)","v":{"$error":"#N/A"}},{"$error":"#N/A"}]
[{"$nulls":4},{"$f":"VLOOKUP($A39,Participants!$A:$E,4,FALSE)","v":{"$error":"#N/A"}},{"$f":"VLOOKUP($A39,Participants!$A:$E,2,FALSE)","v":{"$error":"#N/A"}},{"$f":"VLOOKUP($A39,Participants!$A:$E,3,FALSE)","v":{"$error":"#N/A"}},{"$f":"VLOOKUP($A39,Participants!$A:$E,5,FALSE)","v":{"$error":"#N/A"}},6,{"$error":"#N/A"},{"$error":"#N/A"}]
[{"$nulls":4},{"$f":"VLOOKUP($A40,Participants!$A:$E,4,FALSE)","v":{"$error":"#N/A"}},{"$f":"VLOOKUP($A40,Participants!$A:$E,2,FALSE)","v":{"$error":"#N/A"}},{"$f":"VLOOKUP($A40,Participants!$A:$E,3,FALSE)","v":{"$error":"#N/A"}},{"$f":"VLOOKUP($A40,Participants!$A:$E,5,FALSE)","v":{"$error":"#N/A"}},6,{"$error":"#N/A"},{"$error":"#N/A"}]
[{"$nulls":4},{"$f":"VLOOKUP($A41,Participants!$A:$E,4,FALSE)","v":{"$error":"#N/A"}},{"$f":"VLOOKUP($A41,Participants!$A:$E,2,FALSE)","v":{"$error":"#N/A"}},{"$f":"VLOOKUP($A41,Participants!$A:$E,3,FALSE)","v":{"$error":"#N/A"}},{"$f":"VLOOKUP($A41,Participants!$A:$E,5,FALSE)","v":{"$error":"#N/A"}},6,{"$error":"#N/A"},{"$error":"#N/A"}]
[{"$nulls":4},{"$f":"VLOOKUP($A42,Participants!$A:$E,4,FALSE)","v":{"$error":"#N/A"}},{"$f":"VLOOKUP($A42,Participants!$A:$E,2,FALSE)","v":{"$error":"#N/A"}},{"$f":"VLOOKUP($A42,Participants!$A:$E,3,FALSE)","v":{"$error":"#N/A"}},{"$f":"VLOOKUP($A42,Participants!$A:$E,5,FALSE)","v":{"$error":"#N/A"}},6,{"$error":"#N/A"},{"$error":"#N/A"}]

{"sheet":"800 56 Girls","index":45,"n_rows":36,"n_cols":26,"rows_kept":36}
["Bib","HeatOrder",null,"Time","Grade","FName","Lname","School","Heat","Heat Place","Overall Place",null,"Return to Schedule of Events",{"$nulls":11},{"$f":"IFERROR(VLOOKUP(\"Duplicate\",#REF!,1,FALSE),\"\")","v":""},{"$f":"IF(Y1=\"Duplicate\",MID(CELL(\"filename\",A1),FIND(\"]\",CELL(\"filename\",A1))+1,256),\"\")","v":""}]
[296,"Lap 1","00:02:54.440","00:02:54.440",{"$f":"VLOOKUP($A2,Participants!$A:$E,4,FALSE)","v":6},{"$f":"VLOOKUP($A2,Participants!$A:$E,2,FALSE)","v":"Tessa"},{"$f":"VLOOKUP($A2,Participants!$A:$E,3,FALSE)","v":"Mize"},{"$f":"VLOOKUP($A2,Participants!$A:$E,5,FALSE)","v":"St. Barnabas"},1,{"$f":"RANK(D2,IF(I2=1,$D$2:$D$31,),1)","v":1},{"$f":"RANK(D2,$D$2:$D$89,1)","v":1}]
[29,"Lap 2","00:00:19.640","00:03:14.080",{"$f":"VLOOKUP($A3,Participants!$A:$E,4,FALSE)","v":5},{"$f":"VLOOKUP($A3,Participants!$A:$E,2,FALSE)","v":"Lydia"},{"$f":"VLOOKUP($A3,Participants!$A:$E,3,FALSE)","v":"Dant"},{"$f":"VLOOKUP($A3,Participants!$A:$E,5,FALSE)","v":"St Jude"},1,2,2,null,"Add or Update Participants"]
[18,"Lap 3","00:00:19.250","00:03:33.330",{"$f":"VLOOKUP($A4,Participants!$A:$E,4,FALSE)","v":5},{"$f":"VLOOKUP($A4,Participants!$A:$E,2,FALSE)","v":"Ella "},{"$f":"VLOOKUP($A4,Participants!$A:$E,3,FALSE)","v":"Cadwallader"},{"$f":"VLOOKUP($A4,Participants!$A:$E,5,FALSE)","v":"St Jude"},1,3,3,null,"Overall Place and Points"]
[293,"Lap 5","00:00:20.820","00:04:06.210",{"$f":"VLOOKUP($A5,Participants!$A:$E,4,FALSE)","v":5},{"$f":"VLOOKUP($A5,Participants!$A:$E,2,FALSE)","v":"Eva"},{"$f":"VLOOKUP($A5,Participants!$A:$E,3,FALSE)","v":"Miller"},{"$f":"VLOOKUP($A5,Participants!$A:$E,5,FALSE)","v":"St. Barnabas"},1,4,4]
[136,"Lap 6","00:00:12.970","00:04:19.180",{"$f":"VLOOKUP($A6,Participants!$A:$E,4,FALSE)","v":6},{"$f":"VLOOKUP($A6,Participants!$A:$E,2,FALSE)","v":"Alaina"},{"$f":"VLOOKUP($A6,Participants!$A:$E,3,FALSE)","v":"Whiteley"},{"$f":"VLOOKUP($A6,Participants!$A:$E,5,FALSE)","v":"St Jude"},1,5,5]
[{"$nulls":4},{"$f":"VLOOKUP($A7,Participants!$A:$E,4,FALSE)","v":{"$error":"#N/A"}},{"$f":"VLOOKUP($A7,Participants!$A:$E,2,FALSE)","v":{"$error":"#N/A"}},{"$f":"VLOOKUP($A7,Participants!$A:$E,3,FALSE)","v":{"$error":"#N/A"}},{"$f":"VLOOKUP($A7,Participants!$A:$E,5,FALSE)","v":{"$error":"#N/A"}},1,{"$error":"#N/A"},{"$error":"#N/A"}]
[{"$nulls":4},{"$f":"VLOOKUP($A8,Participants!$A:$E,4,FALSE)","v":{"$error":"#N/A"}},{"$f":"VLOOKUP($A8,Participants!$A:$E,2,FALSE)","v":{"$error":"#N/A"}},{"$f":"VLOOKUP($A8,Participants!$A:$E,3,FALSE)","v":{"$error":"#N/A"}},{"$f":"VLOOKUP($A8,Participants!$A:$E,5,FALSE)","v":{"$error":"#N/A"}},1,{"$error":"#N/A"},{"$error":"#N/A"}]
[{"$nulls":4},{"$f":"VLOOKUP($A9,Participants!$A:$E,4,FALSE)","v":{"$error":"#N/A"}},{"$f":"VLOOKUP($A9,Participants!$A:$E,2,FALSE)","v":{"$error":"#N/A"}},{"$f":"VLOOKUP($A9,Participants!$A:$E,3,FALSE)","v":{"$error":"#N/A"}},{"$f":"VLOOKUP($A9,Participants!$A:$E,5,FALSE)","v":{"$error":"#N/A"}},1,{"$error":"#N/A"},{"$error":"#N/A"}]
[{"$nulls":4},{"$f":"VLOOKUP($A10,Participants!$A:$E,4,FALSE)","v":{"$error":"#N/A"}},{"$f":"VLOOKUP($A10,Participants!$A:$E,2,FALSE)","v":{"$error":"#N/A"}},{"$f":"VLOOKUP($A10,Participants!$A:$E,3,FALSE)","v":{"$error":"#N/A"}},{"$f":"VLOOKUP($A10,Participants!$A:$E,5,FALSE)","v":{"$error":"#N/A"}},1,{"$error":"#N/A"},{"$error":"#N/A"}]
[{"$nulls":4},{"$f":"VLOOKUP($A11,Participants!$A:$E,4,FALSE)","v":{"$error":"#N/A"}},{"$f":"VLOOKUP($A11,Participants!$A:$E,2,FALSE)","v":{"$error":"#N/A"}},{"$f":"VLOOKUP($A11,Participants!$A:$E,3,FALSE)","v":{"$error":"#N/A"}},{"$f":"VLOOKUP($A11,Participants!$A:$E,5,FALSE)","v":{"$error":"#N/A"}},1,{"$error":"#N/A"},{"$error":"#N/A"}]
[{"$nulls":4},{"$f":"VLOOKUP($A12,Participants!$A:$E,4,FALSE)","v":{"$error":"#N/A"}},{"$f":"VLOOKUP($A12,Participants!$A:$E,2,FALSE)","v":{"$error":"#N/A"}},{"$f":"VLOOKUP($A12,Participants!$A:$E,3,FALSE)","v":{"$error":"#N/A"}},{"$f":"VLOOKUP($A12,Participants!$A:$E,5,FALSE)","v":{"$error":"#N/A"}},1,{"$error":"#N/A"},{"$error":"#N/A"}]
[{"$nulls":4},{"$f":"VLOOKUP($A13,Participants!$A:$E,4,FALSE)","v":{"$error":"#N/A"}},{"$f":"VLOOKUP($A13,Participants!$A:$E,2,FALSE)","v":{"$error":"#N/A"}},{"$f":"VLOOKUP($A13,Participants!$A:$E,3,FALSE)","v":{"$error":"#N/A"}},{"$f":"VLOOKUP($A13,Participants!$A:$E,5,FALSE)","v":{"$error":"#N/A"}},1,{"$error":"#N/A"},{"$error":"#N/A"}]
[{"$nulls":4},{"$f":"VLOOKUP($A14,Participants!$A:$E,4,FALSE)","v":{"$error":"#N/A"}},{"$f":"VLOOKUP($A14,Participants!$A:$E,2,FALSE)","v":{"$error":"#N/A"}},{"$f":"VLOOKUP($A14,Participants!$A:$E,3,FALSE)","v":{"$error":"#N/A"}},{"$f":"VLOOKUP($A14,Participants!$A:$E,5,FALSE)","v":{"$error":"#N/A"}},1,{"$error":"#N/A"},{"$error":"#N/A"}]
[{"$nulls":4},{"$f":"VLOOKUP($A15,Participants!$A:$E,4,FALSE)","v":{"$error":"#N/A"}},{"$f":"VLOOKUP($A15,Participants!$A:$E,2,FALSE)","v":{"$error":"#N/A"}},{"$f":"VLOOKUP($A15,Participants!$A:$E,3,FALSE)","v":{"$error":"#N/A"}},{"$f":"VLOOKUP($A15,Participants!$A:$E,5,FALSE)","v":{"$error":"#N/A"}},1,{"$error":"#N/A"},{"$error":"#N/A"}]
[{"$nulls":4},{"$f":"VLOOKUP($A16,Participants!$A:$E,4,FALSE)","v":{"$error":"#N/A"}},{"$f":"VLOOKUP($A16,Participants!$A:$E,2,FALSE)","v":{"$error":"#N/A"}},{"$f":"VLOOKUP($A16,Participants!$A:$E,3,FALSE)","v":{"$error":"#N/A"}},{"$f":"VLOOKUP($A16,Participants!$A:$E,5,FALSE)","v":{"$error":"#N/A"}},1,{"$error":"#N/A"},{"$error":"#N/A"}]
[{"$nulls":4},{"$f":"VLOOKUP($A17,Participants!$A:$E,4,FALSE)","v":{"$error":"#N/A"}},{"$f":"VLOOKUP($A17,Participants!$A:$E,2,FALSE)","v":{"$error":"#N/A"}},{"$f":"VLOOKUP($A17,Participants!$A:$E,3,FALSE)","v":{"$error":"#N/A"}},{"$f":"VLOOKUP($A17,Participants!$A:$E,5,FALSE)","v":{"$error":"#N/A"}},1,{"$error":"#N/A"},{"$error":"#N/A"}]
[{"$nulls":4},{"$f":"VLOOKUP($A18,Participants!$A:$E,4,FALSE)","v":{"$error":"#N/A"}},{"$f":"VLOOKUP($A18,Participants!$A:$E,2,FALSE)","v":{"$error":"#N/A"}},{"$f":"VLOOKUP($A18,Participants!$A:$E,3,FALSE)","v":{"$error":"#N/A"}},{"$f":"VLOOKUP($A18,Participants!$A:$E,5,FALSE)","v":{"$error":"#N/A"}},1,{"$error":"#N/A"},{"$error":"#N/A"}]
[{"$nulls":4},{"$f":"VLOOKUP($A19,Participants!$A:$E,4,FALSE)","v":{"$error":"#N/A"}},{"$f":"VLOOKUP($A19,Participants!$A:$E,2,FALSE)","v":{"$error":"#N/A"}},{"$f":"VLOOKUP($A19,Participants!$A:$E,3,FALSE)","v":{"$error":"#N/A"}},{"$f":"VLOOKUP($A19,Participants!$A:$E,5,FALSE)","v":{"$error":"#N/A"}},1,{"$error":"#N/A"},{"$error":"#N/A"}]
[{"$nulls":4},{"$f":"VLOOKUP($A20,Participants!$A:$E,4,FALSE)","v":{"$error":"#N/A"}},{"$f":"VLOOKUP($A20,Participants!$A:$E,2,FALSE)","v":{"$error":"#N/A"}},{"$f":"VLOOKUP($A20,Participants!$A:$E,3,FALSE)","v":{"$error":"#N/A"}},{"$f":"VLOOKUP($A20,Participants!$A:$E,5,FALSE)","v":{"$error":"#N/A"}},1,{"$error":"#N/A"},{"$error":"#N/A"}]
[{"$nulls":4},{"$f":"VLOOKUP($A21,Participants!$A:$E,4,FALSE)","v":{"$error":"#N/A"}},{"$f":"VLOOKUP($A21,Participants!$A:$E,2,FALSE)","v":{"$error":"#N/A"}},{"$f":"VLOOKUP($A21,Participants!$A:$E,3,FALSE)","v":{"$error":"#N/A"}},{"$f":"VLOOKUP($A21,Participants!$A:$E,5,FALSE)","v":{"$error":"#N/A"}},1,{"$error":"#N/A"},{"$error":"#N/A"}]
[{"$nulls":4},{"$f":"VLOOKUP($A22,Participants!$A:$E,4,FALSE)","v":{"$error":"#N/A"}},{"$f":"VLOOKUP($A22,Participants!$A:$E,2,FALSE)","v":{"$error":"#N/A"}},{"$f":"VLOOKUP($A22,Participants!$A:$E,3,FALSE)","v":{"$error":"#N/A"}},{"$f":"VLOOKUP($A22,Participants!$A:$E,5,FALSE)","v":{"$error":"#N/A"}},1,{"$error":"#N/A"},{"$error":"#N/A"}]
[{"$nulls":4},{"$f":"VLOOKUP($A23,Participants!$A:$E,4,FALSE)","v":{"$error":"#N/A"}},{"$f":"VLOOKUP($A23,Participants!$A:$E,2,FALSE)","v":{"$error":"#N/A"}},{"$f":"VLOOKUP($A23,Participants!$A:$E,3,FALSE)","v":{"$error":"#N/A"}},{"$f":"VLOOKUP($A23,Participants!$A:$E,5,FALSE)","v":{"$error":"#N/A"}},1,{"$error":"#N/A"},{"$error":"#N/A"}]
[{"$nulls":4},{"$f":"VLOOKUP($A24,Participants!$A:$E,4,FALSE)","v":{"$error":"#N/A"}},{"$f":"VLOOKUP($A24,Participants!$A:$E,2,FALSE)","v":{"$error":"#N/A"}},{"$f":"VLOOKUP($A24,Participants!$A:$E,3,FALSE)","v":{"$error":"#N/A"}},{"$f":"VLOOKUP($A24,Participants!$A:$E,5,FALSE)","v":{"$error":"#N/A"}},1,{"$error":"#N/A"},{"$error":"#N/A"}]
[{"$nulls":4},{"$f":"VLOOKUP($A25,Participants!$A:$E,4,FALSE)","v":{"$error":"#N/A"}},{"$f":"VLOOKUP($A25,Participants!$A:$E,2,FALSE)","v":{"$error":"#N/A"}},{"$f":"VLOOKUP($A25,Participants!$A:$E,3,FALSE)","v":{"$error":"#N/A"}},{"$f":"VLOOKUP($A25,Participants!$A:$E,5,FALSE)","v":{"$error":"#N/A"}},1,{"$error":"#N/A"},{"$error":"#N/A"}]
[{"$nulls":4},{"$f":"VLOOKUP($A26,Participants!$A:$E,4,FALSE)","v":{"$error":"#N/A"}},{"$f":"VLOOKUP($A26,Participants!$A:$E,2,FALSE)","v":{"$error":"#N/A"}},{"$f":"VLOOKUP($A26,Participants!$A:$E,3,FALSE)","v":{"$error":"#N/A"}},{"$f":"VLOOKUP($A26,Participants!$A:$E,5,FALSE)","v":{"$error":"#N/A"}},1,{"$error":"#N/A"},{"$error":"#N/A"}]
[{"$nulls":4},{"$f":"VLOOKUP($A27,Participants!$A:$E,4,FALSE)","v":{"$error":"#N/A"}},{"$f":"VLOOKUP($A27,Participants!$A:$E,2,FALSE)","v":{"$error":"#N/A"}},{"$f":"VLOOKUP($A27,Participants!$A:$E,3,FALSE)","v":{"$error":"#N/A"}},{"$f":"VLOOKUP($A27,Participants!$A:$E,5,FALSE)","v":{"$error":"#N/A"}},1,{"$error":"#N/A"},{"$error":"#N/A"}]
[{"$nulls":4},{"$f":"VLOOKUP($A28,Participants!$A:$E,4,FALSE)","v":{"$error":"#N/A"}},{"$f":"VLOOKUP($A28,Participants!$A:$E,2,FALSE)","v":{"$error":"#N/A"}},{"$f":"VLOOKUP($A28,Participants!$A:$E,3,FALSE)","v":{"$error":"#N/A"}},{"$f":"VLOOKUP($A28,Participants!$A:$E,5,FALSE)","v":{"$error":"#N/A"}},1,{"$error":"#N/A"},{"$error":"#N/A"}]
[{"$nulls":4},{"$f":"VLOOKUP($A29,Participants!$A:$E,4,FALSE)","v":{"$error":"#N/A"}},{"$f":"VLOOKUP($A29,Participants!$A:$E,2,FALSE)","v":{"$error":"#N/A"}},{"$f":"VLOOKUP($A29,Participants!$A:$E,3,FALSE)","v":{"$error":"#N/A"}},{"$f":"VLOOKUP($A29,Participants!$A:$E,5,FALSE)","v":{"$error":"#N/A"}},1,{"$error":"#N/A"},{"$error":"#N/A"}]
[{"$nulls":4},{"$f":"VLOOKUP($A30,Participants!$A:$E,4,FALSE)","v":{"$error":"#N/A"}},{"$f":"VLOOKUP($A30,Participants!$A:$E,2,FALSE)","v":{"$error":"#N/A"}},{"$f":"VLOOKUP($A30,Participants!$A:$E,3,FALSE)","v":{"$error":"#N/A"}},{"$f":"VLOOKUP($A30,Participants!$A:$E,5,FALSE)","v":{"$error":"#N/A"}},1,{"$error":"#N/A"},{"$error":"#N/A"}]
[{"$nulls":4},{"$f":"VLOOKUP($A31,Participants!$A:$E,4,FALSE)","v":{"$error":"#N/A"}},{"$f":"VLOOKUP($A31,Participants!$A:$E,2,FALSE)","v":{"$error":"#N/A"}},{"$f":"VLOOKUP($A31,Participants!$A:$E,3,FALSE)","v":{"$error":"#N/A"}},{"$f":"VLOOKUP($A31,Participants!$A:$E,5,FALSE)","v":{"$error":"#N/A"}},1,{"$error":"#N/A"},{"$error":"#N/A"}]
[{"$nulls":4},{"$f":"VLOOKUP($A32,Participants!$A:$E,4,FALSE)","v":{"$error":"#N/A"}},{"$f":"VLOOKUP($A32,Participants!$A:$E,2,FALSE)","v":{"$error":"#N/A"}},{"$f":"VLOOKUP($A32,Participants!$A:$E,3,FALSE)","v":{"$error":"#N/A"}},{"$f":"VLOOKUP($A32,Participants!$A:$E,5,FALSE)","v":{"$error":"#N/A"}},1,{"$error":"#N/A"},{"$error":"#N/A"}]
[{"$nulls":4},{"$f":"VLOOKUP($A33,Participants!$A:$E,4,FALSE)","v":{"$error":"#N/A"}},{"$f":"VLOOKUP($A33,Participants!$A:$E,2,FALSE)","v":{"$error":"#N/A"}},{"$f":"VLOOKUP($A33,Participants!$A:$E,3,FALSE)","v":{"$error":"#N/A"}},{"$f":"VLOOKUP($A33,Participants!$A:$E,5,FALSE)","v":{"$error":"#N/A"}},1,{"$error":"#N/A"},{"$error":"#N/A"}]
[{"$nulls":4},{"$f":"VLOOKUP($A34,Participants!$A:$E,4,FALSE)","v":{"$error":"#N/A"}},{"$f":"VLOOKUP($A34,Participants!$A:$E,2,FALSE)","v":{"$error":"#N/A"}},{"$f":"VLOOKUP($A34,Participants!$A:$E,3,FALSE)","v":{"$error":"#N/A"}},{"$f":"VLOOKUP($A34,Participants!$A:$E,5,FALSE)","v":{"$error":"#N/A"}},1,{"$error":"#N/A"},{"$error":"#N/A"}]
[{"$nulls":4},{"$f":"VLOOKUP($A35,Participants!$A:$E,4,FALSE)","v":{"$error":"#N/A"}},{"$f":"VLOOKUP($A35,Participants!$A:$E,2,FALSE)","v":{"$error":"#N/A"}},{"$f":"VLOOKUP($A35,Participants!$A:$E,3,FALSE)","v":{"$error":"#N/A"}},{"$f":"VLOOKUP($A35,Participants!$A:$E,5,FALSE)","v":{"$error":"#N/A"}},1,{"$error":"#N/A"},{"$error":"#N/A"}]
[{"$nulls":4},{"$f":"VLOOKUP($A36,Participants!$A:$E,4,FALSE)","v":{"$error":"#N/A"}},{"$f":"VLOOKUP($A36,Participants!$A:$E,2,FALSE)","v":{"$error":"#N/A"}},{"$f":"VLOOKUP($A36,Participants!$A:$E,3,FALSE)","v":{"$error":"#N/A"}},{"$f":"VLOOKUP($A36,Participants!$A:$E,5,FALSE)","v":{"$error":"#N/A"}},1,{"$error":"#N/A"},{"$error":"#N/A"}]

{"sheet":"100 56 Girls","index":46,"n_rows":42,"n_cols":13,"rows_kept":42}
["Bib","HeatOrder",null,"Time","Grade","FName","Lname","School","Heat","Heat Place","Overall Place",null,"Return to Schedule of Events"]
[123,"Lap 1","00:00:16.970","00:00:16.970",{"$f":"VLOOKUP($A2,Participants!$A:$E,4,FALSE)","v":5},{"$f":"VLOOKUP($A2,Participants!$A:$E,2,FALSE)","v":"Nora"},{"$f":"VLOOKUP($A2,Participants!$A:$E,3,FALSE)","v":"Smith"},{"$f":"VLOOKUP($A2,Participants!$A:$E,5,FALSE)","v":"St Jude"},1,{"$f":"RANK(D2,IF(I2=1,$D$2:$D$7,),1)","v":1},{"$f":"RANK(D2,$D$2:$D$100,1)","v":2}]
[162,"Lap 2","00:00:00.150","00:00:17.130",{"$f":"VLOOKUP($A3,Participants!$A:$E,4,FALSE)","v":6},{"$f":"VLOOKUP($A3,Participants!$A:$E,2,FALSE)","v":"Ava"},{"$f":"VLOOKUP($A3,Participants!$A:$E,3,FALSE)","v":"Cox"},{"$f":"VLOOKUP($A3,Participants!$A:$E,5,FALSE)","v":"SSFC"},1,2,{"$f":"RANK(D3,$D$2:$D$100,1)","v":3},null,"Add or Update Participants"]
[94,"Lap 3","00:00:00.400","00:00:17.530",{"$f":"VLOOKUP($A4,Participants!$A:$E,4,FALSE)","v":5},{"$f":"VLOOKUP($A4,Participants!$A:$E,2,FALSE)","v":"Lola"},{"$f":"VLOOKUP($A4,Participants!$A:$E,3,FALSE)","v":"Morelli"},{"$f":"VLOOKUP($A4,Participants!$A:$E,5,FALSE)","v":"St Jude"},1,3,8,null,"Overall Place and Points"]
[284,"Lap 4","00:00:00.820","00:00:18.350",{"$f":"VLOOKUP($A5,Participants!$A:$E,4,FALSE)","v":6},{"$f":"VLOOKUP($A5,Participants!$A:$E,2,FALSE)","v":"Lauren"},{"$f":"VLOOKUP($A5,Participants!$A:$E,3,FALSE)","v":"Koleszar"},{"$f":"VLOOKUP($A5,Participants!$A:$E,5,FALSE)","v":"St. Barnabas"},1,4,15]
[235,"Lap 5","00:00:01.380","00:00:19.730",{"$f":"VLOOKUP($A6,Participants!$A:$E,4,FALSE)","v":6},{"$f":"VLOOKUP($A6,Participants!$A:$E,2,FALSE)","v":"Hailey"},{"$f":"VLOOKUP($A6,Participants!$A:$E,3,FALSE)","v":"Engel"},{"$f":"VLOOKUP($A6,Participants!$A:$E,5,FALSE)","v":"United We Run"},1,5,19]
[155,"Lap 6","00:00:01.010","00:00:20.750",{"$f":"VLOOKUP($A7,Participants!$A:$E,4,FALSE)","v":6},{"$f":"VLOOKUP($A7,Participants!$A:$E,2,FALSE)","v":"Madalyn"},{"$f":"VLOOKUP($A7,Participants!$A:$E,3,FALSE)","v":"Back"},{"$f":"VLOOKUP($A7,Participants!$A:$E,5,FALSE)","v":"SSFC"},1,6,23]
[]
[243,"Lap 1","00:00:16.800","00:00:16.800",{"$f":"VLOOKUP($A9,Participants!$A:$E,4,FALSE)","v":6},{"$f":"VLOOKUP($A9,Participants!$A:$E,2,FALSE)","v":"Peyton"},{"$f":"VLOOKUP($A9,Participants!$A:$E,3,FALSE)","v":"Kocher"},{"$f":"VLOOKUP($A9,Participants!$A:$E,5,FALSE)","v":"United We Run"},2,{"$f":"RANK(D9,IF(I9=2,$D$9:$D$14,),1)","v":1},1]
[16,"Lap 2","00:00:00.460","00:00:17.260",{"$f":"VLOOKUP($A10,Participants!$A:$E,4,FALSE)","v":5},{"$f":"VLOOKUP($A10,Participants!$A:$E,2,FALSE)","v":"Delanie"},{"$f":"VLOOKUP($A10,Participants!$A:$E,3,FALSE)","v":"Bullock"},{"$f":"VLOOKUP($A10,Participants!$A:$E,5,FALSE)","v":"St Jude"},2,2,5]
[278,"Lap 3","00:00:00.480","00:00:17.740",{"$f":"VLOOKUP($A11,Participants!$A:$E,4,FALSE)","v":5},{"$f":"VLOOKUP($A11,Participants!$A:$E,2,FALSE)","v":"Savannah"},{"$f":"VLOOKUP($A11,Participants!$A:$E,3,FALSE)","v":"Duhammel"},{"$f":"VLOOKUP($A11,Participants!$A:$E,5,FALSE)","v":"St. Barnabas"},2,3,9]
[172,"Lap 4","00:00:00.340","00:00:18.080",{"$f":"VLOOKUP($A12,Participants!$A:$E,4,FALSE)","v":5},{"$f":"VLOOKUP($A12,Participants!$A:$E,2,FALSE)","v":"Alexa"},{"$f":"VLOOKUP($A12,Participants!$A:$E,3,FALSE)","v":"Griffin"},{"$f":"VLOOKUP($A12,Participants!$A:$E,5,FALSE)","v":"SSFC"},2,4,11]
[73,"Lap 5","00:00:00.160","00:00:18.240",{"$f":"VLOOKUP($A13,Participants!$A:$E,4,FALSE)","v":5},{"$f":"VLOOKUP($A13,Participants!$A:$E,2,FALSE)","v":"Bridget"},{"$f":"VLOOKUP($A13,Participants!$A:$E,3,FALSE)","v":"Lehner"},{"$f":"VLOOKUP($A13,Participants!$A:$E,5,FALSE)","v":"St Jude"},2,5,13]
[{"$nulls":4},{"$f":"VLOOKUP($A14,Participants!$A:$E,4,FALSE)","v":{"$error":"#N/A"}},{"$f":"VLOOKUP($A14,Participants!$A:$E,2,FALSE)","v":{"$error":"#N/A"}},{"$f":"VLOOKUP($A14,Participants!$A:$E,3,FALSE)","v":{"$error":"#N/A"}},{"$f":"VLOOKUP($A14,Participants!$A:$E,5,FALSE)","v":{"$error":"#N/A"}},2,{"$error":"#N/A"},{"$error":"#N/A"}]
[]
[57,"Lap 1","00:00:17.180","00:00:17.180",{"$f":"VLOOKUP($A16,Participants!$A:$E,4,FALSE)","v":5},{"$f":"VLOOKUP($A16,Participants!$A:$E,2,FALSE)","v":"Lucy "},{"$f":"VLOOKUP($A16,Participants!$A:$E,3,FALSE)","v":"Jackson"},{"$f":"VLOOKUP($A16,Participants!$A:$E,5,FALSE)","v":"St Jude"},3,{"$f":"RANK(D16,IF(I16=3,$D$16:$D$21,),1)","v":1},4]
[244,"Lap 2","00:00:00.160","00:00:17.350",{"$f":"VLOOKUP($A17,Participants!$A:$E,4,FALSE)","v":6},{"$f":"VLOOKUP($A17,Participants!$A:$E,2,FALSE)","v":"Ava"},{"$f":"VLOOKUP($A17,Participants!$A:$E,3,FALSE)","v":"Kress"},{"$f":"VLOOKUP($A17,Participants!$A:$E,5,FALSE)","v":"United We Run"},3,2,6]
[74,"Lap 3","00:00:00.580","00:00:17.930",{"$f":"VLOOKUP($A18,Participants!$A:$E,4,FALSE)","v":6},{"$f":"VLOOKUP($A18,Participants!$A:$E,2,FALSE)","v":"Megan"},{"$f":"VLOOKUP($A18,Participants!$A:$E,3,FALSE)","v":"Lehner"},{"$f":"VLOOKUP($A18,Participants!$A:$E,5,FALSE)","v":"St Jude"},3,3,10]
[304,"Lap 4","00:00:00.140","00:00:18.080",{"$f":"VLOOKUP($A19,Participants!$A:$E,4,FALSE)","v":6},{"$f":"VLOOKUP($A19,Participants!$A:$E,2,FALSE)","v":"Annie"},{"$f":"VLOOKUP($A19,Participants!$A:$E,3,FALSE)","v":"Schoettle"},{"$f":"VLOOKUP($A19,Participants!$A:$E,5,FALSE)","v":"St. Barnabas"},3,4,11]
[215,"Lap 5","00:00:01.390","00:00:19.480",{"$f":"VLOOKUP($A20,Participants!$A:$E,4,FALSE)","v":5},{"$f":"VLOOKUP($A20,Participants!$A:$E,2,FALSE)","v":"Ashley"},{"$f":"VLOOKUP($A20,Participants!$A:$E,3,FALSE)","v":"Woodburn"},{"$f":"VLOOKUP($A20,Participants!$A:$E,5,FALSE)","v":"SSFC"},3,5,17]
[207,"Lap 6","00:00:02.790","00:00:22.270",{"$f":"VLOOKUP($A21,Participants!$A:$E,4,FALSE)","v":5},{"$f":"VLOOKUP($A21,Participants!$A:$E,2,FALSE)","v":"Megan"},{"$f":"VLOOKUP($A21,Participants!$A:$E,3,FALSE)","v":"Trieste"},{"$f":"VLOOKUP($A21,Participants!$A:$E,5,FALSE)","v":"SSFC"},3,6,24]
[null,null,"00:00:01.930"]
[270,"Lap 1","00:00:17.490","00:00:17.490",{"$f":"VLOOKUP($A23,Participants!$A:$E,4,FALSE)","v":6},{"$f":"VLOOKUP($A23,Participants!$A:$E,2,FALSE)","v":"Anna"},{"$f":"VLOOKUP($A23,Participants!$A:$E,3,FALSE)","v":"Wilson"},{"$f":"VLOOKUP($A23,Participants!$A:$E,5,FALSE)","v":"United We Run"},4,{"$f":"RANK(D23,IF(I23=4,$D$23:$D$28,),1)","v":1},7]
[181,"Lap 2","00:00:01.650","00:00:19.150",{"$f":"VLOOKUP($A24,Participants!$A:$E,4,FALSE)","v":5},{"$f":"VLOOKUP($A24,Participants!$A:$E,2,FALSE)","v":"Evelyn"},{"$f":"VLOOKUP($A24,Participants!$A:$E,3,FALSE)","v":"Lewis"},{"$f":"VLOOKUP($A24,Participants!$A:$E,5,FALSE)","v":"SSFC"},4,2,16]
[229,"Lap 3","00:00:00.660","00:00:19.810",{"$f":"VLOOKUP($A25,Participants!$A:$E,4,FALSE)","v":6},{"$f":"VLOOKUP($A25,Participants!$A:$E,2,FALSE)","v":"Leah"},{"$f":"VLOOKUP($A25,Participants!$A:$E,3,FALSE)","v":"Clark"},{"$f":"VLOOKUP($A25,Participants!$A:$E,5,FALSE)","v":"United We Run"},4,3,20]
[52,"Lap 4","00:00:00.900","00:00:20.720",{"$f":"VLOOKUP($A26,Participants!$A:$E,4,FALSE)","v":5},{"$f":"VLOOKUP($A26,Participants!$A:$E,2,FALSE)","v":"Maryanna"},{"$f":"VLOOKUP($A26,Participants!$A:$E,3,FALSE)","v":"Houser"},{"$f":"VLOOKUP($A26,Participants!$A:$E,5,FALSE)","v":"St Jude"},4,4,22]
[151,"Lap 5","00:00:01.630","00:00:22.350",{"$f":"VLOOKUP($A27,Participants!$A:$E,4,FALSE)","v":5},{"$f":"VLOOKUP($A27,Participants!$A:$E,2,FALSE)","v":"Audie"},{"$f":"VLOOKUP($A27,Participants!$A:$E,3,FALSE)","v":"Altherr"},{"$f":"VLOOKUP($A27,Participants!$A:$E,5,FALSE)","v":"SSFC"},4,5,25]
[null,null,"00:00:02.370","00:00:24.720",{"$f":"VLOOKUP($A28,Participants!$A:$E,4,FALSE)","v":{"$error":"#N/A"}},{"$f":"VLOOKUP($A28,Participants!$A:$E,2,FALSE)","v":{"$error":"#N/A"}},{"$f":"VLOOKUP($A28,Participants!$A:$E,3,FALSE)","v":{"$error":"#N/A"}},{"$f":"VLOOKUP($A28,Participants!$A:$E,5,FALSE)","v":{"$error":"#N/A"}},4,6,27]
[]
[6,"Lap 1","00:00:18.320","00:00:18.320",{"$f":"VLOOKUP($A30,Participants!$A:$E,4,FALSE)","v":5},{"$f":"VLOOKUP($A30,Participants!$A:$E,2,FALSE)","v":"Olivia"},{"$f":"VLOOKUP($A30,Participants!$A:$E,3,FALSE)","v":"Antolin"},{"$f":"VLOOKUP($A30,Participants!$A:$E,5,FALSE)","v":"St Jude"},5,{"$f":"RANK(D30,IF(I30=5,$D$30:$D$35,),1)","v":1},14]
[153,"Lap 2","00:00:01.300","00:00:19.620",{"$f":"VLOOKUP($A31,Participants!$A:$E,4,FALSE)","v":5},{"$f":"VLOOKUP($A31,Participants!$A:$E,2,FALSE)","v":"Lilah"},{"$f":"VLOOKUP($A31,Participants!$A:$E,3,FALSE)","v":"Argiris"},{"$f":"VLOOKUP($A31,Participants!$A:$E,5,FALSE)","v":"SSFC"},5,{"$f":"RANK(D31,IF(I31=5,$D$30:$D$35,),1)","v":2},18]
[137,"Lap 3","00:00:00.470","00:00:20.100",{"$f":"VLOOKUP($A32,Participants!$A:$E,4,FALSE)","v":5},{"$f":"VLOOKUP($A32,Participants!$A:$E,2,FALSE)","v":"Elizabeth"},{"$f":"VLOOKUP($A32,Participants!$A:$E,3,FALSE)","v":"Wilson"},{"$f":"VLOOKUP($A32,Participants!$A:$E,5,FALSE)","v":"St Jude"},5,3,21]
[62,"Lap 4","00:00:02.440","00:00:22.540",{"$f":"VLOOKUP($A33,Participants!$A:$E,4,FALSE)","v":6},{"$f":"VLOOKUP($A33,Participants!$A:$E,2,FALSE)","v":"Kyra"},{"$f":"VLOOKUP($A33,Participants!$A:$E,3,FALSE)","v":"Kingston"},{"$f":"VLOOKUP($A33,Participants!$A:$E,5,FALSE)","v":"St Jude"},5,4,26]
[{"$nulls":4},{"$f":"VLOOKUP($A34,Participants!$A:$E,4,FALSE)","v":{"$error":"#N/A"}},{"$f":"VLOOKUP($A34,Participants!$A:$E,2,FALSE)","v":{"$error":"#N/A"}},{"$f":"VLOOKUP($A34,Participants!$A:$E,3,FALSE)","v":{"$error":"#N/A"}},{"$f":"VLOOKUP($A34,Participants!$A:$E,5,FALSE)","v":{"$error":"#N/A"}},5,{"$error":"#N/A"},{"$error":"#N/A"}]
[{"$nulls":4},{"$f":"VLOOKUP($A35,Participants!$A:$E,4,FALSE)","v":{"$error":"#N/A"}},{"$f":"VLOOKUP($A35,Participants!$A:$E,2,FALSE)","v":{"$error":"#N/A"}},{"$f":"VLOOKUP($A35,Participants!$A:$E,3,FALSE)","v":{"$error":"#N/A"}},{"$f":"VLOOKUP($A35,Participants!$A:$E,5,FALSE)","v":{"$error":"#N/A"}},5,{"$error":"#N/A"},{"$error":"#N/A"}]
[]
[{"$nulls":4},{"$f":"VLOOKUP($A37,Participants!$A:$E,4,FALSE)","v":{"$error":"#N/A"}},{"$f":"VLOOKUP($A37,Participants!$A:$E,2,FALSE)","v":{"$error":"#N/A"}},{"$f":"VLOOKUP($A37,Participants!$A:$E,3,FALSE)","v":{"$error":"#N/A"}},{"$f":"VLOOKUP($A37,Participants!$A:$E,5,FALSE)","v":{"$error":"#N/A"}},6,{"$f":"RANK(D37,IF(I37=6,$D$37:$D$42,),1)","v":{"$error":"#N/A"}},{"$error":"#N/A"}]
[{"$nulls":4},{"$f":"VLOOKUP($A38,Participants!$A:$E,4,FALSE)","v":{"$error":"#N/A"}},{"$f":"VLOOKUP($A38,Participants!$A:$E,2,FALSE)","v":{"$error":"#N/A"}},{"$f":"VLOOKUP($A38,Participants!$A:$E,3,FALSE)","v":{"$error":"#N/A"}},{"$f":"VLOOKUP($A38,Participants!$A:$E,5,FALSE)","v":{"$error":"#N/A"}},6,{"$f":"RANK(D38,IF(I38=6,$D$37:$D$42,),1)","v":{"$error":"#N/A"}},{"$error":"#N/A"}]
[{"$nulls":4},{"$f":"VLOOKUP($A39,Participants!$A:$E,4,FALSE)","v":{"$error":"#N/A"}},{"$f":"VLOOKUP($A39,Participants!$A:$E,2,FALSE)","v":{"$error":"#N/A"}},{"$f":"VLOOKUP($A39,Participants!$A:$E,3,FALSE)","v":{"$error":"#N/A"}},{"$f":"VLOOKUP($A39,Participants!$A:$E,5,FALSE)","v":{"$error":"#N/A"}},6,{"$error":"#N/A"},{"$error":"#N/A"}]
[{"$nulls":4},{"$f":"VLOOKUP($A40,Participants!$A:$E,4,FALSE)","v":{"$error":"#N/A"}},{"$f":"VLOOKUP($A40,Participants!$A:$E,2,FALSE)","v":{"$error":"#N/A"}},{"$f":"VLOOKUP($A40,Participants!$A:$E,3,FALSE)","v":{"$error":"#N/A"}},{"$f":"VLOOKUP($A40,Participants!$A:$E,5,FALSE)","v":{"$error":"#N/A"}},6,{"$error":"#N/A"},{"$error":"#N/A"}]
[{"$nulls":4},{"$f":"VLOOKUP($A41,Participants!$A:$E,4,FALSE)","v":{"$error":"#N/A"}},{"$f":"VLOOKUP($A41,Participants!$A:$E,2,FALSE)","v":{"$error":"#N/A"}},{"$f":"VLOOKUP($A41,Participants!$A:$E,3,FALSE)","v":{"$error":"#N/A"}},{"$f":"VLOOKUP($A41,Participants!$A:$E,5,FALSE)","v":{"$error":"#N/A"}},6,{"$error":"#N/A"},{"$error":"#N/A"}]
[{"$nulls":4},{"$f":"VLOOKUP($A42,Participants!$A:$E,4,FALSE)","v":{"$error":"#N/A"}},{"$f":"VLOOKUP($A42,Participants!$A:$E,2,FALSE)","v":{"$error":"#N/A"}},{"$f":"VLOOKUP($A42,Participants!$A:$E,3,FALSE)","v":{"$error":"#N/A"}},{"$f":"VLOOKUP($A42,Participants!$A:$E,5,FALSE)","v":{"$error":"#N/A"}},6,{"$error":"#N/A"},{"$error":"#N/A"}]

{"sheet":"Softball 56 Girls","index":47,"n_rows":101,"n_cols":13,"rows_kept":101}
["Bib","Best Jump\n\nwill calculate\nautomatically","First Jump\n\nEnter 10 ft 3 3/4 in as 1003.75","Second Jump\n\nEnter 10 ft 3 3/4 in as 1003.75","Third Jump\n\nEnter 10 ft 3 3/4 in as 1003.75","Grade","FName","Lname","School","Overall Place",null,null,"Return to Schedule of Events"]
[235,{"$f":"MAX(C2:E2)","v":7105},7105,null,null,{"$f":"VLOOKUP($A2,Participants!$A:$E,4,FALSE)","v":6},{"$f":"VLOOKUP($A2,Participants!$A:$E,2,FALSE)","v":"Hailey"},{"$f":"VLOOKUP($A2,Participants!$A:$E,3,FALSE)","v":"Engel"},{"$f":"VLOOKUP($A2,Participants!$A:$E,5,FALSE)","v":"United We Run"},{"$f":"RANK(B2,$B$1:$B$97,0)","v":3}]
[106,{"$f":"MAX(C3:E3)","v":5802},5802,null,null,{"$f":"VLOOKUP($A3,Participants!$A:$E,4,FALSE)","v":6},{"$f":"VLOOKUP($A3,Participants!$A:$E,2,FALSE)","v":"Emilia"},{"$f":"VLOOKUP($A3,Participants!$A:$E,3,FALSE)","v":"Reutebuch"},{"$f":"VLOOKUP($A3,Participants!$A:$E,5,FALSE)","v":"St Jude"},{"$f":"RANK(B3,$B$1:$B$97,0)","v":9},null,null,"Add or Update Participants"]
[304,7001,7001,null,null,{"$f":"VLOOKUP($A4,Participants!$A:$E,4,FALSE)","v":6},{"$f":"VLOOKUP($A4,Participants!$A:$E,2,FALSE)","v":"Annie"},{"$f":"VLOOKUP($A4,Participants!$A:$E,3,FALSE)","v":"Schoettle"},{"$f":"VLOOKUP($A4,Participants!$A:$E,5,FALSE)","v":"St. Barnabas"},4,null,null,"Overall Place and Points"]
[305,7508,7508,null,null,{"$f":"VLOOKUP($A5,Participants!$A:$E,4,FALSE)","v":6},{"$f":"VLOOKUP($A5,Participants!$A:$E,2,FALSE)","v":"Cecelia"},{"$f":"VLOOKUP($A5,Participants!$A:$E,3,FALSE)","v":"Schoettle"},{"$f":"VLOOKUP($A5,Participants!$A:$E,5,FALSE)","v":"St. Barnabas"},2]
[215,6107,6107,null,null,{"$f":"VLOOKUP($A6,Participants!$A:$E,4,FALSE)","v":5},{"$f":"VLOOKUP($A6,Participants!$A:$E,2,FALSE)","v":"Ashley"},{"$f":"VLOOKUP($A6,Participants!$A:$E,3,FALSE)","v":"Woodburn"},{"$f":"VLOOKUP($A6,Participants!$A:$E,5,FALSE)","v":"SSFC"},7]
[207,3702,3702,null,null,{"$f":"VLOOKUP($A7,Participants!$A:$E,4,FALSE)","v":5},{"$f":"VLOOKUP($A7,Participants!$A:$E,2,FALSE)","v":"Megan"},{"$f":"VLOOKUP($A7,Participants!$A:$E,3,FALSE)","v":"Trieste"},{"$f":"VLOOKUP($A7,Participants!$A:$E,5,FALSE)","v":"SSFC"},12]
[172,6400,6400,null,null,{"$f":"VLOOKUP($A8,Participants!$A:$E,4,FALSE)","v":5},{"$f":"VLOOKUP($A8,Participants!$A:$E,2,FALSE)","v":"Alexa"},{"$f":"VLOOKUP($A8,Participants!$A:$E,3,FALSE)","v":"Griffin"},{"$f":"VLOOKUP($A8,Participants!$A:$E,5,FALSE)","v":"SSFC"},6]
[272,5908,5908,null,null,{"$f":"VLOOKUP($A9,Participants!$A:$E,4,FALSE)","v":5},{"$f":"VLOOKUP($A9,Participants!$A:$E,2,FALSE)","v":"Isabella"},{"$f":"VLOOKUP($A9,Participants!$A:$E,3,FALSE)","v":"Andrews"},{"$f":"VLOOKUP($A9,Participants!$A:$E,5,FALSE)","v":"St. Barnabas"},8]
[151,5503,5503,null,null,{"$f":"VLOOKUP($A10,Participants!$A:$E,4,FALSE)","v":5},{"$f":"VLOOKUP($A10,Participants!$A:$E,2,FALSE)","v":"Audie"},{"$f":"VLOOKUP($A10,Participants!$A:$E,3,FALSE)","v":"Altherr"},{"$f":"VLOOKUP($A10,Participants!$A:$E,5,FALSE)","v":"SSFC"},10]
[29,6900,6900,null,null,{"$f":"VLOOKUP($A11,Participants!$A:$E,4,FALSE)","v":5},{"$f":"VLOOKUP($A11,Participants!$A:$E,2,FALSE)","v":"Lydia"},{"$f":"VLOOKUP($A11,Participants!$A:$E,3,FALSE)","v":"Dant"},{"$f":"VLOOKUP($A11,Participants!$A:$E,5,FALSE)","v":"St Jude"},5]
[181,4504,4504,null,null,{"$f":"VLOOKUP($A12,Participants!$A:$E,4,FALSE)","v":5},{"$f":"VLOOKUP($A12,Participants!$A:$E,2,FALSE)","v":"Evelyn"},{"$f":"VLOOKUP($A12,Participants!$A:$E,3,FALSE)","v":"Lewis"},{"$f":"VLOOKUP($A12,Participants!$A:$E,5,FALSE)","v":"SSFC"},11]
[74,9803,9803,null,null,{"$f":"VLOOKUP($A13,Participants!$A:$E,4,FALSE)","v":6},{"$f":"VLOOKUP($A13,Participants!$A:$E,2,FALSE)","v":"Megan"},{"$f":"VLOOKUP($A13,Participants!$A:$E,3,FALSE)","v":"Lehner"},{"$f":"VLOOKUP($A13,Participants!$A:$E,5,FALSE)","v":"St Jude"},1]
[null,0,{"$nulls":3},{"$f":"VLOOKUP($A14,Participants!$A:$E,4,FALSE)","v":{"$error":"#N/A"}},{"$f":"VLOOKUP($A14,Participants!$A:$E,2,FALSE)","v":{"$error":"#N/A"}},{"$f":"VLOOKUP($A14,Participants!$A:$E,3,FALSE)","v":{"$error":"#N/A"}},{"$f":"VLOOKUP($A14,Participants!$A:$E,5,FALSE)","v":{"$error":"#N/A"}},13]
[null,0,{"$nulls":3},{"$f":"VLOOKUP($A15,Participants!$A:$E,4,FALSE)","v":{"$error":"#N/A"}},{"$f":"VLOOKUP($A15,Participants!$A:$E,2,FALSE)","v":{"$error":"#N/A"}},{"$f":"VLOOKUP($A15,Participants!$A:$E,3,FALSE)","v":{"$error":"#N/A"}},{"$f":"VLOOKUP($A15,Participants!$A:$E,5,FALSE)","v":{"$error":"#N/A"}},13]
[null,0,{"$nulls":3},{"$f":"VLOOKUP($A16,Participants!$A:$E,4,FALSE)","v":{"$error":"#N/A"}},{"$f":"VLOOKUP($A16,Participants!$A:$E,2,FALSE)","v":{"$error":"#N/A"}},{"$f":"VLOOKUP($A16,Participants!$A:$E,3,FALSE)","v":{"$error":"#N/A"}},{"$f":"VLOOKUP($A16,Participants!$A:$E,5,FALSE)","v":{"$error":"#N/A"}},13]
[null,0,{"$nulls":3},{"$f":"VLOOKUP($A17,Participants!$A:$E,4,FALSE)","v":{"$error":"#N/A"}},{"$f":"VLOOKUP($A17,Participants!$A:$E,2,FALSE)","v":{"$error":"#N/A"}},{"$f":"VLOOKUP($A17,Participants!$A:$E,3,FALSE)","v":{"$error":"#N/A"}},{"$f":"VLOOKUP($A17,Participants!$A:$E,5,FALSE)","v":{"$error":"#N/A"}},13]
[null,0,{"$nulls":3},{"$f":"VLOOKUP($A18,Participants!$A:$E,4,FALSE)","v":{"$error":"#N/A"}},{"$f":"VLOOKUP($A18,Participants!$A:$E,2,FALSE)","v":{"$error":"#N/A"}},{"$f":"VLOOKUP($A18,Participants!$A:$E,3,FALSE)","v":{"$error":"#N/A"}},{"$f":"VLOOKUP($A18,Participants!$A:$E,5,FALSE)","v":{"$error":"#N/A"}},13]
[null,0,{"$nulls":3},{"$f":"VLOOKUP($A19,Participants!$A:$E,4,FALSE)","v":{"$error":"#N/A"}},{"$f":"VLOOKUP($A19,Participants!$A:$E,2,FALSE)","v":{"$error":"#N/A"}},{"$f":"VLOOKUP($A19,Participants!$A:$E,3,FALSE)","v":{"$error":"#N/A"}},{"$f":"VLOOKUP($A19,Participants!$A:$E,5,FALSE)","v":{"$error":"#N/A"}},13]
[null,0,{"$nulls":3},{"$f":"VLOOKUP($A20,Participants!$A:$E,4,FALSE)","v":{"$error":"#N/A"}},{"$f":"VLOOKUP($A20,Participants!$A:$E,2,FALSE)","v":{"$error":"#N/A"}},{"$f":"VLOOKUP($A20,Participants!$A:$E,3,FALSE)","v":{"$error":"#N/A"}},{"$f":"VLOOKUP($A20,Participants!$A:$E,5,FALSE)","v":{"$error":"#N/A"}},13]
[null,0,{"$nulls":3},{"$f":"VLOOKUP($A21,Participants!$A:$E,4,FALSE)","v":{"$error":"#N/A"}},{"$f":"VLOOKUP($A21,Participants!$A:$E,2,FALSE)","v":{"$error":"#N/A"}},{"$f":"VLOOKUP($A21,Participants!$A:$E,3,FALSE)","v":{"$error":"#N/A"}},{"$f":"VLOOKUP($A21,Participants!$A:$E,5,FALSE)","v":{"$error":"#N/A"}},13]
[null,0,{"$nulls":3},{"$f":"VLOOKUP($A22,Participants!$A:$E,4,FALSE)","v":{"$error":"#N/A"}},{"$f":"VLOOKUP($A22,Participants!$A:$E,2,FALSE)","v":{"$error":"#N/A"}},{"$f":"VLOOKUP($A22,Participants!$A:$E,3,FALSE)","v":{"$error":"#N/A"}},{"$f":"VLOOKUP($A22,Participants!$A:$E,5,FALSE)","v":{"$error":"#N/A"}},13]
[null,0,{"$nulls":3},{"$f":"VLOOKUP($A23,Participants!$A:$E,4,FALSE)","v":{"$error":"#N/A"}},{"$f":"VLOOKUP($A23,Participants!$A:$E,2,FALSE)","v":{"$error":"#N/A"}},{"$f":"VLOOKUP($A23,Participants!$A:$E,3,FALSE)","v":{"$error":"#N/A"}},{"$f":"VLOOKUP($A23,Participants!$A:$E,5,FALSE)","v":{"$error":"#N/A"}},13]
[null,0,{"$nulls":3},{"$f":"VLOOKUP($A24,Participants!$A:$E,4,FALSE)","v":{"$error":"#N/A"}},{"$f":"VLOOKUP($A24,Participants!$A:$E,2,FALSE)","v":{"$error":"#N/A"}},{"$f":"VLOOKUP($A24,Participants!$A:$E,3,FALSE)","v":{"$error":"#N/A"}},{"$f":"VLOOKUP($A24,Participants!$A:$E,5,FALSE)","v":{"$error":"#N/A"}},13]
[null,0,{"$nulls":3},{"$f":"VLOOKUP($A25,Participants!$A:$E,4,FALSE)","v":{"$error":"#N/A"}},{"$f":"VLOOKUP($A25,Participants!$A:$E,2,FALSE)","v":{"$error":"#N/A"}},{"$f":"VLOOKUP($A25,Participants!$A:$E,3,FALSE)","v":{"$error":"#N/A"}},{"$f":"VLOOKUP($A25,Participants!$A:$E,5,FALSE)","v":{"$error":"#N/A"}},13]
[null,0,{"$nulls":3},{"$f":"VLOOKUP($A26,Participants!$A:$E,4,FALSE)","v":{"$error":"#N/A"}},{"$f":"VLOOKUP($A26,Participants!$A:$E,2,FALSE)","v":{"$error":"#N/A"}},{"$f":"VLOOKUP($A26,Participants!$A:$E,3,FALSE)","v":{"$error":"#N/A"}},{"$f":"VLOOKUP($A26,Participants!$A:$E,5,FALSE)","v":{"$error":"#N/A"}},13]
[null,0,{"$nulls":3},{"$f":"VLOOKUP($A27,Participants!$A:$E,4,FALSE)","v":{"$error":"#N/A"}},{"$f":"VLOOKUP($A27,Participants!$A:$E,2,FALSE)","v":{"$error":"#N/A"}},{"$f":"VLOOKUP($A27,Participants!$A:$E,3,FALSE)","v":{"$error":"#N/A"}},{"$f":"VLOOKUP($A27,Participants!$A:$E,5,FALSE)","v":{"$error":"#N/A"}},13]
[null,0,{"$nulls":3},{"$f":"VLOOKUP($A28,Participants!$A:$E,4,FALSE)","v":{"$error":"#N/A"}},{"$f":"VLOOKUP($A28,Participants!$A:$E,2,FALSE)","v":{"$error":"#N/A"}},{"$f":"VLOOKUP($A28,Participants!$A:$E,3,FALSE)","v":{"$error":"#N/A"}},{"$f":"VLOOKUP($A28,Participants!$A:$E,5,FALSE)","v":{"$error":"#N/A"}},13]
[null,0,{"$nulls":3},{"$f":"VLOOKUP($A29,Participants!$A:$E,4,FALSE)","v":{"$error":"#N/A"}},{"$f":"VLOOKUP($A29,Participants!$A:$E,2,FALSE)","v":{"$error":"#N/A"}},{"$f":"VLOOKUP($A29,Participants!$A:$E,3,FALSE)","v":{"$error":"#N/A"}},{"$f":"VLOOKUP($A29,Participants!$A:$E,5,FALSE)","v":{"$error":"#N/A"}},13]
[null,0,{"$nulls":3},{"$f":"VLOOKUP($A30,Participants!$A:$E,4,FALSE)","v":{"$error":"#N/A"}},{"$f":"VLOOKUP($A30,Participants!$A:$E,2,FALSE)","v":{"$error":"#N/A"}},{"$f":"VLOOKUP($A30,Participants!$A:$E,3,FALSE)","v":{"$error":"#N/A"}},{"$f":"VLOOKUP($A30,Participants!$A:$E,5,FALSE)","v":{"$error":"#N/A"}},13]
[null,0,{"$nulls":3},{"$f":"VLOOKUP($A31,Participants!$A:$E,4,FALSE)","v":{"$error":"#N/A"}},{"$f":"VLOOKUP($A31,Participants!$A:$E,2,FALSE)","v":{"$error":"#N/A"}},{"$f":"VLOOKUP($A31,Participants!$A:$E,3,FALSE)","v":{"$error":"#N/A"}},{"$f":"VLOOKUP($A31,Participants!$A:$E,5,FALSE)","v":{"$error":"#N/A"}},13]
[null,0,{"$nulls":3},{"$f":"VLOOKUP($A32,Participants!$A:$E,4,FALSE)","v":{"$error":"#N/A"}},{"$f":"VLOOKUP($A32,Participants!$A:$E,2,FALSE)","v":{"$error":"#N/A"}},{"$f":"VLOOKUP($A32,Participants!$A:$E,3,FALSE)","v":{"$error":"#N/A"}},{"$f":"VLOOKUP($A32,Participants!$A:$E,5,FALSE)","v":{"$error":"#N/A"}},13]
[null,0,{"$nulls":3},{"$f":"VLOOKUP($A33,Participants!$A:$E,4,FALSE)","v":{"$error":"#N/A"}},{"$f":"VLOOKUP($A33,Participants!$A:$E,2,FALSE)","v":{"$error":"#N/A"}},{"$f":"VLOOKUP($A33,Participants!$A:$E,3,FALSE)","v":{"$error":"#N/A"}},{"$f":"VLOOKUP($A33,Participants!$A:$E,5,FALSE)","v":{"$error":"#N/A"}},13]
[null,0,{"$nulls":3},{"$f":"VLOOKUP($A34,Participants!$A:$E,4,FALSE)","v":{"$error":"#N/A"}},{"$f":"VLOOKUP($A34,Participants!$A:$E,2,FALSE)","v":{"$error":"#N/A"}},{"$f":"VLOOKUP($A34,Participants!$A:$E,3,FALSE)","v":{"$error":"#N/A"}},{"$f":"VLOOKUP($A34,Participants!$A:$E,5,FALSE)","v":{"$error":"#N/A"}},13]
[null,0,{"$nulls":3},{"$f":"VLOOKUP($A35,Participants!$A:$E,4,FALSE)","v":{"$error":"#N/A"}},{"$f":"VLOOKUP($A35,Participants!$A:$E,2,FALSE)","v":{"$error":"#N/A"}},{"$f":"VLOOKUP($A35,Participants!$A:$E,3,FALSE)","v":{"$error":"#N/A"}},{"$f":"VLOOKUP($A35,Participants!$A:$E,5,FALSE)","v":{"$error":"#N/A"}},13]
[null,0,{"$nulls":3},{"$f":"VLOOKUP($A36,Participants!$A:$E,4,FALSE)","v":{"$error":"#N/A"}},{"$f":"VLOOKUP($A36,Participants!$A:$E,2,FALSE)","v":{"$error":"#N/A"}},{"$f":"VLOOKUP($A36,Participants!$A:$E,3,FALSE)","v":{"$error":"#N/A"}},{"$f":"VLOOKUP($A36,Participants!$A:$E,5,FALSE)","v":{"$error":"#N/A"}},13]
[null,0,{"$nulls":3},{"$f":"VLOOKUP($A37,Participants!$A:$E,4,FALSE)","v":{"$error":"#N/A"}},{"$f":"VLOOKUP($A37,Participants!$A:$E,2,FALSE)","v":{"$error":"#N/A"}},{"$f":"VLOOKUP($A37,Participants!$A:$E,3,FALSE)","v":{"$error":"#N/A"}},{"$f":"VLOOKUP($A37,Participants!$A:$E,5,FALSE)","v":{"$error":"#N/A"}},13]
[null,0,{"$nulls":3},{"$f":"VLOOKUP($A38,Participants!$A:$E,4,FALSE)","v":{"$error":"#N/A"}},{"$f":"VLOOKUP($A38,Participants!$A:$E,2,FALSE)","v":{"$error":"#N/A"}},{"$f":"VLOOKUP($A38,Participants!$A:$E,3,FALSE)","v":{"$error":"#N/A"}},{"$f":"VLOOKUP($A38,Participants!$A:$E,5,FALSE)","v":{"$error":"#N/A"}},13]
[null,0,{"$nulls":3},{"$f":"VLOOKUP($A39,Participants!$A:$E,4,FALSE)","v":{"$error":"#N/A"}},{"$f":"VLOOKUP($A39,Participants!$A:$E,2,FALSE)","v":{"$error":"#N/A"}},{"$f":"VLOOKUP($A39,Participants!$A:$E,3,FALSE)","v":{"$error":"#N/A"}},{"$f":"VLOOKUP($A39,Participants!$A:$E,5,FALSE)","v":{"$error":"#N/A"}},13]
[null,0,{"$nulls":3},{"$f":"VLOOKUP($A40,Participants!$A:$E,4,FALSE)","v":{"$error":"#N/A"}},{"$f":"VLOOKUP($A40,Participants!$A:$E,2,FALSE)","v":{"$error":"#N/A"}},{"$f":"VLOOKUP($A40,Participants!$A:$E,3,FALSE)","v":{"$error":"#N/A"}},{"$f":"VLOOKUP($A40,Participants!$A:$E,5,FALSE)","v":{"$error":"#N/A"}},13]
[null,0,{"$nulls":3},{"$f":"VLOOKUP($A41,Participants!$A:$E,4,FALSE)","v":{"$error":"#N/A"}},{"$f":"VLOOKUP($A41,Participants!$A:$E,2,FALSE)","v":{"$error":"#N/A"}},{"$f":"VLOOKUP($A41,Participants!$A:$E,3,FALSE)","v":{"$error":"#N/A"}},{"$f":"VLOOKUP($A41,Participants!$A:$E,5,FALSE)","v":{"$error":"#N/A"}},13]
[null,0,{"$nulls":3},{"$f":"VLOOKUP($A42,Participants!$A:$E,4,FALSE)","v":{"$error":"#N/A"}},{"$f":"VLOOKUP($A42,Participants!$A:$E,2,FALSE)","v":{"$error":"#N/A"}},{"$f":"VLOOKUP($A42,Participants!$A:$E,3,FALSE)","v":{"$error":"#N/A"}},{"$f":"VLOOKUP($A42,Participants!$A:$E,5,FALSE)","v":{"$error":"#N/A"}},13]
[null,0,{"$nulls":3},{"$f":"VLOOKUP($A43,Participants!$A:$E,4,FALSE)","v":{"$error":"#N/A"}},{"$f":"VLOOKUP($A43,Participants!$A:$E,2,FALSE)","v":{"$error":"#N/A"}},{"$f":"VLOOKUP($A43,Participants!$A:$E,3,FALSE)","v":{"$error":"#N/A"}},{"$f":"VLOOKUP($A43,Participants!$A:$E,5,FALSE)","v":{"$error":"#N/A"}},13]
[null,0,{"$nulls":3},{"$f":"VLOOKUP($A44,Participants!$A:$E,4,FALSE)","v":{"$error":"#N/A"}},{"$f":"VLOOKUP($A44,Participants!$A:$E,2,FALSE)","v":{"$error":"#N/A"}},{"$f":"VLOOKUP($A44,Participants!$A:$E,3,FALSE)","v":{"$error":"#N/A"}},{"$f":"VLOOKUP($A44,Participants!$A:$E,5,FALSE)","v":{"$error":"#N/A"}},13]
[null,0,{"$nulls":3},{"$f":"VLOOKUP($A45,Participants!$A:$E,4,FALSE)","v":{"$error":"#N/A"}},{"$f":"VLOOKUP($A45,Participants!$A:$E,2,FALSE)","v":{"$error":"#N/A"}},{"$f":"VLOOKUP($A45,Participants!$A:$E,3,FALSE)","v":{"$error":"#N/A"}},{"$f":"VLOOKUP($A45,Participants!$A:$E,5,FALSE)","v":{"$error":"#N/A"}},13]
[null,0,{"$nulls":3},{"$f":"VLOOKUP($A46,Participants!$A:$E,4,FALSE)","v":{"$error":"#N/A"}},{"$f":"VLOOKUP($A46,Participants!$A:$E,2,FALSE)","v":{"$error":"#N/A"}},{"$f":"VLOOKUP($A46,Participants!$A:$E,3,FALSE)","v":{"$error":"#N/A"}},{"$f":"VLOOKUP($A46,Participants!$A:$E,5,FALSE)","v":{"$error":"#N/A"}},13]
[null,0,{"$nulls":3},{"$f":"VLOOKUP($A47,Participants!$A:$E,4,FALSE)","v":{"$error":"#N/A"}},{"$f":"VLOOKUP($A47,Participants!$A:$E,2,FALSE)","v":{"$error":"#N/A"}},{"$f":"VLOOKUP($A47,Participants!$A:$E,3,FALSE)","v":{"$error":"#N/A"}},{"$f":"VLOOKUP($A47,Participants!$A:$E,5,FALSE)","v":{"$error":"#N/A"}},13]
[null,0,{"$nulls":3},{"$f":"VLOOKUP($A48,Participants!$A:$E,4,FALSE)","v":{"$error":"#N/A"}},{"$f":"VLOOKUP($A48,Participants!$A:$E,2,FALSE)","v":{"$error":"#N/A"}},{"$f":"VLOOKUP($A48,Participants!$A:$E,3,FALSE)","v":{"$error":"#N/A"}},{"$f":"VLOOKUP($A48,Participants!$A:$E,5,FALSE)","v":{"$error":"#N/A"}},13]
[null,0,{"$nulls":3},{"$f":"VLOOKUP($A49,Participants!$A:$E,4,FALSE)","v":{"$error":"#N/A"}},{"$f":"VLOOKUP($A49,Participants!$A:$E,2,FALSE)","v":{"$error":"#N/A"}},{"$f":"VLOOKUP($A49,Participants!$A:$E,3,FALSE)","v":{"$error":"#N/A"}},{"$f":"VLOOKUP($A49,Participants!$A:$E,5,FALSE)","v":{"$error":"#N/A"}},13]
[null,0,{"$nulls":3},{"$f":"VLOOKUP($A50,Participants!$A:$E,4,FALSE)","v":{"$error":"#N/A"}},{"$f":"VLOOKUP($A50,Participants!$A:$E,2,FALSE)","v":{"$error":"#N/A"}},{"$f":"VLOOKUP($A50,Participants!$A:$E,3,FALSE)","v":{"$error":"#N/A"}},{"$f":"VLOOKUP($A50,Participants!$A:$E,5,FALSE)","v":{"$error":"#N/A"}},13]
[null,0,{"$nulls":3},{"$f":"VLOOKUP($A51,Participants!$A:$E,4,FALSE)","v":{"$error":"#N/A"}},{"$f":"VLOOKUP($A51,Participants!$A:$E,2,FALSE)","v":{"$error":"#N/A"}},{"$f":"VLOOKUP($A51,Participants!$A:$E,3,FALSE)","v":{"$error":"#N/A"}},{"$f":"VLOOKUP($A51,Participants!$A:$E,5,FALSE)","v":{"$error":"#N/A"}},13]
[null,0,{"$nulls":3},{"$f":"VLOOKUP($A52,Participants!$A:$E,4,FALSE)","v":{"$error":"#N/A"}},{"$f":"VLOOKUP($A52,Participants!$A:$E,2,FALSE)","v":{"$error":"#N/A"}},{"$f":"VLOOKUP($A52,Participants!$A:$E,3,FALSE)","v":{"$error":"#N/A"}},{"$f":"VLOOKUP($A52,Participants!$A:$E,5,FALSE)","v":{"$error":"#N/A"}},13]
[null,0,{"$nulls":3},{"$f":"VLOOKUP($A53,Participants!$A:$E,4,FALSE)","v":{"$error":"#N/A"}},{"$f":"VLOOKUP($A53,Participants!$A:$E,2,FALSE)","v":{"$error":"#N/A"}},{"$f":"VLOOKUP($A53,Participants!$A:$E,3,FALSE)","v":{"$error":"#N/A"}},{"$f":"VLOOKUP($A53,Participants!$A:$E,5,FALSE)","v":{"$error":"#N/A"}},13]
[null,0,{"$nulls":3},{"$f":"VLOOKUP($A54,Participants!$A:$E,4,FALSE)","v":{"$error":"#N/A"}},{"$f":"VLOOKUP($A54,Participants!$A:$E,2,FALSE)","v":{"$error":"#N/A"}},{"$f":"VLOOKUP($A54,Participants!$A:$E,3,FALSE)","v":{"$error":"#N/A"}},{"$f":"VLOOKUP($A54,Participants!$A:$E,5,FALSE)","v":{"$error":"#N/A"}},13]
[null,0,{"$nulls":3},{"$f":"VLOOKUP($A55,Participants!$A:$E,4,FALSE)","v":{"$error":"#N/A"}},{"$f":"VLOOKUP($A55,Participants!$A:$E,2,FALSE)","v":{"$error":"#N/A"}},{"$f":"VLOOKUP($A55,Participants!$A:$E,3,FALSE)","v":{"$error":"#N/A"}},{"$f":"VLOOKUP($A55,Participants!$A:$E,5,FALSE)","v":{"$error":"#N/A"}},13]
[null,0,{"$nulls":3},{"$f":"VLOOKUP($A56,Participants!$A:$E,4,FALSE)","v":{"$error":"#N/A"}},{"$f":"VLOOKUP($A56,Participants!$A:$E,2,FALSE)","v":{"$error":"#N/A"}},{"$f":"VLOOKUP($A56,Participants!$A:$E,3,FALSE)","v":{"$error":"#N/A"}},{"$f":"VLOOKUP($A56,Participants!$A:$E,5,FALSE)","v":{"$error":"#N/A"}},13]
[null,0,{"$nulls":3},{"$f":"VLOOKUP($A57,Participants!$A:$E,4,FALSE)","v":{"$error":"#N/A"}},{"$f":"VLOOKUP($A57,Participants!$A:$E,2,FALSE)","v":{"$error":"#N/A"}},{"$f":"VLOOKUP($A57,Participants!$A:$E,3,FALSE)","v":{"$error":"#N/A"}},{"$f":"VLOOKUP($A57,Participants!$A:$E,5,FALSE)","v":{"$error":"#N/A"}},13]
[null,0,{"$nulls":3},{"$f":"VLOOKUP($A58,Participants!$A:$E,4,FALSE)","v":{"$error":"#N/A"}},{"$f":"VLOOKUP($A58,Participants!$A:$E,2,FALSE)","v":{"$error":"#N/A"}},{"$f":"VLOOKUP($A58,Participants!$A:$E,3,FALSE)","v":{"$error":"#N/A"}},{"$f":"VLOOKUP($A58,Participants!$A:$E,5,FALSE)","v":{"$error":"#N/A"}},13]
[null,0,{"$nulls":3},{"$f":"VLOOKUP($A59,Participants!$A:$E,4,FALSE)","v":{"$error":"#N/A"}},{"$f":"VLOOKUP($A59,Participants!$A:$E,2,FALSE)","v":{"$error":"#N/A"}},{"$f":"VLOOKUP($A59,Participants!$A:$E,3,FALSE)","v":{"$error":"#N/A"}},{"$f":"VLOOKUP($A59,Participants!$A:$E,5,FALSE)","v":{"$error":"#N/A"}},13]
[null,0,{"$nulls":3},{"$f":"VLOOKUP($A60,Participants!$A:$E,4,FALSE)","v":{"$error":"#N/A"}},{"$f":"VLOOKUP($A60,Participants!$A:$E,2,FALSE)","v":{"$error":"#N/A"}},{"$f":"VLOOKUP($A60,Participants!$A:$E,3,FALSE)","v":{"$error":"#N/A"}},{"$f":"VLOOKUP($A60,Participants!$A:$E,5,FALSE)","v":{"$error":"#N/A"}},13]
[null,0,{"$nulls":3},{"$f":"VLOOKUP($A61,Participants!$A:$E,4,FALSE)","v":{"$error":"#N/A"}},{"$f":"VLOOKUP($A61,Participants!$A:$E,2,FALSE)","v":{"$error":"#N/A"}},{"$f":"VLOOKUP($A61,Participants!$A:$E,3,FALSE)","v":{"$error":"#N/A"}},{"$f":"VLOOKUP($A61,Participants!$A:$E,5,FALSE)","v":{"$error":"#N/A"}},13]
[null,0,{"$nulls":3},{"$f":"VLOOKUP($A62,Participants!$A:$E,4,FALSE)","v":{"$error":"#N/A"}},{"$f":"VLOOKUP($A62,Participants!$A:$E,2,FALSE)","v":{"$error":"#N/A"}},{"$f":"VLOOKUP($A62,Participants!$A:$E,3,FALSE)","v":{"$error":"#N/A"}},{"$f":"VLOOKUP($A62,Participants!$A:$E,5,FALSE)","v":{"$error":"#N/A"}},13]
[null,0,{"$nulls":3},{"$f":"VLOOKUP($A63,Participants!$A:$E,4,FALSE)","v":{"$error":"#N/A"}},{"$f":"VLOOKUP($A63,Participants!$A:$E,2,FALSE)","v":{"$error":"#N/A"}},{"$f":"VLOOKUP($A63,Participants!$A:$E,3,FALSE)","v":{"$error":"#N/A"}},{"$f":"VLOOKUP($A63,Participants!$A:$E,5,FALSE)","v":{"$error":"#N/A"}},13]
[null,0,{"$nulls":3},{"$f":"VLOOKUP($A64,Participants!$A:$E,4,FALSE)","v":{"$error":"#N/A"}},{"$f":"VLOOKUP($A64,Participants!$A:$E,2,FALSE)","v":{"$error":"#N/A"}},{"$f":"VLOOKUP($A64,Participants!$A:$E,3,FALSE)","v":{"$error":"#N/A"}},{"$f":"VLOOKUP($A64,Participants!$A:$E,5,FALSE)","v":{"$error":"#N/A"}},13]
[null,0,{"$nulls":3},{"$f":"VLOOKUP($A65,Participants!$A:$E,4,FALSE)","v":{"$error":"#N/A"}},{"$f":"VLOOKUP($A65,Participants!$A:$E,2,FALSE)","v":{"$error":"#N/A"}},{"$f":"VLOOKUP($A65,Participants!$A:$E,3,FALSE)","v":{"$error":"#N/A"}},{"$f":"VLOOKUP($A65,Participants!$A:$E,5,FALSE)","v":{"$error":"#N/A"}},13]
[null,0,{"$nulls":3},{"$f":"VLOOKUP($A66,Participants!$A:$E,4,FALSE)","v":{"$error":"#N/A"}},{"$f":"VLOOKUP($A66,Participants!$A:$E,2,FALSE)","v":{"$error":"#N/A"}},{"$f":"VLOOKUP($A66,Participants!$A:$E,3,FALSE)","v":{"$error":"#N/A"}},{"$f":"VLOOKUP($A66,Participants!$A:$E,5,FALSE)","v":{"$error":"#N/A"}},13]
[null,{"$f":"MAX(C67:E67)","v":0},{"$nulls":3},{"$f":"VLOOKUP($A67,Participants!$A:$E,4,FALSE)","v":{"$error":"#N/A"}},{"$f":"VLOOKUP($A67,Participants!$A:$E,2,FALSE)","v":{"$error":"#N/A"}},{"$f":"VLOOKUP($A67,Participants!$A:$E,3,FALSE)","v":{"$error":"#N/A"}},{"$f":"VLOOKUP($A67,Participants!$A:$E,5,FALSE)","v":{"$error":"#N/A"}},{"$f":"RANK(B67,$B$1:$B$97,0)","v":13}]
[null,0,{"$nulls":3},{"$f":"VLOOKUP($A68,Participants!$A:$E,4,FALSE)","v":{"$error":"#N/A"}},{"$f":"VLOOKUP($A68,Participants!$A:$E,2,FALSE)","v":{"$error":"#N/A"}},{"$f":"VLOOKUP($A68,Participants!$A:$E,3,FALSE)","v":{"$error":"#N/A"}},{"$f":"VLOOKUP($A68,Participants!$A:$E,5,FALSE)","v":{"$error":"#N/A"}},13]
[null,0,{"$nulls":3},{"$f":"VLOOKUP($A69,Participants!$A:$E,4,FALSE)","v":{"$error":"#N/A"}},{"$f":"VLOOKUP($A69,Participants!$A:$E,2,FALSE)","v":{"$error":"#N/A"}},{"$f":"VLOOKUP($A69,Participants!$A:$E,3,FALSE)","v":{"$error":"#N/A"}},{"$f":"VLOOKUP($A69,Participants!$A:$E,5,FALSE)","v":{"$error":"#N/A"}},13]
[null,0,{"$nulls":3},{"$f":"VLOOKUP($A70,Participants!$A:$E,4,FALSE)","v":{"$error":"#N/A"}},{"$f":"VLOOKUP($A70,Participants!$A:$E,2,FALSE)","v":{"$error":"#N/A"}},{"$f":"VLOOKUP($A70,Participants!$A:$E,3,FALSE)","v":{"$error":"#N/A"}},{"$f":"VLOOKUP($A70,Participants!$A:$E,5,FALSE)","v":{"$error":"#N/A"}},13]
[null,0,{"$nulls":3},{"$f":"VLOOKUP($A71,Participants!$A:$E,4,FALSE)","v":{"$error":"#N/A"}},{"$f":"VLOOKUP($A71,Participants!$A:$E,2,FALSE)","v":{"$error":"#N/A"}},{"$f":"VLOOKUP($A71,Participants!$A:$E,3,FALSE)","v":{"$error":"#N/A"}},{"$f":"VLOOKUP($A71,Participants!$A:$E,5,FALSE)","v":{"$error":"#N/A"}},13]
[null,0,{"$nulls":3},{"$f":"VLOOKUP($A72,Participants!$A:$E,4,FALSE)","v":{"$error":"#N/A"}},{"$f":"VLOOKUP($A72,Participants!$A:$E,2,FALSE)","v":{"$error":"#N/A"}},{"$f":"VLOOKUP($A72,Participants!$A:$E,3,FALSE)","v":{"$error":"#N/A"}},{"$f":"VLOOKUP($A72,Participants!$A:$E,5,FALSE)","v":{"$error":"#N/A"}},13]
[null,0,{"$nulls":3},{"$f":"VLOOKUP($A73,Participants!$A:$E,4,FALSE)","v":{"$error":"#N/A"}},{"$f":"VLOOKUP($A73,Participants!$A:$E,2,FALSE)","v":{"$error":"#N/A"}},{"$f":"VLOOKUP($A73,Participants!$A:$E,3,FALSE)","v":{"$error":"#N/A"}},{"$f":"VLOOKUP($A73,Participants!$A:$E,5,FALSE)","v":{"$error":"#N/A"}},13]
[null,0,{"$nulls":3},{"$f":"VLOOKUP($A74,Participants!$A:$E,4,FALSE)","v":{"$error":"#N/A"}},{"$f":"VLOOKUP($A74,Participants!$A:$E,2,FALSE)","v":{"$error":"#N/A"}},{"$f":"VLOOKUP($A74,Participants!$A:$E,3,FALSE)","v":{"$error":"#N/A"}},{"$f":"VLOOKUP($A74,Participants!$A:$E,5,FALSE)","v":{"$error":"#N/A"}},13]
[null,0,{"$nulls":3},{"$f":"VLOOKUP($A75,Participants!$A:$E,4,FALSE)","v":{"$error":"#N/A"}},{"$f":"VLOOKUP($A75,Participants!$A:$E,2,FALSE)","v":{"$error":"#N/A"}},{"$f":"VLOOKUP($A75,Participants!$A:$E,3,FALSE)","v":{"$error":"#N/A"}},{"$f":"VLOOKUP($A75,Participants!$A:$E,5,FALSE)","v":{"$error":"#N/A"}},13]
[null,0,{"$nulls":3},{"$f":"VLOOKUP($A76,Participants!$A:$E,4,FALSE)","v":{"$error":"#N/A"}},{"$f":"VLOOKUP($A76,Participants!$A:$E,2,FALSE)","v":{"$error":"#N/A"}},{"$f":"VLOOKUP($A76,Participants!$A:$E,3,FALSE)","v":{"$error":"#N/A"}},{"$f":"VLOOKUP($A76,Participants!$A:$E,5,FALSE)","v":{"$error":"#N/A"}},13]
[null,0,{"$nulls":3},{"$f":"VLOOKUP($A77,Participants!$A:$E,4,FALSE)","v":{"$error":"#N/A"}},{"$f":"VLOOKUP($A77,Participants!$A:$E,2,FALSE)","v":{"$error":"#N/A"}},{"$f":"VLOOKUP($A77,Participants!$A:$E,3,FALSE)","v":{"$error":"#N/A"}},{"$f":"VLOOKUP($A77,Participants!$A:$E,5,FALSE)","v":{"$error":"#N/A"}},13]
[null,0,{"$nulls":3},{"$f":"VLOOKUP($A78,Participants!$A:$E,4,FALSE)","v":{"$error":"#N/A"}},{"$f":"VLOOKUP($A78,Participants!$A:$E,2,FALSE)","v":{"$error":"#N/A"}},{"$f":"VLOOKUP($A78,Participants!$A:$E,3,FALSE)","v":{"$error":"#N/A"}},{"$f":"VLOOKUP($A78,Participants!$A:$E,5,FALSE)","v":{"$error":"#N/A"}},13]
[null,0,{"$nulls":3},{"$f":"VLOOKUP($A79,Participants!$A:$E,4,FALSE)","v":{"$error":"#N/A"}},{"$f":"VLOOKUP($A79,Participants!$A:$E,2,FALSE)","v":{"$error":"#N/A"}},{"$f":"VLOOKUP($A79,Participants!$A:$E,3,FALSE)","v":{"$error":"#N/A"}},{"$f":"VLOOKUP($A79,Participants!$A:$E,5,FALSE)","v":{"$error":"#N/A"}},13]
[null,0,{"$nulls":3},{"$f":"VLOOKUP($A80,Participants!$A:$E,4,FALSE)","v":{"$error":"#N/A"}},{"$f":"VLOOKUP($A80,Participants!$A:$E,2,FALSE)","v":{"$error":"#N/A"}},{"$f":"VLOOKUP($A80,Participants!$A:$E,3,FALSE)","v":{"$error":"#N/A"}},{"$f":"VLOOKUP($A80,Participants!$A:$E,5,FALSE)","v":{"$error":"#N/A"}},13]
[null,0,{"$nulls":3},{"$f":"VLOOKUP($A81,Participants!$A:$E,4,FALSE)","v":{"$error":"#N/A"}},{"$f":"VLOOKUP($A81,Participants!$A:$E,2,FALSE)","v":{"$error":"#N/A"}},{"$f":"VLOOKUP($A81,Participants!$A:$E,3,FALSE)","v":{"$error":"#N/A"}},{"$f":"VLOOKUP($A81,Participants!$A:$E,5,FALSE)","v":{"$error":"#N/A"}},13]
[null,0,{"$nulls":3},{"$f":"VLOOKUP($A82,Participants!$A:$E,4,FALSE)","v":{"$error":"#N/A"}},{"$f":"VLOOKUP($A82,Participants!$A:$E,2,FALSE)","v":{"$error":"#N/A"}},{"$f":"VLOOKUP($A82,Participants!$A:$E,3,FALSE)","v":{"$error":"#N/A"}},{"$f":"VLOOKUP($A82,Participants!$A:$E,5,FALSE)","v":{"$error":"#N/A"}},13]
[null,0,{"$nulls":3},{"$f":"VLOOKUP($A83,Participants!$A:$E,4,FALSE)","v":{"$error":"#N/A"}},{"$f":"VLOOKUP($A83,Participants!$A:$E,2,FALSE)","v":{"$error":"#N/A"}},{"$f":"VLOOKUP($A83,Participants!$A:$E,3,FALSE)","v":{"$error":"#N/A"}},{"$f":"VLOOKUP($A83,Participants!$A:$E,5,FALSE)","v":{"$error":"#N/A"}},13]
[null,0,{"$nulls":3},{"$f":"VLOOKUP($A84,Participants!$A:$E,4,FALSE)","v":{"$error":"#N/A"}},{"$f":"VLOOKUP($A84,Participants!$A:$E,2,FALSE)","v":{"$error":"#N/A"}},{"$f":"VLOOKUP($A84,Participants!$A:$E,3,FALSE)","v":{"$error":"#N/A"}},{"$f":"VLOOKUP($A84,Participants!$A:$E,5,FALSE)","v":{"$error":"#N/A"}},13]
[null,0,{"$nulls":3},{"$f":"VLOOKUP($A85,Participants!$A:$E,4,FALSE)","v":{"$error":"#N/A"}},{"$f":"VLOOKUP($A85,Participants!$A:$E,2,FALSE)","v":{"$error":"#N/A"}},{"$f":"VLOOKUP($A85,Participants!$A:$E,3,FALSE)","v":{"$error":"#N/A"}},{"$f":"VLOOKUP($A85,Participants!$A:$E,5,FALSE)","v":{"$error":"#N/A"}},13]
[null,0,{"$nulls":3},{"$f":"VLOOKUP($A86,Participants!$A:$E,4,FALSE)","v":{"$error":"#N/A"}},{"$f":"VLOOKUP($A86,Participants!$A:$E,2,FALSE)","v":{"$error":"#N/A"}},{"$f":"VLOOKUP($A86,Participants!$A:$E,3,FALSE)","v":{"$error":"#N/A"}},{"$f":"VLOOKUP($A86,Participants!$A:$E,5,FALSE)","v":{"$error":"#N/A"}},13]
[null,0,{"$nulls":3},{"$f":"VLOOKUP($A87,Participants!$A:$E,4,FALSE)","v":{"$error":"#N/A"}},{"$f":"VLOOKUP($A87,Participants!$A:$E,2,FALSE)","v":{"$error":"#N/A"}},{"$f":"VLOOKUP($A87,Participants!$A:$E,3,FALSE)","v":{"$error":"#N/A"}},{"$f":"VLOOKUP($A87,Participants!$A:$E,5,FALSE)","v":{"$error":"#N/A"}},13]
[null,0,{"$nulls":3},{"$f":"VLOOKUP($A88,Participants!$A:$E,4,FALSE)","v":{"$error":"#N/A"}},{"$f":"VLOOKUP($A88,Participants!$A:$E,2,FALSE)","v":{"$error":"#N/A"}},{"$f":"VLOOKUP($A88,Participants!$A:$E,3,FALSE)","v":{"$error":"#N/A"}},{"$f":"VLOOKUP($A88,Participants!$A:$E,5,FALSE)","v":{"$error":"#N/A"}},13]
[null,0,{"$nulls":3},{"$f":"VLOOKUP($A89,Participants!$A:$E,4,FALSE)","v":{"$error":"#N/A"}},{"$f":"VLOOKUP($A89,Participants!$A:$E,2,FALSE)","v":{"$error":"#N/A"}},{"$f":"VLOOKUP($A89,Participants!$A:$E,3,FALSE)","v":{"$error":"#N/A"}},{"$f":"VLOOKUP($A89,Participants!$A:$E,5,FALSE)","v":{"$error":"#N/A"}},13]
[null,0,{"$nulls":3},{"$f":"VLOOKUP($A90,Participants!$A:$E,4,FALSE)","v":{"$error":"#N/A"}},{"$f":"VLOOKUP($A90,Participants!$A:$E,2,FALSE)","v":{"$error":"#N/A"}},{"$f":"VLOOKUP($A90,Participants!$A:$E,3,FALSE)","v":{"$error":"#N/A"}},{"$f":"VLOOKUP($A90,Participants!$A:$E,5,FALSE)","v":{"$error":"#N/A"}},13]
[null,0,{"$nulls":3},{"$f":"VLOOKUP($A91,Participants!$A:$E,4,FALSE)","v":{"$error":"#N/A"}},{"$f":"VLOOKUP($A91,Participants!$A:$E,2,FALSE)","v":{"$error":"#N/A"}},{"$f":"VLOOKUP($A91,Participants!$A:$E,3,FALSE)","v":{"$error":"#N/A"}},{"$f":"VLOOKUP($A91,Participants!$A:$E,5,FALSE)","v":{"$error":"#N/A"}},13]
[null,0,{"$nulls":3},{"$f":"VLOOKUP($A92,Participants!$A:$E,4,FALSE)","v":{"$error":"#N/A"}},{"$f":"VLOOKUP($A92,Participants!$A:$E,2,FALSE)","v":{"$error":"#N/A"}},{"$f":"VLOOKUP($A92,Participants!$A:$E,3,FALSE)","v":{"$error":"#N/A"}},{"$f":"VLOOKUP($A92,Participants!$A:$E,5,FALSE)","v":{"$error":"#N/A"}},13]
[null,0,{"$nulls":3},{"$f":"VLOOKUP($A93,Participants!$A:$E,4,FALSE)","v":{"$error":"#N/A"}},{"$f":"VLOOKUP($A93,Participants!$A:$E,2,FALSE)","v":{"$error":"#N/A"}},{"$f":"VLOOKUP($A93,Participants!$A:$E,3,FALSE)","v":{"$error":"#N/A"}},{"$f":"VLOOKUP($A93,Participants!$A:$E,5,FALSE)","v":{"$error":"#N/A"}},13]
[null,0,{"$nulls":3},{"$f":"VLOOKUP($A94,Participants!$A:$E,4,FALSE)","v":{"$error":"#N/A"}},{"$f":"VLOOKUP($A94,Participants!$A:$E,2,FALSE)","v":{"$error":"#N/A"}},{"$f":"VLOOKUP($A94,Participants!$A:$E,3,FALSE)","v":{"$error":"#N/A"}},{"$f":"VLOOKUP($A94,Participants!$A:$E,5,FALSE)","v":{"$error":"#N/A"}},13]
[null,0,{"$nulls":3},{"$f":"VLOOKUP($A95,Participants!$A:$E,4,FALSE)","v":{"$error":"#N/A"}},{"$f":"VLOOKUP($A95,Participants!$A:$E,2,FALSE)","v":{"$error":"#N/A"}},{"$f":"VLOOKUP($A95,Participants!$A:$E,3,FALSE)","v":{"$error":"#N/A"}},{"$f":"VLOOKUP($A95,Participants!$A:$E,5,FALSE)","v":{"$error":"#N/A"}},13]
[null,0,{"$nulls":3},{"$f":"VLOOKUP($A96,Participants!$A:$E,4,FALSE)","v":{"$error":"#N/A"}},{"$f":"VLOOKUP($A96,Participants!$A:$E,2,FALSE)","v":{"$error":"#N/A"}},{"$f":"VLOOKUP($A96,Participants!$A:$E,3,FALSE)","v":{"$error":"#N/A"}},{"$f":"VLOOKUP($A96,Participants!$A:$E,5,FALSE)","v":{"$error":"#N/A"}},13]
[null,0,{"$nulls":3},{"$f":"VLOOKUP($A97,Participants!$A:$E,4,FALSE)","v":{"$error":"#N/A"}},{"$f":"VLOOKUP($A97,Participants!$A:$E,2,FALSE)","v":{"$error":"#N/A"}},{"$f":"VLOOKUP($A97,Participants!$A:$E,3,FALSE)","v":{"$error":"#N/A"}},{"$f":"VLOOKUP($A97,Participants!$A:$E,5,FALSE)","v":{"$error":"#N/A"}},13]
[null,0,{"$nulls":3},{"$f":"VLOOKUP($A98,Participants!$A:$E,4,FALSE)","v":{"$error":"#N/A"}},{"$f":"VLOOKUP($A98,Participants!$A:$E,2,FALSE)","v":{"$error":"#N/A"}},{"$f":"VLOOKUP($A98,Participants!$A:$E,3,FALSE)","v":{"$error":"#N/A"}},{"$f":"VLOOKUP($A98,Participants!$A:$E,5,FALSE)","v":{"$error":"#N/A"}},13]
[null,0,{"$nulls":3},{"$f":"VLOOKUP($A99,Participants!$A:$E,4,FALSE)","v":{"$error":"#N/A"}},{"$f":"VLOOKUP($A99,Participants!$A:$E,2,FALSE)","v":{"$error":"#N/A"}},{"$f":"VLOOKUP($A99,Participants!$A:$E,3,FALSE)","v":{"$error":"#N/A"}},{"$f":"VLOOKUP($A99,Participants!$A:$E,5,FALSE)","v":{"$error":"#N/A"}},13]
[null,0,{"$nulls":3},{"$f":"VLOOKUP($A100,Participants!$A:$E,4,FALSE)","v":{"$error":"#N/A"}},{"$f":"VLOOKUP($A100,Participants!$A:$E,2,FALSE)","v":{"$error":"#N/A"}},{"$f":"VLOOKUP($A100,Participants!$A:$E,3,FALSE)","v":{"$error":"#N/A"}},{"$f":"VLOOKUP($A100,Participants!$A:$E,5,FALSE)","v":{"$error":"#N/A"}},13]
[null,0,{"$nulls":3},{"$f":"VLOOKUP($A101,Participants!$A:$E,4,FALSE)","v":{"$error":"#N/A"}},{"$f":"VLOOKUP($A101,Participants!$A:$E,2,FALSE)","v":{"$error":"#N/A"}},{"$f":"VLOOKUP($A101,Participants!$A:$E,3,FALSE)","v":{"$error":"#N/A"}},{"$f":"VLOOKUP($A101,Participants!$A:$E,5,FALSE)","v":{"$error":"#N/A"}},13]

{"sheet":"Kickball 56 Girls","index":48,"n_rows":101,"n_cols":13,"rows_kept":101}
["Bib","Best Jump\n\nwill calculate\nautomatically","First Jump\n\nEnter 10 ft 3 3/4 in as 1003.75","Second Jump\n\nEnter 10 ft 3 3/4 in as 1003.75","Third Jump\n\nEnter 10 ft 3 3/4 in as 1003.75","Grade","FName","Lname","School","Overall Place",null,null,"Return to Schedule of Events"]
[6,{"$f":"MAX(C2:E2)","v":2810},2810,null,null,{"$f":"VLOOKUP($A2,Participants!$A:$E,4,FALSE)","v":5},{"$f":"VLOOKUP($A2,Participants!$A:$E,2,FALSE)","v":"Olivia"},{"$f":"VLOOKUP($A2,Participants!$A:$E,3,FALSE)","v":"Antolin"},{"$f":"VLOOKUP($A2,Participants!$A:$E,5,FALSE)","v":"St Jude"},{"$f":"RANK(B2,$B$1:$B$97,0)","v":2}]
[52,{"$f":"MAX(C3:E3)","v":2709},2709,null,null,{"$f":"VLOOKUP($A3,Participants!$A:$E,4,FALSE)","v":5},{"$f":"VLOOKUP($A3,Participants!$A:$E,2,FALSE)","v":"Maryanna"},{"$f":"VLOOKUP($A3,Participants!$A:$E,3,FALSE)","v":"Houser"},{"$f":"VLOOKUP($A3,Participants!$A:$E,5,FALSE)","v":"St Jude"},{"$f":"RANK(B3,$B$1:$B$97,0)","v":3},null,null,"Add or Update Participants"]
[106,4904,4904,null,null,{"$f":"VLOOKUP($A4,Participants!$A:$E,4,FALSE)","v":6},{"$f":"VLOOKUP($A4,Participants!$A:$E,2,FALSE)","v":"Emilia"},{"$f":"VLOOKUP($A4,Participants!$A:$E,3,FALSE)","v":"Reutebuch"},{"$f":"VLOOKUP($A4,Participants!$A:$E,5,FALSE)","v":"St Jude"},1,null,null,"Overall Place and Points"]
[null,0,{"$nulls":3},{"$f":"VLOOKUP($A5,Participants!$A:$E,4,FALSE)","v":{"$error":"#N/A"}},{"$f":"VLOOKUP($A5,Participants!$A:$E,2,FALSE)","v":{"$error":"#N/A"}},{"$f":"VLOOKUP($A5,Participants!$A:$E,3,FALSE)","v":{"$error":"#N/A"}},{"$f":"VLOOKUP($A5,Participants!$A:$E,5,FALSE)","v":{"$error":"#N/A"}},4]
[null,0,{"$nulls":3},{"$f":"VLOOKUP($A6,Participants!$A:$E,4,FALSE)","v":{"$error":"#N/A"}},{"$f":"VLOOKUP($A6,Participants!$A:$E,2,FALSE)","v":{"$error":"#N/A"}},{"$f":"VLOOKUP($A6,Participants!$A:$E,3,FALSE)","v":{"$error":"#N/A"}},{"$f":"VLOOKUP($A6,Participants!$A:$E,5,FALSE)","v":{"$error":"#N/A"}},4]
[null,0,{"$nulls":3},{"$f":"VLOOKUP($A7,Participants!$A:$E,4,FALSE)","v":{"$error":"#N/A"}},{"$f":"VLOOKUP($A7,Participants!$A:$E,2,FALSE)","v":{"$error":"#N/A"}},{"$f":"VLOOKUP($A7,Participants!$A:$E,3,FALSE)","v":{"$error":"#N/A"}},{"$f":"VLOOKUP($A7,Participants!$A:$E,5,FALSE)","v":{"$error":"#N/A"}},4]
[null,0,{"$nulls":3},{"$f":"VLOOKUP($A8,Participants!$A:$E,4,FALSE)","v":{"$error":"#N/A"}},{"$f":"VLOOKUP($A8,Participants!$A:$E,2,FALSE)","v":{"$error":"#N/A"}},{"$f":"VLOOKUP($A8,Participants!$A:$E,3,FALSE)","v":{"$error":"#N/A"}},{"$f":"VLOOKUP($A8,Participants!$A:$E,5,FALSE)","v":{"$error":"#N/A"}},4]
[null,0,{"$nulls":3},{"$f":"VLOOKUP($A9,Participants!$A:$E,4,FALSE)","v":{"$error":"#N/A"}},{"$f":"VLOOKUP($A9,Participants!$A:$E,2,FALSE)","v":{"$error":"#N/A"}},{"$f":"VLOOKUP($A9,Participants!$A:$E,3,FALSE)","v":{"$error":"#N/A"}},{"$f":"VLOOKUP($A9,Participants!$A:$E,5,FALSE)","v":{"$error":"#N/A"}},4]
[null,0,{"$nulls":3},{"$f":"VLOOKUP($A10,Participants!$A:$E,4,FALSE)","v":{"$error":"#N/A"}},{"$f":"VLOOKUP($A10,Participants!$A:$E,2,FALSE)","v":{"$error":"#N/A"}},{"$f":"VLOOKUP($A10,Participants!$A:$E,3,FALSE)","v":{"$error":"#N/A"}},{"$f":"VLOOKUP($A10,Participants!$A:$E,5,FALSE)","v":{"$error":"#N/A"}},4]
[null,0,{"$nulls":3},{"$f":"VLOOKUP($A11,Participants!$A:$E,4,FALSE)","v":{"$error":"#N/A"}},{"$f":"VLOOKUP($A11,Participants!$A:$E,2,FALSE)","v":{"$error":"#N/A"}},{"$f":"VLOOKUP($A11,Participants!$A:$E,3,FALSE)","v":{"$error":"#N/A"}},{"$f":"VLOOKUP($A11,Participants!$A:$E,5,FALSE)","v":{"$error":"#N/A"}},4]
[null,0,{"$nulls":3},{"$f":"VLOOKUP($A12,Participants!$A:$E,4,FALSE)","v":{"$error":"#N/A"}},{"$f":"VLOOKUP($A12,Participants!$A:$E,2,FALSE)","v":{"$error":"#N/A"}},{"$f":"VLOOKUP($A12,Participants!$A:$E,3,FALSE)","v":{"$error":"#N/A"}},{"$f":"VLOOKUP($A12,Participants!$A:$E,5,FALSE)","v":{"$error":"#N/A"}},4]
[null,0,{"$nulls":3},{"$f":"VLOOKUP($A13,Participants!$A:$E,4,FALSE)","v":{"$error":"#N/A"}},{"$f":"VLOOKUP($A13,Participants!$A:$E,2,FALSE)","v":{"$error":"#N/A"}},{"$f":"VLOOKUP($A13,Participants!$A:$E,3,FALSE)","v":{"$error":"#N/A"}},{"$f":"VLOOKUP($A13,Participants!$A:$E,5,FALSE)","v":{"$error":"#N/A"}},4]
[null,0,{"$nulls":3},{"$f":"VLOOKUP($A14,Participants!$A:$E,4,FALSE)","v":{"$error":"#N/A"}},{"$f":"VLOOKUP($A14,Participants!$A:$E,2,FALSE)","v":{"$error":"#N/A"}},{"$f":"VLOOKUP($A14,Participants!$A:$E,3,FALSE)","v":{"$error":"#N/A"}},{"$f":"VLOOKUP($A14,Participants!$A:$E,5,FALSE)","v":{"$error":"#N/A"}},4]
[null,0,{"$nulls":3},{"$f":"VLOOKUP($A15,Participants!$A:$E,4,FALSE)","v":{"$error":"#N/A"}},{"$f":"VLOOKUP($A15,Participants!$A:$E,2,FALSE)","v":{"$error":"#N/A"}},{"$f":"VLOOKUP($A15,Participants!$A:$E,3,FALSE)","v":{"$error":"#N/A"}},{"$f":"VLOOKUP($A15,Participants!$A:$E,5,FALSE)","v":{"$error":"#N/A"}},4]
[null,0,{"$nulls":3},{"$f":"VLOOKUP($A16,Participants!$A:$E,4,FALSE)","v":{"$error":"#N/A"}},{"$f":"VLOOKUP($A16,Participants!$A:$E,2,FALSE)","v":{"$error":"#N/A"}},{"$f":"VLOOKUP($A16,Participants!$A:$E,3,FALSE)","v":{"$error":"#N/A"}},{"$f":"VLOOKUP($A16,Participants!$A:$E,5,FALSE)","v":{"$error":"#N/A"}},4]
[null,0,{"$nulls":3},{"$f":"VLOOKUP($A17,Participants!$A:$E,4,FALSE)","v":{"$error":"#N/A"}},{"$f":"VLOOKUP($A17,Participants!$A:$E,2,FALSE)","v":{"$error":"#N/A"}},{"$f":"VLOOKUP($A17,Participants!$A:$E,3,FALSE)","v":{"$error":"#N/A"}},{"$f":"VLOOKUP($A17,Participants!$A:$E,5,FALSE)","v":{"$error":"#N/A"}},4]
[null,0,{"$nulls":3},{"$f":"VLOOKUP($A18,Participants!$A:$E,4,FALSE)","v":{"$error":"#N/A"}},{"$f":"VLOOKUP($A18,Participants!$A:$E,2,FALSE)","v":{"$error":"#N/A"}},{"$f":"VLOOKUP($A18,Participants!$A:$E,3,FALSE)","v":{"$error":"#N/A"}},{"$f":"VLOOKUP($A18,Participants!$A:$E,5,FALSE)","v":{"$error":"#N/A"}},4]
[null,0,{"$nulls":3},{"$f":"VLOOKUP($A19,Participants!$A:$E,4,FALSE)","v":{"$error":"#N/A"}},{"$f":"VLOOKUP($A19,Participants!$A:$E,2,FALSE)","v":{"$error":"#N/A"}},{"$f":"VLOOKUP($A19,Participants!$A:$E,3,FALSE)","v":{"$error":"#N/A"}},{"$f":"VLOOKUP($A19,Participants!$A:$E,5,FALSE)","v":{"$error":"#N/A"}},4]
[null,0,{"$nulls":3},{"$f":"VLOOKUP($A20,Participants!$A:$E,4,FALSE)","v":{"$error":"#N/A"}},{"$f":"VLOOKUP($A20,Participants!$A:$E,2,FALSE)","v":{"$error":"#N/A"}},{"$f":"VLOOKUP($A20,Participants!$A:$E,3,FALSE)","v":{"$error":"#N/A"}},{"$f":"VLOOKUP($A20,Participants!$A:$E,5,FALSE)","v":{"$error":"#N/A"}},4]
[null,0,{"$nulls":3},{"$f":"VLOOKUP($A21,Participants!$A:$E,4,FALSE)","v":{"$error":"#N/A"}},{"$f":"VLOOKUP($A21,Participants!$A:$E,2,FALSE)","v":{"$error":"#N/A"}},{"$f":"VLOOKUP($A21,Participants!$A:$E,3,FALSE)","v":{"$error":"#N/A"}},{"$f":"VLOOKUP($A21,Participants!$A:$E,5,FALSE)","v":{"$error":"#N/A"}},4]
[null,0,{"$nulls":3},{"$f":"VLOOKUP($A22,Participants!$A:$E,4,FALSE)","v":{"$error":"#N/A"}},{"$f":"VLOOKUP($A22,Participants!$A:$E,2,FALSE)","v":{"$error":"#N/A"}},{"$f":"VLOOKUP($A22,Participants!$A:$E,3,FALSE)","v":{"$error":"#N/A"}},{"$f":"VLOOKUP($A22,Participants!$A:$E,5,FALSE)","v":{"$error":"#N/A"}},4]
[null,0,{"$nulls":3},{"$f":"VLOOKUP($A23,Participants!$A:$E,4,FALSE)","v":{"$error":"#N/A"}},{"$f":"VLOOKUP($A23,Participants!$A:$E,2,FALSE)","v":{"$error":"#N/A"}},{"$f":"VLOOKUP($A23,Participants!$A:$E,3,FALSE)","v":{"$error":"#N/A"}},{"$f":"VLOOKUP($A23,Participants!$A:$E,5,FALSE)","v":{"$error":"#N/A"}},4]
[null,0,{"$nulls":3},{"$f":"VLOOKUP($A24,Participants!$A:$E,4,FALSE)","v":{"$error":"#N/A"}},{"$f":"VLOOKUP($A24,Participants!$A:$E,2,FALSE)","v":{"$error":"#N/A"}},{"$f":"VLOOKUP($A24,Participants!$A:$E,3,FALSE)","v":{"$error":"#N/A"}},{"$f":"VLOOKUP($A24,Participants!$A:$E,5,FALSE)","v":{"$error":"#N/A"}},4]
[null,0,{"$nulls":3},{"$f":"VLOOKUP($A25,Participants!$A:$E,4,FALSE)","v":{"$error":"#N/A"}},{"$f":"VLOOKUP($A25,Participants!$A:$E,2,FALSE)","v":{"$error":"#N/A"}},{"$f":"VLOOKUP($A25,Participants!$A:$E,3,FALSE)","v":{"$error":"#N/A"}},{"$f":"VLOOKUP($A25,Participants!$A:$E,5,FALSE)","v":{"$error":"#N/A"}},4]
[null,0,{"$nulls":3},{"$f":"VLOOKUP($A26,Participants!$A:$E,4,FALSE)","v":{"$error":"#N/A"}},{"$f":"VLOOKUP($A26,Participants!$A:$E,2,FALSE)","v":{"$error":"#N/A"}},{"$f":"VLOOKUP($A26,Participants!$A:$E,3,FALSE)","v":{"$error":"#N/A"}},{"$f":"VLOOKUP($A26,Participants!$A:$E,5,FALSE)","v":{"$error":"#N/A"}},4]
[null,0,{"$nulls":3},{"$f":"VLOOKUP($A27,Participants!$A:$E,4,FALSE)","v":{"$error":"#N/A"}},{"$f":"VLOOKUP($A27,Participants!$A:$E,2,FALSE)","v":{"$error":"#N/A"}},{"$f":"VLOOKUP($A27,Participants!$A:$E,3,FALSE)","v":{"$error":"#N/A"}},{"$f":"VLOOKUP($A27,Participants!$A:$E,5,FALSE)","v":{"$error":"#N/A"}},4]
[null,0,{"$nulls":3},{"$f":"VLOOKUP($A28,Participants!$A:$E,4,FALSE)","v":{"$error":"#N/A"}},{"$f":"VLOOKUP($A28,Participants!$A:$E,2,FALSE)","v":{"$error":"#N/A"}},{"$f":"VLOOKUP($A28,Participants!$A:$E,3,FALSE)","v":{"$error":"#N/A"}},{"$f":"VLOOKUP($A28,Participants!$A:$E,5,FALSE)","v":{"$error":"#N/A"}},4]
[null,0,{"$nulls":3},{"$f":"VLOOKUP($A29,Participants!$A:$E,4,FALSE)","v":{"$error":"#N/A"}},{"$f":"VLOOKUP($A29,Participants!$A:$E,2,FALSE)","v":{"$error":"#N/A"}},{"$f":"VLOOKUP($A29,Participants!$A:$E,3,FALSE)","v":{"$error":"#N/A"}},{"$f":"VLOOKUP($A29,Participants!$A:$E,5,FALSE)","v":{"$error":"#N/A"}},4]
[null,0,{"$nulls":3},{"$f":"VLOOKUP($A30,Participants!$A:$E,4,FALSE)","v":{"$error":"#N/A"}},{"$f":"VLOOKUP($A30,Participants!$A:$E,2,FALSE)","v":{"$error":"#N/A"}},{"$f":"VLOOKUP($A30,Participants!$A:$E,3,FALSE)","v":{"$error":"#N/A"}},{"$f":"VLOOKUP($A30,Participants!$A:$E,5,FALSE)","v":{"$error":"#N/A"}},4]
[null,0,{"$nulls":3},{"$f":"VLOOKUP($A31,Participants!$A:$E,4,FALSE)","v":{"$error":"#N/A"}},{"$f":"VLOOKUP($A31,Participants!$A:$E,2,FALSE)","v":{"$error":"#N/A"}},{"$f":"VLOOKUP($A31,Participants!$A:$E,3,FALSE)","v":{"$error":"#N/A"}},{"$f":"VLOOKUP($A31,Participants!$A:$E,5,FALSE)","v":{"$error":"#N/A"}},4]
[null,0,{"$nulls":3},{"$f":"VLOOKUP($A32,Participants!$A:$E,4,FALSE)","v":{"$error":"#N/A"}},{"$f":"VLOOKUP($A32,Participants!$A:$E,2,FALSE)","v":{"$error":"#N/A"}},{"$f":"VLOOKUP($A32,Participants!$A:$E,3,FALSE)","v":{"$error":"#N/A"}},{"$f":"VLOOKUP($A32,Participants!$A:$E,5,FALSE)","v":{"$error":"#N/A"}},4]
[null,0,{"$nulls":3},{"$f":"VLOOKUP($A33,Participants!$A:$E,4,FALSE)","v":{"$error":"#N/A"}},{"$f":"VLOOKUP($A33,Participants!$A:$E,2,FALSE)","v":{"$error":"#N/A"}},{"$f":"VLOOKUP($A33,Participants!$A:$E,3,FALSE)","v":{"$error":"#N/A"}},{"$f":"VLOOKUP($A33,Participants!$A:$E,5,FALSE)","v":{"$error":"#N/A"}},4]
[null,0,{"$nulls":3},{"$f":"VLOOKUP($A34,Participants!$A:$E,4,FALSE)","v":{"$error":"#N/A"}},{"$f":"VLOOKUP($A34,Participants!$A:$E,2,FALSE)","v":{"$error":"#N/A"}},{"$f":"VLOOKUP($A34,Participants!$A:$E,3,FALSE)","v":{"$error":"#N/A"}},{"$f":"VLOOKUP($A34,Participants!$A:$E,5,FALSE)","v":{"$error":"#N/A"}},4]
[null,0,{"$nulls":3},{"$f":"VLOOKUP($A35,Participants!$A:$E,4,FALSE)","v":{"$error":"#N/A"}},{"$f":"VLOOKUP($A35,Participants!$A:$E,2,FALSE)","v":{"$error":"#N/A"}},{"$f":"VLOOKUP($A35,Participants!$A:$E,3,FALSE)","v":{"$error":"#N/A"}},{"$f":"VLOOKUP($A35,Participants!$A:$E,5,FALSE)","v":{"$error":"#N/A"}},4]
[null,0,{"$nulls":3},{"$f":"VLOOKUP($A36,Participants!$A:$E,4,FALSE)","v":{"$error":"#N/A"}},{"$f":"VLOOKUP($A36,Participants!$A:$E,2,FALSE)","v":{"$error":"#N/A"}},{"$f":"VLOOKUP($A36,Participants!$A:$E,3,FALSE)","v":{"$error":"#N/A"}},{"$f":"VLOOKUP($A36,Participants!$A:$E,5,FALSE)","v":{"$error":"#N/A"}},4]
[null,0,{"$nulls":3},{"$f":"VLOOKUP($A37,Participants!$A:$E,4,FALSE)","v":{"$error":"#N/A"}},{"$f":"VLOOKUP($A37,Participants!$A:$E,2,FALSE)","v":{"$error":"#N/A"}},{"$f":"VLOOKUP($A37,Participants!$A:$E,3,FALSE)","v":{"$error":"#N/A"}},{"$f":"VLOOKUP($A37,Participants!$A:$E,5,FALSE)","v":{"$error":"#N/A"}},4]
[null,0,{"$nulls":3},{"$f":"VLOOKUP($A38,Participants!$A:$E,4,FALSE)","v":{"$error":"#N/A"}},{"$f":"VLOOKUP($A38,Participants!$A:$E,2,FALSE)","v":{"$error":"#N/A"}},{"$f":"VLOOKUP($A38,Participants!$A:$E,3,FALSE)","v":{"$error":"#N/A"}},{"$f":"VLOOKUP($A38,Participants!$A:$E,5,FALSE)","v":{"$error":"#N/A"}},4]
[null,0,{"$nulls":3},{"$f":"VLOOKUP($A39,Participants!$A:$E,4,FALSE)","v":{"$error":"#N/A"}},{"$f":"VLOOKUP($A39,Participants!$A:$E,2,FALSE)","v":{"$error":"#N/A"}},{"$f":"VLOOKUP($A39,Participants!$A:$E,3,FALSE)","v":{"$error":"#N/A"}},{"$f":"VLOOKUP($A39,Participants!$A:$E,5,FALSE)","v":{"$error":"#N/A"}},4]
[null,0,{"$nulls":3},{"$f":"VLOOKUP($A40,Participants!$A:$E,4,FALSE)","v":{"$error":"#N/A"}},{"$f":"VLOOKUP($A40,Participants!$A:$E,2,FALSE)","v":{"$error":"#N/A"}},{"$f":"VLOOKUP($A40,Participants!$A:$E,3,FALSE)","v":{"$error":"#N/A"}},{"$f":"VLOOKUP($A40,Participants!$A:$E,5,FALSE)","v":{"$error":"#N/A"}},4]
[null,0,{"$nulls":3},{"$f":"VLOOKUP($A41,Participants!$A:$E,4,FALSE)","v":{"$error":"#N/A"}},{"$f":"VLOOKUP($A41,Participants!$A:$E,2,FALSE)","v":{"$error":"#N/A"}},{"$f":"VLOOKUP($A41,Participants!$A:$E,3,FALSE)","v":{"$error":"#N/A"}},{"$f":"VLOOKUP($A41,Participants!$A:$E,5,FALSE)","v":{"$error":"#N/A"}},4]
[null,0,{"$nulls":3},{"$f":"VLOOKUP($A42,Participants!$A:$E,4,FALSE)","v":{"$error":"#N/A"}},{"$f":"VLOOKUP($A42,Participants!$A:$E,2,FALSE)","v":{"$error":"#N/A"}},{"$f":"VLOOKUP($A42,Participants!$A:$E,3,FALSE)","v":{"$error":"#N/A"}},{"$f":"VLOOKUP($A42,Participants!$A:$E,5,FALSE)","v":{"$error":"#N/A"}},4]
[null,0,{"$nulls":3},{"$f":"VLOOKUP($A43,Participants!$A:$E,4,FALSE)","v":{"$error":"#N/A"}},{"$f":"VLOOKUP($A43,Participants!$A:$E,2,FALSE)","v":{"$error":"#N/A"}},{"$f":"VLOOKUP($A43,Participants!$A:$E,3,FALSE)","v":{"$error":"#N/A"}},{"$f":"VLOOKUP($A43,Participants!$A:$E,5,FALSE)","v":{"$error":"#N/A"}},4]
[null,0,{"$nulls":3},{"$f":"VLOOKUP($A44,Participants!$A:$E,4,FALSE)","v":{"$error":"#N/A"}},{"$f":"VLOOKUP($A44,Participants!$A:$E,2,FALSE)","v":{"$error":"#N/A"}},{"$f":"VLOOKUP($A44,Participants!$A:$E,3,FALSE)","v":{"$error":"#N/A"}},{"$f":"VLOOKUP($A44,Participants!$A:$E,5,FALSE)","v":{"$error":"#N/A"}},4]
[null,0,{"$nulls":3},{"$f":"VLOOKUP($A45,Participants!$A:$E,4,FALSE)","v":{"$error":"#N/A"}},{"$f":"VLOOKUP($A45,Participants!$A:$E,2,FALSE)","v":{"$error":"#N/A"}},{"$f":"VLOOKUP($A45,Participants!$A:$E,3,FALSE)","v":{"$error":"#N/A"}},{"$f":"VLOOKUP($A45,Participants!$A:$E,5,FALSE)","v":{"$error":"#N/A"}},4]
[null,0,{"$nulls":3},{"$f":"VLOOKUP($A46,Participants!$A:$E,4,FALSE)","v":{"$error":"#N/A"}},{"$f":"VLOOKUP($A46,Participants!$A:$E,2,FALSE)","v":{"$error":"#N/A"}},{"$f":"VLOOKUP($A46,Participants!$A:$E,3,FALSE)","v":{"$error":"#N/A"}},{"$f":"VLOOKUP($A46,Participants!$A:$E,5,FALSE)","v":{"$error":"#N/A"}},4]
[null,0,{"$nulls":3},{"$f":"VLOOKUP($A47,Participants!$A:$E,4,FALSE)","v":{"$error":"#N/A"}},{"$f":"VLOOKUP($A47,Participants!$A:$E,2,FALSE)","v":{"$error":"#N/A"}},{"$f":"VLOOKUP($A47,Participants!$A:$E,3,FALSE)","v":{"$error":"#N/A"}},{"$f":"VLOOKUP($A47,Participants!$A:$E,5,FALSE)","v":{"$error":"#N/A"}},4]
[null,0,{"$nulls":3},{"$f":"VLOOKUP($A48,Participants!$A:$E,4,FALSE)","v":{"$error":"#N/A"}},{"$f":"VLOOKUP($A48,Participants!$A:$E,2,FALSE)","v":{"$error":"#N/A"}},{"$f":"VLOOKUP($A48,Participants!$A:$E,3,FALSE)","v":{"$error":"#N/A"}},{"$f":"VLOOKUP($A48,Participants!$A:$E,5,FALSE)","v":{"$error":"#N/A"}},4]
[null,0,{"$nulls":3},{"$f":"VLOOKUP($A49,Participants!$A:$E,4,FALSE)","v":{"$error":"#N/A"}},{"$f":"VLOOKUP($A49,Participants!$A:$E,2,FALSE)","v":{"$error":"#N/A"}},{"$f":"VLOOKUP($A49,Participants!$A:$E,3,FALSE)","v":{"$error":"#N/A"}},{"$f":"VLOOKUP($A49,Participants!$A:$E,5,FALSE)","v":{"$error":"#N/A"}},4]
[null,0,{"$nulls":3},{"$f":"VLOOKUP($A50,Participants!$A:$E,4,FALSE)","v":{"$error":"#N/A"}},{"$f":"VLOOKUP($A50,Participants!$A:$E,2,FALSE)","v":{"$error":"#N/A"}},{"$f":"VLOOKUP($A50,Participants!$A:$E,3,FALSE)","v":{"$error":"#N/A"}},{"$f":"VLOOKUP($A50,Participants!$A:$E,5,FALSE)","v":{"$error":"#N/A"}},4]
[null,0,{"$nulls":3},{"$f":"VLOOKUP($A51,Participants!$A:$E,4,FALSE)","v":{"$error":"#N/A"}},{"$f":"VLOOKUP($A51,Participants!$A:$E,2,FALSE)","v":{"$error":"#N/A"}},{"$f":"VLOOKUP($A51,Participants!$A:$E,3,FALSE)","v":{"$error":"#N/A"}},{"$f":"VLOOKUP($A51,Participants!$A:$E,5,FALSE)","v":{"$error":"#N/A"}},4]
[null,0,{"$nulls":3},{"$f":"VLOOKUP($A52,Participants!$A:$E,4,FALSE)","v":{"$error":"#N/A"}},{"$f":"VLOOKUP($A52,Participants!$A:$E,2,FALSE)","v":{"$error":"#N/A"}},{"$f":"VLOOKUP($A52,Participants!$A:$E,3,FALSE)","v":{"$error":"#N/A"}},{"$f":"VLOOKUP($A52,Participants!$A:$E,5,FALSE)","v":{"$error":"#N/A"}},4]
[null,0,{"$nulls":3},{"$f":"VLOOKUP($A53,Participants!$A:$E,4,FALSE)","v":{"$error":"#N/A"}},{"$f":"VLOOKUP($A53,Participants!$A:$E,2,FALSE)","v":{"$error":"#N/A"}},{"$f":"VLOOKUP($A53,Participants!$A:$E,3,FALSE)","v":{"$error":"#N/A"}},{"$f":"VLOOKUP($A53,Participants!$A:$E,5,FALSE)","v":{"$error":"#N/A"}},4]
[null,0,{"$nulls":3},{"$f":"VLOOKUP($A54,Participants!$A:$E,4,FALSE)","v":{"$error":"#N/A"}},{"$f":"VLOOKUP($A54,Participants!$A:$E,2,FALSE)","v":{"$error":"#N/A"}},{"$f":"VLOOKUP($A54,Participants!$A:$E,3,FALSE)","v":{"$error":"#N/A"}},{"$f":"VLOOKUP($A54,Participants!$A:$E,5,FALSE)","v":{"$error":"#N/A"}},4]
[null,0,{"$nulls":3},{"$f":"VLOOKUP($A55,Participants!$A:$E,4,FALSE)","v":{"$error":"#N/A"}},{"$f":"VLOOKUP($A55,Participants!$A:$E,2,FALSE)","v":{"$error":"#N/A"}},{"$f":"VLOOKUP($A55,Participants!$A:$E,3,FALSE)","v":{"$error":"#N/A"}},{"$f":"VLOOKUP($A55,Participants!$A:$E,5,FALSE)","v":{"$error":"#N/A"}},4]
[null,0,{"$nulls":3},{"$f":"VLOOKUP($A56,Participants!$A:$E,4,FALSE)","v":{"$error":"#N/A"}},{"$f":"VLOOKUP($A56,Participants!$A:$E,2,FALSE)","v":{"$error":"#N/A"}},{"$f":"VLOOKUP($A56,Participants!$A:$E,3,FALSE)","v":{"$error":"#N/A"}},{"$f":"VLOOKUP($A56,Participants!$A:$E,5,FALSE)","v":{"$error":"#N/A"}},4]
[null,0,{"$nulls":3},{"$f":"VLOOKUP($A57,Participants!$A:$E,4,FALSE)","v":{"$error":"#N/A"}},{"$f":"VLOOKUP($A57,Participants!$A:$E,2,FALSE)","v":{"$error":"#N/A"}},{"$f":"VLOOKUP($A57,Participants!$A:$E,3,FALSE)","v":{"$error":"#N/A"}},{"$f":"VLOOKUP($A57,Participants!$A:$E,5,FALSE)","v":{"$error":"#N/A"}},4]
[null,0,{"$nulls":3},{"$f":"VLOOKUP($A58,Participants!$A:$E,4,FALSE)","v":{"$error":"#N/A"}},{"$f":"VLOOKUP($A58,Participants!$A:$E,2,FALSE)","v":{"$error":"#N/A"}},{"$f":"VLOOKUP($A58,Participants!$A:$E,3,FALSE)","v":{"$error":"#N/A"}},{"$f":"VLOOKUP($A58,Participants!$A:$E,5,FALSE)","v":{"$error":"#N/A"}},4]
[null,0,{"$nulls":3},{"$f":"VLOOKUP($A59,Participants!$A:$E,4,FALSE)","v":{"$error":"#N/A"}},{"$f":"VLOOKUP($A59,Participants!$A:$E,2,FALSE)","v":{"$error":"#N/A"}},{"$f":"VLOOKUP($A59,Participants!$A:$E,3,FALSE)","v":{"$error":"#N/A"}},{"$f":"VLOOKUP($A59,Participants!$A:$E,5,FALSE)","v":{"$error":"#N/A"}},4]
[null,0,{"$nulls":3},{"$f":"VLOOKUP($A60,Participants!$A:$E,4,FALSE)","v":{"$error":"#N/A"}},{"$f":"VLOOKUP($A60,Participants!$A:$E,2,FALSE)","v":{"$error":"#N/A"}},{"$f":"VLOOKUP($A60,Participants!$A:$E,3,FALSE)","v":{"$error":"#N/A"}},{"$f":"VLOOKUP($A60,Participants!$A:$E,5,FALSE)","v":{"$error":"#N/A"}},4]
[null,0,{"$nulls":3},{"$f":"VLOOKUP($A61,Participants!$A:$E,4,FALSE)","v":{"$error":"#N/A"}},{"$f":"VLOOKUP($A61,Participants!$A:$E,2,FALSE)","v":{"$error":"#N/A"}},{"$f":"VLOOKUP($A61,Participants!$A:$E,3,FALSE)","v":{"$error":"#N/A"}},{"$f":"VLOOKUP($A61,Participants!$A:$E,5,FALSE)","v":{"$error":"#N/A"}},4]
[null,0,{"$nulls":3},{"$f":"VLOOKUP($A62,Participants!$A:$E,4,FALSE)","v":{"$error":"#N/A"}},{"$f":"VLOOKUP($A62,Participants!$A:$E,2,FALSE)","v":{"$error":"#N/A"}},{"$f":"VLOOKUP($A62,Participants!$A:$E,3,FALSE)","v":{"$error":"#N/A"}},{"$f":"VLOOKUP($A62,Participants!$A:$E,5,FALSE)","v":{"$error":"#N/A"}},4]
[null,0,{"$nulls":3},{"$f":"VLOOKUP($A63,Participants!$A:$E,4,FALSE)","v":{"$error":"#N/A"}},{"$f":"VLOOKUP($A63,Participants!$A:$E,2,FALSE)","v":{"$error":"#N/A"}},{"$f":"VLOOKUP($A63,Participants!$A:$E,3,FALSE)","v":{"$error":"#N/A"}},{"$f":"VLOOKUP($A63,Participants!$A:$E,5,FALSE)","v":{"$error":"#N/A"}},4]
[null,0,{"$nulls":3},{"$f":"VLOOKUP($A64,Participants!$A:$E,4,FALSE)","v":{"$error":"#N/A"}},{"$f":"VLOOKUP($A64,Participants!$A:$E,2,FALSE)","v":{"$error":"#N/A"}},{"$f":"VLOOKUP($A64,Participants!$A:$E,3,FALSE)","v":{"$error":"#N/A"}},{"$f":"VLOOKUP($A64,Participants!$A:$E,5,FALSE)","v":{"$error":"#N/A"}},4]
[null,0,{"$nulls":3},{"$f":"VLOOKUP($A65,Participants!$A:$E,4,FALSE)","v":{"$error":"#N/A"}},{"$f":"VLOOKUP($A65,Participants!$A:$E,2,FALSE)","v":{"$error":"#N/A"}},{"$f":"VLOOKUP($A65,Participants!$A:$E,3,FALSE)","v":{"$error":"#N/A"}},{"$f":"VLOOKUP($A65,Participants!$A:$E,5,FALSE)","v":{"$error":"#N/A"}},4]
[null,0,{"$nulls":3},{"$f":"VLOOKUP($A66,Participants!$A:$E,4,FALSE)","v":{"$error":"#N/A"}},{"$f":"VLOOKUP($A66,Participants!$A:$E,2,FALSE)","v":{"$error":"#N/A"}},{"$f":"VLOOKUP($A66,Participants!$A:$E,3,FALSE)","v":{"$error":"#N/A"}},{"$f":"VLOOKUP($A66,Participants!$A:$E,5,FALSE)","v":{"$error":"#N/A"}},4]
[null,{"$f":"MAX(C67:E67)","v":0},{"$nulls":3},{"$f":"VLOOKUP($A67,Participants!$A:$E,4,FALSE)","v":{"$error":"#N/A"}},{"$f":"VLOOKUP($A67,Participants!$A:$E,2,FALSE)","v":{"$error":"#N/A"}},{"$f":"VLOOKUP($A67,Participants!$A:$E,3,FALSE)","v":{"$error":"#N/A"}},{"$f":"VLOOKUP($A67,Participants!$A:$E,5,FALSE)","v":{"$error":"#N/A"}},{"$f":"RANK(B67,$B$1:$B$97,0)","v":4}]
[null,0,{"$nulls":3},{"$f":"VLOOKUP($A68,Participants!$A:$E,4,FALSE)","v":{"$error":"#N/A"}},{"$f":"VLOOKUP($A68,Participants!$A:$E,2,FALSE)","v":{"$error":"#N/A"}},{"$f":"VLOOKUP($A68,Participants!$A:$E,3,FALSE)","v":{"$error":"#N/A"}},{"$f":"VLOOKUP($A68,Participants!$A:$E,5,FALSE)","v":{"$error":"#N/A"}},4]
[null,0,{"$nulls":3},{"$f":"VLOOKUP($A69,Participants!$A:$E,4,FALSE)","v":{"$error":"#N/A"}},{"$f":"VLOOKUP($A69,Participants!$A:$E,2,FALSE)","v":{"$error":"#N/A"}},{"$f":"VLOOKUP($A69,Participants!$A:$E,3,FALSE)","v":{"$error":"#N/A"}},{"$f":"VLOOKUP($A69,Participants!$A:$E,5,FALSE)","v":{"$error":"#N/A"}},4]
[null,0,{"$nulls":3},{"$f":"VLOOKUP($A70,Participants!$A:$E,4,FALSE)","v":{"$error":"#N/A"}},{"$f":"VLOOKUP($A70,Participants!$A:$E,2,FALSE)","v":{"$error":"#N/A"}},{"$f":"VLOOKUP($A70,Participants!$A:$E,3,FALSE)","v":{"$error":"#N/A"}},{"$f":"VLOOKUP($A70,Participants!$A:$E,5,FALSE)","v":{"$error":"#N/A"}},4]
[null,0,{"$nulls":3},{"$f":"VLOOKUP($A71,Participants!$A:$E,4,FALSE)","v":{"$error":"#N/A"}},{"$f":"VLOOKUP($A71,Participants!$A:$E,2,FALSE)","v":{"$error":"#N/A"}},{"$f":"VLOOKUP($A71,Participants!$A:$E,3,FALSE)","v":{"$error":"#N/A"}},{"$f":"VLOOKUP($A71,Participants!$A:$E,5,FALSE)","v":{"$error":"#N/A"}},4]
[null,0,{"$nulls":3},{"$f":"VLOOKUP($A72,Participants!$A:$E,4,FALSE)","v":{"$error":"#N/A"}},{"$f":"VLOOKUP($A72,Participants!$A:$E,2,FALSE)","v":{"$error":"#N/A"}},{"$f":"VLOOKUP($A72,Participants!$A:$E,3,FALSE)","v":{"$error":"#N/A"}},{"$f":"VLOOKUP($A72,Participants!$A:$E,5,FALSE)","v":{"$error":"#N/A"}},4]
[null,0,{"$nulls":3},{"$f":"VLOOKUP($A73,Participants!$A:$E,4,FALSE)","v":{"$error":"#N/A"}},{"$f":"VLOOKUP($A73,Participants!$A:$E,2,FALSE)","v":{"$error":"#N/A"}},{"$f":"VLOOKUP($A73,Participants!$A:$E,3,FALSE)","v":{"$error":"#N/A"}},{"$f":"VLOOKUP($A73,Participants!$A:$E,5,FALSE)","v":{"$error":"#N/A"}},4]
[null,0,{"$nulls":3},{"$f":"VLOOKUP($A74,Participants!$A:$E,4,FALSE)","v":{"$error":"#N/A"}},{"$f":"VLOOKUP($A74,Participants!$A:$E,2,FALSE)","v":{"$error":"#N/A"}},{"$f":"VLOOKUP($A74,Participants!$A:$E,3,FALSE)","v":{"$error":"#N/A"}},{"$f":"VLOOKUP($A74,Participants!$A:$E,5,FALSE)","v":{"$error":"#N/A"}},4]
[null,0,{"$nulls":3},{"$f":"VLOOKUP($A75,Participants!$A:$E,4,FALSE)","v":{"$error":"#N/A"}},{"$f":"VLOOKUP($A75,Participants!$A:$E,2,FALSE)","v":{"$error":"#N/A"}},{"$f":"VLOOKUP($A75,Participants!$A:$E,3,FALSE)","v":{"$error":"#N/A"}},{"$f":"VLOOKUP($A75,Participants!$A:$E,5,FALSE)","v":{"$error":"#N/A"}},4]
[null,0,{"$nulls":3},{"$f":"VLOOKUP($A76,Participants!$A:$E,4,FALSE)","v":{"$error":"#N/A"}},{"$f":"VLOOKUP($A76,Participants!$A:$E,2,FALSE)","v":{"$error":"#N/A"}},{"$f":"VLOOKUP($A76,Participants!$A:$E,3,FALSE)","v":{"$error":"#N/A"}},{"$f":"VLOOKUP($A76,Participants!$A:$E,5,FALSE)","v":{"$error":"#N/A"}},4]
[null,0,{"$nulls":3},{"$f":"VLOOKUP($A77,Participants!$A:$E,4,FALSE)","v":{"$error":"#N/A"}},{"$f":"VLOOKUP($A77,Participants!$A:$E,2,FALSE)","v":{"$error":"#N/A"}},{"$f":"VLOOKUP($A77,Participants!$A:$E,3,FALSE)","v":{"$error":"#N/A"}},{"$f":"VLOOKUP($A77,Participants!$A:$E,5,FALSE)","v":{"$error":"#N/A"}},4]
[null,0,{"$nulls":3},{"$f":"VLOOKUP($A78,Participants!$A:$E,4,FALSE)","v":{"$error":"#N/A"}},{"$f":"VLOOKUP($A78,Participants!$A:$E,2,FALSE)","v":{"$error":"#N/A"}},{"$f":"VLOOKUP($A78,Participants!$A:$E,3,FALSE)","v":{"$error":"#N/A"}},{"$f":"VLOOKUP($A78,Participants!$A:$E,5,FALSE)","v":{"$error":"#N/A"}},4]
[null,0,{"$nulls":3},{"$f":"VLOOKUP($A79,Participants!$A:$E,4,FALSE)","v":{"$error":"#N/A"}},{"$f":"VLOOKUP($A79,Participants!$A:$E,2,FALSE)","v":{"$error":"#N/A"}},{"$f":"VLOOKUP($A79,Participants!$A:$E,3,FALSE)","v":{"$error":"#N/A"}},{"$f":"VLOOKUP($A79,Participants!$A:$E,5,FALSE)","v":{"$error":"#N/A"}},4]
[null,0,{"$nulls":3},{"$f":"VLOOKUP($A80,Participants!$A:$E,4,FALSE)","v":{"$error":"#N/A"}},{"$f":"VLOOKUP($A80,Participants!$A:$E,2,FALSE)","v":{"$error":"#N/A"}},{"$f":"VLOOKUP($A80,Participants!$A:$E,3,FALSE)","v":{"$error":"#N/A"}},{"$f":"VLOOKUP($A80,Participants!$A:$E,5,FALSE)","v":{"$error":"#N/A"}},4]
[null,0,{"$nulls":3},{"$f":"VLOOKUP($A81,Participants!$A:$E,4,FALSE)","v":{"$error":"#N/A"}},{"$f":"VLOOKUP($A81,Participants!$A:$E,2,FALSE)","v":{"$error":"#N/A"}},{"$f":"VLOOKUP($A81,Participants!$A:$E,3,FALSE)","v":{"$error":"#N/A"}},{"$f":"VLOOKUP($A81,Participants!$A:$E,5,FALSE)","v":{"$error":"#N/A"}},4]
[null,0,{"$nulls":3},{"$f":"VLOOKUP($A82,Participants!$A:$E,4,FALSE)","v":{"$error":"#N/A"}},{"$f":"VLOOKUP($A82,Participants!$A:$E,2,FALSE)","v":{"$error":"#N/A"}},{"$f":"VLOOKUP($A82,Participants!$A:$E,3,FALSE)","v":{"$error":"#N/A"}},{"$f":"VLOOKUP($A82,Participants!$A:$E,5,FALSE)","v":{"$error":"#N/A"}},4]
[null,0,{"$nulls":3},{"$f":"VLOOKUP($A83,Participants!$A:$E,4,FALSE)","v":{"$error":"#N/A"}},{"$f":"VLOOKUP($A83,Participants!$A:$E,2,FALSE)","v":{"$error":"#N/A"}},{"$f":"VLOOKUP($A83,Participants!$A:$E,3,FALSE)","v":{"$error":"#N/A"}},{"$f":"VLOOKUP($A83,Participants!$A:$E,5,FALSE)","v":{"$error":"#N/A"}},4]
[null,0,{"$nulls":3},{"$f":"VLOOKUP($A84,Participants!$A:$E,4,FALSE)","v":{"$error":"#N/A"}},{"$f":"VLOOKUP($A84,Participants!$A:$E,2,FALSE)","v":{"$error":"#N/A"}},{"$f":"VLOOKUP($A84,Participants!$A:$E,3,FALSE)","v":{"$error":"#N/A"}},{"$f":"VLOOKUP($A84,Participants!$A:$E,5,FALSE)","v":{"$error":"#N/A"}},4]
[null,0,{"$nulls":3},{"$f":"VLOOKUP($A85,Participants!$A:$E,4,FALSE)","v":{"$error":"#N/A"}},{"$f":"VLOOKUP($A85,Participants!$A:$E,2,FALSE)","v":{"$error":"#N/A"}},{"$f":"VLOOKUP($A85,Participants!$A:$E,3,FALSE)","v":{"$error":"#N/A"}},{"$f":"VLOOKUP($A85,Participants!$A:$E,5,FALSE)","v":{"$error":"#N/A"}},4]
[null,0,{"$nulls":3},{"$f":"VLOOKUP($A86,Participants!$A:$E,4,FALSE)","v":{"$error":"#N/A"}},{"$f":"VLOOKUP($A86,Participants!$A:$E,2,FALSE)","v":{"$error":"#N/A"}},{"$f":"VLOOKUP($A86,Participants!$A:$E,3,FALSE)","v":{"$error":"#N/A"}},{"$f":"VLOOKUP($A86,Participants!$A:$E,5,FALSE)","v":{"$error":"#N/A"}},4]
[null,0,{"$nulls":3},{"$f":"VLOOKUP($A87,Participants!$A:$E,4,FALSE)","v":{"$error":"#N/A"}},{"$f":"VLOOKUP($A87,Participants!$A:$E,2,FALSE)","v":{"$error":"#N/A"}},{"$f":"VLOOKUP($A87,Participants!$A:$E,3,FALSE)","v":{"$error":"#N/A"}},{"$f":"VLOOKUP($A87,Participants!$A:$E,5,FALSE)","v":{"$error":"#N/A"}},4]
[null,0,{"$nulls":3},{"$f":"VLOOKUP($A88,Participants!$A:$E,4,FALSE)","v":{"$error":"#N/A"}},{"$f":"VLOOKUP($A88,Participants!$A:$E,2,FALSE)","v":{"$error":"#N/A"}},{"$f":"VLOOKUP($A88,Participants!$A:$E,3,FALSE)","v":{"$error":"#N/A"}},{"$f":"VLOOKUP($A88,Participants!$A:$E,5,FALSE)","v":{"$error":"#N/A"}},4]
[null,0,{"$nulls":3},{"$f":"VLOOKUP($A89,Participants!$A:$E,4,FALSE)","v":{"$error":"#N/A"}},{"$f":"VLOOKUP($A89,Participants!$A:$E,2,FALSE)","v":{"$error":"#N/A"}},{"$f":"VLOOKUP($A89,Participants!$A:$E,3,FALSE)","v":{"$error":"#N/A"}},{"$f":"VLOOKUP($A89,Participants!$A:$E,5,FALSE)","v":{"$error":"#N/A"}},4]
[null,0,{"$nulls":3},{"$f":"VLOOKUP($A90,Participants!$A:$E,4,FALSE)","v":{"$error":"#N/A"}},{"$f":"VLOOKUP($A90,Participants!$A:$E,2,FALSE)","v":{"$error":"#N/A"}},{"$f":"VLOOKUP($A90,Participants!$A:$E,3,FALSE)","v":{"$error":"#N/A"}},{"$f":"VLOOKUP($A90,Participants!$A:$E,5,FALSE)","v":{"$error":"#N/A"}},4]
[null,0,{"$nulls":3},{"$f":"VLOOKUP($A91,Participants!$A:$E,4,FALSE)","v":{"$error":"#N/A"}},{"$f":"VLOOKUP($A91,Participants!$A:$E,2,FALSE)","v":{"$error":"#N/A"}},{"$f":"VLOOKUP($A91,Participants!$A:$E,3,FALSE)","v":{"$error":"#N/A"}},{"$f":"VLOOKUP($A91,Participants!$A:$E,5,FALSE)","v":{"$error":"#N/A"}},4]
[null,0,{"$nulls":3},{"$f":"VLOOKUP($A92,Participants!$A:$E,4,FALSE)","v":{"$error":"#N/A"}},{"$f":"VLOOKUP($A92,Participants!$A:$E,2,FALSE)","v":{"$error":"#N/A"}},{"$f":"VLOOKUP($A92,Participants!$A:$E,3,FALSE)","v":{"$error":"#N/A"}},{"$f":"VLOOKUP($A92,Participants!$A:$E,5,FALSE)","v":{"$error":"#N/A"}},4]
[null,0,{"$nulls":3},{"$f":"VLOOKUP($A93,Participants!$A:$E,4,FALSE)","v":{"$error":"#N/A"}},{"$f":"VLOOKUP($A93,Participants!$A:$E,2,FALSE)","v":{"$error":"#N/A"}},{"$f":"VLOOKUP($A93,Participants!$A:$E,3,FALSE)","v":{"$error":"#N/A"}},{"$f":"VLOOKUP($A93,Participants!$A:$E,5,FALSE)","v":{"$error":"#N/A"}},4]
[null,0,{"$nulls":3},{"$f":"VLOOKUP($A94,Participants!$A:$E,4,FALSE)","v":{"$error":"#N/A"}},{"$f":"VLOOKUP($A94,Participants!$A:$E,2,FALSE)","v":{"$error":"#N/A"}},{"$f":"VLOOKUP($A94,Participants!$A:$E,3,FALSE)","v":{"$error":"#N/A"}},{"$f":"VLOOKUP($A94,Participants!$A:$E,5,FALSE)","v":{"$error":"#N/A"}},4]
[null,0,{"$nulls":3},{"$f":"VLOOKUP($A95,Participants!$A:$E,4,FALSE)","v":{"$error":"#N/A"}},{"$f":"VLOOKUP($A95,Participants!$A:$E,2,FALSE)","v":{"$error":"#N/A"}},{"$f":"VLOOKUP($A95,Participants!$A:$E,3,FALSE)","v":{"$error":"#N/A"}},{"$f":"VLOOKUP($A95,Participants!$A:$E,5,FALSE)","v":{"$error":"#N/A"}},4]
[null,0,{"$nulls":3},{"$f":"VLOOKUP($A96,Participants!$A:$E,4,FALSE)","v":{"$error":"#N/A"}},{"$f":"VLOOKUP($A96,Participants!$A:$E,2,FALSE)","v":{"$error":"#N/A"}},{"$f":"VLOOKUP($A96,Participants!$A:$E,3,FALSE)","v":{"$error":"#N/A"}},{"$f":"VLOOKUP($A96,Participants!$A:$E,5,FALSE)","v":{"$error":"#N/A"}},4]
[null,0,{"$nulls":3},{"$f":"VLOOKUP($A97,Participants!$A:$E,4,FALSE)","v":{"$error":"#N/A"}},{"$f":"VLOOKUP($A97,Participants!$A:$E,2,FALSE)","v":{"$error":"#N/A"}},{"$f":"VLOOKUP($A97,Participants!$A:$E,3,FALSE)","v":{"$error":"#N/A"}},{"$f":"VLOOKUP($A97,Participants!$A:$E,5,FALSE)","v":{"$error":"#N/A"}},4]
[null,0,{"$nulls":3},{"$f":"VLOOKUP($A98,Participants!$A:$E,4,FALSE)","v":{"$error":"#N/A"}},{"$f":"VLOOKUP($A98,Participants!$A:$E,2,FALSE)","v":{"$error":"#N/A"}},{"$f":"VLOOKUP($A98,Participants!$A:$E,3,FALSE)","v":{"$error":"#N/A"}},{"$f":"VLOOKUP($A98,Participants!$A:$E,5,FALSE)","v":{"$error":"#N/A"}},4]
[null,0,{"$nulls":3},{"$f":"VLOOKUP($A99,Participants!$A:$E,4,FALSE)","v":{"$error":"#N/A"}},{"$f":"VLOOKUP($A99,Participants!$A:$E,2,FALSE)","v":{"$error":"#N/A"}},{"$f":"VLOOKUP($A99,Participants!$A:$E,3,FALSE)","v":{"$error":"#N/A"}},{"$f":"VLOOKUP($A99,Participants!$A:$E,5,FALSE)","v":{"$error":"#N/A"}},4]
[null,0,{"$nulls":3},{"$f":"VLOOKUP($A100,Participants!$A:$E,4,FALSE)","v":{"$error":"#N/A"}},{"$f":"VLOOKUP($A100,Participants!$A:$E,2,FALSE)","v":{"$error":"#N/A"}},{"$f":"VLOOKUP($A100,Participants!$A:$E,3,FALSE)","v":{"$error":"#N/A"}},{"$f":"VLOOKUP($A100,Participants!$A:$E,5,FALSE)","v":{"$error":"#N/A"}},4]
[null,0,{"$nulls":3},{"$f":"VLOOKUP($A101,Participants!$A:$E,4,FALSE)","v":{"$error":"#N/A"}},{"$f":"VLOOKUP($A101,Participants!$A:$E,2,FALSE)","v":{"$error":"#N/A"}},{"$f":"VLOOKUP($A101,Participants!$A:$E,3,FALSE)","v":{"$error":"#N/A"}},{"$f":"VLOOKUP($A101,Participants!$A:$E,5,FALSE)","v":{"$error":"#N/A"}},4]

{"sheet":"LongJump 56 Girls","index":49,"n_rows":101,"n_cols":13,"rows_kept":101}
["Bib","Best Jump\n\nwill calculate\nautomatically","First Jump\n\nEnter 10 ft 3 3/4 in as 1003.75","Second Jump\n\nEnter 10 ft 3 3/4 in as 1003.75","Third Jump\n\nEnter 10 ft 3 3/4 in as 1003.75","Grade","FName","Lname","School","Overall Place","Points",null,"Return to Schedule of Events"]
[181,{"$f":"MAX(C2:E2)","v":609.5},609.5,0,0,{"$f":"VLOOKUP($A2,Participants!$A:$E,4,FALSE)","v":5},{"$f":"VLOOKUP($A2,Participants!$A:$E,2,FALSE)","v":"Evelyn"},{"$f":"VLOOKUP($A2,Participants!$A:$E,3,FALSE)","v":"Lewis"},{"$f":"VLOOKUP($A2,Participants!$A:$E,5,FALSE)","v":"SSFC"},{"$f":"RANK(B2,$B$1:$B$97,0)","v":12}]
[172,{"$f":"MAX(C3:E3)","v":800.5},0,710,800.5,{"$f":"VLOOKUP($A3,Participants!$A:$E,4,FALSE)","v":5},{"$f":"VLOOKUP($A3,Participants!$A:$E,2,FALSE)","v":"Alexa"},{"$f":"VLOOKUP($A3,Participants!$A:$E,3,FALSE)","v":"Griffin"},{"$f":"VLOOKUP($A3,Participants!$A:$E,5,FALSE)","v":"SSFC"},{"$f":"RANK(B3,$B$1:$B$97,0)","v":9},null,null,"Add or Update Participants"]
[151,509.5,509.5,507,407.75,{"$f":"VLOOKUP($A4,Participants!$A:$E,4,FALSE)","v":5},{"$f":"VLOOKUP($A4,Participants!$A:$E,2,FALSE)","v":"Audie"},{"$f":"VLOOKUP($A4,Participants!$A:$E,3,FALSE)","v":"Altherr"},{"$f":"VLOOKUP($A4,Participants!$A:$E,5,FALSE)","v":"SSFC"},13,null,null,"Overall Place and Points"]
[293,506.5,506.5,0,0,{"$f":"VLOOKUP($A5,Participants!$A:$E,4,FALSE)","v":5},{"$f":"VLOOKUP($A5,Participants!$A:$E,2,FALSE)","v":"Eva"},{"$f":"VLOOKUP($A5,Participants!$A:$E,3,FALSE)","v":"Miller"},{"$f":"VLOOKUP($A5,Participants!$A:$E,5,FALSE)","v":"St. Barnabas"},14]
[278,705,705,0,609.75,{"$f":"VLOOKUP($A6,Participants!$A:$E,4,FALSE)","v":5},{"$f":"VLOOKUP($A6,Participants!$A:$E,2,FALSE)","v":"Savannah"},{"$f":"VLOOKUP($A6,Participants!$A:$E,3,FALSE)","v":"Duhammel"},{"$f":"VLOOKUP($A6,Participants!$A:$E,5,FALSE)","v":"St. Barnabas"},11]
[57,811.25,811.25,0,704,{"$f":"VLOOKUP($A7,Participants!$A:$E,4,FALSE)","v":5},{"$f":"VLOOKUP($A7,Participants!$A:$E,2,FALSE)","v":"Lucy "},{"$f":"VLOOKUP($A7,Participants!$A:$E,3,FALSE)","v":"Jackson"},{"$f":"VLOOKUP($A7,Participants!$A:$E,5,FALSE)","v":"St Jude"},7]
[62,404.5,0,0,404.5,{"$f":"VLOOKUP($A8,Participants!$A:$E,4,FALSE)","v":6},{"$f":"VLOOKUP($A8,Participants!$A:$E,2,FALSE)","v":"Kyra"},{"$f":"VLOOKUP($A8,Participants!$A:$E,3,FALSE)","v":"Kingston"},{"$f":"VLOOKUP($A8,Participants!$A:$E,5,FALSE)","v":"St Jude"},15]
[74,905.25,903,904,905.25,{"$f":"VLOOKUP($A9,Participants!$A:$E,4,FALSE)","v":6},{"$f":"VLOOKUP($A9,Participants!$A:$E,2,FALSE)","v":"Megan"},{"$f":"VLOOKUP($A9,Participants!$A:$E,3,FALSE)","v":"Lehner"},{"$f":"VLOOKUP($A9,Participants!$A:$E,5,FALSE)","v":"St Jude"},4]
[94,1001,1000,910.25,1001,{"$f":"VLOOKUP($A10,Participants!$A:$E,4,FALSE)","v":5},{"$f":"VLOOKUP($A10,Participants!$A:$E,2,FALSE)","v":"Lola"},{"$f":"VLOOKUP($A10,Participants!$A:$E,3,FALSE)","v":"Morelli"},{"$f":"VLOOKUP($A10,Participants!$A:$E,5,FALSE)","v":"St Jude"},3]
[106,901,900,801.5,901,{"$f":"VLOOKUP($A11,Participants!$A:$E,4,FALSE)","v":6},{"$f":"VLOOKUP($A11,Participants!$A:$E,2,FALSE)","v":"Emilia"},{"$f":"VLOOKUP($A11,Participants!$A:$E,3,FALSE)","v":"Reutebuch"},{"$f":"VLOOKUP($A11,Participants!$A:$E,5,FALSE)","v":"St Jude"},6]
[116,809.25,809.25,706.75,706.5,{"$f":"VLOOKUP($A12,Participants!$A:$E,4,FALSE)","v":5},{"$f":"VLOOKUP($A12,Participants!$A:$E,2,FALSE)","v":"Aleigha"},{"$f":"VLOOKUP($A12,Participants!$A:$E,3,FALSE)","v":"Schoettle"},{"$f":"VLOOKUP($A12,Participants!$A:$E,5,FALSE)","v":"St Jude"},8]
[126,1103.5,905,1103.5,0,{"$f":"VLOOKUP($A13,Participants!$A:$E,4,FALSE)","v":5},{"$f":"VLOOKUP($A13,Participants!$A:$E,2,FALSE)","v":"Rosanna"},{"$f":"VLOOKUP($A13,Participants!$A:$E,3,FALSE)","v":"Spearing"},{"$f":"VLOOKUP($A13,Participants!$A:$E,5,FALSE)","v":"St Jude"},1]
[52,0,0,0,0,{"$f":"VLOOKUP($A14,Participants!$A:$E,4,FALSE)","v":5},{"$f":"VLOOKUP($A14,Participants!$A:$E,2,FALSE)","v":"Maryanna"},{"$f":"VLOOKUP($A14,Participants!$A:$E,3,FALSE)","v":"Houser"},{"$f":"VLOOKUP($A14,Participants!$A:$E,5,FALSE)","v":"St Jude"},16]
[73,1001.25,803.5,611,1001.25,{"$f":"VLOOKUP($A15,Participants!$A:$E,4,FALSE)","v":5},{"$f":"VLOOKUP($A15,Participants!$A:$E,2,FALSE)","v":"Bridget"},{"$f":"VLOOKUP($A15,Participants!$A:$E,3,FALSE)","v":"Lehner"},{"$f":"VLOOKUP($A15,Participants!$A:$E,5,FALSE)","v":"St Jude"},2]
[137,800,800,610.5,705,{"$f":"VLOOKUP($A16,Participants!$A:$E,4,FALSE)","v":5},{"$f":"VLOOKUP($A16,Participants!$A:$E,2,FALSE)","v":"Elizabeth"},{"$f":"VLOOKUP($A16,Participants!$A:$E,3,FALSE)","v":"Wilson"},{"$f":"VLOOKUP($A16,Participants!$A:$E,5,FALSE)","v":"St Jude"},10]
[296,904,904,902.5,900,{"$f":"VLOOKUP($A17,Participants!$A:$E,4,FALSE)","v":6},{"$f":"VLOOKUP($A17,Participants!$A:$E,2,FALSE)","v":"Tessa"},{"$f":"VLOOKUP($A17,Participants!$A:$E,3,FALSE)","v":"Mize"},{"$f":"VLOOKUP($A17,Participants!$A:$E,5,FALSE)","v":"St. Barnabas"},5]
[255,0,0,0,0,{"$f":"VLOOKUP($A18,Participants!$A:$E,4,FALSE)","v":5},{"$f":"VLOOKUP($A18,Participants!$A:$E,2,FALSE)","v":"Ava"},{"$f":"VLOOKUP($A18,Participants!$A:$E,3,FALSE)","v":"Price"},{"$f":"VLOOKUP($A18,Participants!$A:$E,5,FALSE)","v":"United We Run"},16]
[null,0,{"$nulls":3},{"$f":"VLOOKUP($A19,Participants!$A:$E,4,FALSE)","v":{"$error":"#N/A"}},{"$f":"VLOOKUP($A19,Participants!$A:$E,2,FALSE)","v":{"$error":"#N/A"}},{"$f":"VLOOKUP($A19,Participants!$A:$E,3,FALSE)","v":{"$error":"#N/A"}},{"$f":"VLOOKUP($A19,Participants!$A:$E,5,FALSE)","v":{"$error":"#N/A"}},16]
[null,0,{"$nulls":3},{"$f":"VLOOKUP($A20,Participants!$A:$E,4,FALSE)","v":{"$error":"#N/A"}},{"$f":"VLOOKUP($A20,Participants!$A:$E,2,FALSE)","v":{"$error":"#N/A"}},{"$f":"VLOOKUP($A20,Participants!$A:$E,3,FALSE)","v":{"$error":"#N/A"}},{"$f":"VLOOKUP($A20,Participants!$A:$E,5,FALSE)","v":{"$error":"#N/A"}},16]
[null,0,{"$nulls":3},{"$f":"VLOOKUP($A21,Participants!$A:$E,4,FALSE)","v":{"$error":"#N/A"}},{"$f":"VLOOKUP($A21,Participants!$A:$E,2,FALSE)","v":{"$error":"#N/A"}},{"$f":"VLOOKUP($A21,Participants!$A:$E,3,FALSE)","v":{"$error":"#N/A"}},{"$f":"VLOOKUP($A21,Participants!$A:$E,5,FALSE)","v":{"$error":"#N/A"}},16]
[null,0,{"$nulls":3},{"$f":"VLOOKUP($A22,Participants!$A:$E,4,FALSE)","v":{"$error":"#N/A"}},{"$f":"VLOOKUP($A22,Participants!$A:$E,2,FALSE)","v":{"$error":"#N/A"}},{"$f":"VLOOKUP($A22,Participants!$A:$E,3,FALSE)","v":{"$error":"#N/A"}},{"$f":"VLOOKUP($A22,Participants!$A:$E,5,FALSE)","v":{"$error":"#N/A"}},16]
[null,0,{"$nulls":3},{"$f":"VLOOKUP($A23,Participants!$A:$E,4,FALSE)","v":{"$error":"#N/A"}},{"$f":"VLOOKUP($A23,Participants!$A:$E,2,FALSE)","v":{"$error":"#N/A"}},{"$f":"VLOOKUP($A23,Participants!$A:$E,3,FALSE)","v":{"$error":"#N/A"}},{"$f":"VLOOKUP($A23,Participants!$A:$E,5,FALSE)","v":{"$error":"#N/A"}},16]
[null,0,{"$nulls":3},{"$f":"VLOOKUP($A24,Participants!$A:$E,4,FALSE)","v":{"$error":"#N/A"}},{"$f":"VLOOKUP($A24,Participants!$A:$E,2,FALSE)","v":{"$error":"#N/A"}},{"$f":"VLOOKUP($A24,Participants!$A:$E,3,FALSE)","v":{"$error":"#N/A"}},{"$f":"VLOOKUP($A24,Participants!$A:$E,5,FALSE)","v":{"$error":"#N/A"}},16]
[null,0,{"$nulls":3},{"$f":"VLOOKUP($A25,Participants!$A:$E,4,FALSE)","v":{"$error":"#N/A"}},{"$f":"VLOOKUP($A25,Participants!$A:$E,2,FALSE)","v":{"$error":"#N/A"}},{"$f":"VLOOKUP($A25,Participants!$A:$E,3,FALSE)","v":{"$error":"#N/A"}},{"$f":"VLOOKUP($A25,Participants!$A:$E,5,FALSE)","v":{"$error":"#N/A"}},16]
[null,0,{"$nulls":3},{"$f":"VLOOKUP($A26,Participants!$A:$E,4,FALSE)","v":{"$error":"#N/A"}},{"$f":"VLOOKUP($A26,Participants!$A:$E,2,FALSE)","v":{"$error":"#N/A"}},{"$f":"VLOOKUP($A26,Participants!$A:$E,3,FALSE)","v":{"$error":"#N/A"}},{"$f":"VLOOKUP($A26,Participants!$A:$E,5,FALSE)","v":{"$error":"#N/A"}},16]
[null,0,{"$nulls":3},{"$f":"VLOOKUP($A27,Participants!$A:$E,4,FALSE)","v":{"$error":"#N/A"}},{"$f":"VLOOKUP($A27,Participants!$A:$E,2,FALSE)","v":{"$error":"#N/A"}},{"$f":"VLOOKUP($A27,Participants!$A:$E,3,FALSE)","v":{"$error":"#N/A"}},{"$f":"VLOOKUP($A27,Participants!$A:$E,5,FALSE)","v":{"$error":"#N/A"}},16]
[null,0,{"$nulls":3},{"$f":"VLOOKUP($A28,Participants!$A:$E,4,FALSE)","v":{"$error":"#N/A"}},{"$f":"VLOOKUP($A28,Participants!$A:$E,2,FALSE)","v":{"$error":"#N/A"}},{"$f":"VLOOKUP($A28,Participants!$A:$E,3,FALSE)","v":{"$error":"#N/A"}},{"$f":"VLOOKUP($A28,Participants!$A:$E,5,FALSE)","v":{"$error":"#N/A"}},16]
[null,0,{"$nulls":3},{"$f":"VLOOKUP($A29,Participants!$A:$E,4,FALSE)","v":{"$error":"#N/A"}},{"$f":"VLOOKUP($A29,Participants!$A:$E,2,FALSE)","v":{"$error":"#N/A"}},{"$f":"VLOOKUP($A29,Participants!$A:$E,3,FALSE)","v":{"$error":"#N/A"}},{"$f":"VLOOKUP($A29,Participants!$A:$E,5,FALSE)","v":{"$error":"#N/A"}},16]
[null,0,{"$nulls":3},{"$f":"VLOOKUP($A30,Participants!$A:$E,4,FALSE)","v":{"$error":"#N/A"}},{"$f":"VLOOKUP($A30,Participants!$A:$E,2,FALSE)","v":{"$error":"#N/A"}},{"$f":"VLOOKUP($A30,Participants!$A:$E,3,FALSE)","v":{"$error":"#N/A"}},{"$f":"VLOOKUP($A30,Participants!$A:$E,5,FALSE)","v":{"$error":"#N/A"}},16]
[null,0,{"$nulls":3},{"$f":"VLOOKUP($A31,Participants!$A:$E,4,FALSE)","v":{"$error":"#N/A"}},{"$f":"VLOOKUP($A31,Participants!$A:$E,2,FALSE)","v":{"$error":"#N/A"}},{"$f":"VLOOKUP($A31,Participants!$A:$E,3,FALSE)","v":{"$error":"#N/A"}},{"$f":"VLOOKUP($A31,Participants!$A:$E,5,FALSE)","v":{"$error":"#N/A"}},16]
[null,0,{"$nulls":3},{"$f":"VLOOKUP($A32,Participants!$A:$E,4,FALSE)","v":{"$error":"#N/A"}},{"$f":"VLOOKUP($A32,Participants!$A:$E,2,FALSE)","v":{"$error":"#N/A"}},{"$f":"VLOOKUP($A32,Participants!$A:$E,3,FALSE)","v":{"$error":"#N/A"}},{"$f":"VLOOKUP($A32,Participants!$A:$E,5,FALSE)","v":{"$error":"#N/A"}},16]
[null,0,{"$nulls":3},{"$f":"VLOOKUP($A33,Participants!$A:$E,4,FALSE)","v":{"$error":"#N/A"}},{"$f":"VLOOKUP($A33,Participants!$A:$E,2,FALSE)","v":{"$error":"#N/A"}},{"$f":"VLOOKUP($A33,Participants!$A:$E,3,FALSE)","v":{"$error":"#N/A"}},{"$f":"VLOOKUP($A33,Participants!$A:$E,5,FALSE)","v":{"$error":"#N/A"}},16]
[null,0,{"$nulls":3},{"$f":"VLOOKUP($A34,Participants!$A:$E,4,FALSE)","v":{"$error":"#N/A"}},{"$f":"VLOOKUP($A34,Participants!$A:$E,2,FALSE)","v":{"$error":"#N/A"}},{"$f":"VLOOKUP($A34,Participants!$A:$E,3,FALSE)","v":{"$error":"#N/A"}},{"$f":"VLOOKUP($A34,Participants!$A:$E,5,FALSE)","v":{"$error":"#N/A"}},16]
[null,0,{"$nulls":3},{"$f":"VLOOKUP($A35,Participants!$A:$E,4,FALSE)","v":{"$error":"#N/A"}},{"$f":"VLOOKUP($A35,Participants!$A:$E,2,FALSE)","v":{"$error":"#N/A"}},{"$f":"VLOOKUP($A35,Participants!$A:$E,3,FALSE)","v":{"$error":"#N/A"}},{"$f":"VLOOKUP($A35,Participants!$A:$E,5,FALSE)","v":{"$error":"#N/A"}},16]
[null,0,{"$nulls":3},{"$f":"VLOOKUP($A36,Participants!$A:$E,4,FALSE)","v":{"$error":"#N/A"}},{"$f":"VLOOKUP($A36,Participants!$A:$E,2,FALSE)","v":{"$error":"#N/A"}},{"$f":"VLOOKUP($A36,Participants!$A:$E,3,FALSE)","v":{"$error":"#N/A"}},{"$f":"VLOOKUP($A36,Participants!$A:$E,5,FALSE)","v":{"$error":"#N/A"}},16]
[null,0,{"$nulls":3},{"$f":"VLOOKUP($A37,Participants!$A:$E,4,FALSE)","v":{"$error":"#N/A"}},{"$f":"VLOOKUP($A37,Participants!$A:$E,2,FALSE)","v":{"$error":"#N/A"}},{"$f":"VLOOKUP($A37,Participants!$A:$E,3,FALSE)","v":{"$error":"#N/A"}},{"$f":"VLOOKUP($A37,Participants!$A:$E,5,FALSE)","v":{"$error":"#N/A"}},16]
[null,0,{"$nulls":3},{"$f":"VLOOKUP($A38,Participants!$A:$E,4,FALSE)","v":{"$error":"#N/A"}},{"$f":"VLOOKUP($A38,Participants!$A:$E,2,FALSE)","v":{"$error":"#N/A"}},{"$f":"VLOOKUP($A38,Participants!$A:$E,3,FALSE)","v":{"$error":"#N/A"}},{"$f":"VLOOKUP($A38,Participants!$A:$E,5,FALSE)","v":{"$error":"#N/A"}},16]
[null,0,{"$nulls":3},{"$f":"VLOOKUP($A39,Participants!$A:$E,4,FALSE)","v":{"$error":"#N/A"}},{"$f":"VLOOKUP($A39,Participants!$A:$E,2,FALSE)","v":{"$error":"#N/A"}},{"$f":"VLOOKUP($A39,Participants!$A:$E,3,FALSE)","v":{"$error":"#N/A"}},{"$f":"VLOOKUP($A39,Participants!$A:$E,5,FALSE)","v":{"$error":"#N/A"}},16]
[null,0,{"$nulls":3},{"$f":"VLOOKUP($A40,Participants!$A:$E,4,FALSE)","v":{"$error":"#N/A"}},{"$f":"VLOOKUP($A40,Participants!$A:$E,2,FALSE)","v":{"$error":"#N/A"}},{"$f":"VLOOKUP($A40,Participants!$A:$E,3,FALSE)","v":{"$error":"#N/A"}},{"$f":"VLOOKUP($A40,Participants!$A:$E,5,FALSE)","v":{"$error":"#N/A"}},16]
[null,0,{"$nulls":3},{"$f":"VLOOKUP($A41,Participants!$A:$E,4,FALSE)","v":{"$error":"#N/A"}},{"$f":"VLOOKUP($A41,Participants!$A:$E,2,FALSE)","v":{"$error":"#N/A"}},{"$f":"VLOOKUP($A41,Participants!$A:$E,3,FALSE)","v":{"$error":"#N/A"}},{"$f":"VLOOKUP($A41,Participants!$A:$E,5,FALSE)","v":{"$error":"#N/A"}},16]
[null,0,{"$nulls":3},{"$f":"VLOOKUP($A42,Participants!$A:$E,4,FALSE)","v":{"$error":"#N/A"}},{"$f":"VLOOKUP($A42,Participants!$A:$E,2,FALSE)","v":{"$error":"#N/A"}},{"$f":"VLOOKUP($A42,Participants!$A:$E,3,FALSE)","v":{"$error":"#N/A"}},{"$f":"VLOOKUP($A42,Participants!$A:$E,5,FALSE)","v":{"$error":"#N/A"}},16]
[null,0,{"$nulls":3},{"$f":"VLOOKUP($A43,Participants!$A:$E,4,FALSE)","v":{"$error":"#N/A"}},{"$f":"VLOOKUP($A43,Participants!$A:$E,2,FALSE)","v":{"$error":"#N/A"}},{"$f":"VLOOKUP($A43,Participants!$A:$E,3,FALSE)","v":{"$error":"#N/A"}},{"$f":"VLOOKUP($A43,Participants!$A:$E,5,FALSE)","v":{"$error":"#N/A"}},16]
[null,0,{"$nulls":3},{"$f":"VLOOKUP($A44,Participants!$A:$E,4,FALSE)","v":{"$error":"#N/A"}},{"$f":"VLOOKUP($A44,Participants!$A:$E,2,FALSE)","v":{"$error":"#N/A"}},{"$f":"VLOOKUP($A44,Participants!$A:$E,3,FALSE)","v":{"$error":"#N/A"}},{"$f":"VLOOKUP($A44,Participants!$A:$E,5,FALSE)","v":{"$error":"#N/A"}},16]
[null,0,{"$nulls":3},{"$f":"VLOOKUP($A45,Participants!$A:$E,4,FALSE)","v":{"$error":"#N/A"}},{"$f":"VLOOKUP($A45,Participants!$A:$E,2,FALSE)","v":{"$error":"#N/A"}},{"$f":"VLOOKUP($A45,Participants!$A:$E,3,FALSE)","v":{"$error":"#N/A"}},{"$f":"VLOOKUP($A45,Participants!$A:$E,5,FALSE)","v":{"$error":"#N/A"}},16]
[null,0,{"$nulls":3},{"$f":"VLOOKUP($A46,Participants!$A:$E,4,FALSE)","v":{"$error":"#N/A"}},{"$f":"VLOOKUP($A46,Participants!$A:$E,2,FALSE)","v":{"$error":"#N/A"}},{"$f":"VLOOKUP($A46,Participants!$A:$E,3,FALSE)","v":{"$error":"#N/A"}},{"$f":"VLOOKUP($A46,Participants!$A:$E,5,FALSE)","v":{"$error":"#N/A"}},16]
[null,0,{"$nulls":3},{"$f":"VLOOKUP($A47,Participants!$A:$E,4,FALSE)","v":{"$error":"#N/A"}},{"$f":"VLOOKUP($A47,Participants!$A:$E,2,FALSE)","v":{"$error":"#N/A"}},{"$f":"VLOOKUP($A47,Participants!$A:$E,3,FALSE)","v":{"$error":"#N/A"}},{"$f":"VLOOKUP($A47,Participants!$A:$E,5,FALSE)","v":{"$error":"#N/A"}},16]
[null,0,{"$nulls":3},{"$f":"VLOOKUP($A48,Participants!$A:$E,4,FALSE)","v":{"$error":"#N/A"}},{"$f":"VLOOKUP($A48,Participants!$A:$E,2,FALSE)","v":{"$error":"#N/A"}},{"$f":"VLOOKUP($A48,Participants!$A:$E,3,FALSE)","v":{"$error":"#N/A"}},{"$f":"VLOOKUP($A48,Participants!$A:$E,5,FALSE)","v":{"$error":"#N/A"}},16]
[null,0,{"$nulls":3},{"$f":"VLOOKUP($A49,Participants!$A:$E,4,FALSE)","v":{"$error":"#N/A"}},{"$f":"VLOOKUP($A49,Participants!$A:$E,2,FALSE)","v":{"$error":"#N/A"}},{"$f":"VLOOKUP($A49,Participants!$A:$E,3,FALSE)","v":{"$error":"#N/A"}},{"$f":"VLOOKUP($A49,Participants!$A:$E,5,FALSE)","v":{"$error":"#N/A"}},16]
[null,0,{"$nulls":3},{"$f":"VLOOKUP($A50,Participants!$A:$E,4,FALSE)","v":{"$error":"#N/A"}},{"$f":"VLOOKUP($A50,Participants!$A:$E,2,FALSE)","v":{"$error":"#N/A"}},{"$f":"VLOOKUP($A50,Participants!$A:$E,3,FALSE)","v":{"$error":"#N/A"}},{"$f":"VLOOKUP($A50,Participants!$A:$E,5,FALSE)","v":{"$error":"#N/A"}},16]
[null,0,{"$nulls":3},{"$f":"VLOOKUP($A51,Participants!$A:$E,4,FALSE)","v":{"$error":"#N/A"}},{"$f":"VLOOKUP($A51,Participants!$A:$E,2,FALSE)","v":{"$error":"#N/A"}},{"$f":"VLOOKUP($A51,Participants!$A:$E,3,FALSE)","v":{"$error":"#N/A"}},{"$f":"VLOOKUP($A51,Participants!$A:$E,5,FALSE)","v":{"$error":"#N/A"}},16]
[null,0,{"$nulls":3},{"$f":"VLOOKUP($A52,Participants!$A:$E,4,FALSE)","v":{"$error":"#N/A"}},{"$f":"VLOOKUP($A52,Participants!$A:$E,2,FALSE)","v":{"$error":"#N/A"}},{"$f":"VLOOKUP($A52,Participants!$A:$E,3,FALSE)","v":{"$error":"#N/A"}},{"$f":"VLOOKUP($A52,Participants!$A:$E,5,FALSE)","v":{"$error":"#N/A"}},16]
[null,0,{"$nulls":3},{"$f":"VLOOKUP($A53,Participants!$A:$E,4,FALSE)","v":{"$error":"#N/A"}},{"$f":"VLOOKUP($A53,Participants!$A:$E,2,FALSE)","v":{"$error":"#N/A"}},{"$f":"VLOOKUP($A53,Participants!$A:$E,3,FALSE)","v":{"$error":"#N/A"}},{"$f":"VLOOKUP($A53,Participants!$A:$E,5,FALSE)","v":{"$error":"#N/A"}},16]
[null,0,{"$nulls":3},{"$f":"VLOOKUP($A54,Participants!$A:$E,4,FALSE)","v":{"$error":"#N/A"}},{"$f":"VLOOKUP($A54,Participants!$A:$E,2,FALSE)","v":{"$error":"#N/A"}},{"$f":"VLOOKUP($A54,Participants!$A:$E,3,FALSE)","v":{"$error":"#N/A"}},{"$f":"VLOOKUP($A54,Participants!$A:$E,5,FALSE)","v":{"$error":"#N/A"}},16]
[null,0,{"$nulls":3},{"$f":"VLOOKUP($A55,Participants!$A:$E,4,FALSE)","v":{"$error":"#N/A"}},{"$f":"VLOOKUP($A55,Participants!$A:$E,2,FALSE)","v":{"$error":"#N/A"}},{"$f":"VLOOKUP($A55,Participants!$A:$E,3,FALSE)","v":{"$error":"#N/A"}},{"$f":"VLOOKUP($A55,Participants!$A:$E,5,FALSE)","v":{"$error":"#N/A"}},16]
[null,0,{"$nulls":3},{"$f":"VLOOKUP($A56,Participants!$A:$E,4,FALSE)","v":{"$error":"#N/A"}},{"$f":"VLOOKUP($A56,Participants!$A:$E,2,FALSE)","v":{"$error":"#N/A"}},{"$f":"VLOOKUP($A56,Participants!$A:$E,3,FALSE)","v":{"$error":"#N/A"}},{"$f":"VLOOKUP($A56,Participants!$A:$E,5,FALSE)","v":{"$error":"#N/A"}},16]
[null,0,{"$nulls":3},{"$f":"VLOOKUP($A57,Participants!$A:$E,4,FALSE)","v":{"$error":"#N/A"}},{"$f":"VLOOKUP($A57,Participants!$A:$E,2,FALSE)","v":{"$error":"#N/A"}},{"$f":"VLOOKUP($A57,Participants!$A:$E,3,FALSE)","v":{"$error":"#N/A"}},{"$f":"VLOOKUP($A57,Participants!$A:$E,5,FALSE)","v":{"$error":"#N/A"}},16]
[null,0,{"$nulls":3},{"$f":"VLOOKUP($A58,Participants!$A:$E,4,FALSE)","v":{"$error":"#N/A"}},{"$f":"VLOOKUP($A58,Participants!$A:$E,2,FALSE)","v":{"$error":"#N/A"}},{"$f":"VLOOKUP($A58,Participants!$A:$E,3,FALSE)","v":{"$error":"#N/A"}},{"$f":"VLOOKUP($A58,Participants!$A:$E,5,FALSE)","v":{"$error":"#N/A"}},16]
[null,0,{"$nulls":3},{"$f":"VLOOKUP($A59,Participants!$A:$E,4,FALSE)","v":{"$error":"#N/A"}},{"$f":"VLOOKUP($A59,Participants!$A:$E,2,FALSE)","v":{"$error":"#N/A"}},{"$f":"VLOOKUP($A59,Participants!$A:$E,3,FALSE)","v":{"$error":"#N/A"}},{"$f":"VLOOKUP($A59,Participants!$A:$E,5,FALSE)","v":{"$error":"#N/A"}},16]
[null,0,{"$nulls":3},{"$f":"VLOOKUP($A60,Participants!$A:$E,4,FALSE)","v":{"$error":"#N/A"}},{"$f":"VLOOKUP($A60,Participants!$A:$E,2,FALSE)","v":{"$error":"#N/A"}},{"$f":"VLOOKUP($A60,Participants!$A:$E,3,FALSE)","v":{"$error":"#N/A"}},{"$f":"VLOOKUP($A60,Participants!$A:$E,5,FALSE)","v":{"$error":"#N/A"}},16]
[null,0,{"$nulls":3},{"$f":"VLOOKUP($A61,Participants!$A:$E,4,FALSE)","v":{"$error":"#N/A"}},{"$f":"VLOOKUP($A61,Participants!$A:$E,2,FALSE)","v":{"$error":"#N/A"}},{"$f":"VLOOKUP($A61,Participants!$A:$E,3,FALSE)","v":{"$error":"#N/A"}},{"$f":"VLOOKUP($A61,Participants!$A:$E,5,FALSE)","v":{"$error":"#N/A"}},16]
[null,0,{"$nulls":3},{"$f":"VLOOKUP($A62,Participants!$A:$E,4,FALSE)","v":{"$error":"#N/A"}},{"$f":"VLOOKUP($A62,Participants!$A:$E,2,FALSE)","v":{"$error":"#N/A"}},{"$f":"VLOOKUP($A62,Participants!$A:$E,3,FALSE)","v":{"$error":"#N/A"}},{"$f":"VLOOKUP($A62,Participants!$A:$E,5,FALSE)","v":{"$error":"#N/A"}},16]
[null,0,{"$nulls":3},{"$f":"VLOOKUP($A63,Participants!$A:$E,4,FALSE)","v":{"$error":"#N/A"}},{"$f":"VLOOKUP($A63,Participants!$A:$E,2,FALSE)","v":{"$error":"#N/A"}},{"$f":"VLOOKUP($A63,Participants!$A:$E,3,FALSE)","v":{"$error":"#N/A"}},{"$f":"VLOOKUP($A63,Participants!$A:$E,5,FALSE)","v":{"$error":"#N/A"}},16]
[null,0,{"$nulls":3},{"$f":"VLOOKUP($A64,Participants!$A:$E,4,FALSE)","v":{"$error":"#N/A"}},{"$f":"VLOOKUP($A64,Participants!$A:$E,2,FALSE)","v":{"$error":"#N/A"}},{"$f":"VLOOKUP($A64,Participants!$A:$E,3,FALSE)","v":{"$error":"#N/A"}},{"$f":"VLOOKUP($A64,Participants!$A:$E,5,FALSE)","v":{"$error":"#N/A"}},16]
[null,0,{"$nulls":3},{"$f":"VLOOKUP($A65,Participants!$A:$E,4,FALSE)","v":{"$error":"#N/A"}},{"$f":"VLOOKUP($A65,Participants!$A:$E,2,FALSE)","v":{"$error":"#N/A"}},{"$f":"VLOOKUP($A65,Participants!$A:$E,3,FALSE)","v":{"$error":"#N/A"}},{"$f":"VLOOKUP($A65,Participants!$A:$E,5,FALSE)","v":{"$error":"#N/A"}},16]
[null,0,{"$nulls":3},{"$f":"VLOOKUP($A66,Participants!$A:$E,4,FALSE)","v":{"$error":"#N/A"}},{"$f":"VLOOKUP($A66,Participants!$A:$E,2,FALSE)","v":{"$error":"#N/A"}},{"$f":"VLOOKUP($A66,Participants!$A:$E,3,FALSE)","v":{"$error":"#N/A"}},{"$f":"VLOOKUP($A66,Participants!$A:$E,5,FALSE)","v":{"$error":"#N/A"}},16]
[null,{"$f":"MAX(C67:E67)","v":0},{"$nulls":3},{"$f":"VLOOKUP($A67,Participants!$A:$E,4,FALSE)","v":{"$error":"#N/A"}},{"$f":"VLOOKUP($A67,Participants!$A:$E,2,FALSE)","v":{"$error":"#N/A"}},{"$f":"VLOOKUP($A67,Participants!$A:$E,3,FALSE)","v":{"$error":"#N/A"}},{"$f":"VLOOKUP($A67,Participants!$A:$E,5,FALSE)","v":{"$error":"#N/A"}},{"$f":"RANK(B67,$B$1:$B$97,0)","v":16}]
[null,0,{"$nulls":3},{"$f":"VLOOKUP($A68,Participants!$A:$E,4,FALSE)","v":{"$error":"#N/A"}},{"$f":"VLOOKUP($A68,Participants!$A:$E,2,FALSE)","v":{"$error":"#N/A"}},{"$f":"VLOOKUP($A68,Participants!$A:$E,3,FALSE)","v":{"$error":"#N/A"}},{"$f":"VLOOKUP($A68,Participants!$A:$E,5,FALSE)","v":{"$error":"#N/A"}},16]
[null,0,{"$nulls":3},{"$f":"VLOOKUP($A69,Participants!$A:$E,4,FALSE)","v":{"$error":"#N/A"}},{"$f":"VLOOKUP($A69,Participants!$A:$E,2,FALSE)","v":{"$error":"#N/A"}},{"$f":"VLOOKUP($A69,Participants!$A:$E,3,FALSE)","v":{"$error":"#N/A"}},{"$f":"VLOOKUP($A69,Participants!$A:$E,5,FALSE)","v":{"$error":"#N/A"}},16]
[null,0,{"$nulls":3},{"$f":"VLOOKUP($A70,Participants!$A:$E,4,FALSE)","v":{"$error":"#N/A"}},{"$f":"VLOOKUP($A70,Participants!$A:$E,2,FALSE)","v":{"$error":"#N/A"}},{"$f":"VLOOKUP($A70,Participants!$A:$E,3,FALSE)","v":{"$error":"#N/A"}},{"$f":"VLOOKUP($A70,Participants!$A:$E,5,FALSE)","v":{"$error":"#N/A"}},16]
[null,0,{"$nulls":3},{"$f":"VLOOKUP($A71,Participants!$A:$E,4,FALSE)","v":{"$error":"#N/A"}},{"$f":"VLOOKUP($A71,Participants!$A:$E,2,FALSE)","v":{"$error":"#N/A"}},{"$f":"VLOOKUP($A71,Participants!$A:$E,3,FALSE)","v":{"$error":"#N/A"}},{"$f":"VLOOKUP($A71,Participants!$A:$E,5,FALSE)","v":{"$error":"#N/A"}},16]
[null,0,{"$nulls":3},{"$f":"VLOOKUP($A72,Participants!$A:$E,4,FALSE)","v":{"$error":"#N/A"}},{"$f":"VLOOKUP($A72,Participants!$A:$E,2,FALSE)","v":{"$error":"#N/A"}},{"$f":"VLOOKUP($A72,Participants!$A:$E,3,FALSE)","v":{"$error":"#N/A"}},{"$f":"VLOOKUP($A72,Participants!$A:$E,5,FALSE)","v":{"$error":"#N/A"}},16]
[null,0,{"$nulls":3},{"$f":"VLOOKUP($A73,Participants!$A:$E,4,FALSE)","v":{"$error":"#N/A"}},{"$f":"VLOOKUP($A73,Participants!$A:$E,2,FALSE)","v":{"$error":"#N/A"}},{"$f":"VLOOKUP($A73,Participants!$A:$E,3,FALSE)","v":{"$error":"#N/A"}},{"$f":"VLOOKUP($A73,Participants!$A:$E,5,FALSE)","v":{"$error":"#N/A"}},16]
[null,0,{"$nulls":3},{"$f":"VLOOKUP($A74,Participants!$A:$E,4,FALSE)","v":{"$error":"#N/A"}},{"$f":"VLOOKUP($A74,Participants!$A:$E,2,FALSE)","v":{"$error":"#N/A"}},{"$f":"VLOOKUP($A74,Participants!$A:$E,3,FALSE)","v":{"$error":"#N/A"}},{"$f":"VLOOKUP($A74,Participants!$A:$E,5,FALSE)","v":{"$error":"#N/A"}},16]
[null,0,{"$nulls":3},{"$f":"VLOOKUP($A75,Participants!$A:$E,4,FALSE)","v":{"$error":"#N/A"}},{"$f":"VLOOKUP($A75,Participants!$A:$E,2,FALSE)","v":{"$error":"#N/A"}},{"$f":"VLOOKUP($A75,Participants!$A:$E,3,FALSE)","v":{"$error":"#N/A"}},{"$f":"VLOOKUP($A75,Participants!$A:$E,5,FALSE)","v":{"$error":"#N/A"}},16]
[null,0,{"$nulls":3},{"$f":"VLOOKUP($A76,Participants!$A:$E,4,FALSE)","v":{"$error":"#N/A"}},{"$f":"VLOOKUP($A76,Participants!$A:$E,2,FALSE)","v":{"$error":"#N/A"}},{"$f":"VLOOKUP($A76,Participants!$A:$E,3,FALSE)","v":{"$error":"#N/A"}},{"$f":"VLOOKUP($A76,Participants!$A:$E,5,FALSE)","v":{"$error":"#N/A"}},16]
[null,0,{"$nulls":3},{"$f":"VLOOKUP($A77,Participants!$A:$E,4,FALSE)","v":{"$error":"#N/A"}},{"$f":"VLOOKUP($A77,Participants!$A:$E,2,FALSE)","v":{"$error":"#N/A"}},{"$f":"VLOOKUP($A77,Participants!$A:$E,3,FALSE)","v":{"$error":"#N/A"}},{"$f":"VLOOKUP($A77,Participants!$A:$E,5,FALSE)","v":{"$error":"#N/A"}},16]
[null,0,{"$nulls":3},{"$f":"VLOOKUP($A78,Participants!$A:$E,4,FALSE)","v":{"$error":"#N/A"}},{"$f":"VLOOKUP($A78,Participants!$A:$E,2,FALSE)","v":{"$error":"#N/A"}},{"$f":"VLOOKUP($A78,Participants!$A:$E,3,FALSE)","v":{"$error":"#N/A"}},{"$f":"VLOOKUP($A78,Participants!$A:$E,5,FALSE)","v":{"$error":"#N/A"}},16]
[null,0,{"$nulls":3},{"$f":"VLOOKUP($A79,Participants!$A:$E,4,FALSE)","v":{"$error":"#N/A"}},{"$f":"VLOOKUP($A79,Participants!$A:$E,2,FALSE)","v":{"$error":"#N/A"}},{"$f":"VLOOKUP($A79,Participants!$A:$E,3,FALSE)","v":{"$error":"#N/A"}},{"$f":"VLOOKUP($A79,Participants!$A:$E,5,FALSE)","v":{"$error":"#N/A"}},16]
[null,0,{"$nulls":3},{"$f":"VLOOKUP($A80,Participants!$A:$E,4,FALSE)","v":{"$error":"#N/A"}},{"$f":"VLOOKUP($A80,Participants!$A:$E,2,FALSE)","v":{"$error":"#N/A"}},{"$f":"VLOOKUP($A80,Participants!$A:$E,3,FALSE)","v":{"$error":"#N/A"}},{"$f":"VLOOKUP($A80,Participants!$A:$E,5,FALSE)","v":{"$error":"#N/A"}},16]
[null,0,{"$nulls":3},{"$f":"VLOOKUP($A81,Participants!$A:$E,4,FALSE)","v":{"$error":"#N/A"}},{"$f":"VLOOKUP($A81,Participants!$A:$E,2,FALSE)","v":{"$error":"#N/A"}},{"$f":"VLOOKUP($A81,Participants!$A:$E,3,FALSE)","v":{"$error":"#N/A"}},{"$f":"VLOOKUP($A81,Participants!$A:$E,5,FALSE)","v":{"$error":"#N/A"}},16]
[null,0,{"$nulls":3},{"$f":"VLOOKUP($A82,Participants!$A:$E,4,FALSE)","v":{"$error":"#N/A"}},{"$f":"VLOOKUP($A82,Participants!$A:$E,2,FALSE)","v":{"$error":"#N/A"}},{"$f":"VLOOKUP($A82,Participants!$A:$E,3,FALSE)","v":{"$error":"#N/A"}},{"$f":"VLOOKUP($A82,Participants!$A:$E,5,FALSE)","v":{"$error":"#N/A"}},16]
[null,0,{"$nulls":3},{"$f":"VLOOKUP($A83,Participants!$A:$E,4,FALSE)","v":{"$error":"#N/A"}},{"$f":"VLOOKUP($A83,Participants!$A:$E,2,FALSE)","v":{"$error":"#N/A"}},{"$f":"VLOOKUP($A83,Participants!$A:$E,3,FALSE)","v":{"$error":"#N/A"}},{"$f":"VLOOKUP($A83,Participants!$A:$E,5,FALSE)","v":{"$error":"#N/A"}},16]
[null,0,{"$nulls":3},{"$f":"VLOOKUP($A84,Participants!$A:$E,4,FALSE)","v":{"$error":"#N/A"}},{"$f":"VLOOKUP($A84,Participants!$A:$E,2,FALSE)","v":{"$error":"#N/A"}},{"$f":"VLOOKUP($A84,Participants!$A:$E,3,FALSE)","v":{"$error":"#N/A"}},{"$f":"VLOOKUP($A84,Participants!$A:$E,5,FALSE)","v":{"$error":"#N/A"}},16]
[null,0,{"$nulls":3},{"$f":"VLOOKUP($A85,Participants!$A:$E,4,FALSE)","v":{"$error":"#N/A"}},{"$f":"VLOOKUP($A85,Participants!$A:$E,2,FALSE)","v":{"$error":"#N/A"}},{"$f":"VLOOKUP($A85,Participants!$A:$E,3,FALSE)","v":{"$error":"#N/A"}},{"$f":"VLOOKUP($A85,Participants!$A:$E,5,FALSE)","v":{"$error":"#N/A"}},16]
[null,0,{"$nulls":3},{"$f":"VLOOKUP($A86,Participants!$A:$E,4,FALSE)","v":{"$error":"#N/A"}},{"$f":"VLOOKUP($A86,Participants!$A:$E,2,FALSE)","v":{"$error":"#N/A"}},{"$f":"VLOOKUP($A86,Participants!$A:$E,3,FALSE)","v":{"$error":"#N/A"}},{"$f":"VLOOKUP($A86,Participants!$A:$E,5,FALSE)","v":{"$error":"#N/A"}},16]
[null,0,{"$nulls":3},{"$f":"VLOOKUP($A87,Participants!$A:$E,4,FALSE)","v":{"$error":"#N/A"}},{"$f":"VLOOKUP($A87,Participants!$A:$E,2,FALSE)","v":{"$error":"#N/A"}},{"$f":"VLOOKUP($A87,Participants!$A:$E,3,FALSE)","v":{"$error":"#N/A"}},{"$f":"VLOOKUP($A87,Participants!$A:$E,5,FALSE)","v":{"$error":"#N/A"}},16]
[null,0,{"$nulls":3},{"$f":"VLOOKUP($A88,Participants!$A:$E,4,FALSE)","v":{"$error":"#N/A"}},{"$f":"VLOOKUP($A88,Participants!$A:$E,2,FALSE)","v":{"$error":"#N/A"}},{"$f":"VLOOKUP($A88,Participants!$A:$E,3,FALSE)","v":{"$error":"#N/A"}},{"$f":"VLOOKUP($A88,Participants!$A:$E,5,FALSE)","v":{"$error":"#N/A"}},16]
[null,0,{"$nulls":3},{"$f":"VLOOKUP($A89,Participants!$A:$E,4,FALSE)","v":{"$error":"#N/A"}},{"$f":"VLOOKUP($A89,Participants!$A:$E,2,FALSE)","v":{"$error":"#N/A"}},{"$f":"VLOOKUP($A89,Participants!$A:$E,3,FALSE)","v":{"$error":"#N/A"}},{"$f":"VLOOKUP($A89,Participants!$A:$E,5,FALSE)","v":{"$error":"#N/A"}},16]
[null,0,{"$nulls":3},{"$f":"VLOOKUP($A90,Participants!$A:$E,4,FALSE)","v":{"$error":"#N/A"}},{"$f":"VLOOKUP($A90,Participants!$A:$E,2,FALSE)","v":{"$error":"#N/A"}},{"$f":"VLOOKUP($A90,Participants!$A:$E,3,FALSE)","v":{"$error":"#N/A"}},{"$f":"VLOOKUP($A90,Participants!$A:$E,5,FALSE)","v":{"$error":"#N/A"}},16]
[null,0,{"$nulls":3},{"$f":"VLOOKUP($A91,Participants!$A:$E,4,FALSE)","v":{"$error":"#N/A"}},{"$f":"VLOOKUP($A91,Participants!$A:$E,2,FALSE)","v":{"$error":"#N/A"}},{"$f":"VLOOKUP($A91,Participants!$A:$E,3,FALSE)","v":{"$error":"#N/A"}},{"$f":"VLOOKUP($A91,Participants!$A:$E,5,FALSE)","v":{"$error":"#N/A"}},16]
[null,0,{"$nulls":3},{"$f":"VLOOKUP($A92,Participants!$A:$E,4,FALSE)","v":{"$error":"#N/A"}},{"$f":"VLOOKUP($A92,Participants!$A:$E,2,FALSE)","v":{"$error":"#N/A"}},{"$f":"VLOOKUP($A92,Participants!$A:$E,3,FALSE)","v":{"$error":"#N/A"}},{"$f":"VLOOKUP($A92,Participants!$A:$E,5,FALSE)","v":{"$error":"#N/A"}},16]
[null,0,{"$nulls":3},{"$f":"VLOOKUP($A93,Participants!$A:$E,4,FALSE)","v":{"$error":"#N/A"}},{"$f":"VLOOKUP($A93,Participants!$A:$E,2,FALSE)","v":{"$error":"#N/A"}},{"$f":"VLOOKUP($A93,Participants!$A:$E,3,FALSE)","v":{"$error":"#N/A"}},{"$f":"VLOOKUP($A93,Participants!$A:$E,5,FALSE)","v":{"$error":"#N/A"}},16]
[null,0,{"$nulls":3},{"$f":"VLOOKUP($A94,Participants!$A:$E,4,FALSE)","v":{"$error":"#N/A"}},{"$f":"VLOOKUP($A94,Participants!$A:$E,2,FALSE)","v":{"$error":"#N/A"}},{"$f":"VLOOKUP($A94,Participants!$A:$E,3,FALSE)","v":{"$error":"#N/A"}},{"$f":"VLOOKUP($A94,Participants!$A:$E,5,FALSE)","v":{"$error":"#N/A"}},16]
[null,0,{"$nulls":3},{"$f":"VLOOKUP($A95,Participants!$A:$E,4,FALSE)","v":{"$error":"#N/A"}},{"$f":"VLOOKUP($A95,Participants!$A:$E,2,FALSE)","v":{"$error":"#N/A"}},{"$f":"VLOOKUP($A95,Participants!$A:$E,3,FALSE)","v":{"$error":"#N/A"}},{"$f":"VLOOKUP($A95,Participants!$A:$E,5,FALSE)","v":{"$error":"#N/A"}},16]
[null,0,{"$nulls":3},{"$f":"VLOOKUP($A96,Participants!$A:$E,4,FALSE)","v":{"$error":"#N/A"}},{"$f":"VLOOKUP($A96,Participants!$A:$E,2,FALSE)","v":{"$error":"#N/A"}},{"$f":"VLOOKUP($A96,Participants!$A:$E,3,FALSE)","v":{"$error":"#N/A"}},{"$f":"VLOOKUP($A96,Participants!$A:$E,5,FALSE)","v":{"$error":"#N/A"}},16]
[null,0,{"$nulls":3},{"$f":"VLOOKUP($A97,Participants!$A:$E,4,FALSE)","v":{"$error":"#N/A"}},{"$f":"VLOOKUP($A97,Participants!$A:$E,2,FALSE)","v":{"$error":"#N/A"}},{"$f":"VLOOKUP($A97,Participants!$A:$E,3,FALSE)","v":{"$error":"#N/A"}},{"$f":"VLOOKUP($A97,Participants!$A:$E,5,FALSE)","v":{"$error":"#N/A"}},16]
[null,0,{"$nulls":3},{"$f":"VLOOKUP($A98,Participants!$A:$E,4,FALSE)","v":{"$error":"#N/A"}},{"$f":"VLOOKUP($A98,Participants!$A:$E,2,FALSE)","v":{"$error":"#N/A"}},{"$f":"VLOOKUP($A98,Participants!$A:$E,3,FALSE)","v":{"$error":"#N/A"}},{"$f":"VLOOKUP($A98,Participants!$A:$E,5,FALSE)","v":{"$error":"#N/A"}},16]
[null,0,{"$nulls":3},{"$f":"VLOOKUP($A99,Participants!$A:$E,4,FALSE)","v":{"$error":"#N/A"}},{"$f":"VLOOKUP($A99,Participants!$A:$E,2,FALSE)","v":{"$error":"#N/A"}},{"$f":"VLOOKUP($A99,Participants!$A:$E,3,FALSE)","v":{"$error":"#N/A"}},{"$f":"VLOOKUP($A99,Participants!$A:$E,5,FALSE)","v":{"$error":"#N/A"}},16]
[null,0,{"$nulls":3},{"$f":"VLOOKUP($A100,Participants!$A:$E,4,FALSE)","v":{"$error":"#N/A"}},{"$f":"VLOOKUP($A100,Participants!$A:$E,2,FALSE)","v":{"$error":"#N/A"}},{"$f":"VLOOKUP($A100,Participants!$A:$E,3,FALSE)","v":{"$error":"#N/A"}},{"$f":"VLOOKUP($A100,Participants!$A:$E,5,FALSE)","v":{"$error":"#N/A"}},16]
[null,0,{"$nulls":3},{"$f":"VLOOKUP($A101,Participants!$A:$E,4,FALSE)","v":{"$error":"#N/A"}},{"$f":"VLOOKUP($A101,Participants!$A:$E,2,FALSE)","v":{"$error":"#N/A"}},{"$f":"VLOOKUP($A101,Participants!$A:$E,3,FALSE)","v":{"$error":"#N/A"}},{"$f":"VLOOKUP($A101,Participants!$A:$E,5,FALSE)","v":{"$error":"#N/A"}},16]

{"sheet":"HighJump 56 Girls","index":50,"n_rows":101,"n_cols":13,"rows_kept":101}
["Bib","Enter Best Only\nEnter 10 ft 3 3/4 in as 1003.75",{"$nulls":3},"Grade","FName","Lname","School","Overall Place",null,null,"Return to Schedule of Events"]
[242,303.002,{"$nulls":3},{"$f":"VLOOKUP($A2,Participants!$A:$E,4,FALSE)","v":5},{"$f":"VLOOKUP($A2,Participants!$A:$E,2,FALSE)","v":"Alexis"},{"$f":"VLOOKUP($A2,Participants!$A:$E,3,FALSE)","v":"Kabat"},{"$f":"VLOOKUP($A2,Participants!$A:$E,5,FALSE)","v":"United We Run"},{"$f":"RANK(B2,$B$1:$B$97,0)","v":4}]
[261,300.002,{"$nulls":3},{"$f":"VLOOKUP($A3,Participants!$A:$E,4,FALSE)","v":5},{"$f":"VLOOKUP($A3,Participants!$A:$E,2,FALSE)","v":"Elianna"},{"$f":"VLOOKUP($A3,Participants!$A:$E,3,FALSE)","v":"Schornak"},{"$f":"VLOOKUP($A3,Participants!$A:$E,5,FALSE)","v":"United We Run"},{"$f":"RANK(B3,$B$1:$B$97,0)","v":7},null,null,"Add or Update Participants"]
[283,306,{"$nulls":3},{"$f":"VLOOKUP($A4,Participants!$A:$E,4,FALSE)","v":6},{"$f":"VLOOKUP($A4,Participants!$A:$E,2,FALSE)","v":"Alexis "},{"$f":"VLOOKUP($A4,Participants!$A:$E,3,FALSE)","v":"Koleszar"},{"$f":"VLOOKUP($A4,Participants!$A:$E,5,FALSE)","v":"St. Barnabas"},3,null,null,"Overall Place and Points"]
[74,402,{"$nulls":3},{"$f":"VLOOKUP($A5,Participants!$A:$E,4,FALSE)","v":6},{"$f":"VLOOKUP($A5,Participants!$A:$E,2,FALSE)","v":"Megan"},{"$f":"VLOOKUP($A5,Participants!$A:$E,3,FALSE)","v":"Lehner"},{"$f":"VLOOKUP($A5,Participants!$A:$E,5,FALSE)","v":"St Jude"},1]
[16,300.002,{"$nulls":3},{"$f":"VLOOKUP($A6,Participants!$A:$E,4,FALSE)","v":5},{"$f":"VLOOKUP($A6,Participants!$A:$E,2,FALSE)","v":"Delanie"},{"$f":"VLOOKUP($A6,Participants!$A:$E,3,FALSE)","v":"Bullock"},{"$f":"VLOOKUP($A6,Participants!$A:$E,5,FALSE)","v":"St Jude"},7]
[103,303.002,{"$nulls":3},{"$f":"VLOOKUP($A7,Participants!$A:$E,4,FALSE)","v":5},{"$f":"VLOOKUP($A7,Participants!$A:$E,2,FALSE)","v":"Nora"},{"$f":"VLOOKUP($A7,Participants!$A:$E,3,FALSE)","v":"Phillips"},{"$f":"VLOOKUP($A7,Participants!$A:$E,5,FALSE)","v":"St Jude"},4]
[68,308,{"$nulls":3},{"$f":"VLOOKUP($A8,Participants!$A:$E,4,FALSE)","v":5},{"$f":"VLOOKUP($A8,Participants!$A:$E,2,FALSE)","v":"Maric"},{"$f":"VLOOKUP($A8,Participants!$A:$E,3,FALSE)","v":"Kramer"},{"$f":"VLOOKUP($A8,Participants!$A:$E,5,FALSE)","v":"St Jude"},2]
[168,303,{"$nulls":3},{"$f":"VLOOKUP($A9,Participants!$A:$E,4,FALSE)","v":6},{"$f":"VLOOKUP($A9,Participants!$A:$E,2,FALSE)","v":"Noel"},{"$f":"VLOOKUP($A9,Participants!$A:$E,3,FALSE)","v":"Eble"},{"$f":"VLOOKUP($A9,Participants!$A:$E,5,FALSE)","v":"SSFC"},6]
[73,300,{"$nulls":3},{"$f":"VLOOKUP($A10,Participants!$A:$E,4,FALSE)","v":5},{"$f":"VLOOKUP($A10,Participants!$A:$E,2,FALSE)","v":"Bridget"},{"$f":"VLOOKUP($A10,Participants!$A:$E,3,FALSE)","v":"Lehner"},{"$f":"VLOOKUP($A10,Participants!$A:$E,5,FALSE)","v":"St Jude"},9]
[137,"no height",{"$nulls":3},{"$f":"VLOOKUP($A11,Participants!$A:$E,4,FALSE)","v":5},{"$f":"VLOOKUP($A11,Participants!$A:$E,2,FALSE)","v":"Elizabeth"},{"$f":"VLOOKUP($A11,Participants!$A:$E,3,FALSE)","v":"Wilson"},{"$f":"VLOOKUP($A11,Participants!$A:$E,5,FALSE)","v":"St Jude"},{"$error":"#VALUE!"}]
[{"$nulls":5},{"$f":"VLOOKUP($A12,Participants!$A:$E,4,FALSE)","v":{"$error":"#N/A"}},{"$f":"VLOOKUP($A12,Participants!$A:$E,2,FALSE)","v":{"$error":"#N/A"}},{"$f":"VLOOKUP($A12,Participants!$A:$E,3,FALSE)","v":{"$error":"#N/A"}},{"$f":"VLOOKUP($A12,Participants!$A:$E,5,FALSE)","v":{"$error":"#N/A"}},{"$error":"#N/A"}]
[{"$nulls":5},{"$f":"VLOOKUP($A13,Participants!$A:$E,4,FALSE)","v":{"$error":"#N/A"}},{"$f":"VLOOKUP($A13,Participants!$A:$E,2,FALSE)","v":{"$error":"#N/A"}},{"$f":"VLOOKUP($A13,Participants!$A:$E,3,FALSE)","v":{"$error":"#N/A"}},{"$f":"VLOOKUP($A13,Participants!$A:$E,5,FALSE)","v":{"$error":"#N/A"}},{"$error":"#N/A"}]
[{"$nulls":5},{"$f":"VLOOKUP($A14,Participants!$A:$E,4,FALSE)","v":{"$error":"#N/A"}},{"$f":"VLOOKUP($A14,Participants!$A:$E,2,FALSE)","v":{"$error":"#N/A"}},{"$f":"VLOOKUP($A14,Participants!$A:$E,3,FALSE)","v":{"$error":"#N/A"}},{"$f":"VLOOKUP($A14,Participants!$A:$E,5,FALSE)","v":{"$error":"#N/A"}},{"$error":"#N/A"}]
[{"$nulls":5},{"$f":"VLOOKUP($A15,Participants!$A:$E,4,FALSE)","v":{"$error":"#N/A"}},{"$f":"VLOOKUP($A15,Participants!$A:$E,2,FALSE)","v":{"$error":"#N/A"}},{"$f":"VLOOKUP($A15,Participants!$A:$E,3,FALSE)","v":{"$error":"#N/A"}},{"$f":"VLOOKUP($A15,Participants!$A:$E,5,FALSE)","v":{"$error":"#N/A"}},{"$error":"#N/A"}]
[{"$nulls":5},{"$f":"VLOOKUP($A16,Participants!$A:$E,4,FALSE)","v":{"$error":"#N/A"}},{"$f":"VLOOKUP($A16,Participants!$A:$E,2,FALSE)","v":{"$error":"#N/A"}},{"$f":"VLOOKUP($A16,Participants!$A:$E,3,FALSE)","v":{"$error":"#N/A"}},{"$f":"VLOOKUP($A16,Participants!$A:$E,5,FALSE)","v":{"$error":"#N/A"}},{"$error":"#N/A"}]
[{"$nulls":5},{"$f":"VLOOKUP($A17,Participants!$A:$E,4,FALSE)","v":{"$error":"#N/A"}},{"$f":"VLOOKUP($A17,Participants!$A:$E,2,FALSE)","v":{"$error":"#N/A"}},{"$f":"VLOOKUP($A17,Participants!$A:$E,3,FALSE)","v":{"$error":"#N/A"}},{"$f":"VLOOKUP($A17,Participants!$A:$E,5,FALSE)","v":{"$error":"#N/A"}},{"$error":"#N/A"}]
[{"$nulls":5},{"$f":"VLOOKUP($A18,Participants!$A:$E,4,FALSE)","v":{"$error":"#N/A"}},{"$f":"VLOOKUP($A18,Participants!$A:$E,2,FALSE)","v":{"$error":"#N/A"}},{"$f":"VLOOKUP($A18,Participants!$A:$E,3,FALSE)","v":{"$error":"#N/A"}},{"$f":"VLOOKUP($A18,Participants!$A:$E,5,FALSE)","v":{"$error":"#N/A"}},{"$error":"#N/A"}]
[{"$nulls":5},{"$f":"VLOOKUP($A19,Participants!$A:$E,4,FALSE)","v":{"$error":"#N/A"}},{"$f":"VLOOKUP($A19,Participants!$A:$E,2,FALSE)","v":{"$error":"#N/A"}},{"$f":"VLOOKUP($A19,Participants!$A:$E,3,FALSE)","v":{"$error":"#N/A"}},{"$f":"VLOOKUP($A19,Participants!$A:$E,5,FALSE)","v":{"$error":"#N/A"}},{"$error":"#N/A"}]
[{"$nulls":5},{"$f":"VLOOKUP($A20,Participants!$A:$E,4,FALSE)","v":{"$error":"#N/A"}},{"$f":"VLOOKUP($A20,Participants!$A:$E,2,FALSE)","v":{"$error":"#N/A"}},{"$f":"VLOOKUP($A20,Participants!$A:$E,3,FALSE)","v":{"$error":"#N/A"}},{"$f":"VLOOKUP($A20,Participants!$A:$E,5,FALSE)","v":{"$error":"#N/A"}},{"$error":"#N/A"}]
[{"$nulls":5},{"$f":"VLOOKUP($A21,Participants!$A:$E,4,FALSE)","v":{"$error":"#N/A"}},{"$f":"VLOOKUP($A21,Participants!$A:$E,2,FALSE)","v":{"$error":"#N/A"}},{"$f":"VLOOKUP($A21,Participants!$A:$E,3,FALSE)","v":{"$error":"#N/A"}},{"$f":"VLOOKUP($A21,Participants!$A:$E,5,FALSE)","v":{"$error":"#N/A"}},{"$error":"#N/A"}]
[{"$nulls":5},{"$f":"VLOOKUP($A22,Participants!$A:$E,4,FALSE)","v":{"$error":"#N/A"}},{"$f":"VLOOKUP($A22,Participants!$A:$E,2,FALSE)","v":{"$error":"#N/A"}},{"$f":"VLOOKUP($A22,Participants!$A:$E,3,FALSE)","v":{"$error":"#N/A"}},{"$f":"VLOOKUP($A22,Participants!$A:$E,5,FALSE)","v":{"$error":"#N/A"}},{"$error":"#N/A"}]
[{"$nulls":5},{"$f":"VLOOKUP($A23,Participants!$A:$E,4,FALSE)","v":{"$error":"#N/A"}},{"$f":"VLOOKUP($A23,Participants!$A:$E,2,FALSE)","v":{"$error":"#N/A"}},{"$f":"VLOOKUP($A23,Participants!$A:$E,3,FALSE)","v":{"$error":"#N/A"}},{"$f":"VLOOKUP($A23,Participants!$A:$E,5,FALSE)","v":{"$error":"#N/A"}},{"$error":"#N/A"}]
[{"$nulls":5},{"$f":"VLOOKUP($A24,Participants!$A:$E,4,FALSE)","v":{"$error":"#N/A"}},{"$f":"VLOOKUP($A24,Participants!$A:$E,2,FALSE)","v":{"$error":"#N/A"}},{"$f":"VLOOKUP($A24,Participants!$A:$E,3,FALSE)","v":{"$error":"#N/A"}},{"$f":"VLOOKUP($A24,Participants!$A:$E,5,FALSE)","v":{"$error":"#N/A"}},{"$error":"#N/A"}]
[{"$nulls":5},{"$f":"VLOOKUP($A25,Participants!$A:$E,4,FALSE)","v":{"$error":"#N/A"}},{"$f":"VLOOKUP($A25,Participants!$A:$E,2,FALSE)","v":{"$error":"#N/A"}},{"$f":"VLOOKUP($A25,Participants!$A:$E,3,FALSE)","v":{"$error":"#N/A"}},{"$f":"VLOOKUP($A25,Participants!$A:$E,5,FALSE)","v":{"$error":"#N/A"}},{"$error":"#N/A"}]
[{"$nulls":5},{"$f":"VLOOKUP($A26,Participants!$A:$E,4,FALSE)","v":{"$error":"#N/A"}},{"$f":"VLOOKUP($A26,Participants!$A:$E,2,FALSE)","v":{"$error":"#N/A"}},{"$f":"VLOOKUP($A26,Participants!$A:$E,3,FALSE)","v":{"$error":"#N/A"}},{"$f":"VLOOKUP($A26,Participants!$A:$E,5,FALSE)","v":{"$error":"#N/A"}},{"$error":"#N/A"}]
[{"$nulls":5},{"$f":"VLOOKUP($A27,Participants!$A:$E,4,FALSE)","v":{"$error":"#N/A"}},{"$f":"VLOOKUP($A27,Participants!$A:$E,2,FALSE)","v":{"$error":"#N/A"}},{"$f":"VLOOKUP($A27,Participants!$A:$E,3,FALSE)","v":{"$error":"#N/A"}},{"$f":"VLOOKUP($A27,Participants!$A:$E,5,FALSE)","v":{"$error":"#N/A"}},{"$error":"#N/A"}]
[{"$nulls":5},{"$f":"VLOOKUP($A28,Participants!$A:$E,4,FALSE)","v":{"$error":"#N/A"}},{"$f":"VLOOKUP($A28,Participants!$A:$E,2,FALSE)","v":{"$error":"#N/A"}},{"$f":"VLOOKUP($A28,Participants!$A:$E,3,FALSE)","v":{"$error":"#N/A"}},{"$f":"VLOOKUP($A28,Participants!$A:$E,5,FALSE)","v":{"$error":"#N/A"}},{"$error":"#N/A"}]
[{"$nulls":5},{"$f":"VLOOKUP($A29,Participants!$A:$E,4,FALSE)","v":{"$error":"#N/A"}},{"$f":"VLOOKUP($A29,Participants!$A:$E,2,FALSE)","v":{"$error":"#N/A"}},{"$f":"VLOOKUP($A29,Participants!$A:$E,3,FALSE)","v":{"$error":"#N/A"}},{"$f":"VLOOKUP($A29,Participants!$A:$E,5,FALSE)","v":{"$error":"#N/A"}},{"$error":"#N/A"}]
[{"$nulls":5},{"$f":"VLOOKUP($A30,Participants!$A:$E,4,FALSE)","v":{"$error":"#N/A"}},{"$f":"VLOOKUP($A30,Participants!$A:$E,2,FALSE)","v":{"$error":"#N/A"}},{"$f":"VLOOKUP($A30,Participants!$A:$E,3,FALSE)","v":{"$error":"#N/A"}},{"$f":"VLOOKUP($A30,Participants!$A:$E,5,FALSE)","v":{"$error":"#N/A"}},{"$error":"#N/A"}]
[{"$nulls":5},{"$f":"VLOOKUP($A31,Participants!$A:$E,4,FALSE)","v":{"$error":"#N/A"}},{"$f":"VLOOKUP($A31,Participants!$A:$E,2,FALSE)","v":{"$error":"#N/A"}},{"$f":"VLOOKUP($A31,Participants!$A:$E,3,FALSE)","v":{"$error":"#N/A"}},{"$f":"VLOOKUP($A31,Participants!$A:$E,5,FALSE)","v":{"$error":"#N/A"}},{"$error":"#N/A"}]
[{"$nulls":5},{"$f":"VLOOKUP($A32,Participants!$A:$E,4,FALSE)","v":{"$error":"#N/A"}},{"$f":"VLOOKUP($A32,Participants!$A:$E,2,FALSE)","v":{"$error":"#N/A"}},{"$f":"VLOOKUP($A32,Participants!$A:$E,3,FALSE)","v":{"$error":"#N/A"}},{"$f":"VLOOKUP($A32,Participants!$A:$E,5,FALSE)","v":{"$error":"#N/A"}},{"$error":"#N/A"}]
[{"$nulls":5},{"$f":"VLOOKUP($A33,Participants!$A:$E,4,FALSE)","v":{"$error":"#N/A"}},{"$f":"VLOOKUP($A33,Participants!$A:$E,2,FALSE)","v":{"$error":"#N/A"}},{"$f":"VLOOKUP($A33,Participants!$A:$E,3,FALSE)","v":{"$error":"#N/A"}},{"$f":"VLOOKUP($A33,Participants!$A:$E,5,FALSE)","v":{"$error":"#N/A"}},{"$error":"#N/A"}]
[{"$nulls":5},{"$f":"VLOOKUP($A34,Participants!$A:$E,4,FALSE)","v":{"$error":"#N/A"}},{"$f":"VLOOKUP($A34,Participants!$A:$E,2,FALSE)","v":{"$error":"#N/A"}},{"$f":"VLOOKUP($A34,Participants!$A:$E,3,FALSE)","v":{"$error":"#N/A"}},{"$f":"VLOOKUP($A34,Participants!$A:$E,5,FALSE)","v":{"$error":"#N/A"}},{"$error":"#N/A"}]
[{"$nulls":5},{"$f":"VLOOKUP($A35,Participants!$A:$E,4,FALSE)","v":{"$error":"#N/A"}},{"$f":"VLOOKUP($A35,Participants!$A:$E,2,FALSE)","v":{"$error":"#N/A"}},{"$f":"VLOOKUP($A35,Participants!$A:$E,3,FALSE)","v":{"$error":"#N/A"}},{"$f":"VLOOKUP($A35,Participants!$A:$E,5,FALSE)","v":{"$error":"#N/A"}},{"$error":"#N/A"}]
[{"$nulls":5},{"$f":"VLOOKUP($A36,Participants!$A:$E,4,FALSE)","v":{"$error":"#N/A"}},{"$f":"VLOOKUP($A36,Participants!$A:$E,2,FALSE)","v":{"$error":"#N/A"}},{"$f":"VLOOKUP($A36,Participants!$A:$E,3,FALSE)","v":{"$error":"#N/A"}},{"$f":"VLOOKUP($A36,Participants!$A:$E,5,FALSE)","v":{"$error":"#N/A"}},{"$error":"#N/A"}]
[{"$nulls":5},{"$f":"VLOOKUP($A37,Participants!$A:$E,4,FALSE)","v":{"$error":"#N/A"}},{"$f":"VLOOKUP($A37,Participants!$A:$E,2,FALSE)","v":{"$error":"#N/A"}},{"$f":"VLOOKUP($A37,Participants!$A:$E,3,FALSE)","v":{"$error":"#N/A"}},{"$f":"VLOOKUP($A37,Participants!$A:$E,5,FALSE)","v":{"$error":"#N/A"}},{"$error":"#N/A"}]
[{"$nulls":5},{"$f":"VLOOKUP($A38,Participants!$A:$E,4,FALSE)","v":{"$error":"#N/A"}},{"$f":"VLOOKUP($A38,Participants!$A:$E,2,FALSE)","v":{"$error":"#N/A"}},{"$f":"VLOOKUP($A38,Participants!$A:$E,3,FALSE)","v":{"$error":"#N/A"}},{"$f":"VLOOKUP($A38,Participants!$A:$E,5,FALSE)","v":{"$error":"#N/A"}},{"$error":"#N/A"}]
[{"$nulls":5},{"$f":"VLOOKUP($A39,Participants!$A:$E,4,FALSE)","v":{"$error":"#N/A"}},{"$f":"VLOOKUP($A39,Participants!$A:$E,2,FALSE)","v":{"$error":"#N/A"}},{"$f":"VLOOKUP($A39,Participants!$A:$E,3,FALSE)","v":{"$error":"#N/A"}},{"$f":"VLOOKUP($A39,Participants!$A:$E,5,FALSE)","v":{"$error":"#N/A"}},{"$error":"#N/A"}]
[{"$nulls":5},{"$f":"VLOOKUP($A40,Participants!$A:$E,4,FALSE)","v":{"$error":"#N/A"}},{"$f":"VLOOKUP($A40,Participants!$A:$E,2,FALSE)","v":{"$error":"#N/A"}},{"$f":"VLOOKUP($A40,Participants!$A:$E,3,FALSE)","v":{"$error":"#N/A"}},{"$f":"VLOOKUP($A40,Participants!$A:$E,5,FALSE)","v":{"$error":"#N/A"}},{"$error":"#N/A"}]
[{"$nulls":5},{"$f":"VLOOKUP($A41,Participants!$A:$E,4,FALSE)","v":{"$error":"#N/A"}},{"$f":"VLOOKUP($A41,Participants!$A:$E,2,FALSE)","v":{"$error":"#N/A"}},{"$f":"VLOOKUP($A41,Participants!$A:$E,3,FALSE)","v":{"$error":"#N/A"}},{"$f":"VLOOKUP($A41,Participants!$A:$E,5,FALSE)","v":{"$error":"#N/A"}},{"$error":"#N/A"}]
[{"$nulls":5},{"$f":"VLOOKUP($A42,Participants!$A:$E,4,FALSE)","v":{"$error":"#N/A"}},{"$f":"VLOOKUP($A42,Participants!$A:$E,2,FALSE)","v":{"$error":"#N/A"}},{"$f":"VLOOKUP($A42,Participants!$A:$E,3,FALSE)","v":{"$error":"#N/A"}},{"$f":"VLOOKUP($A42,Participants!$A:$E,5,FALSE)","v":{"$error":"#N/A"}},{"$error":"#N/A"}]
[{"$nulls":5},{"$f":"VLOOKUP($A43,Participants!$A:$E,4,FALSE)","v":{"$error":"#N/A"}},{"$f":"VLOOKUP($A43,Participants!$A:$E,2,FALSE)","v":{"$error":"#N/A"}},{"$f":"VLOOKUP($A43,Participants!$A:$E,3,FALSE)","v":{"$error":"#N/A"}},{"$f":"VLOOKUP($A43,Participants!$A:$E,5,FALSE)","v":{"$error":"#N/A"}},{"$error":"#N/A"}]
[{"$nulls":5},{"$f":"VLOOKUP($A44,Participants!$A:$E,4,FALSE)","v":{"$error":"#N/A"}},{"$f":"VLOOKUP($A44,Participants!$A:$E,2,FALSE)","v":{"$error":"#N/A"}},{"$f":"VLOOKUP($A44,Participants!$A:$E,3,FALSE)","v":{"$error":"#N/A"}},{"$f":"VLOOKUP($A44,Participants!$A:$E,5,FALSE)","v":{"$error":"#N/A"}},{"$error":"#N/A"}]
[{"$nulls":5},{"$f":"VLOOKUP($A45,Participants!$A:$E,4,FALSE)","v":{"$error":"#N/A"}},{"$f":"VLOOKUP($A45,Participants!$A:$E,2,FALSE)","v":{"$error":"#N/A"}},{"$f":"VLOOKUP($A45,Participants!$A:$E,3,FALSE)","v":{"$error":"#N/A"}},{"$f":"VLOOKUP($A45,Participants!$A:$E,5,FALSE)","v":{"$error":"#N/A"}},{"$error":"#N/A"}]
[{"$nulls":5},{"$f":"VLOOKUP($A46,Participants!$A:$E,4,FALSE)","v":{"$error":"#N/A"}},{"$f":"VLOOKUP($A46,Participants!$A:$E,2,FALSE)","v":{"$error":"#N/A"}},{"$f":"VLOOKUP($A46,Participants!$A:$E,3,FALSE)","v":{"$error":"#N/A"}},{"$f":"VLOOKUP($A46,Participants!$A:$E,5,FALSE)","v":{"$error":"#N/A"}},{"$error":"#N/A"}]
[{"$nulls":5},{"$f":"VLOOKUP($A47,Participants!$A:$E,4,FALSE)","v":{"$error":"#N/A"}},{"$f":"VLOOKUP($A47,Participants!$A:$E,2,FALSE)","v":{"$error":"#N/A"}},{"$f":"VLOOKUP($A47,Participants!$A:$E,3,FALSE)","v":{"$error":"#N/A"}},{"$f":"VLOOKUP($A47,Participants!$A:$E,5,FALSE)","v":{"$error":"#N/A"}},{"$error":"#N/A"}]
[{"$nulls":5},{"$f":"VLOOKUP($A48,Participants!$A:$E,4,FALSE)","v":{"$error":"#N/A"}},{"$f":"VLOOKUP($A48,Participants!$A:$E,2,FALSE)","v":{"$error":"#N/A"}},{"$f":"VLOOKUP($A48,Participants!$A:$E,3,FALSE)","v":{"$error":"#N/A"}},{"$f":"VLOOKUP($A48,Participants!$A:$E,5,FALSE)","v":{"$error":"#N/A"}},{"$error":"#N/A"}]
[{"$nulls":5},{"$f":"VLOOKUP($A49,Participants!$A:$E,4,FALSE)","v":{"$error":"#N/A"}},{"$f":"VLOOKUP($A49,Participants!$A:$E,2,FALSE)","v":{"$error":"#N/A"}},{"$f":"VLOOKUP($A49,Participants!$A:$E,3,FALSE)","v":{"$error":"#N/A"}},{"$f":"VLOOKUP($A49,Participants!$A:$E,5,FALSE)","v":{"$error":"#N/A"}},{"$error":"#N/A"}]
[{"$nulls":5},{"$f":"VLOOKUP($A50,Participants!$A:$E,4,FALSE)","v":{"$error":"#N/A"}},{"$f":"VLOOKUP($A50,Participants!$A:$E,2,FALSE)","v":{"$error":"#N/A"}},{"$f":"VLOOKUP($A50,Participants!$A:$E,3,FALSE)","v":{"$error":"#N/A"}},{"$f":"VLOOKUP($A50,Participants!$A:$E,5,FALSE)","v":{"$error":"#N/A"}},{"$error":"#N/A"}]
[{"$nulls":5},{"$f":"VLOOKUP($A51,Participants!$A:$E,4,FALSE)","v":{"$error":"#N/A"}},{"$f":"VLOOKUP($A51,Participants!$A:$E,2,FALSE)","v":{"$error":"#N/A"}},{"$f":"VLOOKUP($A51,Participants!$A:$E,3,FALSE)","v":{"$error":"#N/A"}},{"$f":"VLOOKUP($A51,Participants!$A:$E,5,FALSE)","v":{"$error":"#N/A"}},{"$error":"#N/A"}]
[{"$nulls":5},{"$f":"VLOOKUP($A52,Participants!$A:$E,4,FALSE)","v":{"$error":"#N/A"}},{"$f":"VLOOKUP($A52,Participants!$A:$E,2,FALSE)","v":{"$error":"#N/A"}},{"$f":"VLOOKUP($A52,Participants!$A:$E,3,FALSE)","v":{"$error":"#N/A"}},{"$f":"VLOOKUP($A52,Participants!$A:$E,5,FALSE)","v":{"$error":"#N/A"}},{"$error":"#N/A"}]
[{"$nulls":5},{"$f":"VLOOKUP($A53,Participants!$A:$E,4,FALSE)","v":{"$error":"#N/A"}},{"$f":"VLOOKUP($A53,Participants!$A:$E,2,FALSE)","v":{"$error":"#N/A"}},{"$f":"VLOOKUP($A53,Participants!$A:$E,3,FALSE)","v":{"$error":"#N/A"}},{"$f":"VLOOKUP($A53,Participants!$A:$E,5,FALSE)","v":{"$error":"#N/A"}},{"$error":"#N/A"}]
[{"$nulls":5},{"$f":"VLOOKUP($A54,Participants!$A:$E,4,FALSE)","v":{"$error":"#N/A"}},{"$f":"VLOOKUP($A54,Participants!$A:$E,2,FALSE)","v":{"$error":"#N/A"}},{"$f":"VLOOKUP($A54,Participants!$A:$E,3,FALSE)","v":{"$error":"#N/A"}},{"$f":"VLOOKUP($A54,Participants!$A:$E,5,FALSE)","v":{"$error":"#N/A"}},{"$error":"#N/A"}]
[{"$nulls":5},{"$f":"VLOOKUP($A55,Participants!$A:$E,4,FALSE)","v":{"$error":"#N/A"}},{"$f":"VLOOKUP($A55,Participants!$A:$E,2,FALSE)","v":{"$error":"#N/A"}},{"$f":"VLOOKUP($A55,Participants!$A:$E,3,FALSE)","v":{"$error":"#N/A"}},{"$f":"VLOOKUP($A55,Participants!$A:$E,5,FALSE)","v":{"$error":"#N/A"}},{"$error":"#N/A"}]
[{"$nulls":5},{"$f":"VLOOKUP($A56,Participants!$A:$E,4,FALSE)","v":{"$error":"#N/A"}},{"$f":"VLOOKUP($A56,Participants!$A:$E,2,FALSE)","v":{"$error":"#N/A"}},{"$f":"VLOOKUP($A56,Participants!$A:$E,3,FALSE)","v":{"$error":"#N/A"}},{"$f":"VLOOKUP($A56,Participants!$A:$E,5,FALSE)","v":{"$error":"#N/A"}},{"$error":"#N/A"}]
[{"$nulls":5},{"$f":"VLOOKUP($A57,Participants!$A:$E,4,FALSE)","v":{"$error":"#N/A"}},{"$f":"VLOOKUP($A57,Participants!$A:$E,2,FALSE)","v":{"$error":"#N/A"}},{"$f":"VLOOKUP($A57,Participants!$A:$E,3,FALSE)","v":{"$error":"#N/A"}},{"$f":"VLOOKUP($A57,Participants!$A:$E,5,FALSE)","v":{"$error":"#N/A"}},{"$error":"#N/A"}]
[{"$nulls":5},{"$f":"VLOOKUP($A58,Participants!$A:$E,4,FALSE)","v":{"$error":"#N/A"}},{"$f":"VLOOKUP($A58,Participants!$A:$E,2,FALSE)","v":{"$error":"#N/A"}},{"$f":"VLOOKUP($A58,Participants!$A:$E,3,FALSE)","v":{"$error":"#N/A"}},{"$f":"VLOOKUP($A58,Participants!$A:$E,5,FALSE)","v":{"$error":"#N/A"}},{"$error":"#N/A"}]
[{"$nulls":5},{"$f":"VLOOKUP($A59,Participants!$A:$E,4,FALSE)","v":{"$error":"#N/A"}},{"$f":"VLOOKUP($A59,Participants!$A:$E,2,FALSE)","v":{"$error":"#N/A"}},{"$f":"VLOOKUP($A59,Participants!$A:$E,3,FALSE)","v":{"$error":"#N/A"}},{"$f":"VLOOKUP($A59,Participants!$A:$E,5,FALSE)","v":{"$error":"#N/A"}},{"$error":"#N/A"}]
[{"$nulls":5},{"$f":"VLOOKUP($A60,Participants!$A:$E,4,FALSE)","v":{"$error":"#N/A"}},{"$f":"VLOOKUP($A60,Participants!$A:$E,2,FALSE)","v":{"$error":"#N/A"}},{"$f":"VLOOKUP($A60,Participants!$A:$E,3,FALSE)","v":{"$error":"#N/A"}},{"$f":"VLOOKUP($A60,Participants!$A:$E,5,FALSE)","v":{"$error":"#N/A"}},{"$error":"#N/A"}]
[{"$nulls":5},{"$f":"VLOOKUP($A61,Participants!$A:$E,4,FALSE)","v":{"$error":"#N/A"}},{"$f":"VLOOKUP($A61,Participants!$A:$E,2,FALSE)","v":{"$error":"#N/A"}},{"$f":"VLOOKUP($A61,Participants!$A:$E,3,FALSE)","v":{"$error":"#N/A"}},{"$f":"VLOOKUP($A61,Participants!$A:$E,5,FALSE)","v":{"$error":"#N/A"}},{"$error":"#N/A"}]
[{"$nulls":5},{"$f":"VLOOKUP($A62,Participants!$A:$E,4,FALSE)","v":{"$error":"#N/A"}},{"$f":"VLOOKUP($A62,Participants!$A:$E,2,FALSE)","v":{"$error":"#N/A"}},{"$f":"VLOOKUP($A62,Participants!$A:$E,3,FALSE)","v":{"$error":"#N/A"}},{"$f":"VLOOKUP($A62,Participants!$A:$E,5,FALSE)","v":{"$error":"#N/A"}},{"$error":"#N/A"}]
[{"$nulls":5},{"$f":"VLOOKUP($A63,Participants!$A:$E,4,FALSE)","v":{"$error":"#N/A"}},{"$f":"VLOOKUP($A63,Participants!$A:$E,2,FALSE)","v":{"$error":"#N/A"}},{"$f":"VLOOKUP($A63,Participants!$A:$E,3,FALSE)","v":{"$error":"#N/A"}},{"$f":"VLOOKUP($A63,Participants!$A:$E,5,FALSE)","v":{"$error":"#N/A"}},{"$error":"#N/A"}]
[{"$nulls":5},{"$f":"VLOOKUP($A64,Participants!$A:$E,4,FALSE)","v":{"$error":"#N/A"}},{"$f":"VLOOKUP($A64,Participants!$A:$E,2,FALSE)","v":{"$error":"#N/A"}},{"$f":"VLOOKUP($A64,Participants!$A:$E,3,FALSE)","v":{"$error":"#N/A"}},{"$f":"VLOOKUP($A64,Participants!$A:$E,5,FALSE)","v":{"$error":"#N/A"}},{"$error":"#N/A"}]
[{"$nulls":5},{"$f":"VLOOKUP($A65,Participants!$A:$E,4,FALSE)","v":{"$error":"#N/A"}},{"$f":"VLOOKUP($A65,Participants!$A:$E,2,FALSE)","v":{"$error":"#N/A"}},{"$f":"VLOOKUP($A65,Participants!$A:$E,3,FALSE)","v":{"$error":"#N/A"}},{"$f":"VLOOKUP($A65,Participants!$A:$E,5,FALSE)","v":{"$error":"#N/A"}},{"$error":"#N/A"}]
[{"$nulls":5},{"$f":"VLOOKUP($A66,Participants!$A:$E,4,FALSE)","v":{"$error":"#N/A"}},{"$f":"VLOOKUP($A66,Participants!$A:$E,2,FALSE)","v":{"$error":"#N/A"}},{"$f":"VLOOKUP($A66,Participants!$A:$E,3,FALSE)","v":{"$error":"#N/A"}},{"$f":"VLOOKUP($A66,Participants!$A:$E,5,FALSE)","v":{"$error":"#N/A"}},{"$error":"#N/A"}]
[{"$nulls":5},{"$f":"VLOOKUP($A67,Participants!$A:$E,4,FALSE)","v":{"$error":"#N/A"}},{"$f":"VLOOKUP($A67,Participants!$A:$E,2,FALSE)","v":{"$error":"#N/A"}},{"$f":"VLOOKUP($A67,Participants!$A:$E,3,FALSE)","v":{"$error":"#N/A"}},{"$f":"VLOOKUP($A67,Participants!$A:$E,5,FALSE)","v":{"$error":"#N/A"}},{"$f":"RANK(B67,$B$1:$B$97,0)","v":{"$error":"#N/A"}}]
[{"$nulls":5},{"$f":"VLOOKUP($A68,Participants!$A:$E,4,FALSE)","v":{"$error":"#N/A"}},{"$f":"VLOOKUP($A68,Participants!$A:$E,2,FALSE)","v":{"$error":"#N/A"}},{"$f":"VLOOKUP($A68,Participants!$A:$E,3,FALSE)","v":{"$error":"#N/A"}},{"$f":"VLOOKUP($A68,Participants!$A:$E,5,FALSE)","v":{"$error":"#N/A"}},{"$error":"#N/A"}]
[{"$nulls":5},{"$f":"VLOOKUP($A69,Participants!$A:$E,4,FALSE)","v":{"$error":"#N/A"}},{"$f":"VLOOKUP($A69,Participants!$A:$E,2,FALSE)","v":{"$error":"#N/A"}},{"$f":"VLOOKUP($A69,Participants!$A:$E,3,FALSE)","v":{"$error":"#N/A"}},{"$f":"VLOOKUP($A69,Participants!$A:$E,5,FALSE)","v":{"$error":"#N/A"}},{"$error":"#N/A"}]
[{"$nulls":5},{"$f":"VLOOKUP($A70,Participants!$A:$E,4,FALSE)","v":{"$error":"#N/A"}},{"$f":"VLOOKUP($A70,Participants!$A:$E,2,FALSE)","v":{"$error":"#N/A"}},{"$f":"VLOOKUP($A70,Participants!$A:$E,3,FALSE)","v":{"$error":"#N/A"}},{"$f":"VLOOKUP($A70,Participants!$A:$E,5,FALSE)","v":{"$error":"#N/A"}},{"$error":"#N/A"}]
[{"$nulls":5},{"$f":"VLOOKUP($A71,Participants!$A:$E,4,FALSE)","v":{"$error":"#N/A"}},{"$f":"VLOOKUP($A71,Participants!$A:$E,2,FALSE)","v":{"$error":"#N/A"}},{"$f":"VLOOKUP($A71,Participants!$A:$E,3,FALSE)","v":{"$error":"#N/A"}},{"$f":"VLOOKUP($A71,Participants!$A:$E,5,FALSE)","v":{"$error":"#N/A"}},{"$error":"#N/A"}]
[{"$nulls":5},{"$f":"VLOOKUP($A72,Participants!$A:$E,4,FALSE)","v":{"$error":"#N/A"}},{"$f":"VLOOKUP($A72,Participants!$A:$E,2,FALSE)","v":{"$error":"#N/A"}},{"$f":"VLOOKUP($A72,Participants!$A:$E,3,FALSE)","v":{"$error":"#N/A"}},{"$f":"VLOOKUP($A72,Participants!$A:$E,5,FALSE)","v":{"$error":"#N/A"}},{"$error":"#N/A"}]
[{"$nulls":5},{"$f":"VLOOKUP($A73,Participants!$A:$E,4,FALSE)","v":{"$error":"#N/A"}},{"$f":"VLOOKUP($A73,Participants!$A:$E,2,FALSE)","v":{"$error":"#N/A"}},{"$f":"VLOOKUP($A73,Participants!$A:$E,3,FALSE)","v":{"$error":"#N/A"}},{"$f":"VLOOKUP($A73,Participants!$A:$E,5,FALSE)","v":{"$error":"#N/A"}},{"$error":"#N/A"}]
[{"$nulls":5},{"$f":"VLOOKUP($A74,Participants!$A:$E,4,FALSE)","v":{"$error":"#N/A"}},{"$f":"VLOOKUP($A74,Participants!$A:$E,2,FALSE)","v":{"$error":"#N/A"}},{"$f":"VLOOKUP($A74,Participants!$A:$E,3,FALSE)","v":{"$error":"#N/A"}},{"$f":"VLOOKUP($A74,Participants!$A:$E,5,FALSE)","v":{"$error":"#N/A"}},{"$error":"#N/A"}]
[{"$nulls":5},{"$f":"VLOOKUP($A75,Participants!$A:$E,4,FALSE)","v":{"$error":"#N/A"}},{"$f":"VLOOKUP($A75,Participants!$A:$E,2,FALSE)","v":{"$error":"#N/A"}},{"$f":"VLOOKUP($A75,Participants!$A:$E,3,FALSE)","v":{"$error":"#N/A"}},{"$f":"VLOOKUP($A75,Participants!$A:$E,5,FALSE)","v":{"$error":"#N/A"}},{"$error":"#N/A"}]
[{"$nulls":5},{"$f":"VLOOKUP($A76,Participants!$A:$E,4,FALSE)","v":{"$error":"#N/A"}},{"$f":"VLOOKUP($A76,Participants!$A:$E,2,FALSE)","v":{"$error":"#N/A"}},{"$f":"VLOOKUP($A76,Participants!$A:$E,3,FALSE)","v":{"$error":"#N/A"}},{"$f":"VLOOKUP($A76,Participants!$A:$E,5,FALSE)","v":{"$error":"#N/A"}},{"$error":"#N/A"}]
[{"$nulls":5},{"$f":"VLOOKUP($A77,Participants!$A:$E,4,FALSE)","v":{"$error":"#N/A"}},{"$f":"VLOOKUP($A77,Participants!$A:$E,2,FALSE)","v":{"$error":"#N/A"}},{"$f":"VLOOKUP($A77,Participants!$A:$E,3,FALSE)","v":{"$error":"#N/A"}},{"$f":"VLOOKUP($A77,Participants!$A:$E,5,FALSE)","v":{"$error":"#N/A"}},{"$error":"#N/A"}]
[{"$nulls":5},{"$f":"VLOOKUP($A78,Participants!$A:$E,4,FALSE)","v":{"$error":"#N/A"}},{"$f":"VLOOKUP($A78,Participants!$A:$E,2,FALSE)","v":{"$error":"#N/A"}},{"$f":"VLOOKUP($A78,Participants!$A:$E,3,FALSE)","v":{"$error":"#N/A"}},{"$f":"VLOOKUP($A78,Participants!$A:$E,5,FALSE)","v":{"$error":"#N/A"}},{"$error":"#N/A"}]
[{"$nulls":5},{"$f":"VLOOKUP($A79,Participants!$A:$E,4,FALSE)","v":{"$error":"#N/A"}},{"$f":"VLOOKUP($A79,Participants!$A:$E,2,FALSE)","v":{"$error":"#N/A"}},{"$f":"VLOOKUP($A79,Participants!$A:$E,3,FALSE)","v":{"$error":"#N/A"}},{"$f":"VLOOKUP($A79,Participants!$A:$E,5,FALSE)","v":{"$error":"#N/A"}},{"$error":"#N/A"}]
[{"$nulls":5},{"$f":"VLOOKUP($A80,Participants!$A:$E,4,FALSE)","v":{"$error":"#N/A"}},{"$f":"VLOOKUP($A80,Participants!$A:$E,2,FALSE)","v":{"$error":"#N/A"}},{"$f":"VLOOKUP($A80,Participants!$A:$E,3,FALSE)","v":{"$error":"#N/A"}},{"$f":"VLOOKUP($A80,Participants!$A:$E,5,FALSE)","v":{"$error":"#N/A"}},{"$error":"#N/A"}]
[{"$nulls":5},{"$f":"VLOOKUP($A81,Participants!$A:$E,4,FALSE)","v":{"$error":"#N/A"}},{"$f":"VLOOKUP($A81,Participants!$A:$E,2,FALSE)","v":{"$error":"#N/A"}},{"$f":"VLOOKUP($A81,Participants!$A:$E,3,FALSE)","v":{"$error":"#N/A"}},{"$f":"VLOOKUP($A81,Participants!$A:$E,5,FALSE)","v":{"$error":"#N/A"}},{"$error":"#N/A"}]
[{"$nulls":5},{"$f":"VLOOKUP($A82,Participants!$A:$E,4,FALSE)","v":{"$error":"#N/A"}},{"$f":"VLOOKUP($A82,Participants!$A:$E,2,FALSE)","v":{"$error":"#N/A"}},{"$f":"VLOOKUP($A82,Participants!$A:$E,3,FALSE)","v":{"$error":"#N/A"}},{"$f":"VLOOKUP($A82,Participants!$A:$E,5,FALSE)","v":{"$error":"#N/A"}},{"$error":"#N/A"}]
[{"$nulls":5},{"$f":"VLOOKUP($A83,Participants!$A:$E,4,FALSE)","v":{"$error":"#N/A"}},{"$f":"VLOOKUP($A83,Participants!$A:$E,2,FALSE)","v":{"$error":"#N/A"}},{"$f":"VLOOKUP($A83,Participants!$A:$E,3,FALSE)","v":{"$error":"#N/A"}},{"$f":"VLOOKUP($A83,Participants!$A:$E,5,FALSE)","v":{"$error":"#N/A"}},{"$error":"#N/A"}]
[{"$nulls":5},{"$f":"VLOOKUP($A84,Participants!$A:$E,4,FALSE)","v":{"$error":"#N/A"}},{"$f":"VLOOKUP($A84,Participants!$A:$E,2,FALSE)","v":{"$error":"#N/A"}},{"$f":"VLOOKUP($A84,Participants!$A:$E,3,FALSE)","v":{"$error":"#N/A"}},{"$f":"VLOOKUP($A84,Participants!$A:$E,5,FALSE)","v":{"$error":"#N/A"}},{"$error":"#N/A"}]
[{"$nulls":5},{"$f":"VLOOKUP($A85,Participants!$A:$E,4,FALSE)","v":{"$error":"#N/A"}},{"$f":"VLOOKUP($A85,Participants!$A:$E,2,FALSE)","v":{"$error":"#N/A"}},{"$f":"VLOOKUP($A85,Participants!$A:$E,3,FALSE)","v":{"$error":"#N/A"}},{"$f":"VLOOKUP($A85,Participants!$A:$E,5,FALSE)","v":{"$error":"#N/A"}},{"$error":"#N/A"}]
[{"$nulls":5},{"$f":"VLOOKUP($A86,Participants!$A:$E,4,FALSE)","v":{"$error":"#N/A"}},{"$f":"VLOOKUP($A86,Participants!$A:$E,2,FALSE)","v":{"$error":"#N/A"}},{"$f":"VLOOKUP($A86,Participants!$A:$E,3,FALSE)","v":{"$error":"#N/A"}},{"$f":"VLOOKUP($A86,Participants!$A:$E,5,FALSE)","v":{"$error":"#N/A"}},{"$error":"#N/A"}]
[{"$nulls":5},{"$f":"VLOOKUP($A87,Participants!$A:$E,4,FALSE)","v":{"$error":"#N/A"}},{"$f":"VLOOKUP($A87,Participants!$A:$E,2,FALSE)","v":{"$error":"#N/A"}},{"$f":"VLOOKUP($A87,Participants!$A:$E,3,FALSE)","v":{"$error":"#N/A"}},{"$f":"VLOOKUP($A87,Participants!$A:$E,5,FALSE)","v":{"$error":"#N/A"}},{"$error":"#N/A"}]
[{"$nulls":5},{"$f":"VLOOKUP($A88,Participants!$A:$E,4,FALSE)","v":{"$error":"#N/A"}},{"$f":"VLOOKUP($A88,Participants!$A:$E,2,FALSE)","v":{"$error":"#N/A"}},{"$f":"VLOOKUP($A88,Participants!$A:$E,3,FALSE)","v":{"$error":"#N/A"}},{"$f":"VLOOKUP($A88,Participants!$A:$E,5,FALSE)","v":{"$error":"#N/A"}},{"$error":"#N/A"}]
[{"$nulls":5},{"$f":"VLOOKUP($A89,Participants!$A:$E,4,FALSE)","v":{"$error":"#N/A"}},{"$f":"VLOOKUP($A89,Participants!$A:$E,2,FALSE)","v":{"$error":"#N/A"}},{"$f":"VLOOKUP($A89,Participants!$A:$E,3,FALSE)","v":{"$error":"#N/A"}},{"$f":"VLOOKUP($A89,Participants!$A:$E,5,FALSE)","v":{"$error":"#N/A"}},{"$error":"#N/A"}]
[{"$nulls":5},{"$f":"VLOOKUP($A90,Participants!$A:$E,4,FALSE)","v":{"$error":"#N/A"}},{"$f":"VLOOKUP($A90,Participants!$A:$E,2,FALSE)","v":{"$error":"#N/A"}},{"$f":"VLOOKUP($A90,Participants!$A:$E,3,FALSE)","v":{"$error":"#N/A"}},{"$f":"VLOOKUP($A90,Participants!$A:$E,5,FALSE)","v":{"$error":"#N/A"}},{"$error":"#N/A"}]
[{"$nulls":5},{"$f":"VLOOKUP($A91,Participants!$A:$E,4,FALSE)","v":{"$error":"#N/A"}},{"$f":"VLOOKUP($A91,Participants!$A:$E,2,FALSE)","v":{"$error":"#N/A"}},{"$f":"VLOOKUP($A91,Participants!$A:$E,3,FALSE)","v":{"$error":"#N/A"}},{"$f":"VLOOKUP($A91,Participants!$A:$E,5,FALSE)","v":{"$error":"#N/A"}},{"$error":"#N/A"}]
[{"$nulls":5},{"$f":"VLOOKUP($A92,Participants!$A:$E,4,FALSE)","v":{"$error":"#N/A"}},{"$f":"VLOOKUP($A92,Participants!$A:$E,2,FALSE)","v":{"$error":"#N/A"}},{"$f":"VLOOKUP($A92,Participants!$A:$E,3,FALSE)","v":{"$error":"#N/A"}},{"$f":"VLOOKUP($A92,Participants!$A:$E,5,FALSE)","v":{"$error":"#N/A"}},{"$error":"#N/A"}]
[{"$nulls":5},{"$f":"VLOOKUP($A93,Participants!$A:$E,4,FALSE)","v":{"$error":"#N/A"}},{"$f":"VLOOKUP($A93,Participants!$A:$E,2,FALSE)","v":{"$error":"#N/A"}},{"$f":"VLOOKUP($A93,Participants!$A:$E,3,FALSE)","v":{"$error":"#N/A"}},{"$f":"VLOOKUP($A93,Participants!$A:$E,5,FALSE)","v":{"$error":"#N/A"}},{"$error":"#N/A"}]
[{"$nulls":5},{"$f":"VLOOKUP($A94,Participants!$A:$E,4,FALSE)","v":{"$error":"#N/A"}},{"$f":"VLOOKUP($A94,Participants!$A:$E,2,FALSE)","v":{"$error":"#N/A"}},{"$f":"VLOOKUP($A94,Participants!$A:$E,3,FALSE)","v":{"$error":"#N/A"}},{"$f":"VLOOKUP($A94,Participants!$A:$E,5,FALSE)","v":{"$error":"#N/A"}},{"$error":"#N/A"}]
[{"$nulls":5},{"$f":"VLOOKUP($A95,Participants!$A:$E,4,FALSE)","v":{"$error":"#N/A"}},{"$f":"VLOOKUP($A95,Participants!$A:$E,2,FALSE)","v":{"$error":"#N/A"}},{"$f":"VLOOKUP($A95,Participants!$A:$E,3,FALSE)","v":{"$error":"#N/A"}},{"$f":"VLOOKUP($A95,Participants!$A:$E,5,FALSE)","v":{"$error":"#N/A"}},{"$error":"#N/A"}]
[{"$nulls":5},{"$f":"VLOOKUP($A96,Participants!$A:$E,4,FALSE)","v":{"$error":"#N/A"}},{"$f":"VLOOKUP($A96,Participants!$A:$E,2,FALSE)","v":{"$error":"#N/A"}},{"$f":"VLOOKUP($A96,Participants!$A:$E,3,FALSE)","v":{"$error":"#N/A"}},{"$f":"VLOOKUP($A96,Participants!$A:$E,5,FALSE)","v":{"$error":"#N/A"}},{"$error":"#N/A"}]
[{"$nulls":5},{"$f":"VLOOKUP($A97,Participants!$A:$E,4,FALSE)","v":{"$error":"#N/A"}},{"$f":"VLOOKUP($A97,Participants!$A:$E,2,FALSE)","v":{"$error":"#N/A"}},{"$f":"VLOOKUP($A97,Participants!$A:$E,3,FALSE)","v":{"$error":"#N/A"}},{"$f":"VLOOKUP($A97,Participants!$A:$E,5,FALSE)","v":{"$error":"#N/A"}},{"$error":"#N/A"}]
[{"$nulls":5},{"$f":"VLOOKUP($A98,Participants!$A:$E,4,FALSE)","v":{"$error":"#N/A"}},{"$f":"VLOOKUP($A98,Participants!$A:$E,2,FALSE)","v":{"$error":"#N/A"}},{"$f":"VLOOKUP($A98,Participants!$A:$E,3,FALSE)","v":{"$error":"#N/A"}},{"$f":"VLOOKUP($A98,Participants!$A:$E,5,FALSE)","v":{"$error":"#N/A"}},{"$error":"#N/A"}]
[{"$nulls":5},{"$f":"VLOOKUP($A99,Participants!$A:$E,4,FALSE)","v":{"$error":"#N/A"}},{"$f":"VLOOKUP($A99,Participants!$A:$E,2,FALSE)","v":{"$error":"#N/A"}},{"$f":"VLOOKUP($A99,Participants!$A:$E,3,FALSE)","v":{"$error":"#N/A"}},{"$f":"VLOOKUP($A99,Participants!$A:$E,5,FALSE)","v":{"$error":"#N/A"}},{"$f":"MAX(G99:I99)","v":{"$error":"#N/A"}}]
[{"$nulls":5},{"$f":"VLOOKUP($A100,Participants!$A:$E,4,FALSE)","v":{"$error":"#N/A"}},{"$f":"VLOOKUP($A100,Participants!$A:$E,2,FALSE)","v":{"$error":"#N/A"}},{"$f":"VLOOKUP($A100,Participants!$A:$E,3,FALSE)","v":{"$error":"#N/A"}},{"$f":"VLOOKUP($A100,Participants!$A:$E,5,FALSE)","v":{"$error":"#N/A"}},{"$error":"#N/A"}]
[{"$nulls":5},{"$f":"VLOOKUP($A101,Participants!$A:$E,4,FALSE)","v":{"$error":"#N/A"}},{"$f":"VLOOKUP($A101,Participants!$A:$E,2,FALSE)","v":{"$error":"#N/A"}},{"$f":"VLOOKUP($A101,Participants!$A:$E,3,FALSE)","v":{"$error":"#N/A"}},{"$f":"VLOOKUP($A101,Participants!$A:$E,5,FALSE)","v":{"$error":"#N/A"}},{"$error":"#N/A"}]

{"sheet":"Hurdles Cadet Girls","index":51,"n_rows":42,"n_cols":13,"rows_kept":42}
["Bib","HeatOrder",null,"Time","Grade","FName","Lname","School","Heat","Heat Place","Overall Place",null,"Return to Schedule of Events"]
[291,"Lap 1","00:00:20.660","00:00:20.660",{"$f":"VLOOKUP($A2,Participants!$A:$E,4,FALSE)","v":7},{"$f":"VLOOKUP($A2,Participants!$A:$E,2,FALSE)","v":"Claire"},{"$f":"VLOOKUP($A2,Participants!$A:$E,3,FALSE)","v":"Meinerding"},{"$f":"VLOOKUP($A2,Participants!$A:$E,5,FALSE)","v":"St. Barnabas"},1,{"$f":"RANK(D2,IF(I2=1,$D$2:$D$7,),1)","v":1},{"$f":"RANK(D2,$D$2:$D$100,1)","v":1}]
[80,"Lap 2","00:00:00.180","00:00:20.850",{"$f":"VLOOKUP($A3,Participants!$A:$E,4,FALSE)","v":7},{"$f":"VLOOKUP($A3,Participants!$A:$E,2,FALSE)","v":"Miriam"},{"$f":"VLOOKUP($A3,Participants!$A:$E,3,FALSE)","v":"Mappes"},{"$f":"VLOOKUP($A3,Participants!$A:$E,5,FALSE)","v":"St Jude"},1,2,{"$f":"RANK(D3,$D$2:$D$100,1)","v":3},null,"Add or Update Participants"]
[189,"Lap 3","00:00:00.150","00:00:21",{"$f":"VLOOKUP($A4,Participants!$A:$E,4,FALSE)","v":7},{"$f":"VLOOKUP($A4,Participants!$A:$E,2,FALSE)","v":"Peyton"},{"$f":"VLOOKUP($A4,Participants!$A:$E,3,FALSE)","v":"Nalley"},{"$f":"VLOOKUP($A4,Participants!$A:$E,5,FALSE)","v":"SSFC"},1,3,5,null,"Overall Place and Points"]
[277,"Lap 4","00:00:02.650","00:00:23.660",{"$f":"VLOOKUP($A5,Participants!$A:$E,4,FALSE)","v":7},{"$f":"VLOOKUP($A5,Participants!$A:$E,2,FALSE)","v":"Caroline"},{"$f":"VLOOKUP($A5,Participants!$A:$E,3,FALSE)","v":"Crews"},{"$f":"VLOOKUP($A5,Participants!$A:$E,5,FALSE)","v":"St. Barnabas"},1,4,8]
[199,"Lap 5","00:00:01.800","00:00:25.460",{"$f":"VLOOKUP($A6,Participants!$A:$E,4,FALSE)","v":7},{"$f":"VLOOKUP($A6,Participants!$A:$E,2,FALSE)","v":"Avalin"},{"$f":"VLOOKUP($A6,Participants!$A:$E,3,FALSE)","v":"Shirley"},{"$f":"VLOOKUP($A6,Participants!$A:$E,5,FALSE)","v":"SSFC"},1,5,10]
[{"$nulls":4},{"$f":"VLOOKUP($A7,Participants!$A:$E,4,FALSE)","v":{"$error":"#N/A"}},{"$f":"VLOOKUP($A7,Participants!$A:$E,2,FALSE)","v":{"$error":"#N/A"}},{"$f":"VLOOKUP($A7,Participants!$A:$E,3,FALSE)","v":{"$error":"#N/A"}},{"$f":"VLOOKUP($A7,Participants!$A:$E,5,FALSE)","v":{"$error":"#N/A"}},1,{"$error":"#N/A"},{"$error":"#N/A"}]
[]
[93,"Lap 1","00:00:20.810","00:00:20.810",{"$f":"VLOOKUP($A9,Participants!$A:$E,4,FALSE)","v":8},{"$f":"VLOOKUP($A9,Participants!$A:$E,2,FALSE)","v":"Colleen"},{"$f":"VLOOKUP($A9,Participants!$A:$E,3,FALSE)","v":"Moore"},{"$f":"VLOOKUP($A9,Participants!$A:$E,5,FALSE)","v":"St Jude"},2,{"$f":"RANK(D9,IF(I9=2,$D$9:$D$14,),1)","v":1},2]
[4,"Lap 2","00:00:00.170","00:00:20.990",{"$f":"VLOOKUP($A10,Participants!$A:$E,4,FALSE)","v":8},{"$f":"VLOOKUP($A10,Participants!$A:$E,2,FALSE)","v":"Lucia"},{"$f":"VLOOKUP($A10,Participants!$A:$E,3,FALSE)","v":"Allen"},{"$f":"VLOOKUP($A10,Participants!$A:$E,5,FALSE)","v":"St Jude"},2,2,4]
[95,"Lap 3","00:00:00.300","00:00:21.300",{"$f":"VLOOKUP($A11,Participants!$A:$E,4,FALSE)","v":8},{"$f":"VLOOKUP($A11,Participants!$A:$E,2,FALSE)","v":"Perpetua"},{"$f":"VLOOKUP($A11,Participants!$A:$E,3,FALSE)","v":"Morey"},{"$f":"VLOOKUP($A11,Participants!$A:$E,5,FALSE)","v":"St Jude"},2,3,6]
[118,"Lap 4","00:00:00.540","00:00:21.840",{"$f":"VLOOKUP($A12,Participants!$A:$E,4,FALSE)","v":7},{"$f":"VLOOKUP($A12,Participants!$A:$E,2,FALSE)","v":"Lauren"},{"$f":"VLOOKUP($A12,Participants!$A:$E,3,FALSE)","v":"Schweers"},{"$f":"VLOOKUP($A12,Participants!$A:$E,5,FALSE)","v":"St Jude"},2,4,7]
[217,"Lap 5","00:00:02.180","00:00:24.020",{"$f":"VLOOKUP($A13,Participants!$A:$E,4,FALSE)","v":7},{"$f":"VLOOKUP($A13,Participants!$A:$E,2,FALSE)","v":"Ava"},{"$f":"VLOOKUP($A13,Participants!$A:$E,3,FALSE)","v":"Young"},{"$f":"VLOOKUP($A13,Participants!$A:$E,5,FALSE)","v":"SSFC"},2,5,9]
[{"$nulls":4},{"$f":"VLOOKUP($A14,Participants!$A:$E,4,FALSE)","v":{"$error":"#N/A"}},{"$f":"VLOOKUP($A14,Participants!$A:$E,2,FALSE)","v":{"$error":"#N/A"}},{"$f":"VLOOKUP($A14,Participants!$A:$E,3,FALSE)","v":{"$error":"#N/A"}},{"$f":"VLOOKUP($A14,Participants!$A:$E,5,FALSE)","v":{"$error":"#N/A"}},2,{"$error":"#N/A"},{"$error":"#N/A"}]
[]
[{"$nulls":4},{"$f":"VLOOKUP($A16,Participants!$A:$E,4,FALSE)","v":{"$error":"#N/A"}},{"$f":"VLOOKUP($A16,Participants!$A:$E,2,FALSE)","v":{"$error":"#N/A"}},{"$f":"VLOOKUP($A16,Participants!$A:$E,3,FALSE)","v":{"$error":"#N/A"}},{"$f":"VLOOKUP($A16,Participants!$A:$E,5,FALSE)","v":{"$error":"#N/A"}},3,{"$f":"RANK(D16,IF(I16=3,$D$16:$D$21,),1)","v":{"$error":"#N/A"}},{"$error":"#N/A"}]
[{"$nulls":4},{"$f":"VLOOKUP($A17,Participants!$A:$E,4,FALSE)","v":{"$error":"#N/A"}},{"$f":"VLOOKUP($A17,Participants!$A:$E,2,FALSE)","v":{"$error":"#N/A"}},{"$f":"VLOOKUP($A17,Participants!$A:$E,3,FALSE)","v":{"$error":"#N/A"}},{"$f":"VLOOKUP($A17,Participants!$A:$E,5,FALSE)","v":{"$error":"#N/A"}},3,{"$error":"#N/A"},{"$error":"#N/A"}]
[{"$nulls":4},{"$f":"VLOOKUP($A18,Participants!$A:$E,4,FALSE)","v":{"$error":"#N/A"}},{"$f":"VLOOKUP($A18,Participants!$A:$E,2,FALSE)","v":{"$error":"#N/A"}},{"$f":"VLOOKUP($A18,Participants!$A:$E,3,FALSE)","v":{"$error":"#N/A"}},{"$f":"VLOOKUP($A18,Participants!$A:$E,5,FALSE)","v":{"$error":"#N/A"}},3,{"$error":"#N/A"},{"$error":"#N/A"}]
[{"$nulls":4},{"$f":"VLOOKUP($A19,Participants!$A:$E,4,FALSE)","v":{"$error":"#N/A"}},{"$f":"VLOOKUP($A19,Participants!$A:$E,2,FALSE)","v":{"$error":"#N/A"}},{"$f":"VLOOKUP($A19,Participants!$A:$E,3,FALSE)","v":{"$error":"#N/A"}},{"$f":"VLOOKUP($A19,Participants!$A:$E,5,FALSE)","v":{"$error":"#N/A"}},3,{"$error":"#N/A"},{"$error":"#N/A"}]
[{"$nulls":4},{"$f":"VLOOKUP($A20,Participants!$A:$E,4,FALSE)","v":{"$error":"#N/A"}},{"$f":"VLOOKUP($A20,Participants!$A:$E,2,FALSE)","v":{"$error":"#N/A"}},{"$f":"VLOOKUP($A20,Participants!$A:$E,3,FALSE)","v":{"$error":"#N/A"}},{"$f":"VLOOKUP($A20,Participants!$A:$E,5,FALSE)","v":{"$error":"#N/A"}},3,{"$error":"#N/A"},{"$error":"#N/A"}]
[{"$nulls":4},{"$f":"VLOOKUP($A21,Participants!$A:$E,4,FALSE)","v":{"$error":"#N/A"}},{"$f":"VLOOKUP($A21,Participants!$A:$E,2,FALSE)","v":{"$error":"#N/A"}},{"$f":"VLOOKUP($A21,Participants!$A:$E,3,FALSE)","v":{"$error":"#N/A"}},{"$f":"VLOOKUP($A21,Participants!$A:$E,5,FALSE)","v":{"$error":"#N/A"}},3,{"$error":"#N/A"},{"$error":"#N/A"}]
[]
[{"$nulls":4},{"$f":"VLOOKUP($A23,Participants!$A:$E,4,FALSE)","v":{"$error":"#N/A"}},{"$f":"VLOOKUP($A23,Participants!$A:$E,2,FALSE)","v":{"$error":"#N/A"}},{"$f":"VLOOKUP($A23,Participants!$A:$E,3,FALSE)","v":{"$error":"#N/A"}},{"$f":"VLOOKUP($A23,Participants!$A:$E,5,FALSE)","v":{"$error":"#N/A"}},4,{"$f":"RANK(D23,IF(I23=4,$D$23:$D$28,),1)","v":{"$error":"#N/A"}},{"$error":"#N/A"}]
[{"$nulls":4},{"$f":"VLOOKUP($A24,Participants!$A:$E,4,FALSE)","v":{"$error":"#N/A"}},{"$f":"VLOOKUP($A24,Participants!$A:$E,2,FALSE)","v":{"$error":"#N/A"}},{"$f":"VLOOKUP($A24,Participants!$A:$E,3,FALSE)","v":{"$error":"#N/A"}},{"$f":"VLOOKUP($A24,Participants!$A:$E,5,FALSE)","v":{"$error":"#N/A"}},4,{"$error":"#N/A"},{"$error":"#N/A"}]
[{"$nulls":4},{"$f":"VLOOKUP($A25,Participants!$A:$E,4,FALSE)","v":{"$error":"#N/A"}},{"$f":"VLOOKUP($A25,Participants!$A:$E,2,FALSE)","v":{"$error":"#N/A"}},{"$f":"VLOOKUP($A25,Participants!$A:$E,3,FALSE)","v":{"$error":"#N/A"}},{"$f":"VLOOKUP($A25,Participants!$A:$E,5,FALSE)","v":{"$error":"#N/A"}},4,{"$error":"#N/A"},{"$error":"#N/A"}]
[{"$nulls":4},{"$f":"VLOOKUP($A26,Participants!$A:$E,4,FALSE)","v":{"$error":"#N/A"}},{"$f":"VLOOKUP($A26,Participants!$A:$E,2,FALSE)","v":{"$error":"#N/A"}},{"$f":"VLOOKUP($A26,Participants!$A:$E,3,FALSE)","v":{"$error":"#N/A"}},{"$f":"VLOOKUP($A26,Participants!$A:$E,5,FALSE)","v":{"$error":"#N/A"}},4,{"$error":"#N/A"},{"$error":"#N/A"}]
[{"$nulls":4},{"$f":"VLOOKUP($A27,Participants!$A:$E,4,FALSE)","v":{"$error":"#N/A"}},{"$f":"VLOOKUP($A27,Participants!$A:$E,2,FALSE)","v":{"$error":"#N/A"}},{"$f":"VLOOKUP($A27,Participants!$A:$E,3,FALSE)","v":{"$error":"#N/A"}},{"$f":"VLOOKUP($A27,Participants!$A:$E,5,FALSE)","v":{"$error":"#N/A"}},4,{"$error":"#N/A"},{"$error":"#N/A"}]
[{"$nulls":4},{"$f":"VLOOKUP($A28,Participants!$A:$E,4,FALSE)","v":{"$error":"#N/A"}},{"$f":"VLOOKUP($A28,Participants!$A:$E,2,FALSE)","v":{"$error":"#N/A"}},{"$f":"VLOOKUP($A28,Participants!$A:$E,3,FALSE)","v":{"$error":"#N/A"}},{"$f":"VLOOKUP($A28,Participants!$A:$E,5,FALSE)","v":{"$error":"#N/A"}},4,{"$error":"#N/A"},{"$error":"#N/A"}]
[]
[{"$nulls":4},{"$f":"VLOOKUP($A30,Participants!$A:$E,4,FALSE)","v":{"$error":"#N/A"}},{"$f":"VLOOKUP($A30,Participants!$A:$E,2,FALSE)","v":{"$error":"#N/A"}},{"$f":"VLOOKUP($A30,Participants!$A:$E,3,FALSE)","v":{"$error":"#N/A"}},{"$f":"VLOOKUP($A30,Participants!$A:$E,5,FALSE)","v":{"$error":"#N/A"}},5,{"$f":"RANK(D30,IF(I30=5,$D$30:$D$35,),1)","v":{"$error":"#N/A"}},{"$error":"#N/A"}]
[{"$nulls":4},{"$f":"VLOOKUP($A31,Participants!$A:$E,4,FALSE)","v":{"$error":"#N/A"}},{"$f":"VLOOKUP($A31,Participants!$A:$E,2,FALSE)","v":{"$error":"#N/A"}},{"$f":"VLOOKUP($A31,Participants!$A:$E,3,FALSE)","v":{"$error":"#N/A"}},{"$f":"VLOOKUP($A31,Participants!$A:$E,5,FALSE)","v":{"$error":"#N/A"}},5,{"$f":"RANK(D31,IF(I31=5,$D$30:$D$35,),1)","v":{"$error":"#N/A"}},{"$error":"#N/A"}]
[{"$nulls":4},{"$f":"VLOOKUP($A32,Participants!$A:$E,4,FALSE)","v":{"$error":"#N/A"}},{"$f":"VLOOKUP($A32,Participants!$A:$E,2,FALSE)","v":{"$error":"#N/A"}},{"$f":"VLOOKUP($A32,Participants!$A:$E,3,FALSE)","v":{"$error":"#N/A"}},{"$f":"VLOOKUP($A32,Participants!$A:$E,5,FALSE)","v":{"$error":"#N/A"}},5,{"$error":"#N/A"},{"$error":"#N/A"}]
[{"$nulls":4},{"$f":"VLOOKUP($A33,Participants!$A:$E,4,FALSE)","v":{"$error":"#N/A"}},{"$f":"VLOOKUP($A33,Participants!$A:$E,2,FALSE)","v":{"$error":"#N/A"}},{"$f":"VLOOKUP($A33,Participants!$A:$E,3,FALSE)","v":{"$error":"#N/A"}},{"$f":"VLOOKUP($A33,Participants!$A:$E,5,FALSE)","v":{"$error":"#N/A"}},5,{"$error":"#N/A"},{"$error":"#N/A"}]
[{"$nulls":4},{"$f":"VLOOKUP($A34,Participants!$A:$E,4,FALSE)","v":{"$error":"#N/A"}},{"$f":"VLOOKUP($A34,Participants!$A:$E,2,FALSE)","v":{"$error":"#N/A"}},{"$f":"VLOOKUP($A34,Participants!$A:$E,3,FALSE)","v":{"$error":"#N/A"}},{"$f":"VLOOKUP($A34,Participants!$A:$E,5,FALSE)","v":{"$error":"#N/A"}},5,{"$error":"#N/A"},{"$error":"#N/A"}]
[{"$nulls":4},{"$f":"VLOOKUP($A35,Participants!$A:$E,4,FALSE)","v":{"$error":"#N/A"}},{"$f":"VLOOKUP($A35,Participants!$A:$E,2,FALSE)","v":{"$error":"#N/A"}},{"$f":"VLOOKUP($A35,Participants!$A:$E,3,FALSE)","v":{"$error":"#N/A"}},{"$f":"VLOOKUP($A35,Participants!$A:$E,5,FALSE)","v":{"$error":"#N/A"}},5,{"$error":"#N/A"},{"$error":"#N/A"}]
[]
[{"$nulls":4},{"$f":"VLOOKUP($A37,Participants!$A:$E,4,FALSE)","v":{"$error":"#N/A"}},{"$f":"VLOOKUP($A37,Participants!$A:$E,2,FALSE)","v":{"$error":"#N/A"}},{"$f":"VLOOKUP($A37,Participants!$A:$E,3,FALSE)","v":{"$error":"#N/A"}},{"$f":"VLOOKUP($A37,Participants!$A:$E,5,FALSE)","v":{"$error":"#N/A"}},6,{"$f":"RANK(D37,IF(I37=6,$D$37:$D$42,),1)","v":{"$error":"#N/A"}},{"$error":"#N/A"}]
[{"$nulls":4},{"$f":"VLOOKUP($A38,Participants!$A:$E,4,FALSE)","v":{"$error":"#N/A"}},{"$f":"VLOOKUP($A38,Participants!$A:$E,2,FALSE)","v":{"$error":"#N/A"}},{"$f":"VLOOKUP($A38,Participants!$A:$E,3,FALSE)","v":{"$error":"#N/A"}},{"$f":"VLOOKUP($A38,Participants!$A:$E,5,FALSE)","v":{"$error":"#N/A"}},6,{"$f":"RANK(D38,IF(I38=6,$D$37:$D$42,),1)","v":{"$error":"#N/A"}},{"$error":"#N/A"}]
[{"$nulls":4},{"$f":"VLOOKUP($A39,Participants!$A:$E,4,FALSE)","v":{"$error":"#N/A"}},{"$f":"VLOOKUP($A39,Participants!$A:$E,2,FALSE)","v":{"$error":"#N/A"}},{"$f":"VLOOKUP($A39,Participants!$A:$E,3,FALSE)","v":{"$error":"#N/A"}},{"$f":"VLOOKUP($A39,Participants!$A:$E,5,FALSE)","v":{"$error":"#N/A"}},6,{"$error":"#N/A"},{"$error":"#N/A"}]
[{"$nulls":4},{"$f":"VLOOKUP($A40,Participants!$A:$E,4,FALSE)","v":{"$error":"#N/A"}},{"$f":"VLOOKUP($A40,Participants!$A:$E,2,FALSE)","v":{"$error":"#N/A"}},{"$f":"VLOOKUP($A40,Participants!$A:$E,3,FALSE)","v":{"$error":"#N/A"}},{"$f":"VLOOKUP($A40,Participants!$A:$E,5,FALSE)","v":{"$error":"#N/A"}},6,{"$error":"#N/A"},{"$error":"#N/A"}]
[{"$nulls":4},{"$f":"VLOOKUP($A41,Participants!$A:$E,4,FALSE)","v":{"$error":"#N/A"}},{"$f":"VLOOKUP($A41,Participants!$A:$E,2,FALSE)","v":{"$error":"#N/A"}},{"$f":"VLOOKUP($A41,Participants!$A:$E,3,FALSE)","v":{"$error":"#N/A"}},{"$f":"VLOOKUP($A41,Participants!$A:$E,5,FALSE)","v":{"$error":"#N/A"}},6,{"$error":"#N/A"},{"$error":"#N/A"}]
[{"$nulls":4},{"$f":"VLOOKUP($A42,Participants!$A:$E,4,FALSE)","v":{"$error":"#N/A"}},{"$f":"VLOOKUP($A42,Participants!$A:$E,2,FALSE)","v":{"$error":"#N/A"}},{"$f":"VLOOKUP($A42,Participants!$A:$E,3,FALSE)","v":{"$error":"#N/A"}},{"$f":"VLOOKUP($A42,Participants!$A:$E,5,FALSE)","v":{"$error":"#N/A"}},6,{"$error":"#N/A"},{"$error":"#N/A"}]

{"sheet":"400 Cadet Girls","index":52,"n_rows":42,"n_cols":13,"rows_kept":42}
["Bib","HeatOrder",null,"Time","Grade","FName","Lname","School","Heat","Heat Place","Overall Place",null,"Return to Schedule of Events"]
[93,"Lap 1","00:01:16.670","00:01:16.670",{"$f":"VLOOKUP($A2,Participants!$A:$E,4,FALSE)","v":8},{"$f":"VLOOKUP($A2,Participants!$A:$E,2,FALSE)","v":"Colleen"},{"$f":"VLOOKUP($A2,Participants!$A:$E,3,FALSE)","v":"Moore"},{"$f":"VLOOKUP($A2,Participants!$A:$E,5,FALSE)","v":"St Jude"},1,{"$f":"RANK(D2,IF(I2=1,$D$2:$D$7,),1)","v":1},{"$f":"RANK(D2,$D$2:$D$100,1)","v":1}]
[82,"Lap 2","00:00:05.050","00:01:21.730",{"$f":"VLOOKUP($A3,Participants!$A:$E,4,FALSE)","v":7},{"$f":"VLOOKUP($A3,Participants!$A:$E,2,FALSE)","v":"Claire"},{"$f":"VLOOKUP($A3,Participants!$A:$E,3,FALSE)","v":"May"},{"$f":"VLOOKUP($A3,Participants!$A:$E,5,FALSE)","v":"St Jude"},1,2,{"$f":"RANK(D3,$D$2:$D$100,1)","v":4},null,"Add or Update Participants"]
[149,"Lap 3","00:00:00.240","00:01:21.980",{"$f":"VLOOKUP($A4,Participants!$A:$E,4,FALSE)","v":7},{"$f":"VLOOKUP($A4,Participants!$A:$E,2,FALSE)","v":"Isabelle"},{"$f":"VLOOKUP($A4,Participants!$A:$E,3,FALSE)","v":"Vermillion"},{"$f":"VLOOKUP($A4,Participants!$A:$E,5,FALSE)","v":"OLG"},1,3,5,null,"Overall Place and Points"]
[199,"Lap 4","00:00:03.790","00:01:25.770",{"$f":"VLOOKUP($A5,Participants!$A:$E,4,FALSE)","v":7},{"$f":"VLOOKUP($A5,Participants!$A:$E,2,FALSE)","v":"Avalin"},{"$f":"VLOOKUP($A5,Participants!$A:$E,3,FALSE)","v":"Shirley"},{"$f":"VLOOKUP($A5,Participants!$A:$E,5,FALSE)","v":"SSFC"},1,4,7]
[{"$nulls":4},{"$f":"VLOOKUP($A6,Participants!$A:$E,4,FALSE)","v":{"$error":"#N/A"}},{"$f":"VLOOKUP($A6,Participants!$A:$E,2,FALSE)","v":{"$error":"#N/A"}},{"$f":"VLOOKUP($A6,Participants!$A:$E,3,FALSE)","v":{"$error":"#N/A"}},{"$f":"VLOOKUP($A6,Participants!$A:$E,5,FALSE)","v":{"$error":"#N/A"}},1,{"$error":"#N/A"},{"$error":"#N/A"}]
[{"$nulls":4},{"$f":"VLOOKUP($A7,Participants!$A:$E,4,FALSE)","v":{"$error":"#N/A"}},{"$f":"VLOOKUP($A7,Participants!$A:$E,2,FALSE)","v":{"$error":"#N/A"}},{"$f":"VLOOKUP($A7,Participants!$A:$E,3,FALSE)","v":{"$error":"#N/A"}},{"$f":"VLOOKUP($A7,Participants!$A:$E,5,FALSE)","v":{"$error":"#N/A"}},1,{"$error":"#N/A"},{"$error":"#N/A"}]
[]
[13,"Lap 1","00:01:16.900","00:01:16.900",{"$f":"VLOOKUP($A9,Participants!$A:$E,4,FALSE)","v":8},{"$f":"VLOOKUP($A9,Participants!$A:$E,2,FALSE)","v":"Lauren"},{"$f":"VLOOKUP($A9,Participants!$A:$E,3,FALSE)","v":"Brown"},{"$f":"VLOOKUP($A9,Participants!$A:$E,5,FALSE)","v":"St Jude"},2,{"$f":"RANK(D9,IF(I9=2,$D$9:$D$14,),1)","v":1},2]
[8,"Lap 2","00:00:03.810","00:01:20.720",{"$f":"VLOOKUP($A10,Participants!$A:$E,4,FALSE)","v":7},{"$f":"VLOOKUP($A10,Participants!$A:$E,2,FALSE)","v":"Isabella"},{"$f":"VLOOKUP($A10,Participants!$A:$E,3,FALSE)","v":"Ball"},{"$f":"VLOOKUP($A10,Participants!$A:$E,5,FALSE)","v":"St Jude"},2,2,3]
[7,"Lap 3","00:00:03.150","00:01:23.880",{"$f":"VLOOKUP($A11,Participants!$A:$E,4,FALSE)","v":7},{"$f":"VLOOKUP($A11,Participants!$A:$E,2,FALSE)","v":"Elise"},{"$f":"VLOOKUP($A11,Participants!$A:$E,3,FALSE)","v":"Baker"},{"$f":"VLOOKUP($A11,Participants!$A:$E,5,FALSE)","v":"St Jude"},2,3,6]
[124,"Lap 4","00:00:02.940","00:01:26.830",{"$f":"VLOOKUP($A12,Participants!$A:$E,4,FALSE)","v":7},{"$f":"VLOOKUP($A12,Participants!$A:$E,2,FALSE)","v":"Guadalupe"},{"$f":"VLOOKUP($A12,Participants!$A:$E,3,FALSE)","v":"Soberanes"},{"$f":"VLOOKUP($A12,Participants!$A:$E,5,FALSE)","v":"St Jude"},2,4,8]
[{"$nulls":4},{"$f":"VLOOKUP($A13,Participants!$A:$E,4,FALSE)","v":{"$error":"#N/A"}},{"$f":"VLOOKUP($A13,Participants!$A:$E,2,FALSE)","v":{"$error":"#N/A"}},{"$f":"VLOOKUP($A13,Participants!$A:$E,3,FALSE)","v":{"$error":"#N/A"}},{"$f":"VLOOKUP($A13,Participants!$A:$E,5,FALSE)","v":{"$error":"#N/A"}},2,{"$error":"#N/A"},{"$error":"#N/A"}]
[{"$nulls":4},{"$f":"VLOOKUP($A14,Participants!$A:$E,4,FALSE)","v":{"$error":"#N/A"}},{"$f":"VLOOKUP($A14,Participants!$A:$E,2,FALSE)","v":{"$error":"#N/A"}},{"$f":"VLOOKUP($A14,Participants!$A:$E,3,FALSE)","v":{"$error":"#N/A"}},{"$f":"VLOOKUP($A14,Participants!$A:$E,5,FALSE)","v":{"$error":"#N/A"}},2,{"$error":"#N/A"},{"$error":"#N/A"}]
[]
[{"$nulls":4},{"$f":"VLOOKUP($A16,Participants!$A:$E,4,FALSE)","v":{"$error":"#N/A"}},{"$f":"VLOOKUP($A16,Participants!$A:$E,2,FALSE)","v":{"$error":"#N/A"}},{"$f":"VLOOKUP($A16,Participants!$A:$E,3,FALSE)","v":{"$error":"#N/A"}},{"$f":"VLOOKUP($A16,Participants!$A:$E,5,FALSE)","v":{"$error":"#N/A"}},3,{"$f":"RANK(D16,IF(I16=3,$D$16:$D$21,),1)","v":{"$error":"#N/A"}},{"$error":"#N/A"}]
[{"$nulls":4},{"$f":"VLOOKUP($A17,Participants!$A:$E,4,FALSE)","v":{"$error":"#N/A"}},{"$f":"VLOOKUP($A17,Participants!$A:$E,2,FALSE)","v":{"$error":"#N/A"}},{"$f":"VLOOKUP($A17,Participants!$A:$E,3,FALSE)","v":{"$error":"#N/A"}},{"$f":"VLOOKUP($A17,Participants!$A:$E,5,FALSE)","v":{"$error":"#N/A"}},3,{"$error":"#N/A"},{"$error":"#N/A"}]
[{"$nulls":4},{"$f":"VLOOKUP($A18,Participants!$A:$E,4,FALSE)","v":{"$error":"#N/A"}},{"$f":"VLOOKUP($A18,Participants!$A:$E,2,FALSE)","v":{"$error":"#N/A"}},{"$f":"VLOOKUP($A18,Participants!$A:$E,3,FALSE)","v":{"$error":"#N/A"}},{"$f":"VLOOKUP($A18,Participants!$A:$E,5,FALSE)","v":{"$error":"#N/A"}},3,{"$error":"#N/A"},{"$error":"#N/A"}]
[{"$nulls":4},{"$f":"VLOOKUP($A19,Participants!$A:$E,4,FALSE)","v":{"$error":"#N/A"}},{"$f":"VLOOKUP($A19,Participants!$A:$E,2,FALSE)","v":{"$error":"#N/A"}},{"$f":"VLOOKUP($A19,Participants!$A:$E,3,FALSE)","v":{"$error":"#N/A"}},{"$f":"VLOOKUP($A19,Participants!$A:$E,5,FALSE)","v":{"$error":"#N/A"}},3,{"$error":"#N/A"},{"$error":"#N/A"}]
[{"$nulls":4},{"$f":"VLOOKUP($A20,Participants!$A:$E,4,FALSE)","v":{"$error":"#N/A"}},{"$f":"VLOOKUP($A20,Participants!$A:$E,2,FALSE)","v":{"$error":"#N/A"}},{"$f":"VLOOKUP($A20,Participants!$A:$E,3,FALSE)","v":{"$error":"#N/A"}},{"$f":"VLOOKUP($A20,Participants!$A:$E,5,FALSE)","v":{"$error":"#N/A"}},3,{"$error":"#N/A"},{"$error":"#N/A"}]
[{"$nulls":4},{"$f":"VLOOKUP($A21,Participants!$A:$E,4,FALSE)","v":{"$error":"#N/A"}},{"$f":"VLOOKUP($A21,Participants!$A:$E,2,FALSE)","v":{"$error":"#N/A"}},{"$f":"VLOOKUP($A21,Participants!$A:$E,3,FALSE)","v":{"$error":"#N/A"}},{"$f":"VLOOKUP($A21,Participants!$A:$E,5,FALSE)","v":{"$error":"#N/A"}},3,{"$error":"#N/A"},{"$error":"#N/A"}]
[]
[{"$nulls":4},{"$f":"VLOOKUP($A23,Participants!$A:$E,4,FALSE)","v":{"$error":"#N/A"}},{"$f":"VLOOKUP($A23,Participants!$A:$E,2,FALSE)","v":{"$error":"#N/A"}},{"$f":"VLOOKUP($A23,Participants!$A:$E,3,FALSE)","v":{"$error":"#N/A"}},{"$f":"VLOOKUP($A23,Participants!$A:$E,5,FALSE)","v":{"$error":"#N/A"}},4,{"$f":"RANK(D23,IF(I23=4,$D$23:$D$28,),1)","v":{"$error":"#N/A"}},{"$error":"#N/A"}]
[{"$nulls":4},{"$f":"VLOOKUP($A24,Participants!$A:$E,4,FALSE)","v":{"$error":"#N/A"}},{"$f":"VLOOKUP($A24,Participants!$A:$E,2,FALSE)","v":{"$error":"#N/A"}},{"$f":"VLOOKUP($A24,Participants!$A:$E,3,FALSE)","v":{"$error":"#N/A"}},{"$f":"VLOOKUP($A24,Participants!$A:$E,5,FALSE)","v":{"$error":"#N/A"}},4,{"$error":"#N/A"},{"$error":"#N/A"}]
[{"$nulls":4},{"$f":"VLOOKUP($A25,Participants!$A:$E,4,FALSE)","v":{"$error":"#N/A"}},{"$f":"VLOOKUP($A25,Participants!$A:$E,2,FALSE)","v":{"$error":"#N/A"}},{"$f":"VLOOKUP($A25,Participants!$A:$E,3,FALSE)","v":{"$error":"#N/A"}},{"$f":"VLOOKUP($A25,Participants!$A:$E,5,FALSE)","v":{"$error":"#N/A"}},4,{"$error":"#N/A"},{"$error":"#N/A"}]
[{"$nulls":4},{"$f":"VLOOKUP($A26,Participants!$A:$E,4,FALSE)","v":{"$error":"#N/A"}},{"$f":"VLOOKUP($A26,Participants!$A:$E,2,FALSE)","v":{"$error":"#N/A"}},{"$f":"VLOOKUP($A26,Participants!$A:$E,3,FALSE)","v":{"$error":"#N/A"}},{"$f":"VLOOKUP($A26,Participants!$A:$E,5,FALSE)","v":{"$error":"#N/A"}},4,{"$error":"#N/A"},{"$error":"#N/A"}]
[{"$nulls":4},{"$f":"VLOOKUP($A27,Participants!$A:$E,4,FALSE)","v":{"$error":"#N/A"}},{"$f":"VLOOKUP($A27,Participants!$A:$E,2,FALSE)","v":{"$error":"#N/A"}},{"$f":"VLOOKUP($A27,Participants!$A:$E,3,FALSE)","v":{"$error":"#N/A"}},{"$f":"VLOOKUP($A27,Participants!$A:$E,5,FALSE)","v":{"$error":"#N/A"}},4,{"$error":"#N/A"},{"$error":"#N/A"}]
[{"$nulls":4},{"$f":"VLOOKUP($A28,Participants!$A:$E,4,FALSE)","v":{"$error":"#N/A"}},{"$f":"VLOOKUP($A28,Participants!$A:$E,2,FALSE)","v":{"$error":"#N/A"}},{"$f":"VLOOKUP($A28,Participants!$A:$E,3,FALSE)","v":{"$error":"#N/A"}},{"$f":"VLOOKUP($A28,Participants!$A:$E,5,FALSE)","v":{"$error":"#N/A"}},4,{"$error":"#N/A"},{"$error":"#N/A"}]
[]
[{"$nulls":4},{"$f":"VLOOKUP($A30,Participants!$A:$E,4,FALSE)","v":{"$error":"#N/A"}},{"$f":"VLOOKUP($A30,Participants!$A:$E,2,FALSE)","v":{"$error":"#N/A"}},{"$f":"VLOOKUP($A30,Participants!$A:$E,3,FALSE)","v":{"$error":"#N/A"}},{"$f":"VLOOKUP($A30,Participants!$A:$E,5,FALSE)","v":{"$error":"#N/A"}},5,{"$f":"RANK(D30,IF(I30=5,$D$30:$D$35,),1)","v":{"$error":"#N/A"}},{"$error":"#N/A"}]
[{"$nulls":4},{"$f":"VLOOKUP($A31,Participants!$A:$E,4,FALSE)","v":{"$error":"#N/A"}},{"$f":"VLOOKUP($A31,Participants!$A:$E,2,FALSE)","v":{"$error":"#N/A"}},{"$f":"VLOOKUP($A31,Participants!$A:$E,3,FALSE)","v":{"$error":"#N/A"}},{"$f":"VLOOKUP($A31,Participants!$A:$E,5,FALSE)","v":{"$error":"#N/A"}},5,{"$f":"RANK(D31,IF(I31=5,$D$30:$D$35,),1)","v":{"$error":"#N/A"}},{"$error":"#N/A"}]
[{"$nulls":4},{"$f":"VLOOKUP($A32,Participants!$A:$E,4,FALSE)","v":{"$error":"#N/A"}},{"$f":"VLOOKUP($A32,Participants!$A:$E,2,FALSE)","v":{"$error":"#N/A"}},{"$f":"VLOOKUP($A32,Participants!$A:$E,3,FALSE)","v":{"$error":"#N/A"}},{"$f":"VLOOKUP($A32,Participants!$A:$E,5,FALSE)","v":{"$error":"#N/A"}},5,{"$error":"#N/A"},{"$error":"#N/A"}]
[{"$nulls":4},{"$f":"VLOOKUP($A33,Participants!$A:$E,4,FALSE)","v":{"$error":"#N/A"}},{"$f":"VLOOKUP($A33,Participants!$A:$E,2,FALSE)","v":{"$error":"#N/A"}},{"$f":"VLOOKUP($A33,Participants!$A:$E,3,FALSE)","v":{"$error":"#N/A"}},{"$f":"VLOOKUP($A33,Participants!$A:$E,5,FALSE)","v":{"$error":"#N/A"}},5,{"$error":"#N/A"},{"$error":"#N/A"}]
[{"$nulls":4},{"$f":"VLOOKUP($A34,Participants!$A:$E,4,FALSE)","v":{"$error":"#N/A"}},{"$f":"VLOOKUP($A34,Participants!$A:$E,2,FALSE)","v":{"$error":"#N/A"}},{"$f":"VLOOKUP($A34,Participants!$A:$E,3,FALSE)","v":{"$error":"#N/A"}},{"$f":"VLOOKUP($A34,Participants!$A:$E,5,FALSE)","v":{"$error":"#N/A"}},5,{"$error":"#N/A"},{"$error":"#N/A"}]
[{"$nulls":4},{"$f":"VLOOKUP($A35,Participants!$A:$E,4,FALSE)","v":{"$error":"#N/A"}},{"$f":"VLOOKUP($A35,Participants!$A:$E,2,FALSE)","v":{"$error":"#N/A"}},{"$f":"VLOOKUP($A35,Participants!$A:$E,3,FALSE)","v":{"$error":"#N/A"}},{"$f":"VLOOKUP($A35,Participants!$A:$E,5,FALSE)","v":{"$error":"#N/A"}},5,{"$error":"#N/A"},{"$error":"#N/A"}]
[]
[{"$nulls":4},{"$f":"VLOOKUP($A37,Participants!$A:$E,4,FALSE)","v":{"$error":"#N/A"}},{"$f":"VLOOKUP($A37,Participants!$A:$E,2,FALSE)","v":{"$error":"#N/A"}},{"$f":"VLOOKUP($A37,Participants!$A:$E,3,FALSE)","v":{"$error":"#N/A"}},{"$f":"VLOOKUP($A37,Participants!$A:$E,5,FALSE)","v":{"$error":"#N/A"}},6,{"$f":"RANK(D37,IF(I37=6,$D$37:$D$42,),1)","v":{"$error":"#N/A"}},{"$error":"#N/A"}]
[{"$nulls":4},{"$f":"VLOOKUP($A38,Participants!$A:$E,4,FALSE)","v":{"$error":"#N/A"}},{"$f":"VLOOKUP($A38,Participants!$A:$E,2,FALSE)","v":{"$error":"#N/A"}},{"$f":"VLOOKUP($A38,Participants!$A:$E,3,FALSE)","v":{"$error":"#N/A"}},{"$f":"VLOOKUP($A38,Participants!$A:$E,5,FALSE)","v":{"$error":"#N/A"}},6,{"$f":"RANK(D38,IF(I38=6,$D$37:$D$42,),1)","v":{"$error":"#N/A"}},{"$error":"#N/A"}]
[{"$nulls":4},{"$f":"VLOOKUP($A39,Participants!$A:$E,4,FALSE)","v":{"$error":"#N/A"}},{"$f":"VLOOKUP($A39,Participants!$A:$E,2,FALSE)","v":{"$error":"#N/A"}},{"$f":"VLOOKUP($A39,Participants!$A:$E,3,FALSE)","v":{"$error":"#N/A"}},{"$f":"VLOOKUP($A39,Participants!$A:$E,5,FALSE)","v":{"$error":"#N/A"}},6,{"$error":"#N/A"},{"$error":"#N/A"}]
[{"$nulls":4},{"$f":"VLOOKUP($A40,Participants!$A:$E,4,FALSE)","v":{"$error":"#N/A"}},{"$f":"VLOOKUP($A40,Participants!$A:$E,2,FALSE)","v":{"$error":"#N/A"}},{"$f":"VLOOKUP($A40,Participants!$A:$E,3,FALSE)","v":{"$error":"#N/A"}},{"$f":"VLOOKUP($A40,Participants!$A:$E,5,FALSE)","v":{"$error":"#N/A"}},6,{"$error":"#N/A"},{"$error":"#N/A"}]
[{"$nulls":4},{"$f":"VLOOKUP($A41,Participants!$A:$E,4,FALSE)","v":{"$error":"#N/A"}},{"$f":"VLOOKUP($A41,Participants!$A:$E,2,FALSE)","v":{"$error":"#N/A"}},{"$f":"VLOOKUP($A41,Participants!$A:$E,3,FALSE)","v":{"$error":"#N/A"}},{"$f":"VLOOKUP($A41,Participants!$A:$E,5,FALSE)","v":{"$error":"#N/A"}},6,{"$error":"#N/A"},{"$error":"#N/A"}]
[{"$nulls":4},{"$f":"VLOOKUP($A42,Participants!$A:$E,4,FALSE)","v":{"$error":"#N/A"}},{"$f":"VLOOKUP($A42,Participants!$A:$E,2,FALSE)","v":{"$error":"#N/A"}},{"$f":"VLOOKUP($A42,Participants!$A:$E,3,FALSE)","v":{"$error":"#N/A"}},{"$f":"VLOOKUP($A42,Participants!$A:$E,5,FALSE)","v":{"$error":"#N/A"}},6,{"$error":"#N/A"},{"$error":"#N/A"}]

{"sheet":"200 Cadet Girls","index":53,"n_rows":42,"n_cols":13,"rows_kept":42}
["Bib","HeatOrder",null,"Time","Grade","FName","Lname","School","Heat","Heat Place","Overall Place",null,"Return to Schedule of Events"]
[4,"Lap 1","00:00:32.340","00:00:32.340",{"$f":"VLOOKUP($A2,Participants!$A:$E,4,FALSE)","v":8},{"$f":"VLOOKUP($A2,Participants!$A:$E,2,FALSE)","v":"Lucia"},{"$f":"VLOOKUP($A2,Participants!$A:$E,3,FALSE)","v":"Allen"},{"$f":"VLOOKUP($A2,Participants!$A:$E,5,FALSE)","v":"St Jude"},1,{"$f":"RANK(D2,IF(I2=1,$D$2:$D$7,),1)","v":1},{"$f":"RANK(D2,$D$2:$D$100,1)","v":1}]
[251,"Lap 2","00:00:00.620","00:00:32.960",{"$f":"VLOOKUP($A3,Participants!$A:$E,4,FALSE)","v":7},{"$f":"VLOOKUP($A3,Participants!$A:$E,2,FALSE)","v":"Molly"},{"$f":"VLOOKUP($A3,Participants!$A:$E,3,FALSE)","v":"Mockaitis"},{"$f":"VLOOKUP($A3,Participants!$A:$E,5,FALSE)","v":"United We Run"},1,2,{"$f":"RANK(D3,$D$2:$D$100,1)","v":3},null,"Add or Update Participants"]
[93,"Lap 3","00:00:00.190","00:00:33.160",{"$f":"VLOOKUP($A4,Participants!$A:$E,4,FALSE)","v":8},{"$f":"VLOOKUP($A4,Participants!$A:$E,2,FALSE)","v":"Colleen"},{"$f":"VLOOKUP($A4,Participants!$A:$E,3,FALSE)","v":"Moore"},{"$f":"VLOOKUP($A4,Participants!$A:$E,5,FALSE)","v":"St Jude"},1,3,4,null,"Overall Place and Points"]
[234,"Lap 4","00:00:00.880","00:00:34.050",{"$f":"VLOOKUP($A5,Participants!$A:$E,4,FALSE)","v":7},{"$f":"VLOOKUP($A5,Participants!$A:$E,2,FALSE)","v":"Becca"},{"$f":"VLOOKUP($A5,Participants!$A:$E,3,FALSE)","v":"Engel"},{"$f":"VLOOKUP($A5,Participants!$A:$E,5,FALSE)","v":"United We Run"},1,4,7]
[170,"Lap 5","00:00:00.940","00:00:34.990",{"$f":"VLOOKUP($A6,Participants!$A:$E,4,FALSE)","v":8},{"$f":"VLOOKUP($A6,Participants!$A:$E,2,FALSE)","v":"Kalie"},{"$f":"VLOOKUP($A6,Participants!$A:$E,3,FALSE)","v":"Garnel"},{"$f":"VLOOKUP($A6,Participants!$A:$E,5,FALSE)","v":"SSFC"},1,5,8]
[161,"Lap 6","00:00:00.550","00:00:35.550",{"$f":"VLOOKUP($A7,Participants!$A:$E,4,FALSE)","v":8},{"$f":"VLOOKUP($A7,Participants!$A:$E,2,FALSE)","v":"Lauren"},{"$f":"VLOOKUP($A7,Participants!$A:$E,3,FALSE)","v":"Coppinger"},{"$f":"VLOOKUP($A7,Participants!$A:$E,5,FALSE)","v":"SSFC"},1,6,9]
[]
[119,"Lap 1","00:00:32.340","00:00:32.340",{"$f":"VLOOKUP($A9,Participants!$A:$E,4,FALSE)","v":7},{"$f":"VLOOKUP($A9,Participants!$A:$E,2,FALSE)","v":"Brooklyn "},{"$f":"VLOOKUP($A9,Participants!$A:$E,3,FALSE)","v":"Seibert"},{"$f":"VLOOKUP($A9,Participants!$A:$E,5,FALSE)","v":"St Jude"},2,{"$f":"RANK(D9,IF(I9=2,$D$9:$D$14,),1)","v":1},1]
[102,"Lap 2","00:00:01.450","00:00:33.790",{"$f":"VLOOKUP($A10,Participants!$A:$E,4,FALSE)","v":7},{"$f":"VLOOKUP($A10,Participants!$A:$E,2,FALSE)","v":"Addie "},{"$f":"VLOOKUP($A10,Participants!$A:$E,3,FALSE)","v":"Phillips"},{"$f":"VLOOKUP($A10,Participants!$A:$E,5,FALSE)","v":"St Jude"},2,2,6]
[259,"Lap 3","00:00:01.790","00:00:35.590",{"$f":"VLOOKUP($A11,Participants!$A:$E,4,FALSE)","v":7},{"$f":"VLOOKUP($A11,Participants!$A:$E,2,FALSE)","v":"Alexandra"},{"$f":"VLOOKUP($A11,Participants!$A:$E,3,FALSE)","v":"Richardson"},{"$f":"VLOOKUP($A11,Participants!$A:$E,5,FALSE)","v":"United We Run"},2,3,10]
[264,"Lap 4","00:00:00.230","00:00:35.820",{"$f":"VLOOKUP($A12,Participants!$A:$E,4,FALSE)","v":8},{"$f":"VLOOKUP($A12,Participants!$A:$E,2,FALSE)","v":"Maggie"},{"$f":"VLOOKUP($A12,Participants!$A:$E,3,FALSE)","v":"Smith"},{"$f":"VLOOKUP($A12,Participants!$A:$E,5,FALSE)","v":"United We Run"},2,4,11]
[{"$nulls":4},{"$f":"VLOOKUP($A13,Participants!$A:$E,4,FALSE)","v":{"$error":"#N/A"}},{"$f":"VLOOKUP($A13,Participants!$A:$E,2,FALSE)","v":{"$error":"#N/A"}},{"$f":"VLOOKUP($A13,Participants!$A:$E,3,FALSE)","v":{"$error":"#N/A"}},{"$f":"VLOOKUP($A13,Participants!$A:$E,5,FALSE)","v":{"$error":"#N/A"}},2,{"$error":"#N/A"},{"$error":"#N/A"}]
[{"$nulls":4},{"$f":"VLOOKUP($A14,Participants!$A:$E,4,FALSE)","v":{"$error":"#N/A"}},{"$f":"VLOOKUP($A14,Participants!$A:$E,2,FALSE)","v":{"$error":"#N/A"}},{"$f":"VLOOKUP($A14,Participants!$A:$E,3,FALSE)","v":{"$error":"#N/A"}},{"$f":"VLOOKUP($A14,Participants!$A:$E,5,FALSE)","v":{"$error":"#N/A"}},2,{"$error":"#N/A"},{"$error":"#N/A"}]
[]
[10,"Lap 1","00:00:33.290","00:00:33.290",{"$f":"VLOOKUP($A16,Participants!$A:$E,4,FALSE)","v":8},{"$f":"VLOOKUP($A16,Participants!$A:$E,2,FALSE)","v":"Luci"},{"$f":"VLOOKUP($A16,Participants!$A:$E,3,FALSE)","v":"Ball"},{"$f":"VLOOKUP($A16,Participants!$A:$E,5,FALSE)","v":"St Jude"},3,{"$f":"RANK(D16,IF(I16=3,$D$16:$D$21,),1)","v":1},5]
[96,"Lap 2","00:00:08.300","00:00:41.590",{"$f":"VLOOKUP($A17,Participants!$A:$E,4,FALSE)","v":8},{"$f":"VLOOKUP($A17,Participants!$A:$E,2,FALSE)","v":"Elizabeth"},{"$f":"VLOOKUP($A17,Participants!$A:$E,3,FALSE)","v":"Nelson"},{"$f":"VLOOKUP($A17,Participants!$A:$E,5,FALSE)","v":"St Jude"},3,2,12]
[134,"Lap 3","00:00:04.030","00:00:45.630",{"$f":"VLOOKUP($A18,Participants!$A:$E,4,FALSE)","v":7},{"$f":"VLOOKUP($A18,Participants!$A:$E,2,FALSE)","v":"Valerie"},{"$f":"VLOOKUP($A18,Participants!$A:$E,3,FALSE)","v":"Turner"},{"$f":"VLOOKUP($A18,Participants!$A:$E,5,FALSE)","v":"St Jude"},3,3,13]
[138,"Lap 4","00:00:00.490","00:00:46.120",{"$f":"VLOOKUP($A19,Participants!$A:$E,4,FALSE)","v":7},{"$f":"VLOOKUP($A19,Participants!$A:$E,2,FALSE)","v":"Josie "},{"$f":"VLOOKUP($A19,Participants!$A:$E,3,FALSE)","v":"Wilson"},{"$f":"VLOOKUP($A19,Participants!$A:$E,5,FALSE)","v":"St Jude"},3,4,14]
[{"$nulls":4},{"$f":"VLOOKUP($A20,Participants!$A:$E,4,FALSE)","v":{"$error":"#N/A"}},{"$f":"VLOOKUP($A20,Participants!$A:$E,2,FALSE)","v":{"$error":"#N/A"}},{"$f":"VLOOKUP($A20,Participants!$A:$E,3,FALSE)","v":{"$error":"#N/A"}},{"$f":"VLOOKUP($A20,Participants!$A:$E,5,FALSE)","v":{"$error":"#N/A"}},3,{"$error":"#N/A"},{"$error":"#N/A"}]
[{"$nulls":4},{"$f":"VLOOKUP($A21,Participants!$A:$E,4,FALSE)","v":{"$error":"#N/A"}},{"$f":"VLOOKUP($A21,Participants!$A:$E,2,FALSE)","v":{"$error":"#N/A"}},{"$f":"VLOOKUP($A21,Participants!$A:$E,3,FALSE)","v":{"$error":"#N/A"}},{"$f":"VLOOKUP($A21,Participants!$A:$E,5,FALSE)","v":{"$error":"#N/A"}},3,{"$error":"#N/A"},{"$error":"#N/A"}]
[]
[{"$nulls":4},{"$f":"VLOOKUP($A23,Participants!$A:$E,4,FALSE)","v":{"$error":"#N/A"}},{"$f":"VLOOKUP($A23,Participants!$A:$E,2,FALSE)","v":{"$error":"#N/A"}},{"$f":"VLOOKUP($A23,Participants!$A:$E,3,FALSE)","v":{"$error":"#N/A"}},{"$f":"VLOOKUP($A23,Participants!$A:$E,5,FALSE)","v":{"$error":"#N/A"}},4,{"$f":"RANK(D23,IF(I23=4,$D$23:$D$28,),1)","v":{"$error":"#N/A"}},{"$error":"#N/A"}]
[{"$nulls":4},{"$f":"VLOOKUP($A24,Participants!$A:$E,4,FALSE)","v":{"$error":"#N/A"}},{"$f":"VLOOKUP($A24,Participants!$A:$E,2,FALSE)","v":{"$error":"#N/A"}},{"$f":"VLOOKUP($A24,Participants!$A:$E,3,FALSE)","v":{"$error":"#N/A"}},{"$f":"VLOOKUP($A24,Participants!$A:$E,5,FALSE)","v":{"$error":"#N/A"}},4,{"$error":"#N/A"},{"$error":"#N/A"}]
[{"$nulls":4},{"$f":"VLOOKUP($A25,Participants!$A:$E,4,FALSE)","v":{"$error":"#N/A"}},{"$f":"VLOOKUP($A25,Participants!$A:$E,2,FALSE)","v":{"$error":"#N/A"}},{"$f":"VLOOKUP($A25,Participants!$A:$E,3,FALSE)","v":{"$error":"#N/A"}},{"$f":"VLOOKUP($A25,Participants!$A:$E,5,FALSE)","v":{"$error":"#N/A"}},4,{"$error":"#N/A"},{"$error":"#N/A"}]
[{"$nulls":4},{"$f":"VLOOKUP($A26,Participants!$A:$E,4,FALSE)","v":{"$error":"#N/A"}},{"$f":"VLOOKUP($A26,Participants!$A:$E,2,FALSE)","v":{"$error":"#N/A"}},{"$f":"VLOOKUP($A26,Participants!$A:$E,3,FALSE)","v":{"$error":"#N/A"}},{"$f":"VLOOKUP($A26,Participants!$A:$E,5,FALSE)","v":{"$error":"#N/A"}},4,{"$error":"#N/A"},{"$error":"#N/A"}]
[{"$nulls":4},{"$f":"VLOOKUP($A27,Participants!$A:$E,4,FALSE)","v":{"$error":"#N/A"}},{"$f":"VLOOKUP($A27,Participants!$A:$E,2,FALSE)","v":{"$error":"#N/A"}},{"$f":"VLOOKUP($A27,Participants!$A:$E,3,FALSE)","v":{"$error":"#N/A"}},{"$f":"VLOOKUP($A27,Participants!$A:$E,5,FALSE)","v":{"$error":"#N/A"}},4,{"$error":"#N/A"},{"$error":"#N/A"}]
[{"$nulls":4},{"$f":"VLOOKUP($A28,Participants!$A:$E,4,FALSE)","v":{"$error":"#N/A"}},{"$f":"VLOOKUP($A28,Participants!$A:$E,2,FALSE)","v":{"$error":"#N/A"}},{"$f":"VLOOKUP($A28,Participants!$A:$E,3,FALSE)","v":{"$error":"#N/A"}},{"$f":"VLOOKUP($A28,Participants!$A:$E,5,FALSE)","v":{"$error":"#N/A"}},4,{"$error":"#N/A"},{"$error":"#N/A"}]
[]
[{"$nulls":4},{"$f":"VLOOKUP($A30,Participants!$A:$E,4,FALSE)","v":{"$error":"#N/A"}},{"$f":"VLOOKUP($A30,Participants!$A:$E,2,FALSE)","v":{"$error":"#N/A"}},{"$f":"VLOOKUP($A30,Participants!$A:$E,3,FALSE)","v":{"$error":"#N/A"}},{"$f":"VLOOKUP($A30,Participants!$A:$E,5,FALSE)","v":{"$error":"#N/A"}},5,{"$f":"RANK(D30,IF(I30=5,$D$30:$D$35,),1)","v":{"$error":"#N/A"}},{"$error":"#N/A"}]
[{"$nulls":4},{"$f":"VLOOKUP($A31,Participants!$A:$E,4,FALSE)","v":{"$error":"#N/A"}},{"$f":"VLOOKUP($A31,Participants!$A:$E,2,FALSE)","v":{"$error":"#N/A"}},{"$f":"VLOOKUP($A31,Participants!$A:$E,3,FALSE)","v":{"$error":"#N/A"}},{"$f":"VLOOKUP($A31,Participants!$A:$E,5,FALSE)","v":{"$error":"#N/A"}},5,{"$f":"RANK(D31,IF(I31=5,$D$30:$D$35,),1)","v":{"$error":"#N/A"}},{"$error":"#N/A"}]
[{"$nulls":4},{"$f":"VLOOKUP($A32,Participants!$A:$E,4,FALSE)","v":{"$error":"#N/A"}},{"$f":"VLOOKUP($A32,Participants!$A:$E,2,FALSE)","v":{"$error":"#N/A"}},{"$f":"VLOOKUP($A32,Participants!$A:$E,3,FALSE)","v":{"$error":"#N/A"}},{"$f":"VLOOKUP($A32,Participants!$A:$E,5,FALSE)","v":{"$error":"#N/A"}},5,{"$error":"#N/A"},{"$error":"#N/A"}]
[{"$nulls":4},{"$f":"VLOOKUP($A33,Participants!$A:$E,4,FALSE)","v":{"$error":"#N/A"}},{"$f":"VLOOKUP($A33,Participants!$A:$E,2,FALSE)","v":{"$error":"#N/A"}},{"$f":"VLOOKUP($A33,Participants!$A:$E,3,FALSE)","v":{"$error":"#N/A"}},{"$f":"VLOOKUP($A33,Participants!$A:$E,5,FALSE)","v":{"$error":"#N/A"}},5,{"$error":"#N/A"},{"$error":"#N/A"}]
[{"$nulls":4},{"$f":"VLOOKUP($A34,Participants!$A:$E,4,FALSE)","v":{"$error":"#N/A"}},{"$f":"VLOOKUP($A34,Participants!$A:$E,2,FALSE)","v":{"$error":"#N/A"}},{"$f":"VLOOKUP($A34,Participants!$A:$E,3,FALSE)","v":{"$error":"#N/A"}},{"$f":"VLOOKUP($A34,Participants!$A:$E,5,FALSE)","v":{"$error":"#N/A"}},5,{"$error":"#N/A"},{"$error":"#N/A"}]
[{"$nulls":4},{"$f":"VLOOKUP($A35,Participants!$A:$E,4,FALSE)","v":{"$error":"#N/A"}},{"$f":"VLOOKUP($A35,Participants!$A:$E,2,FALSE)","v":{"$error":"#N/A"}},{"$f":"VLOOKUP($A35,Participants!$A:$E,3,FALSE)","v":{"$error":"#N/A"}},{"$f":"VLOOKUP($A35,Participants!$A:$E,5,FALSE)","v":{"$error":"#N/A"}},5,{"$error":"#N/A"},{"$error":"#N/A"}]
[]
[{"$nulls":4},{"$f":"VLOOKUP($A37,Participants!$A:$E,4,FALSE)","v":{"$error":"#N/A"}},{"$f":"VLOOKUP($A37,Participants!$A:$E,2,FALSE)","v":{"$error":"#N/A"}},{"$f":"VLOOKUP($A37,Participants!$A:$E,3,FALSE)","v":{"$error":"#N/A"}},{"$f":"VLOOKUP($A37,Participants!$A:$E,5,FALSE)","v":{"$error":"#N/A"}},6,{"$f":"RANK(D37,IF(I37=6,$D$37:$D$42,),1)","v":{"$error":"#N/A"}},{"$error":"#N/A"}]
[{"$nulls":4},{"$f":"VLOOKUP($A38,Participants!$A:$E,4,FALSE)","v":{"$error":"#N/A"}},{"$f":"VLOOKUP($A38,Participants!$A:$E,2,FALSE)","v":{"$error":"#N/A"}},{"$f":"VLOOKUP($A38,Participants!$A:$E,3,FALSE)","v":{"$error":"#N/A"}},{"$f":"VLOOKUP($A38,Participants!$A:$E,5,FALSE)","v":{"$error":"#N/A"}},6,{"$f":"RANK(D38,IF(I38=6,$D$37:$D$42,),1)","v":{"$error":"#N/A"}},{"$error":"#N/A"}]
[{"$nulls":4},{"$f":"VLOOKUP($A39,Participants!$A:$E,4,FALSE)","v":{"$error":"#N/A"}},{"$f":"VLOOKUP($A39,Participants!$A:$E,2,FALSE)","v":{"$error":"#N/A"}},{"$f":"VLOOKUP($A39,Participants!$A:$E,3,FALSE)","v":{"$error":"#N/A"}},{"$f":"VLOOKUP($A39,Participants!$A:$E,5,FALSE)","v":{"$error":"#N/A"}},6,{"$error":"#N/A"},{"$error":"#N/A"}]
[{"$nulls":4},{"$f":"VLOOKUP($A40,Participants!$A:$E,4,FALSE)","v":{"$error":"#N/A"}},{"$f":"VLOOKUP($A40,Participants!$A:$E,2,FALSE)","v":{"$error":"#N/A"}},{"$f":"VLOOKUP($A40,Participants!$A:$E,3,FALSE)","v":{"$error":"#N/A"}},{"$f":"VLOOKUP($A40,Participants!$A:$E,5,FALSE)","v":{"$error":"#N/A"}},6,{"$error":"#N/A"},{"$error":"#N/A"}]
[{"$nulls":4},{"$f":"VLOOKUP($A41,Participants!$A:$E,4,FALSE)","v":{"$error":"#N/A"}},{"$f":"VLOOKUP($A41,Participants!$A:$E,2,FALSE)","v":{"$error":"#N/A"}},{"$f":"VLOOKUP($A41,Participants!$A:$E,3,FALSE)","v":{"$error":"#N/A"}},{"$f":"VLOOKUP($A41,Participants!$A:$E,5,FALSE)","v":{"$error":"#N/A"}},6,{"$error":"#N/A"},{"$error":"#N/A"}]
[{"$nulls":4},{"$f":"VLOOKUP($A42,Participants!$A:$E,4,FALSE)","v":{"$error":"#N/A"}},{"$f":"VLOOKUP($A42,Participants!$A:$E,2,FALSE)","v":{"$error":"#N/A"}},{"$f":"VLOOKUP($A42,Participants!$A:$E,3,FALSE)","v":{"$error":"#N/A"}},{"$f":"VLOOKUP($A42,Participants!$A:$E,5,FALSE)","v":{"$error":"#N/A"}},6,{"$error":"#N/A"},{"$error":"#N/A"}]

{"sheet":"800 Cadet Girls","index":54,"n_rows":37,"n_cols":13,"rows_kept":37}
["Bib","HeatOrder",null,"Time","Grade","FName","Lname","School","Heat","Heat Place","Overall Place",null,"Return to Schedule of Events"]
[35,"Lap 1","00:02:41.560","00:02:41.560",{"$f":"VLOOKUP($A2,Participants!$A:$E,4,FALSE)","v":8},{"$f":"VLOOKUP($A2,Participants!$A:$E,2,FALSE)","v":"Rachel"},{"$f":"VLOOKUP($A2,Participants!$A:$E,3,FALSE)","v":"Flick"},{"$f":"VLOOKUP($A2,Participants!$A:$E,5,FALSE)","v":"St Jude"},1,{"$f":"RANK(D2,IF(I2=1,$D$2:$D$32,),1)","v":1},{"$f":"RANK(D2,$D$2:$D$90,1)","v":1}]
[65,"Lap 2","00:00:10.090","00:02:51.660",{"$f":"VLOOKUP($A3,Participants!$A:$E,4,FALSE)","v":7},{"$f":"VLOOKUP($A3,Participants!$A:$E,2,FALSE)","v":"Madelyn"},{"$f":"VLOOKUP($A3,Participants!$A:$E,3,FALSE)","v":"Kitchens"},{"$f":"VLOOKUP($A3,Participants!$A:$E,5,FALSE)","v":"St Jude"},1,2,2,null,"Add or Update Participants"]
[26,"Lap 3","00:00:02.610","00:02:54.270",{"$f":"VLOOKUP($A4,Participants!$A:$E,4,FALSE)","v":7},{"$f":"VLOOKUP($A4,Participants!$A:$E,2,FALSE)","v":"Ariana"},{"$f":"VLOOKUP($A4,Participants!$A:$E,3,FALSE)","v":"Corona"},{"$f":"VLOOKUP($A4,Participants!$A:$E,5,FALSE)","v":"St Jude"},1,3,3,null,"Overall Place and Points"]
[199,"Lap 4","00:00:22.590","00:03:16.860",{"$f":"VLOOKUP($A5,Participants!$A:$E,4,FALSE)","v":7},{"$f":"VLOOKUP($A5,Participants!$A:$E,2,FALSE)","v":"Avalin"},{"$f":"VLOOKUP($A5,Participants!$A:$E,3,FALSE)","v":"Shirley"},{"$f":"VLOOKUP($A5,Participants!$A:$E,5,FALSE)","v":"SSFC"},1,4,4]
[149,"Lap 5","00:00:02.600","00:03:19.470",{"$f":"VLOOKUP($A6,Participants!$A:$E,4,FALSE)","v":7},{"$f":"VLOOKUP($A6,Participants!$A:$E,2,FALSE)","v":"Isabelle"},{"$f":"VLOOKUP($A6,Participants!$A:$E,3,FALSE)","v":"Vermillion"},{"$f":"VLOOKUP($A6,Participants!$A:$E,5,FALSE)","v":"OLG"},1,5,5]
[100,"Lap 6","00:00:01.040","00:03:20.510",{"$f":"VLOOKUP($A7,Participants!$A:$E,4,FALSE)","v":7},{"$f":"VLOOKUP($A7,Participants!$A:$E,2,FALSE)","v":"Penny "},{"$f":"VLOOKUP($A7,Participants!$A:$E,3,FALSE)","v":"Perkins"},{"$f":"VLOOKUP($A7,Participants!$A:$E,5,FALSE)","v":"St Jude"},1,6,6]
[82,"Lap 7","00:00:03.630","00:03:24.150",{"$f":"VLOOKUP($A8,Participants!$A:$E,4,FALSE)","v":7},{"$f":"VLOOKUP($A8,Participants!$A:$E,2,FALSE)","v":"Claire"},{"$f":"VLOOKUP($A8,Participants!$A:$E,3,FALSE)","v":"May"},{"$f":"VLOOKUP($A8,Participants!$A:$E,5,FALSE)","v":"St Jude"},1,7,7]
[{"$nulls":4},{"$f":"VLOOKUP($A9,Participants!$A:$E,4,FALSE)","v":{"$error":"#N/A"}},{"$f":"VLOOKUP($A9,Participants!$A:$E,2,FALSE)","v":{"$error":"#N/A"}},{"$f":"VLOOKUP($A9,Participants!$A:$E,3,FALSE)","v":{"$error":"#N/A"}},{"$f":"VLOOKUP($A9,Participants!$A:$E,5,FALSE)","v":{"$error":"#N/A"}},1,{"$error":"#N/A"},{"$error":"#N/A"}]
[{"$nulls":4},{"$f":"VLOOKUP($A10,Participants!$A:$E,4,FALSE)","v":{"$error":"#N/A"}},{"$f":"VLOOKUP($A10,Participants!$A:$E,2,FALSE)","v":{"$error":"#N/A"}},{"$f":"VLOOKUP($A10,Participants!$A:$E,3,FALSE)","v":{"$error":"#N/A"}},{"$f":"VLOOKUP($A10,Participants!$A:$E,5,FALSE)","v":{"$error":"#N/A"}},1,{"$f":"RANK(D10,IF(I10=1,$D$2:$D$32,),1)","v":{"$error":"#N/A"}},{"$f":"RANK(D10,$D$2:$D$90,1)","v":{"$error":"#N/A"}}]
[{"$nulls":4},{"$f":"VLOOKUP($A11,Participants!$A:$E,4,FALSE)","v":{"$error":"#N/A"}},{"$f":"VLOOKUP($A11,Participants!$A:$E,2,FALSE)","v":{"$error":"#N/A"}},{"$f":"VLOOKUP($A11,Participants!$A:$E,3,FALSE)","v":{"$error":"#N/A"}},{"$f":"VLOOKUP($A11,Participants!$A:$E,5,FALSE)","v":{"$error":"#N/A"}},1,{"$f":"RANK(D11,IF(I11=1,$D$2:$D$32,),1)","v":{"$error":"#N/A"}},{"$f":"RANK(D11,$D$2:$D$90,1)","v":{"$error":"#N/A"}}]
[{"$nulls":4},{"$f":"VLOOKUP($A12,Participants!$A:$E,4,FALSE)","v":{"$error":"#N/A"}},{"$f":"VLOOKUP($A12,Participants!$A:$E,2,FALSE)","v":{"$error":"#N/A"}},{"$f":"VLOOKUP($A12,Participants!$A:$E,3,FALSE)","v":{"$error":"#N/A"}},{"$f":"VLOOKUP($A12,Participants!$A:$E,5,FALSE)","v":{"$error":"#N/A"}},1,{"$error":"#N/A"},{"$error":"#N/A"}]
[{"$nulls":4},{"$f":"VLOOKUP($A13,Participants!$A:$E,4,FALSE)","v":{"$error":"#N/A"}},{"$f":"VLOOKUP($A13,Participants!$A:$E,2,FALSE)","v":{"$error":"#N/A"}},{"$f":"VLOOKUP($A13,Participants!$A:$E,3,FALSE)","v":{"$error":"#N/A"}},{"$f":"VLOOKUP($A13,Participants!$A:$E,5,FALSE)","v":{"$error":"#N/A"}},1,{"$error":"#N/A"},{"$error":"#N/A"}]
[{"$nulls":4},{"$f":"VLOOKUP($A14,Participants!$A:$E,4,FALSE)","v":{"$error":"#N/A"}},{"$f":"VLOOKUP($A14,Participants!$A:$E,2,FALSE)","v":{"$error":"#N/A"}},{"$f":"VLOOKUP($A14,Participants!$A:$E,3,FALSE)","v":{"$error":"#N/A"}},{"$f":"VLOOKUP($A14,Participants!$A:$E,5,FALSE)","v":{"$error":"#N/A"}},1,{"$error":"#N/A"},{"$error":"#N/A"}]
[{"$nulls":4},{"$f":"VLOOKUP($A15,Participants!$A:$E,4,FALSE)","v":{"$error":"#N/A"}},{"$f":"VLOOKUP($A15,Participants!$A:$E,2,FALSE)","v":{"$error":"#N/A"}},{"$f":"VLOOKUP($A15,Participants!$A:$E,3,FALSE)","v":{"$error":"#N/A"}},{"$f":"VLOOKUP($A15,Participants!$A:$E,5,FALSE)","v":{"$error":"#N/A"}},1,{"$error":"#N/A"},{"$error":"#N/A"}]
[{"$nulls":4},{"$f":"VLOOKUP($A16,Participants!$A:$E,4,FALSE)","v":{"$error":"#N/A"}},{"$f":"VLOOKUP($A16,Participants!$A:$E,2,FALSE)","v":{"$error":"#N/A"}},{"$f":"VLOOKUP($A16,Participants!$A:$E,3,FALSE)","v":{"$error":"#N/A"}},{"$f":"VLOOKUP($A16,Participants!$A:$E,5,FALSE)","v":{"$error":"#N/A"}},1,{"$error":"#N/A"},{"$error":"#N/A"}]
[{"$nulls":4},{"$f":"VLOOKUP($A17,Participants!$A:$E,4,FALSE)","v":{"$error":"#N/A"}},{"$f":"VLOOKUP($A17,Participants!$A:$E,2,FALSE)","v":{"$error":"#N/A"}},{"$f":"VLOOKUP($A17,Participants!$A:$E,3,FALSE)","v":{"$error":"#N/A"}},{"$f":"VLOOKUP($A17,Participants!$A:$E,5,FALSE)","v":{"$error":"#N/A"}},1,{"$error":"#N/A"},{"$error":"#N/A"}]
[{"$nulls":4},{"$f":"VLOOKUP($A18,Participants!$A:$E,4,FALSE)","v":{"$error":"#N/A"}},{"$f":"VLOOKUP($A18,Participants!$A:$E,2,FALSE)","v":{"$error":"#N/A"}},{"$f":"VLOOKUP($A18,Participants!$A:$E,3,FALSE)","v":{"$error":"#N/A"}},{"$f":"VLOOKUP($A18,Participants!$A:$E,5,FALSE)","v":{"$error":"#N/A"}},1,{"$error":"#N/A"},{"$error":"#N/A"}]
[{"$nulls":4},{"$f":"VLOOKUP($A19,Participants!$A:$E,4,FALSE)","v":{"$error":"#N/A"}},{"$f":"VLOOKUP($A19,Participants!$A:$E,2,FALSE)","v":{"$error":"#N/A"}},{"$f":"VLOOKUP($A19,Participants!$A:$E,3,FALSE)","v":{"$error":"#N/A"}},{"$f":"VLOOKUP($A19,Participants!$A:$E,5,FALSE)","v":{"$error":"#N/A"}},1,{"$error":"#N/A"},{"$error":"#N/A"}]
[{"$nulls":4},{"$f":"VLOOKUP($A20,Participants!$A:$E,4,FALSE)","v":{"$error":"#N/A"}},{"$f":"VLOOKUP($A20,Participants!$A:$E,2,FALSE)","v":{"$error":"#N/A"}},{"$f":"VLOOKUP($A20,Participants!$A:$E,3,FALSE)","v":{"$error":"#N/A"}},{"$f":"VLOOKUP($A20,Participants!$A:$E,5,FALSE)","v":{"$error":"#N/A"}},1,{"$error":"#N/A"},{"$error":"#N/A"}]
[{"$nulls":4},{"$f":"VLOOKUP($A21,Participants!$A:$E,4,FALSE)","v":{"$error":"#N/A"}},{"$f":"VLOOKUP($A21,Participants!$A:$E,2,FALSE)","v":{"$error":"#N/A"}},{"$f":"VLOOKUP($A21,Participants!$A:$E,3,FALSE)","v":{"$error":"#N/A"}},{"$f":"VLOOKUP($A21,Participants!$A:$E,5,FALSE)","v":{"$error":"#N/A"}},1,{"$error":"#N/A"},{"$error":"#N/A"}]
[{"$nulls":4},{"$f":"VLOOKUP($A22,Participants!$A:$E,4,FALSE)","v":{"$error":"#N/A"}},{"$f":"VLOOKUP($A22,Participants!$A:$E,2,FALSE)","v":{"$error":"#N/A"}},{"$f":"VLOOKUP($A22,Participants!$A:$E,3,FALSE)","v":{"$error":"#N/A"}},{"$f":"VLOOKUP($A22,Participants!$A:$E,5,FALSE)","v":{"$error":"#N/A"}},1,{"$error":"#N/A"},{"$error":"#N/A"}]
[{"$nulls":4},{"$f":"VLOOKUP($A23,Participants!$A:$E,4,FALSE)","v":{"$error":"#N/A"}},{"$f":"VLOOKUP($A23,Participants!$A:$E,2,FALSE)","v":{"$error":"#N/A"}},{"$f":"VLOOKUP($A23,Participants!$A:$E,3,FALSE)","v":{"$error":"#N/A"}},{"$f":"VLOOKUP($A23,Participants!$A:$E,5,FALSE)","v":{"$error":"#N/A"}},1,{"$error":"#N/A"},{"$error":"#N/A"}]
[{"$nulls":4},{"$f":"VLOOKUP($A24,Participants!$A:$E,4,FALSE)","v":{"$error":"#N/A"}},{"$f":"VLOOKUP($A24,Participants!$A:$E,2,FALSE)","v":{"$error":"#N/A"}},{"$f":"VLOOKUP($A24,Participants!$A:$E,3,FALSE)","v":{"$error":"#N/A"}},{"$f":"VLOOKUP($A24,Participants!$A:$E,5,FALSE)","v":{"$error":"#N/A"}},1,{"$error":"#N/A"},{"$error":"#N/A"}]
[{"$nulls":4},{"$f":"VLOOKUP($A25,Participants!$A:$E,4,FALSE)","v":{"$error":"#N/A"}},{"$f":"VLOOKUP($A25,Participants!$A:$E,2,FALSE)","v":{"$error":"#N/A"}},{"$f":"VLOOKUP($A25,Participants!$A:$E,3,FALSE)","v":{"$error":"#N/A"}},{"$f":"VLOOKUP($A25,Participants!$A:$E,5,FALSE)","v":{"$error":"#N/A"}},1,{"$error":"#N/A"},{"$error":"#N/A"}]
[{"$nulls":4},{"$f":"VLOOKUP($A26,Participants!$A:$E,4,FALSE)","v":{"$error":"#N/A"}},{"$f":"VLOOKUP($A26,Participants!$A:$E,2,FALSE)","v":{"$error":"#N/A"}},{"$f":"VLOOKUP($A26,Participants!$A:$E,3,FALSE)","v":{"$error":"#N/A"}},{"$f":"VLOOKUP($A26,Participants!$A:$E,5,FALSE)","v":{"$error":"#N/A"}},1,{"$error":"#N/A"},{"$error":"#N/A"}]
[{"$nulls":4},{"$f":"VLOOKUP($A27,Participants!$A:$E,4,FALSE)","v":{"$error":"#N/A"}},{"$f":"VLOOKUP($A27,Participants!$A:$E,2,FALSE)","v":{"$error":"#N/A"}},{"$f":"VLOOKUP($A27,Participants!$A:$E,3,FALSE)","v":{"$error":"#N/A"}},{"$f":"VLOOKUP($A27,Participants!$A:$E,5,FALSE)","v":{"$error":"#N/A"}},1,{"$error":"#N/A"},{"$error":"#N/A"}]
[{"$nulls":4},{"$f":"VLOOKUP($A28,Participants!$A:$E,4,FALSE)","v":{"$error":"#N/A"}},{"$f":"VLOOKUP($A28,Participants!$A:$E,2,FALSE)","v":{"$error":"#N/A"}},{"$f":"VLOOKUP($A28,Participants!$A:$E,3,FALSE)","v":{"$error":"#N/A"}},{"$f":"VLOOKUP($A28,Participants!$A:$E,5,FALSE)","v":{"$error":"#N/A"}},1,{"$error":"#N/A"},{"$error":"#N/A"}]
[{"$nulls":4},{"$f":"VLOOKUP($A29,Participants!$A:$E,4,FALSE)","v":{"$error":"#N/A"}},{"$f":"VLOOKUP($A29,Participants!$A:$E,2,FALSE)","v":{"$error":"#N/A"}},{"$f":"VLOOKUP($A29,Participants!$A:$E,3,FALSE)","v":{"$error":"#N/A"}},{"$f":"VLOOKUP($A29,Participants!$A:$E,5,FALSE)","v":{"$error":"#N/A"}},1,{"$error":"#N/A"},{"$error":"#N/A"}]
[{"$nulls":4},{"$f":"VLOOKUP($A30,Participants!$A:$E,4,FALSE)","v":{"$error":"#N/A"}},{"$f":"VLOOKUP($A30,Participants!$A:$E,2,FALSE)","v":{"$error":"#N/A"}},{"$f":"VLOOKUP($A30,Participants!$A:$E,3,FALSE)","v":{"$error":"#N/A"}},{"$f":"VLOOKUP($A30,Participants!$A:$E,5,FALSE)","v":{"$error":"#N/A"}},1,{"$error":"#N/A"},{"$error":"#N/A"}]
[{"$nulls":4},{"$f":"VLOOKUP($A31,Participants!$A:$E,4,FALSE)","v":{"$error":"#N/A"}},{"$f":"VLOOKUP($A31,Participants!$A:$E,2,FALSE)","v":{"$error":"#N/A"}},{"$f":"VLOOKUP($A31,Participants!$A:$E,3,FALSE)","v":{"$error":"#N/A"}},{"$f":"VLOOKUP($A31,Participants!$A:$E,5,FALSE)","v":{"$error":"#N/A"}},1,{"$error":"#N/A"},{"$error":"#N/A"}]
[{"$nulls":4},{"$f":"VLOOKUP($A32,Participants!$A:$E,4,FALSE)","v":{"$error":"#N/A"}},{"$f":"VLOOKUP($A32,Participants!$A:$E,2,FALSE)","v":{"$error":"#N/A"}},{"$f":"VLOOKUP($A32,Participants!$A:$E,3,FALSE)","v":{"$error":"#N/A"}},{"$f":"VLOOKUP($A32,Participants!$A:$E,5,FALSE)","v":{"$error":"#N/A"}},1,{"$f":"RANK(D32,IF(I32=1,$D$2:$D$32,),1)","v":{"$error":"#N/A"}},{"$f":"RANK(D32,$D$2:$D$90,1)","v":{"$error":"#N/A"}}]
[{"$nulls":4},{"$f":"VLOOKUP($A33,Participants!$A:$E,4,FALSE)","v":{"$error":"#N/A"}},{"$f":"VLOOKUP($A33,Participants!$A:$E,2,FALSE)","v":{"$error":"#N/A"}},{"$f":"VLOOKUP($A33,Participants!$A:$E,3,FALSE)","v":{"$error":"#N/A"}},{"$f":"VLOOKUP($A33,Participants!$A:$E,5,FALSE)","v":{"$error":"#N/A"}},1,{"$error":"#N/A"},{"$error":"#N/A"}]
[{"$nulls":4},{"$f":"VLOOKUP($A34,Participants!$A:$E,4,FALSE)","v":{"$error":"#N/A"}},{"$f":"VLOOKUP($A34,Participants!$A:$E,2,FALSE)","v":{"$error":"#N/A"}},{"$f":"VLOOKUP($A34,Participants!$A:$E,3,FALSE)","v":{"$error":"#N/A"}},{"$f":"VLOOKUP($A34,Participants!$A:$E,5,FALSE)","v":{"$error":"#N/A"}},1,{"$error":"#N/A"},{"$error":"#N/A"}]
[{"$nulls":4},{"$f":"VLOOKUP($A35,Participants!$A:$E,4,FALSE)","v":{"$error":"#N/A"}},{"$f":"VLOOKUP($A35,Participants!$A:$E,2,FALSE)","v":{"$error":"#N/A"}},{"$f":"VLOOKUP($A35,Participants!$A:$E,3,FALSE)","v":{"$error":"#N/A"}},{"$f":"VLOOKUP($A35,Participants!$A:$E,5,FALSE)","v":{"$error":"#N/A"}},1,{"$error":"#N/A"},{"$error":"#N/A"}]
[{"$nulls":4},{"$f":"VLOOKUP($A36,Participants!$A:$E,4,FALSE)","v":{"$error":"#N/A"}},{"$f":"VLOOKUP($A36,Participants!$A:$E,2,FALSE)","v":{"$error":"#N/A"}},{"$f":"VLOOKUP($A36,Participants!$A:$E,3,FALSE)","v":{"$error":"#N/A"}},{"$f":"VLOOKUP($A36,Participants!$A:$E,5,FALSE)","v":{"$error":"#N/A"}},1,{"$error":"#N/A"},{"$error":"#N/A"}]
[{"$nulls":4},{"$f":"VLOOKUP($A37,Participants!$A:$E,4,FALSE)","v":{"$error":"#N/A"}},{"$f":"VLOOKUP($A37,Participants!$A:$E,2,FALSE)","v":{"$error":"#N/A"}},{"$f":"VLOOKUP($A37,Participants!$A:$E,3,FALSE)","v":{"$error":"#N/A"}},{"$f":"VLOOKUP($A37,Participants!$A:$E,5,FALSE)","v":{"$error":"#N/A"}},1,{"$error":"#N/A"},{"$error":"#N/A"}]

{"sheet":"100 Cadet Girls","index":55,"n_rows":63,"n_cols":13,"rows_kept":63}
["Bib","HeatOrder",null,"Time","Grade","FName","Lname","School","Heat","Heat Place","Overall Place",null,"Return to Schedule of Events"]
[109,"Lap 1","00:00:15.360","00:00:15.360",{"$f":"VLOOKUP($A2,Participants!$A:$E,4,FALSE)","v":8},{"$f":"VLOOKUP($A2,Participants!$A:$E,2,FALSE)","v":"Carrianne"},{"$f":"VLOOKUP($A2,Participants!$A:$E,3,FALSE)","v":"Sabina"},{"$f":"VLOOKUP($A2,Participants!$A:$E,5,FALSE)","v":"St Jude"},1,{"$f":"RANK(D2,IF(I2=1,$D$2:$D$6,),1)","v":1},{"$f":"RANK(D2,$D$2:$D$100,1)","v":1}]
[80,"Lap 2","00:00:00.310","00:00:15.680",{"$f":"VLOOKUP($A3,Participants!$A:$E,4,FALSE)","v":7},{"$f":"VLOOKUP($A3,Participants!$A:$E,2,FALSE)","v":"Miriam"},{"$f":"VLOOKUP($A3,Participants!$A:$E,3,FALSE)","v":"Mappes"},{"$f":"VLOOKUP($A3,Participants!$A:$E,5,FALSE)","v":"St Jude"},1,{"$f":"RANK(D3,IF(I3=1,$D$2:$D$6,),1)","v":2},{"$f":"RANK(D3,$D$2:$D$100,1)","v":2},null,"Add or Update Participants"]
[221,"Lap 3","00:00:00.190","00:00:15.870",{"$f":"VLOOKUP($A4,Participants!$A:$E,4,FALSE)","v":7},{"$f":"VLOOKUP($A4,Participants!$A:$E,2,FALSE)","v":"Elly"},{"$f":"VLOOKUP($A4,Participants!$A:$E,3,FALSE)","v":"Agresta"},{"$f":"VLOOKUP($A4,Participants!$A:$E,5,FALSE)","v":"United We Run"},1,3,3,null,"Overall Place and Points"]
[189,"Lap 4","00:00:00.370","00:00:16.250",{"$f":"VLOOKUP($A5,Participants!$A:$E,4,FALSE)","v":7},{"$f":"VLOOKUP($A5,Participants!$A:$E,2,FALSE)","v":"Peyton"},{"$f":"VLOOKUP($A5,Participants!$A:$E,3,FALSE)","v":"Nalley"},{"$f":"VLOOKUP($A5,Participants!$A:$E,5,FALSE)","v":"SSFC"},1,4,7]
[234,"Lap 5","00:00:00.820","00:00:17.070",{"$f":"VLOOKUP($A6,Participants!$A:$E,4,FALSE)","v":7},{"$f":"VLOOKUP($A6,Participants!$A:$E,2,FALSE)","v":"Becca"},{"$f":"VLOOKUP($A6,Participants!$A:$E,3,FALSE)","v":"Engel"},{"$f":"VLOOKUP($A6,Participants!$A:$E,5,FALSE)","v":"United We Run"},1,5,12]
[217,"Lap 6","00:00:00.200","00:00:17.280",{"$f":"VLOOKUP($A7,Participants!$A:$E,4,FALSE)","v":7},{"$f":"VLOOKUP($A7,Participants!$A:$E,2,FALSE)","v":"Ava"},{"$f":"VLOOKUP($A7,Participants!$A:$E,3,FALSE)","v":"Young"},{"$f":"VLOOKUP($A7,Participants!$A:$E,5,FALSE)","v":"SSFC"},1,{"$error":"#N/A"},14]
[]
[10,"Lap 1","00:00:15.950","00:00:15.950",{"$f":"VLOOKUP($A9,Participants!$A:$E,4,FALSE)","v":8},{"$f":"VLOOKUP($A9,Participants!$A:$E,2,FALSE)","v":"Luci"},{"$f":"VLOOKUP($A9,Participants!$A:$E,3,FALSE)","v":"Ball"},{"$f":"VLOOKUP($A9,Participants!$A:$E,5,FALSE)","v":"St Jude"},2,{"$f":"RANK(D9,IF(I9=2,$D$9:$D$14,),1)","v":1},{"$f":"RANK(D9,$D$2:$D$100,1)","v":5}]
[8,"Lap 2","00:00:00.630","00:00:16.580",{"$f":"VLOOKUP($A10,Participants!$A:$E,4,FALSE)","v":7},{"$f":"VLOOKUP($A10,Participants!$A:$E,2,FALSE)","v":"Isabella"},{"$f":"VLOOKUP($A10,Participants!$A:$E,3,FALSE)","v":"Ball"},{"$f":"VLOOKUP($A10,Participants!$A:$E,5,FALSE)","v":"St Jude"},2,2,9]
[259,"Lap 3","00:00:00.510","00:00:17.100",{"$f":"VLOOKUP($A11,Participants!$A:$E,4,FALSE)","v":7},{"$f":"VLOOKUP($A11,Participants!$A:$E,2,FALSE)","v":"Alexandra"},{"$f":"VLOOKUP($A11,Participants!$A:$E,3,FALSE)","v":"Richardson"},{"$f":"VLOOKUP($A11,Participants!$A:$E,5,FALSE)","v":"United We Run"},2,3,13]
[264,"Lap 4","00:00:00.570","00:00:17.670",{"$f":"VLOOKUP($A12,Participants!$A:$E,4,FALSE)","v":8},{"$f":"VLOOKUP($A12,Participants!$A:$E,2,FALSE)","v":"Maggie"},{"$f":"VLOOKUP($A12,Participants!$A:$E,3,FALSE)","v":"Smith"},{"$f":"VLOOKUP($A12,Participants!$A:$E,5,FALSE)","v":"United We Run"},2,4,17]
[202,"Lap 5","00:00:01.810","00:00:19.480",{"$f":"VLOOKUP($A13,Participants!$A:$E,4,FALSE)","v":7},{"$f":"VLOOKUP($A13,Participants!$A:$E,2,FALSE)","v":"Camden"},{"$f":"VLOOKUP($A13,Participants!$A:$E,3,FALSE)","v":"Timberlake"},{"$f":"VLOOKUP($A13,Participants!$A:$E,5,FALSE)","v":"SSFC"},2,5,20]
[206,"Lap 6","00:00:00.770","00:00:20.260",{"$f":"VLOOKUP($A14,Participants!$A:$E,4,FALSE)","v":7},{"$f":"VLOOKUP($A14,Participants!$A:$E,2,FALSE)","v":"Sophia"},{"$f":"VLOOKUP($A14,Participants!$A:$E,3,FALSE)","v":"Timberlake"},{"$f":"VLOOKUP($A14,Participants!$A:$E,5,FALSE)","v":"SSFC"},2,6,21]
[]
[119,"Lap 1","00:00:15.910","00:00:15.910",{"$f":"VLOOKUP($A16,Participants!$A:$E,4,FALSE)","v":7},{"$f":"VLOOKUP($A16,Participants!$A:$E,2,FALSE)","v":"Brooklyn "},{"$f":"VLOOKUP($A16,Participants!$A:$E,3,FALSE)","v":"Seibert"},{"$f":"VLOOKUP($A16,Participants!$A:$E,5,FALSE)","v":"St Jude"},3,{"$f":"RANK(D16,IF(I16=3,$D$16:$D$21,),1)","v":1},{"$f":"RANK(D16,$D$2:$D$100,1)","v":4}]
[170,"Lap 2","00:00:00.180","00:00:16.090",{"$f":"VLOOKUP($A17,Participants!$A:$E,4,FALSE)","v":8},{"$f":"VLOOKUP($A17,Participants!$A:$E,2,FALSE)","v":"Kalie"},{"$f":"VLOOKUP($A17,Participants!$A:$E,3,FALSE)","v":"Garnel"},{"$f":"VLOOKUP($A17,Participants!$A:$E,5,FALSE)","v":"SSFC"},3,2,6]
[114,"Lap 3","00:00:00.280","00:00:16.380",8,"Sophie","Schneider","St. Jude",3,3,8]
[102,"Lap 4","00:00:00.270","00:00:16.650",{"$f":"VLOOKUP($A19,Participants!$A:$E,4,FALSE)","v":7},{"$f":"VLOOKUP($A19,Participants!$A:$E,2,FALSE)","v":"Addie "},{"$f":"VLOOKUP($A19,Participants!$A:$E,3,FALSE)","v":"Phillips"},{"$f":"VLOOKUP($A19,Participants!$A:$E,5,FALSE)","v":"St Jude"},3,4,10]
[161,"Lap 5","00:00:01.930","00:00:18.580",{"$f":"VLOOKUP($A20,Participants!$A:$E,4,FALSE)","v":8},{"$f":"VLOOKUP($A20,Participants!$A:$E,2,FALSE)","v":"Lauren"},{"$f":"VLOOKUP($A20,Participants!$A:$E,3,FALSE)","v":"Coppinger"},{"$f":"VLOOKUP($A20,Participants!$A:$E,5,FALSE)","v":"SSFC"},3,5,19]
[156,"Lap 6","00:00:03.130","00:00:21.720",{"$f":"VLOOKUP($A21,Participants!$A:$E,4,FALSE)","v":8},{"$f":"VLOOKUP($A21,Participants!$A:$E,2,FALSE)","v":"Savannah"},{"$f":"VLOOKUP($A21,Participants!$A:$E,3,FALSE)","v":"Beck"},{"$f":"VLOOKUP($A21,Participants!$A:$E,5,FALSE)","v":"SSFC"},3,6,24]
[]
[118,"Lap 1","00:00:17.050","00:00:17.050",{"$f":"VLOOKUP($A23,Participants!$A:$E,4,FALSE)","v":7},{"$f":"VLOOKUP($A23,Participants!$A:$E,2,FALSE)","v":"Lauren"},{"$f":"VLOOKUP($A23,Participants!$A:$E,3,FALSE)","v":"Schweers"},{"$f":"VLOOKUP($A23,Participants!$A:$E,5,FALSE)","v":"St Jude"},4,{"$f":"RANK(D23,IF(I23=4,$D$23:$D$28,),1)","v":1},{"$f":"RANK(D23,$D$2:$D$100,1)","v":11}]
[95,"Lap 2","00:00:00.270","00:00:17.330",{"$f":"VLOOKUP($A24,Participants!$A:$E,4,FALSE)","v":8},{"$f":"VLOOKUP($A24,Participants!$A:$E,2,FALSE)","v":"Perpetua"},{"$f":"VLOOKUP($A24,Participants!$A:$E,3,FALSE)","v":"Morey"},{"$f":"VLOOKUP($A24,Participants!$A:$E,5,FALSE)","v":"St Jude"},4,2,15]
[50,"Lap 3","00:00:00.190","00:00:17.520",{"$f":"VLOOKUP($A25,Participants!$A:$E,4,FALSE)","v":7},{"$f":"VLOOKUP($A25,Participants!$A:$E,2,FALSE)","v":"Shelby "},{"$f":"VLOOKUP($A25,Participants!$A:$E,3,FALSE)","v":"Hale"},{"$f":"VLOOKUP($A25,Participants!$A:$E,5,FALSE)","v":"St Jude"},4,3,16]
[124,"Lap 4","00:00:00.570","00:00:18.100",{"$f":"VLOOKUP($A26,Participants!$A:$E,4,FALSE)","v":7},{"$f":"VLOOKUP($A26,Participants!$A:$E,2,FALSE)","v":"Guadalupe"},{"$f":"VLOOKUP($A26,Participants!$A:$E,3,FALSE)","v":"Soberanes"},{"$f":"VLOOKUP($A26,Participants!$A:$E,5,FALSE)","v":"St Jude"},4,4,18]
[{"$nulls":4},{"$f":"VLOOKUP($A27,Participants!$A:$E,4,FALSE)","v":{"$error":"#N/A"}},{"$f":"VLOOKUP($A27,Participants!$A:$E,2,FALSE)","v":{"$error":"#N/A"}},{"$f":"VLOOKUP($A27,Participants!$A:$E,3,FALSE)","v":{"$error":"#N/A"}},{"$f":"VLOOKUP($A27,Participants!$A:$E,5,FALSE)","v":{"$error":"#N/A"}},4,{"$error":"#N/A"},{"$error":"#N/A"}]
[{"$nulls":4},{"$f":"VLOOKUP($A28,Participants!$A:$E,4,FALSE)","v":{"$error":"#N/A"}},{"$f":"VLOOKUP($A28,Participants!$A:$E,2,FALSE)","v":{"$error":"#N/A"}},{"$f":"VLOOKUP($A28,Participants!$A:$E,3,FALSE)","v":{"$error":"#N/A"}},{"$f":"VLOOKUP($A28,Participants!$A:$E,5,FALSE)","v":{"$error":"#N/A"}},4,{"$error":"#N/A"},{"$error":"#N/A"}]
[]
[96,"Lap 1","00:00:20.380","00:00:20.380",{"$f":"VLOOKUP($A30,Participants!$A:$E,4,FALSE)","v":8},{"$f":"VLOOKUP($A30,Participants!$A:$E,2,FALSE)","v":"Elizabeth"},{"$f":"VLOOKUP($A30,Participants!$A:$E,3,FALSE)","v":"Nelson"},{"$f":"VLOOKUP($A30,Participants!$A:$E,5,FALSE)","v":"St Jude"},5,{"$f":"RANK(D30,IF(I30=5,$D$30:$D$35,),1)","v":1},{"$f":"RANK(D30,$D$2:$D$100,1)","v":22}]
[134,"Lap 2","00:00:01.060","00:00:21.440",{"$f":"VLOOKUP($A31,Participants!$A:$E,4,FALSE)","v":7},{"$f":"VLOOKUP($A31,Participants!$A:$E,2,FALSE)","v":"Valerie"},{"$f":"VLOOKUP($A31,Participants!$A:$E,3,FALSE)","v":"Turner"},{"$f":"VLOOKUP($A31,Participants!$A:$E,5,FALSE)","v":"St Jude"},5,2,23]
[138,"Lap 3","00:00:00.440","00:00:21.880",{"$f":"VLOOKUP($A32,Participants!$A:$E,4,FALSE)","v":7},{"$f":"VLOOKUP($A32,Participants!$A:$E,2,FALSE)","v":"Josie "},{"$f":"VLOOKUP($A32,Participants!$A:$E,3,FALSE)","v":"Wilson"},{"$f":"VLOOKUP($A32,Participants!$A:$E,5,FALSE)","v":"St Jude"},5,3,25]
[{"$nulls":4},{"$f":"VLOOKUP($A33,Participants!$A:$E,4,FALSE)","v":{"$error":"#N/A"}},{"$f":"VLOOKUP($A33,Participants!$A:$E,2,FALSE)","v":{"$error":"#N/A"}},{"$f":"VLOOKUP($A33,Participants!$A:$E,3,FALSE)","v":{"$error":"#N/A"}},{"$f":"VLOOKUP($A33,Participants!$A:$E,5,FALSE)","v":{"$error":"#N/A"}},5,{"$error":"#N/A"},{"$error":"#N/A"}]
[{"$nulls":4},{"$f":"VLOOKUP($A34,Participants!$A:$E,4,FALSE)","v":{"$error":"#N/A"}},{"$f":"VLOOKUP($A34,Participants!$A:$E,2,FALSE)","v":{"$error":"#N/A"}},{"$f":"VLOOKUP($A34,Participants!$A:$E,3,FALSE)","v":{"$error":"#N/A"}},{"$f":"VLOOKUP($A34,Participants!$A:$E,5,FALSE)","v":{"$error":"#N/A"}},5,{"$error":"#N/A"},{"$error":"#N/A"}]
[{"$nulls":4},{"$f":"VLOOKUP($A35,Participants!$A:$E,4,FALSE)","v":{"$error":"#N/A"}},{"$f":"VLOOKUP($A35,Participants!$A:$E,2,FALSE)","v":{"$error":"#N/A"}},{"$f":"VLOOKUP($A35,Participants!$A:$E,3,FALSE)","v":{"$error":"#N/A"}},{"$f":"VLOOKUP($A35,Participants!$A:$E,5,FALSE)","v":{"$error":"#N/A"}},5,{"$error":"#N/A"},{"$error":"#N/A"}]
[]
[{"$nulls":4},{"$f":"VLOOKUP($A37,Participants!$A:$E,4,FALSE)","v":{"$error":"#N/A"}},{"$f":"VLOOKUP($A37,Participants!$A:$E,2,FALSE)","v":{"$error":"#N/A"}},{"$f":"VLOOKUP($A37,Participants!$A:$E,3,FALSE)","v":{"$error":"#N/A"}},{"$f":"VLOOKUP($A37,Participants!$A:$E,5,FALSE)","v":{"$error":"#N/A"}},6,{"$f":"RANK(D37,IF(I37=6,$D$37:$D$42,),1)","v":{"$error":"#N/A"}},{"$f":"RANK(D37,$D$2:$D$100,1)","v":{"$error":"#N/A"}}]
[{"$nulls":4},{"$f":"VLOOKUP($A38,Participants!$A:$E,4,FALSE)","v":{"$error":"#N/A"}},{"$f":"VLOOKUP($A38,Participants!$A:$E,2,FALSE)","v":{"$error":"#N/A"}},{"$f":"VLOOKUP($A38,Participants!$A:$E,3,FALSE)","v":{"$error":"#N/A"}},{"$f":"VLOOKUP($A38,Participants!$A:$E,5,FALSE)","v":{"$error":"#N/A"}},6,{"$error":"#N/A"},{"$error":"#N/A"}]
[{"$nulls":4},{"$f":"VLOOKUP($A39,Participants!$A:$E,4,FALSE)","v":{"$error":"#N/A"}},{"$f":"VLOOKUP($A39,Participants!$A:$E,2,FALSE)","v":{"$error":"#N/A"}},{"$f":"VLOOKUP($A39,Participants!$A:$E,3,FALSE)","v":{"$error":"#N/A"}},{"$f":"VLOOKUP($A39,Participants!$A:$E,5,FALSE)","v":{"$error":"#N/A"}},6,{"$error":"#N/A"},{"$error":"#N/A"}]
[{"$nulls":4},{"$f":"VLOOKUP($A40,Participants!$A:$E,4,FALSE)","v":{"$error":"#N/A"}},{"$f":"VLOOKUP($A40,Participants!$A:$E,2,FALSE)","v":{"$error":"#N/A"}},{"$f":"VLOOKUP($A40,Participants!$A:$E,3,FALSE)","v":{"$error":"#N/A"}},{"$f":"VLOOKUP($A40,Participants!$A:$E,5,FALSE)","v":{"$error":"#N/A"}},6,{"$error":"#N/A"},{"$error":"#N/A"}]
[{"$nulls":4},{"$f":"VLOOKUP($A41,Participants!$A:$E,4,FALSE)","v":{"$error":"#N/A"}},{"$f":"VLOOKUP($A41,Participants!$A:$E,2,FALSE)","v":{"$error":"#N/A"}},{"$f":"VLOOKUP($A41,Participants!$A:$E,3,FALSE)","v":{"$error":"#N/A"}},{"$f":"VLOOKUP($A41,Participants!$A:$E,5,FALSE)","v":{"$error":"#N/A"}},6,{"$error":"#N/A"},{"$error":"#N/A"}]
[{"$nulls":4},{"$f":"VLOOKUP($A42,Participants!$A:$E,4,FALSE)","v":{"$error":"#N/A"}},{"$f":"VLOOKUP($A42,Participants!$A:$E,2,FALSE)","v":{"$error":"#N/A"}},{"$f":"VLOOKUP($A42,Participants!$A:$E,3,FALSE)","v":{"$error":"#N/A"}},{"$f":"VLOOKUP($A42,Participants!$A:$E,5,FALSE)","v":{"$error":"#N/A"}},6,{"$error":"#N/A"},{"$error":"#N/A"}]
[]
[{"$nulls":4},{"$f":"VLOOKUP($A44,Participants!$A:$E,4,FALSE)","v":{"$error":"#N/A"}},{"$f":"VLOOKUP($A44,Participants!$A:$E,2,FALSE)","v":{"$error":"#N/A"}},{"$f":"VLOOKUP($A44,Participants!$A:$E,3,FALSE)","v":{"$error":"#N/A"}},{"$f":"VLOOKUP($A44,Participants!$A:$E,5,FALSE)","v":{"$error":"#N/A"}},7,{"$f":"RANK(D44,IF(I44=7,$D$44:$D$49,),1)","v":{"$error":"#N/A"}},{"$f":"RANK(D44,$D$2:$D$100,1)","v":{"$error":"#N/A"}}]
[{"$nulls":4},{"$f":"VLOOKUP($A45,Participants!$A:$E,4,FALSE)","v":{"$error":"#N/A"}},{"$f":"VLOOKUP($A45,Participants!$A:$E,2,FALSE)","v":{"$error":"#N/A"}},{"$f":"VLOOKUP($A45,Participants!$A:$E,3,FALSE)","v":{"$error":"#N/A"}},{"$f":"VLOOKUP($A45,Participants!$A:$E,5,FALSE)","v":{"$error":"#N/A"}},7,{"$error":"#N/A"},{"$error":"#N/A"}]
[{"$nulls":4},{"$f":"VLOOKUP($A46,Participants!$A:$E,4,FALSE)","v":{"$error":"#N/A"}},{"$f":"VLOOKUP($A46,Participants!$A:$E,2,FALSE)","v":{"$error":"#N/A"}},{"$f":"VLOOKUP($A46,Participants!$A:$E,3,FALSE)","v":{"$error":"#N/A"}},{"$f":"VLOOKUP($A46,Participants!$A:$E,5,FALSE)","v":{"$error":"#N/A"}},7,{"$error":"#N/A"},{"$error":"#N/A"}]
[{"$nulls":4},{"$f":"VLOOKUP($A47,Participants!$A:$E,4,FALSE)","v":{"$error":"#N/A"}},{"$f":"VLOOKUP($A47,Participants!$A:$E,2,FALSE)","v":{"$error":"#N/A"}},{"$f":"VLOOKUP($A47,Participants!$A:$E,3,FALSE)","v":{"$error":"#N/A"}},{"$f":"VLOOKUP($A47,Participants!$A:$E,5,FALSE)","v":{"$error":"#N/A"}},7,{"$error":"#N/A"},{"$error":"#N/A"}]
[{"$nulls":4},{"$f":"VLOOKUP($A48,Participants!$A:$E,4,FALSE)","v":{"$error":"#N/A"}},{"$f":"VLOOKUP($A48,Participants!$A:$E,2,FALSE)","v":{"$error":"#N/A"}},{"$f":"VLOOKUP($A48,Participants!$A:$E,3,FALSE)","v":{"$error":"#N/A"}},{"$f":"VLOOKUP($A48,Participants!$A:$E,5,FALSE)","v":{"$error":"#N/A"}},7,{"$error":"#N/A"},{"$error":"#N/A"}]
[{"$nulls":4},{"$f":"VLOOKUP($A49,Participants!$A:$E,4,FALSE)","v":{"$error":"#N/A"}},{"$f":"VLOOKUP($A49,Participants!$A:$E,2,FALSE)","v":{"$error":"#N/A"}},{"$f":"VLOOKUP($A49,Participants!$A:$E,3,FALSE)","v":{"$error":"#N/A"}},{"$f":"VLOOKUP($A49,Participants!$A:$E,5,FALSE)","v":{"$error":"#N/A"}},7,{"$error":"#N/A"},{"$error":"#N/A"}]
[]
[{"$nulls":4},{"$f":"VLOOKUP($A51,Participants!$A:$E,4,FALSE)","v":{"$error":"#N/A"}},{"$f":"VLOOKUP($A51,Participants!$A:$E,2,FALSE)","v":{"$error":"#N/A"}},{"$f":"VLOOKUP($A51,Participants!$A:$E,3,FALSE)","v":{"$error":"#N/A"}},{"$f":"VLOOKUP($A51,Participants!$A:$E,5,FALSE)","v":{"$error":"#N/A"}},8,{"$f":"RANK(D51,IF(I51=8,$D$51:$D$56,),1)","v":{"$error":"#N/A"}},{"$f":"RANK(D51,$D$2:$D$100,1)","v":{"$error":"#N/A"}}]
[{"$nulls":4},{"$f":"VLOOKUP($A52,Participants!$A:$E,4,FALSE)","v":{"$error":"#N/A"}},{"$f":"VLOOKUP($A52,Participants!$A:$E,2,FALSE)","v":{"$error":"#N/A"}},{"$f":"VLOOKUP($A52,Participants!$A:$E,3,FALSE)","v":{"$error":"#N/A"}},{"$f":"VLOOKUP($A52,Participants!$A:$E,5,FALSE)","v":{"$error":"#N/A"}},8,{"$error":"#N/A"},{"$error":"#N/A"}]
[{"$nulls":4},{"$f":"VLOOKUP($A53,Participants!$A:$E,4,FALSE)","v":{"$error":"#N/A"}},{"$f":"VLOOKUP($A53,Participants!$A:$E,2,FALSE)","v":{"$error":"#N/A"}},{"$f":"VLOOKUP($A53,Participants!$A:$E,3,FALSE)","v":{"$error":"#N/A"}},{"$f":"VLOOKUP($A53,Participants!$A:$E,5,FALSE)","v":{"$error":"#N/A"}},8,{"$error":"#N/A"},{"$error":"#N/A"}]
[{"$nulls":4},{"$f":"VLOOKUP($A54,Participants!$A:$E,4,FALSE)","v":{"$error":"#N/A"}},{"$f":"VLOOKUP($A54,Participants!$A:$E,2,FALSE)","v":{"$error":"#N/A"}},{"$f":"VLOOKUP($A54,Participants!$A:$E,3,FALSE)","v":{"$error":"#N/A"}},{"$f":"VLOOKUP($A54,Participants!$A:$E,5,FALSE)","v":{"$error":"#N/A"}},8,{"$error":"#N/A"},{"$error":"#N/A"}]
[{"$nulls":4},{"$f":"VLOOKUP($A55,Participants!$A:$E,4,FALSE)","v":{"$error":"#N/A"}},{"$f":"VLOOKUP($A55,Participants!$A:$E,2,FALSE)","v":{"$error":"#N/A"}},{"$f":"VLOOKUP($A55,Participants!$A:$E,3,FALSE)","v":{"$error":"#N/A"}},{"$f":"VLOOKUP($A55,Participants!$A:$E,5,FALSE)","v":{"$error":"#N/A"}},8,{"$error":"#N/A"},{"$error":"#N/A"}]
[{"$nulls":4},{"$f":"VLOOKUP($A56,Participants!$A:$E,4,FALSE)","v":{"$error":"#N/A"}},{"$f":"VLOOKUP($A56,Participants!$A:$E,2,FALSE)","v":{"$error":"#N/A"}},{"$f":"VLOOKUP($A56,Participants!$A:$E,3,FALSE)","v":{"$error":"#N/A"}},{"$f":"VLOOKUP($A56,Participants!$A:$E,5,FALSE)","v":{"$error":"#N/A"}},8,{"$error":"#N/A"},{"$error":"#N/A"}]
[]
[{"$nulls":4},{"$f":"VLOOKUP($A58,Participants!$A:$E,4,FALSE)","v":{"$error":"#N/A"}},{"$f":"VLOOKUP($A58,Participants!$A:$E,2,FALSE)","v":{"$error":"#N/A"}},{"$f":"VLOOKUP($A58,Participants!$A:$E,3,FALSE)","v":{"$error":"#N/A"}},{"$f":"VLOOKUP($A58,Participants!$A:$E,5,FALSE)","v":{"$error":"#N/A"}},9,{"$f":"RANK(D58,IF(I58=9,$D$58:$D$63,),1)","v":{"$error":"#N/A"}},{"$f":"RANK(D58,$D$2:$D$100,1)","v":{"$error":"#N/A"}}]
[{"$nulls":4},{"$f":"VLOOKUP($A59,Participants!$A:$E,4,FALSE)","v":{"$error":"#N/A"}},{"$f":"VLOOKUP($A59,Participants!$A:$E,2,FALSE)","v":{"$error":"#N/A"}},{"$f":"VLOOKUP($A59,Participants!$A:$E,3,FALSE)","v":{"$error":"#N/A"}},{"$f":"VLOOKUP($A59,Participants!$A:$E,5,FALSE)","v":{"$error":"#N/A"}},9,{"$error":"#N/A"},{"$error":"#N/A"}]
[{"$nulls":4},{"$f":"VLOOKUP($A60,Participants!$A:$E,4,FALSE)","v":{"$error":"#N/A"}},{"$f":"VLOOKUP($A60,Participants!$A:$E,2,FALSE)","v":{"$error":"#N/A"}},{"$f":"VLOOKUP($A60,Participants!$A:$E,3,FALSE)","v":{"$error":"#N/A"}},{"$f":"VLOOKUP($A60,Participants!$A:$E,5,FALSE)","v":{"$error":"#N/A"}},9,{"$error":"#N/A"},{"$error":"#N/A"}]
[{"$nulls":4},{"$f":"VLOOKUP($A61,Participants!$A:$E,4,FALSE)","v":{"$error":"#N/A"}},{"$f":"VLOOKUP($A61,Participants!$A:$E,2,FALSE)","v":{"$error":"#N/A"}},{"$f":"VLOOKUP($A61,Participants!$A:$E,3,FALSE)","v":{"$error":"#N/A"}},{"$f":"VLOOKUP($A61,Participants!$A:$E,5,FALSE)","v":{"$error":"#N/A"}},9,{"$error":"#N/A"},{"$error":"#N/A"}]
[{"$nulls":4},{"$f":"VLOOKUP($A62,Participants!$A:$E,4,FALSE)","v":{"$error":"#N/A"}},{"$f":"VLOOKUP($A62,Participants!$A:$E,2,FALSE)","v":{"$error":"#N/A"}},{"$f":"VLOOKUP($A62,Participants!$A:$E,3,FALSE)","v":{"$error":"#N/A"}},{"$f":"VLOOKUP($A62,Participants!$A:$E,5,FALSE)","v":{"$error":"#N/A"}},9,{"$error":"#N/A"},{"$error":"#N/A"}]
[{"$nulls":4},{"$f":"VLOOKUP($A63,Participants!$A:$E,4,FALSE)","v":{"$error":"#N/A"}},{"$f":"VLOOKUP($A63,Participants!$A:$E,2,FALSE)","v":{"$error":"#N/A"}},{"$f":"VLOOKUP($A63,Participants!$A:$E,3,FALSE)","v":{"$error":"#N/A"}},{"$f":"VLOOKUP($A63,Participants!$A:$E,5,FALSE)","v":{"$error":"#N/A"}},9,{"$error":"#N/A"},{"$error":"#N/A"}]

{"sheet":"Shotput Cadet Girls","index":56,"n_rows":98,"n_cols":13,"rows_kept":98}
["Bib","Best Jump\n\nwill calculate\nautomatically","First Jump\n\nEnter 10 ft 3 3/4 in as 1003.75","Second Jump\n\nEnter 10 ft 3 3/4 in as 1003.75","Third Jump\n\nEnter 10 ft 3 3/4 in as 1003.75","Grade","FName","Lname","School","Overall Place",null,null,"Return to Schedule of Events"]
[238,{"$f":"MAX(C2:E2)","v":1800.5},1800.5,null,null,{"$f":"VLOOKUP($A2,Participants!$A:$E,4,FALSE)","v":8},{"$f":"VLOOKUP($A2,Participants!$A:$E,2,FALSE)","v":"Sara"},{"$f":"VLOOKUP($A2,Participants!$A:$E,3,FALSE)","v":"Geier"},{"$f":"VLOOKUP($A2,Participants!$A:$E,5,FALSE)","v":"United We Run"},{"$f":"RANK(B2,$B$1:$B$97,0)","v":11}]
[227,{"$f":"MAX(C3:E3)","v":2107},2107,null,null,{"$f":"VLOOKUP($A3,Participants!$A:$E,4,FALSE)","v":8},{"$f":"VLOOKUP($A3,Participants!$A:$E,2,FALSE)","v":"Keira"},{"$f":"VLOOKUP($A3,Participants!$A:$E,3,FALSE)","v":"Chester"},{"$f":"VLOOKUP($A3,Participants!$A:$E,5,FALSE)","v":"United We Run"},{"$f":"RANK(B3,$B$1:$B$97,0)","v":3},null,null,"Add or Update Participants"]
[226,1804,1804,null,null,{"$f":"VLOOKUP($A4,Participants!$A:$E,4,FALSE)","v":8},{"$f":"VLOOKUP($A4,Participants!$A:$E,2,FALSE)","v":"Samantha"},{"$f":"VLOOKUP($A4,Participants!$A:$E,3,FALSE)","v":"Cereceres"},{"$f":"VLOOKUP($A4,Participants!$A:$E,5,FALSE)","v":"United We Run"},9,null,null,"Overall Place and Points"]
[256,2009.5,2009.5,null,null,{"$f":"VLOOKUP($A5,Participants!$A:$E,4,FALSE)","v":8},{"$f":"VLOOKUP($A5,Participants!$A:$E,2,FALSE)","v":"Gabrielle"},{"$f":"VLOOKUP($A5,Participants!$A:$E,3,FALSE)","v":"Price"},{"$f":"VLOOKUP($A5,Participants!$A:$E,5,FALSE)","v":"United We Run"},5]
[109,2207,2207,null,null,{"$f":"VLOOKUP($A6,Participants!$A:$E,4,FALSE)","v":8},{"$f":"VLOOKUP($A6,Participants!$A:$E,2,FALSE)","v":"Carrianne"},{"$f":"VLOOKUP($A6,Participants!$A:$E,3,FALSE)","v":"Sabina"},{"$f":"VLOOKUP($A6,Participants!$A:$E,5,FALSE)","v":"St Jude"},1]
[7,2203.5,2203.5,null,null,{"$f":"VLOOKUP($A7,Participants!$A:$E,4,FALSE)","v":7},{"$f":"VLOOKUP($A7,Participants!$A:$E,2,FALSE)","v":"Elise"},{"$f":"VLOOKUP($A7,Participants!$A:$E,3,FALSE)","v":"Baker"},{"$f":"VLOOKUP($A7,Participants!$A:$E,5,FALSE)","v":"St Jude"},2]
[96,1902,1902,null,null,{"$f":"VLOOKUP($A8,Participants!$A:$E,4,FALSE)","v":8},{"$f":"VLOOKUP($A8,Participants!$A:$E,2,FALSE)","v":"Elizabeth"},{"$f":"VLOOKUP($A8,Participants!$A:$E,3,FALSE)","v":"Nelson"},{"$f":"VLOOKUP($A8,Participants!$A:$E,5,FALSE)","v":"St Jude"},7]
[170,1804,1804,null,null,{"$f":"VLOOKUP($A9,Participants!$A:$E,4,FALSE)","v":8},{"$f":"VLOOKUP($A9,Participants!$A:$E,2,FALSE)","v":"Kalie"},{"$f":"VLOOKUP($A9,Participants!$A:$E,3,FALSE)","v":"Garnel"},{"$f":"VLOOKUP($A9,Participants!$A:$E,5,FALSE)","v":"SSFC"},9]
[156,2102,2102,null,null,{"$f":"VLOOKUP($A10,Participants!$A:$E,4,FALSE)","v":8},{"$f":"VLOOKUP($A10,Participants!$A:$E,2,FALSE)","v":"Savannah"},{"$f":"VLOOKUP($A10,Participants!$A:$E,3,FALSE)","v":"Beck"},{"$f":"VLOOKUP($A10,Participants!$A:$E,5,FALSE)","v":"SSFC"},4]
[161,1805,1805,null,null,{"$f":"VLOOKUP($A11,Participants!$A:$E,4,FALSE)","v":8},{"$f":"VLOOKUP($A11,Participants!$A:$E,2,FALSE)","v":"Lauren"},{"$f":"VLOOKUP($A11,Participants!$A:$E,3,FALSE)","v":"Coppinger"},{"$f":"VLOOKUP($A11,Participants!$A:$E,5,FALSE)","v":"SSFC"},8]
[50,2004,2004,null,null,{"$f":"VLOOKUP($A12,Participants!$A:$E,4,FALSE)","v":7},{"$f":"VLOOKUP($A12,Participants!$A:$E,2,FALSE)","v":"Shelby "},{"$f":"VLOOKUP($A12,Participants!$A:$E,3,FALSE)","v":"Hale"},{"$f":"VLOOKUP($A12,Participants!$A:$E,5,FALSE)","v":"St Jude"},6]
[null,0,{"$nulls":3},{"$f":"VLOOKUP($A13,Participants!$A:$E,4,FALSE)","v":{"$error":"#N/A"}},{"$f":"VLOOKUP($A13,Participants!$A:$E,2,FALSE)","v":{"$error":"#N/A"}},{"$f":"VLOOKUP($A13,Participants!$A:$E,3,FALSE)","v":{"$error":"#N/A"}},{"$f":"VLOOKUP($A13,Participants!$A:$E,5,FALSE)","v":{"$error":"#N/A"}},12]
[null,0,{"$nulls":3},{"$f":"VLOOKUP($A14,Participants!$A:$E,4,FALSE)","v":{"$error":"#N/A"}},{"$f":"VLOOKUP($A14,Participants!$A:$E,2,FALSE)","v":{"$error":"#N/A"}},{"$f":"VLOOKUP($A14,Participants!$A:$E,3,FALSE)","v":{"$error":"#N/A"}},{"$f":"VLOOKUP($A14,Participants!$A:$E,5,FALSE)","v":{"$error":"#N/A"}},12]
[null,0,{"$nulls":3},{"$f":"VLOOKUP($A15,Participants!$A:$E,4,FALSE)","v":{"$error":"#N/A"}},{"$f":"VLOOKUP($A15,Participants!$A:$E,2,FALSE)","v":{"$error":"#N/A"}},{"$f":"VLOOKUP($A15,Participants!$A:$E,3,FALSE)","v":{"$error":"#N/A"}},{"$f":"VLOOKUP($A15,Participants!$A:$E,5,FALSE)","v":{"$error":"#N/A"}},12]
[null,0,{"$nulls":3},{"$f":"VLOOKUP($A16,Participants!$A:$E,4,FALSE)","v":{"$error":"#N/A"}},{"$f":"VLOOKUP($A16,Participants!$A:$E,2,FALSE)","v":{"$error":"#N/A"}},{"$f":"VLOOKUP($A16,Participants!$A:$E,3,FALSE)","v":{"$error":"#N/A"}},{"$f":"VLOOKUP($A16,Participants!$A:$E,5,FALSE)","v":{"$error":"#N/A"}},12]
[null,0,{"$nulls":3},{"$f":"VLOOKUP($A17,Participants!$A:$E,4,FALSE)","v":{"$error":"#N/A"}},{"$f":"VLOOKUP($A17,Participants!$A:$E,2,FALSE)","v":{"$error":"#N/A"}},{"$f":"VLOOKUP($A17,Participants!$A:$E,3,FALSE)","v":{"$error":"#N/A"}},{"$f":"VLOOKUP($A17,Participants!$A:$E,5,FALSE)","v":{"$error":"#N/A"}},12]
[null,0,{"$nulls":3},{"$f":"VLOOKUP($A18,Participants!$A:$E,4,FALSE)","v":{"$error":"#N/A"}},{"$f":"VLOOKUP($A18,Participants!$A:$E,2,FALSE)","v":{"$error":"#N/A"}},{"$f":"VLOOKUP($A18,Participants!$A:$E,3,FALSE)","v":{"$error":"#N/A"}},{"$f":"VLOOKUP($A18,Participants!$A:$E,5,FALSE)","v":{"$error":"#N/A"}},12]
[null,0,{"$nulls":3},{"$f":"VLOOKUP($A19,Participants!$A:$E,4,FALSE)","v":{"$error":"#N/A"}},{"$f":"VLOOKUP($A19,Participants!$A:$E,2,FALSE)","v":{"$error":"#N/A"}},{"$f":"VLOOKUP($A19,Participants!$A:$E,3,FALSE)","v":{"$error":"#N/A"}},{"$f":"VLOOKUP($A19,Participants!$A:$E,5,FALSE)","v":{"$error":"#N/A"}},12]
[null,0,{"$nulls":3},{"$f":"VLOOKUP($A20,Participants!$A:$E,4,FALSE)","v":{"$error":"#N/A"}},{"$f":"VLOOKUP($A20,Participants!$A:$E,2,FALSE)","v":{"$error":"#N/A"}},{"$f":"VLOOKUP($A20,Participants!$A:$E,3,FALSE)","v":{"$error":"#N/A"}},{"$f":"VLOOKUP($A20,Participants!$A:$E,5,FALSE)","v":{"$error":"#N/A"}},12]
[null,0,{"$nulls":3},{"$f":"VLOOKUP($A21,Participants!$A:$E,4,FALSE)","v":{"$error":"#N/A"}},{"$f":"VLOOKUP($A21,Participants!$A:$E,2,FALSE)","v":{"$error":"#N/A"}},{"$f":"VLOOKUP($A21,Participants!$A:$E,3,FALSE)","v":{"$error":"#N/A"}},{"$f":"VLOOKUP($A21,Participants!$A:$E,5,FALSE)","v":{"$error":"#N/A"}},12]
[null,0,{"$nulls":3},{"$f":"VLOOKUP($A22,Participants!$A:$E,4,FALSE)","v":{"$error":"#N/A"}},{"$f":"VLOOKUP($A22,Participants!$A:$E,2,FALSE)","v":{"$error":"#N/A"}},{"$f":"VLOOKUP($A22,Participants!$A:$E,3,FALSE)","v":{"$error":"#N/A"}},{"$f":"VLOOKUP($A22,Participants!$A:$E,5,FALSE)","v":{"$error":"#N/A"}},12]
[null,0,{"$nulls":3},{"$f":"VLOOKUP($A23,Participants!$A:$E,4,FALSE)","v":{"$error":"#N/A"}},{"$f":"VLOOKUP($A23,Participants!$A:$E,2,FALSE)","v":{"$error":"#N/A"}},{"$f":"VLOOKUP($A23,Participants!$A:$E,3,FALSE)","v":{"$error":"#N/A"}},{"$f":"VLOOKUP($A23,Participants!$A:$E,5,FALSE)","v":{"$error":"#N/A"}},12]
[null,0,{"$nulls":3},{"$f":"VLOOKUP($A24,Participants!$A:$E,4,FALSE)","v":{"$error":"#N/A"}},{"$f":"VLOOKUP($A24,Participants!$A:$E,2,FALSE)","v":{"$error":"#N/A"}},{"$f":"VLOOKUP($A24,Participants!$A:$E,3,FALSE)","v":{"$error":"#N/A"}},{"$f":"VLOOKUP($A24,Participants!$A:$E,5,FALSE)","v":{"$error":"#N/A"}},12]
[null,0,{"$nulls":3},{"$f":"VLOOKUP($A25,Participants!$A:$E,4,FALSE)","v":{"$error":"#N/A"}},{"$f":"VLOOKUP($A25,Participants!$A:$E,2,FALSE)","v":{"$error":"#N/A"}},{"$f":"VLOOKUP($A25,Participants!$A:$E,3,FALSE)","v":{"$error":"#N/A"}},{"$f":"VLOOKUP($A25,Participants!$A:$E,5,FALSE)","v":{"$error":"#N/A"}},12]
[null,0,{"$nulls":3},{"$f":"VLOOKUP($A26,Participants!$A:$E,4,FALSE)","v":{"$error":"#N/A"}},{"$f":"VLOOKUP($A26,Participants!$A:$E,2,FALSE)","v":{"$error":"#N/A"}},{"$f":"VLOOKUP($A26,Participants!$A:$E,3,FALSE)","v":{"$error":"#N/A"}},{"$f":"VLOOKUP($A26,Participants!$A:$E,5,FALSE)","v":{"$error":"#N/A"}},12]
[null,0,{"$nulls":3},{"$f":"VLOOKUP($A27,Participants!$A:$E,4,FALSE)","v":{"$error":"#N/A"}},{"$f":"VLOOKUP($A27,Participants!$A:$E,2,FALSE)","v":{"$error":"#N/A"}},{"$f":"VLOOKUP($A27,Participants!$A:$E,3,FALSE)","v":{"$error":"#N/A"}},{"$f":"VLOOKUP($A27,Participants!$A:$E,5,FALSE)","v":{"$error":"#N/A"}},12]
[null,0,{"$nulls":3},{"$f":"VLOOKUP($A28,Participants!$A:$E,4,FALSE)","v":{"$error":"#N/A"}},{"$f":"VLOOKUP($A28,Participants!$A:$E,2,FALSE)","v":{"$error":"#N/A"}},{"$f":"VLOOKUP($A28,Participants!$A:$E,3,FALSE)","v":{"$error":"#N/A"}},{"$f":"VLOOKUP($A28,Participants!$A:$E,5,FALSE)","v":{"$error":"#N/A"}},12]
[null,0,{"$nulls":3},{"$f":"VLOOKUP($A29,Participants!$A:$E,4,FALSE)","v":{"$error":"#N/A"}},{"$f":"VLOOKUP($A29,Participants!$A:$E,2,FALSE)","v":{"$error":"#N/A"}},{"$f":"VLOOKUP($A29,Participants!$A:$E,3,FALSE)","v":{"$error":"#N/A"}},{"$f":"VLOOKUP($A29,Participants!$A:$E,5,FALSE)","v":{"$error":"#N/A"}},12]
[null,0,{"$nulls":3},{"$f":"VLOOKUP($A30,Participants!$A:$E,4,FALSE)","v":{"$error":"#N/A"}},{"$f":"VLOOKUP($A30,Participants!$A:$E,2,FALSE)","v":{"$error":"#N/A"}},{"$f":"VLOOKUP($A30,Participants!$A:$E,3,FALSE)","v":{"$error":"#N/A"}},{"$f":"VLOOKUP($A30,Participants!$A:$E,5,FALSE)","v":{"$error":"#N/A"}},12]
[null,0,{"$nulls":3},{"$f":"VLOOKUP($A31,Participants!$A:$E,4,FALSE)","v":{"$error":"#N/A"}},{"$f":"VLOOKUP($A31,Participants!$A:$E,2,FALSE)","v":{"$error":"#N/A"}},{"$f":"VLOOKUP($A31,Participants!$A:$E,3,FALSE)","v":{"$error":"#N/A"}},{"$f":"VLOOKUP($A31,Participants!$A:$E,5,FALSE)","v":{"$error":"#N/A"}},12]
[null,0,{"$nulls":3},{"$f":"VLOOKUP($A32,Participants!$A:$E,4,FALSE)","v":{"$error":"#N/A"}},{"$f":"VLOOKUP($A32,Participants!$A:$E,2,FALSE)","v":{"$error":"#N/A"}},{"$f":"VLOOKUP($A32,Participants!$A:$E,3,FALSE)","v":{"$error":"#N/A"}},{"$f":"VLOOKUP($A32,Participants!$A:$E,5,FALSE)","v":{"$error":"#N/A"}},12]
[null,0,{"$nulls":3},{"$f":"VLOOKUP($A33,Participants!$A:$E,4,FALSE)","v":{"$error":"#N/A"}},{"$f":"VLOOKUP($A33,Participants!$A:$E,2,FALSE)","v":{"$error":"#N/A"}},{"$f":"VLOOKUP($A33,Participants!$A:$E,3,FALSE)","v":{"$error":"#N/A"}},{"$f":"VLOOKUP($A33,Participants!$A:$E,5,FALSE)","v":{"$error":"#N/A"}},12]
[null,0,{"$nulls":3},{"$f":"VLOOKUP($A34,Participants!$A:$E,4,FALSE)","v":{"$error":"#N/A"}},{"$f":"VLOOKUP($A34,Participants!$A:$E,2,FALSE)","v":{"$error":"#N/A"}},{"$f":"VLOOKUP($A34,Participants!$A:$E,3,FALSE)","v":{"$error":"#N/A"}},{"$f":"VLOOKUP($A34,Participants!$A:$E,5,FALSE)","v":{"$error":"#N/A"}},12]
[null,0,{"$nulls":3},{"$f":"VLOOKUP($A35,Participants!$A:$E,4,FALSE)","v":{"$error":"#N/A"}},{"$f":"VLOOKUP($A35,Participants!$A:$E,2,FALSE)","v":{"$error":"#N/A"}},{"$f":"VLOOKUP($A35,Participants!$A:$E,3,FALSE)","v":{"$error":"#N/A"}},{"$f":"VLOOKUP($A35,Participants!$A:$E,5,FALSE)","v":{"$error":"#N/A"}},12]
[null,0,{"$nulls":3},{"$f":"VLOOKUP($A36,Participants!$A:$E,4,FALSE)","v":{"$error":"#N/A"}},{"$f":"VLOOKUP($A36,Participants!$A:$E,2,FALSE)","v":{"$error":"#N/A"}},{"$f":"VLOOKUP($A36,Participants!$A:$E,3,FALSE)","v":{"$error":"#N/A"}},{"$f":"VLOOKUP($A36,Participants!$A:$E,5,FALSE)","v":{"$error":"#N/A"}},12]
[null,0,{"$nulls":3},{"$f":"VLOOKUP($A37,Participants!$A:$E,4,FALSE)","v":{"$error":"#N/A"}},{"$f":"VLOOKUP($A37,Participants!$A:$E,2,FALSE)","v":{"$error":"#N/A"}},{"$f":"VLOOKUP($A37,Participants!$A:$E,3,FALSE)","v":{"$error":"#N/A"}},{"$f":"VLOOKUP($A37,Participants!$A:$E,5,FALSE)","v":{"$error":"#N/A"}},12]
[null,0,{"$nulls":3},{"$f":"VLOOKUP($A38,Participants!$A:$E,4,FALSE)","v":{"$error":"#N/A"}},{"$f":"VLOOKUP($A38,Participants!$A:$E,2,FALSE)","v":{"$error":"#N/A"}},{"$f":"VLOOKUP($A38,Participants!$A:$E,3,FALSE)","v":{"$error":"#N/A"}},{"$f":"VLOOKUP($A38,Participants!$A:$E,5,FALSE)","v":{"$error":"#N/A"}},12]
[null,0,{"$nulls":3},{"$f":"VLOOKUP($A39,Participants!$A:$E,4,FALSE)","v":{"$error":"#N/A"}},{"$f":"VLOOKUP($A39,Participants!$A:$E,2,FALSE)","v":{"$error":"#N/A"}},{"$f":"VLOOKUP($A39,Participants!$A:$E,3,FALSE)","v":{"$error":"#N/A"}},{"$f":"VLOOKUP($A39,Participants!$A:$E,5,FALSE)","v":{"$error":"#N/A"}},12]
[null,0,{"$nulls":3},{"$f":"VLOOKUP($A40,Participants!$A:$E,4,FALSE)","v":{"$error":"#N/A"}},{"$f":"VLOOKUP($A40,Participants!$A:$E,2,FALSE)","v":{"$error":"#N/A"}},{"$f":"VLOOKUP($A40,Participants!$A:$E,3,FALSE)","v":{"$error":"#N/A"}},{"$f":"VLOOKUP($A40,Participants!$A:$E,5,FALSE)","v":{"$error":"#N/A"}},12]
[null,0,{"$nulls":3},{"$f":"VLOOKUP($A41,Participants!$A:$E,4,FALSE)","v":{"$error":"#N/A"}},{"$f":"VLOOKUP($A41,Participants!$A:$E,2,FALSE)","v":{"$error":"#N/A"}},{"$f":"VLOOKUP($A41,Participants!$A:$E,3,FALSE)","v":{"$error":"#N/A"}},{"$f":"VLOOKUP($A41,Participants!$A:$E,5,FALSE)","v":{"$error":"#N/A"}},12]
[null,0,{"$nulls":3},{"$f":"VLOOKUP($A42,Participants!$A:$E,4,FALSE)","v":{"$error":"#N/A"}},{"$f":"VLOOKUP($A42,Participants!$A:$E,2,FALSE)","v":{"$error":"#N/A"}},{"$f":"VLOOKUP($A42,Participants!$A:$E,3,FALSE)","v":{"$error":"#N/A"}},{"$f":"VLOOKUP($A42,Participants!$A:$E,5,FALSE)","v":{"$error":"#N/A"}},12]
[null,0,{"$nulls":3},{"$f":"VLOOKUP($A43,Participants!$A:$E,4,FALSE)","v":{"$error":"#N/A"}},{"$f":"VLOOKUP($A43,Participants!$A:$E,2,FALSE)","v":{"$error":"#N/A"}},{"$f":"VLOOKUP($A43,Participants!$A:$E,3,FALSE)","v":{"$error":"#N/A"}},{"$f":"VLOOKUP($A43,Participants!$A:$E,5,FALSE)","v":{"$error":"#N/A"}},12]
[null,0,{"$nulls":3},{"$f":"VLOOKUP($A44,Participants!$A:$E,4,FALSE)","v":{"$error":"#N/A"}},{"$f":"VLOOKUP($A44,Participants!$A:$E,2,FALSE)","v":{"$error":"#N/A"}},{"$f":"VLOOKUP($A44,Participants!$A:$E,3,FALSE)","v":{"$error":"#N/A"}},{"$f":"VLOOKUP($A44,Participants!$A:$E,5,FALSE)","v":{"$error":"#N/A"}},12]
[null,0,{"$nulls":3},{"$f":"VLOOKUP($A45,Participants!$A:$E,4,FALSE)","v":{"$error":"#N/A"}},{"$f":"VLOOKUP($A45,Participants!$A:$E,2,FALSE)","v":{"$error":"#N/A"}},{"$f":"VLOOKUP($A45,Participants!$A:$E,3,FALSE)","v":{"$error":"#N/A"}},{"$f":"VLOOKUP($A45,Participants!$A:$E,5,FALSE)","v":{"$error":"#N/A"}},12]
[null,0,{"$nulls":3},{"$f":"VLOOKUP($A46,Participants!$A:$E,4,FALSE)","v":{"$error":"#N/A"}},{"$f":"VLOOKUP($A46,Participants!$A:$E,2,FALSE)","v":{"$error":"#N/A"}},{"$f":"VLOOKUP($A46,Participants!$A:$E,3,FALSE)","v":{"$error":"#N/A"}},{"$f":"VLOOKUP($A46,Participants!$A:$E,5,FALSE)","v":{"$error":"#N/A"}},12]
[null,0,{"$nulls":3},{"$f":"VLOOKUP($A47,Participants!$A:$E,4,FALSE)","v":{"$error":"#N/A"}},{"$f":"VLOOKUP($A47,Participants!$A:$E,2,FALSE)","v":{"$error":"#N/A"}},{"$f":"VLOOKUP($A47,Participants!$A:$E,3,FALSE)","v":{"$error":"#N/A"}},{"$f":"VLOOKUP($A47,Participants!$A:$E,5,FALSE)","v":{"$error":"#N/A"}},12]
[null,0,{"$nulls":3},{"$f":"VLOOKUP($A48,Participants!$A:$E,4,FALSE)","v":{"$error":"#N/A"}},{"$f":"VLOOKUP($A48,Participants!$A:$E,2,FALSE)","v":{"$error":"#N/A"}},{"$f":"VLOOKUP($A48,Participants!$A:$E,3,FALSE)","v":{"$error":"#N/A"}},{"$f":"VLOOKUP($A48,Participants!$A:$E,5,FALSE)","v":{"$error":"#N/A"}},12]
[null,0,{"$nulls":3},{"$f":"VLOOKUP($A49,Participants!$A:$E,4,FALSE)","v":{"$error":"#N/A"}},{"$f":"VLOOKUP($A49,Participants!$A:$E,2,FALSE)","v":{"$error":"#N/A"}},{"$f":"VLOOKUP($A49,Participants!$A:$E,3,FALSE)","v":{"$error":"#N/A"}},{"$f":"VLOOKUP($A49,Participants!$A:$E,5,FALSE)","v":{"$error":"#N/A"}},12]
[null,0,{"$nulls":3},{"$f":"VLOOKUP($A50,Participants!$A:$E,4,FALSE)","v":{"$error":"#N/A"}},{"$f":"VLOOKUP($A50,Participants!$A:$E,2,FALSE)","v":{"$error":"#N/A"}},{"$f":"VLOOKUP($A50,Participants!$A:$E,3,FALSE)","v":{"$error":"#N/A"}},{"$f":"VLOOKUP($A50,Participants!$A:$E,5,FALSE)","v":{"$error":"#N/A"}},12]
[null,0,{"$nulls":3},{"$f":"VLOOKUP($A51,Participants!$A:$E,4,FALSE)","v":{"$error":"#N/A"}},{"$f":"VLOOKUP($A51,Participants!$A:$E,2,FALSE)","v":{"$error":"#N/A"}},{"$f":"VLOOKUP($A51,Participants!$A:$E,3,FALSE)","v":{"$error":"#N/A"}},{"$f":"VLOOKUP($A51,Participants!$A:$E,5,FALSE)","v":{"$error":"#N/A"}},12]
[null,0,{"$nulls":3},{"$f":"VLOOKUP($A52,Participants!$A:$E,4,FALSE)","v":{"$error":"#N/A"}},{"$f":"VLOOKUP($A52,Participants!$A:$E,2,FALSE)","v":{"$error":"#N/A"}},{"$f":"VLOOKUP($A52,Participants!$A:$E,3,FALSE)","v":{"$error":"#N/A"}},{"$f":"VLOOKUP($A52,Participants!$A:$E,5,FALSE)","v":{"$error":"#N/A"}},12]
[null,0,{"$nulls":3},{"$f":"VLOOKUP($A53,Participants!$A:$E,4,FALSE)","v":{"$error":"#N/A"}},{"$f":"VLOOKUP($A53,Participants!$A:$E,2,FALSE)","v":{"$error":"#N/A"}},{"$f":"VLOOKUP($A53,Participants!$A:$E,3,FALSE)","v":{"$error":"#N/A"}},{"$f":"VLOOKUP($A53,Participants!$A:$E,5,FALSE)","v":{"$error":"#N/A"}},12]
[null,0,{"$nulls":3},{"$f":"VLOOKUP($A54,Participants!$A:$E,4,FALSE)","v":{"$error":"#N/A"}},{"$f":"VLOOKUP($A54,Participants!$A:$E,2,FALSE)","v":{"$error":"#N/A"}},{"$f":"VLOOKUP($A54,Participants!$A:$E,3,FALSE)","v":{"$error":"#N/A"}},{"$f":"VLOOKUP($A54,Participants!$A:$E,5,FALSE)","v":{"$error":"#N/A"}},12]
[null,0,{"$nulls":3},{"$f":"VLOOKUP($A55,Participants!$A:$E,4,FALSE)","v":{"$error":"#N/A"}},{"$f":"VLOOKUP($A55,Participants!$A:$E,2,FALSE)","v":{"$error":"#N/A"}},{"$f":"VLOOKUP($A55,Participants!$A:$E,3,FALSE)","v":{"$error":"#N/A"}},{"$f":"VLOOKUP($A55,Participants!$A:$E,5,FALSE)","v":{"$error":"#N/A"}},12]
[null,0,{"$nulls":3},{"$f":"VLOOKUP($A56,Participants!$A:$E,4,FALSE)","v":{"$error":"#N/A"}},{"$f":"VLOOKUP($A56,Participants!$A:$E,2,FALSE)","v":{"$error":"#N/A"}},{"$f":"VLOOKUP($A56,Participants!$A:$E,3,FALSE)","v":{"$error":"#N/A"}},{"$f":"VLOOKUP($A56,Participants!$A:$E,5,FALSE)","v":{"$error":"#N/A"}},12]
[null,0,{"$nulls":3},{"$f":"VLOOKUP($A57,Participants!$A:$E,4,FALSE)","v":{"$error":"#N/A"}},{"$f":"VLOOKUP($A57,Participants!$A:$E,2,FALSE)","v":{"$error":"#N/A"}},{"$f":"VLOOKUP($A57,Participants!$A:$E,3,FALSE)","v":{"$error":"#N/A"}},{"$f":"VLOOKUP($A57,Participants!$A:$E,5,FALSE)","v":{"$error":"#N/A"}},12]
[null,0,{"$nulls":3},{"$f":"VLOOKUP($A58,Participants!$A:$E,4,FALSE)","v":{"$error":"#N/A"}},{"$f":"VLOOKUP($A58,Participants!$A:$E,2,FALSE)","v":{"$error":"#N/A"}},{"$f":"VLOOKUP($A58,Participants!$A:$E,3,FALSE)","v":{"$error":"#N/A"}},{"$f":"VLOOKUP($A58,Participants!$A:$E,5,FALSE)","v":{"$error":"#N/A"}},12]
[null,0,{"$nulls":3},{"$f":"VLOOKUP($A59,Participants!$A:$E,4,FALSE)","v":{"$error":"#N/A"}},{"$f":"VLOOKUP($A59,Participants!$A:$E,2,FALSE)","v":{"$error":"#N/A"}},{"$f":"VLOOKUP($A59,Participants!$A:$E,3,FALSE)","v":{"$error":"#N/A"}},{"$f":"VLOOKUP($A59,Participants!$A:$E,5,FALSE)","v":{"$error":"#N/A"}},12]
[null,0,{"$nulls":3},{"$f":"VLOOKUP($A60,Participants!$A:$E,4,FALSE)","v":{"$error":"#N/A"}},{"$f":"VLOOKUP($A60,Participants!$A:$E,2,FALSE)","v":{"$error":"#N/A"}},{"$f":"VLOOKUP($A60,Participants!$A:$E,3,FALSE)","v":{"$error":"#N/A"}},{"$f":"VLOOKUP($A60,Participants!$A:$E,5,FALSE)","v":{"$error":"#N/A"}},12]
[null,0,{"$nulls":3},{"$f":"VLOOKUP($A61,Participants!$A:$E,4,FALSE)","v":{"$error":"#N/A"}},{"$f":"VLOOKUP($A61,Participants!$A:$E,2,FALSE)","v":{"$error":"#N/A"}},{"$f":"VLOOKUP($A61,Participants!$A:$E,3,FALSE)","v":{"$error":"#N/A"}},{"$f":"VLOOKUP($A61,Participants!$A:$E,5,FALSE)","v":{"$error":"#N/A"}},12]
[null,0,{"$nulls":3},{"$f":"VLOOKUP($A62,Participants!$A:$E,4,FALSE)","v":{"$error":"#N/A"}},{"$f":"VLOOKUP($A62,Participants!$A:$E,2,FALSE)","v":{"$error":"#N/A"}},{"$f":"VLOOKUP($A62,Participants!$A:$E,3,FALSE)","v":{"$error":"#N/A"}},{"$f":"VLOOKUP($A62,Participants!$A:$E,5,FALSE)","v":{"$error":"#N/A"}},12]
[null,0,{"$nulls":3},{"$f":"VLOOKUP($A63,Participants!$A:$E,4,FALSE)","v":{"$error":"#N/A"}},{"$f":"VLOOKUP($A63,Participants!$A:$E,2,FALSE)","v":{"$error":"#N/A"}},{"$f":"VLOOKUP($A63,Participants!$A:$E,3,FALSE)","v":{"$error":"#N/A"}},{"$f":"VLOOKUP($A63,Participants!$A:$E,5,FALSE)","v":{"$error":"#N/A"}},12]
[null,0,{"$nulls":3},{"$f":"VLOOKUP($A64,Participants!$A:$E,4,FALSE)","v":{"$error":"#N/A"}},{"$f":"VLOOKUP($A64,Participants!$A:$E,2,FALSE)","v":{"$error":"#N/A"}},{"$f":"VLOOKUP($A64,Participants!$A:$E,3,FALSE)","v":{"$error":"#N/A"}},{"$f":"VLOOKUP($A64,Participants!$A:$E,5,FALSE)","v":{"$error":"#N/A"}},12]
[null,0,{"$nulls":3},{"$f":"VLOOKUP($A65,Participants!$A:$E,4,FALSE)","v":{"$error":"#N/A"}},{"$f":"VLOOKUP($A65,Participants!$A:$E,2,FALSE)","v":{"$error":"#N/A"}},{"$f":"VLOOKUP($A65,Participants!$A:$E,3,FALSE)","v":{"$error":"#N/A"}},{"$f":"VLOOKUP($A65,Participants!$A:$E,5,FALSE)","v":{"$error":"#N/A"}},12]
[null,0,{"$nulls":3},{"$f":"VLOOKUP($A66,Participants!$A:$E,4,FALSE)","v":{"$error":"#N/A"}},{"$f":"VLOOKUP($A66,Participants!$A:$E,2,FALSE)","v":{"$error":"#N/A"}},{"$f":"VLOOKUP($A66,Participants!$A:$E,3,FALSE)","v":{"$error":"#N/A"}},{"$f":"VLOOKUP($A66,Participants!$A:$E,5,FALSE)","v":{"$error":"#N/A"}},12]
[null,{"$f":"MAX(C67:E67)","v":0},{"$nulls":3},{"$f":"VLOOKUP($A67,Participants!$A:$E,4,FALSE)","v":{"$error":"#N/A"}},{"$f":"VLOOKUP($A67,Participants!$A:$E,2,FALSE)","v":{"$error":"#N/A"}},{"$f":"VLOOKUP($A67,Participants!$A:$E,3,FALSE)","v":{"$error":"#N/A"}},{"$f":"VLOOKUP($A67,Participants!$A:$E,5,FALSE)","v":{"$error":"#N/A"}},{"$f":"RANK(B67,$B$1:$B$97,0)","v":12}]
[null,0,{"$nulls":3},{"$f":"VLOOKUP($A68,Participants!$A:$E,4,FALSE)","v":{"$error":"#N/A"}},{"$f":"VLOOKUP($A68,Participants!$A:$E,2,FALSE)","v":{"$error":"#N/A"}},{"$f":"VLOOKUP($A68,Participants!$A:$E,3,FALSE)","v":{"$error":"#N/A"}},{"$f":"VLOOKUP($A68,Participants!$A:$E,5,FALSE)","v":{"$error":"#N/A"}},12]
[null,0,{"$nulls":3},{"$f":"VLOOKUP($A69,Participants!$A:$E,4,FALSE)","v":{"$error":"#N/A"}},{"$f":"VLOOKUP($A69,Participants!$A:$E,2,FALSE)","v":{"$error":"#N/A"}},{"$f":"VLOOKUP($A69,Participants!$A:$E,3,FALSE)","v":{"$error":"#N/A"}},{"$f":"VLOOKUP($A69,Participants!$A:$E,5,FALSE)","v":{"$error":"#N/A"}},12]
[null,0,{"$nulls":3},{"$f":"VLOOKUP($A70,Participants!$A:$E,4,FALSE)","v":{"$error":"#N/A"}},{"$f":"VLOOKUP($A70,Participants!$A:$E,2,FALSE)","v":{"$error":"#N/A"}},{"$f":"VLOOKUP($A70,Participants!$A:$E,3,FALSE)","v":{"$error":"#N/A"}},{"$f":"VLOOKUP($A70,Participants!$A:$E,5,FALSE)","v":{"$error":"#N/A"}},12]
[null,0,{"$nulls":3},{"$f":"VLOOKUP($A71,Participants!$A:$E,4,FALSE)","v":{"$error":"#N/A"}},{"$f":"VLOOKUP($A71,Participants!$A:$E,2,FALSE)","v":{"$error":"#N/A"}},{"$f":"VLOOKUP($A71,Participants!$A:$E,3,FALSE)","v":{"$error":"#N/A"}},{"$f":"VLOOKUP($A71,Participants!$A:$E,5,FALSE)","v":{"$error":"#N/A"}},12]
[null,0,{"$nulls":3},{"$f":"VLOOKUP($A72,Participants!$A:$E,4,FALSE)","v":{"$error":"#N/A"}},{"$f":"VLOOKUP($A72,Participants!$A:$E,2,FALSE)","v":{"$error":"#N/A"}},{"$f":"VLOOKUP($A72,Participants!$A:$E,3,FALSE)","v":{"$error":"#N/A"}},{"$f":"VLOOKUP($A72,Participants!$A:$E,5,FALSE)","v":{"$error":"#N/A"}},12]
[null,0,{"$nulls":3},{"$f":"VLOOKUP($A73,Participants!$A:$E,4,FALSE)","v":{"$error":"#N/A"}},{"$f":"VLOOKUP($A73,Participants!$A:$E,2,FALSE)","v":{"$error":"#N/A"}},{"$f":"VLOOKUP($A73,Participants!$A:$E,3,FALSE)","v":{"$error":"#N/A"}},{"$f":"VLOOKUP($A73,Participants!$A:$E,5,FALSE)","v":{"$error":"#N/A"}},12]
[null,0,{"$nulls":3},{"$f":"VLOOKUP($A74,Participants!$A:$E,4,FALSE)","v":{"$error":"#N/A"}},{"$f":"VLOOKUP($A74,Participants!$A:$E,2,FALSE)","v":{"$error":"#N/A"}},{"$f":"VLOOKUP($A74,Participants!$A:$E,3,FALSE)","v":{"$error":"#N/A"}},{"$f":"VLOOKUP($A74,Participants!$A:$E,5,FALSE)","v":{"$error":"#N/A"}},12]
[null,0,{"$nulls":3},{"$f":"VLOOKUP($A75,Participants!$A:$E,4,FALSE)","v":{"$error":"#N/A"}},{"$f":"VLOOKUP($A75,Participants!$A:$E,2,FALSE)","v":{"$error":"#N/A"}},{"$f":"VLOOKUP($A75,Participants!$A:$E,3,FALSE)","v":{"$error":"#N/A"}},{"$f":"VLOOKUP($A75,Participants!$A:$E,5,FALSE)","v":{"$error":"#N/A"}},12]
[null,0,{"$nulls":3},{"$f":"VLOOKUP($A76,Participants!$A:$E,4,FALSE)","v":{"$error":"#N/A"}},{"$f":"VLOOKUP($A76,Participants!$A:$E,2,FALSE)","v":{"$error":"#N/A"}},{"$f":"VLOOKUP($A76,Participants!$A:$E,3,FALSE)","v":{"$error":"#N/A"}},{"$f":"VLOOKUP($A76,Participants!$A:$E,5,FALSE)","v":{"$error":"#N/A"}},12]
[null,0,{"$nulls":3},{"$f":"VLOOKUP($A77,Participants!$A:$E,4,FALSE)","v":{"$error":"#N/A"}},{"$f":"VLOOKUP($A77,Participants!$A:$E,2,FALSE)","v":{"$error":"#N/A"}},{"$f":"VLOOKUP($A77,Participants!$A:$E,3,FALSE)","v":{"$error":"#N/A"}},{"$f":"VLOOKUP($A77,Participants!$A:$E,5,FALSE)","v":{"$error":"#N/A"}},12]
[null,0,{"$nulls":3},{"$f":"VLOOKUP($A78,Participants!$A:$E,4,FALSE)","v":{"$error":"#N/A"}},{"$f":"VLOOKUP($A78,Participants!$A:$E,2,FALSE)","v":{"$error":"#N/A"}},{"$f":"VLOOKUP($A78,Participants!$A:$E,3,FALSE)","v":{"$error":"#N/A"}},{"$f":"VLOOKUP($A78,Participants!$A:$E,5,FALSE)","v":{"$error":"#N/A"}},12]
[null,0,{"$nulls":3},{"$f":"VLOOKUP($A79,Participants!$A:$E,4,FALSE)","v":{"$error":"#N/A"}},{"$f":"VLOOKUP($A79,Participants!$A:$E,2,FALSE)","v":{"$error":"#N/A"}},{"$f":"VLOOKUP($A79,Participants!$A:$E,3,FALSE)","v":{"$error":"#N/A"}},{"$f":"VLOOKUP($A79,Participants!$A:$E,5,FALSE)","v":{"$error":"#N/A"}},12]
[null,0,{"$nulls":3},{"$f":"VLOOKUP($A80,Participants!$A:$E,4,FALSE)","v":{"$error":"#N/A"}},{"$f":"VLOOKUP($A80,Participants!$A:$E,2,FALSE)","v":{"$error":"#N/A"}},{"$f":"VLOOKUP($A80,Participants!$A:$E,3,FALSE)","v":{"$error":"#N/A"}},{"$f":"VLOOKUP($A80,Participants!$A:$E,5,FALSE)","v":{"$error":"#N/A"}},12]
[null,0,{"$nulls":3},{"$f":"VLOOKUP($A81,Participants!$A:$E,4,FALSE)","v":{"$error":"#N/A"}},{"$f":"VLOOKUP($A81,Participants!$A:$E,2,FALSE)","v":{"$error":"#N/A"}},{"$f":"VLOOKUP($A81,Participants!$A:$E,3,FALSE)","v":{"$error":"#N/A"}},{"$f":"VLOOKUP($A81,Participants!$A:$E,5,FALSE)","v":{"$error":"#N/A"}},12]
[null,0,{"$nulls":3},{"$f":"VLOOKUP($A82,Participants!$A:$E,4,FALSE)","v":{"$error":"#N/A"}},{"$f":"VLOOKUP($A82,Participants!$A:$E,2,FALSE)","v":{"$error":"#N/A"}},{"$f":"VLOOKUP($A82,Participants!$A:$E,3,FALSE)","v":{"$error":"#N/A"}},{"$f":"VLOOKUP($A82,Participants!$A:$E,5,FALSE)","v":{"$error":"#N/A"}},12]
[null,0,{"$nulls":3},{"$f":"VLOOKUP($A83,Participants!$A:$E,4,FALSE)","v":{"$error":"#N/A"}},{"$f":"VLOOKUP($A83,Participants!$A:$E,2,FALSE)","v":{"$error":"#N/A"}},{"$f":"VLOOKUP($A83,Participants!$A:$E,3,FALSE)","v":{"$error":"#N/A"}},{"$f":"VLOOKUP($A83,Participants!$A:$E,5,FALSE)","v":{"$error":"#N/A"}},12]
[null,0,{"$nulls":3},{"$f":"VLOOKUP($A84,Participants!$A:$E,4,FALSE)","v":{"$error":"#N/A"}},{"$f":"VLOOKUP($A84,Participants!$A:$E,2,FALSE)","v":{"$error":"#N/A"}},{"$f":"VLOOKUP($A84,Participants!$A:$E,3,FALSE)","v":{"$error":"#N/A"}},{"$f":"VLOOKUP($A84,Participants!$A:$E,5,FALSE)","v":{"$error":"#N/A"}},12]
[null,0,{"$nulls":3},{"$f":"VLOOKUP($A85,Participants!$A:$E,4,FALSE)","v":{"$error":"#N/A"}},{"$f":"VLOOKUP($A85,Participants!$A:$E,2,FALSE)","v":{"$error":"#N/A"}},{"$f":"VLOOKUP($A85,Participants!$A:$E,3,FALSE)","v":{"$error":"#N/A"}},{"$f":"VLOOKUP($A85,Participants!$A:$E,5,FALSE)","v":{"$error":"#N/A"}},12]
[null,0,{"$nulls":3},{"$f":"VLOOKUP($A86,Participants!$A:$E,4,FALSE)","v":{"$error":"#N/A"}},{"$f":"VLOOKUP($A86,Participants!$A:$E,2,FALSE)","v":{"$error":"#N/A"}},{"$f":"VLOOKUP($A86,Participants!$A:$E,3,FALSE)","v":{"$error":"#N/A"}},{"$f":"VLOOKUP($A86,Participants!$A:$E,5,FALSE)","v":{"$error":"#N/A"}},12]
[null,0,{"$nulls":3},{"$f":"VLOOKUP($A87,Participants!$A:$E,4,FALSE)","v":{"$error":"#N/A"}},{"$f":"VLOOKUP($A87,Participants!$A:$E,2,FALSE)","v":{"$error":"#N/A"}},{"$f":"VLOOKUP($A87,Participants!$A:$E,3,FALSE)","v":{"$error":"#N/A"}},{"$f":"VLOOKUP($A87,Participants!$A:$E,5,FALSE)","v":{"$error":"#N/A"}},12]
[null,0,{"$nulls":3},{"$f":"VLOOKUP($A88,Participants!$A:$E,4,FALSE)","v":{"$error":"#N/A"}},{"$f":"VLOOKUP($A88,Participants!$A:$E,2,FALSE)","v":{"$error":"#N/A"}},{"$f":"VLOOKUP($A88,Participants!$A:$E,3,FALSE)","v":{"$error":"#N/A"}},{"$f":"VLOOKUP($A88,Participants!$A:$E,5,FALSE)","v":{"$error":"#N/A"}},12]
[null,0,{"$nulls":3},{"$f":"VLOOKUP($A89,Participants!$A:$E,4,FALSE)","v":{"$error":"#N/A"}},{"$f":"VLOOKUP($A89,Participants!$A:$E,2,FALSE)","v":{"$error":"#N/A"}},{"$f":"VLOOKUP($A89,Participants!$A:$E,3,FALSE)","v":{"$error":"#N/A"}},{"$f":"VLOOKUP($A89,Participants!$A:$E,5,FALSE)","v":{"$error":"#N/A"}},12]
[null,0,{"$nulls":3},{"$f":"VLOOKUP($A90,Participants!$A:$E,4,FALSE)","v":{"$error":"#N/A"}},{"$f":"VLOOKUP($A90,Participants!$A:$E,2,FALSE)","v":{"$error":"#N/A"}},{"$f":"VLOOKUP($A90,Participants!$A:$E,3,FALSE)","v":{"$error":"#N/A"}},{"$f":"VLOOKUP($A90,Participants!$A:$E,5,FALSE)","v":{"$error":"#N/A"}},12]
[null,0,{"$nulls":3},{"$f":"VLOOKUP($A91,Participants!$A:$E,4,FALSE)","v":{"$error":"#N/A"}},{"$f":"VLOOKUP($A91,Participants!$A:$E,2,FALSE)","v":{"$error":"#N/A"}},{"$f":"VLOOKUP($A91,Participants!$A:$E,3,FALSE)","v":{"$error":"#N/A"}},{"$f":"VLOOKUP($A91,Participants!$A:$E,5,FALSE)","v":{"$error":"#N/A"}},12]
[null,0,{"$nulls":3},{"$f":"VLOOKUP($A92,Participants!$A:$E,4,FALSE)","v":{"$error":"#N/A"}},{"$f":"VLOOKUP($A92,Participants!$A:$E,2,FALSE)","v":{"$error":"#N/A"}},{"$f":"VLOOKUP($A92,Participants!$A:$E,3,FALSE)","v":{"$error":"#N/A"}},{"$f":"VLOOKUP($A92,Participants!$A:$E,5,FALSE)","v":{"$error":"#N/A"}},12]
[null,0,{"$nulls":3},{"$f":"VLOOKUP($A93,Participants!$A:$E,4,FALSE)","v":{"$error":"#N/A"}},{"$f":"VLOOKUP($A93,Participants!$A:$E,2,FALSE)","v":{"$error":"#N/A"}},{"$f":"VLOOKUP($A93,Participants!$A:$E,3,FALSE)","v":{"$error":"#N/A"}},{"$f":"VLOOKUP($A93,Participants!$A:$E,5,FALSE)","v":{"$error":"#N/A"}},12]
[null,0,{"$nulls":3},{"$f":"VLOOKUP($A94,Participants!$A:$E,4,FALSE)","v":{"$error":"#N/A"}},{"$f":"VLOOKUP($A94,Participants!$A:$E,2,FALSE)","v":{"$error":"#N/A"}},{"$f":"VLOOKUP($A94,Participants!$A:$E,3,FALSE)","v":{"$error":"#N/A"}},{"$f":"VLOOKUP($A94,Participants!$A:$E,5,FALSE)","v":{"$error":"#N/A"}},12]
[null,0,{"$nulls":3},{"$f":"VLOOKUP($A95,Participants!$A:$E,4,FALSE)","v":{"$error":"#N/A"}},{"$f":"VLOOKUP($A95,Participants!$A:$E,2,FALSE)","v":{"$error":"#N/A"}},{"$f":"VLOOKUP($A95,Participants!$A:$E,3,FALSE)","v":{"$error":"#N/A"}},{"$f":"VLOOKUP($A95,Participants!$A:$E,5,FALSE)","v":{"$error":"#N/A"}},12]
[null,0,{"$nulls":3},{"$f":"VLOOKUP($A96,Participants!$A:$E,4,FALSE)","v":{"$error":"#N/A"}},{"$f":"VLOOKUP($A96,Participants!$A:$E,2,FALSE)","v":{"$error":"#N/A"}},{"$f":"VLOOKUP($A96,Participants!$A:$E,3,FALSE)","v":{"$error":"#N/A"}},{"$f":"VLOOKUP($A96,Participants!$A:$E,5,FALSE)","v":{"$error":"#N/A"}},12]
[null,0,{"$nulls":3},{"$f":"VLOOKUP($A97,Participants!$A:$E,4,FALSE)","v":{"$error":"#N/A"}},{"$f":"VLOOKUP($A97,Participants!$A:$E,2,FALSE)","v":{"$error":"#N/A"}},{"$f":"VLOOKUP($A97,Participants!$A:$E,3,FALSE)","v":{"$error":"#N/A"}},{"$f":"VLOOKUP($A97,Participants!$A:$E,5,FALSE)","v":{"$error":"#N/A"}},12]
[null,0,{"$nulls":3},{"$f":"VLOOKUP($A98,Participants!$A:$E,4,FALSE)","v":{"$error":"#N/A"}},{"$f":"VLOOKUP($A98,Participants!$A:$E,2,FALSE)","v":{"$error":"#N/A"}},{"$f":"VLOOKUP($A98,Participants!$A:$E,3,FALSE)","v":{"$error":"#N/A"}},{"$f":"VLOOKUP($A98,Participants!$A:$E,5,FALSE)","v":{"$error":"#N/A"}},12]

{"sheet":"Kickball Cadet Girls","index":57,"n_rows":101,"n_cols":13,"rows_kept":101}
["Bib","Best Jump\n\nwill calculate\nautomatically","First Jump\n\nEnter 10 ft 3 3/4 in as 1003.75","Second Jump\n\nEnter 10 ft 3 3/4 in as 1003.75","Third Jump\n\nEnter 10 ft 3 3/4 in as 1003.75","Grade","FName","Lname","School","Overall Place",null,null,"Return to Schedule of Events"]
[7,{"$f":"MAX(C2:E2)","v":6101},6101,null,null,{"$f":"VLOOKUP($A2,Participants!$A:$E,4,FALSE)","v":7},{"$f":"VLOOKUP($A2,Participants!$A:$E,2,FALSE)","v":"Elise"},{"$f":"VLOOKUP($A2,Participants!$A:$E,3,FALSE)","v":"Baker"},{"$f":"VLOOKUP($A2,Participants!$A:$E,5,FALSE)","v":"St Jude"},{"$f":"RANK(B2,$B$1:B$97,0)","v":1}]
[8,{"$f":"MAX(C3:E3)","v":5109},5109,null,null,{"$f":"VLOOKUP($A3,Participants!$A:$E,4,FALSE)","v":7},{"$f":"VLOOKUP($A3,Participants!$A:$E,2,FALSE)","v":"Isabella"},{"$f":"VLOOKUP($A3,Participants!$A:$E,3,FALSE)","v":"Ball"},{"$f":"VLOOKUP($A3,Participants!$A:$E,5,FALSE)","v":"St Jude"},{"$f":"RANK(B3,$B$1:B$97,0)","v":3},null,null,"Add or Update Participants"]
[95,4310,4310,null,null,{"$f":"VLOOKUP($A4,Participants!$A:$E,4,FALSE)","v":8},{"$f":"VLOOKUP($A4,Participants!$A:$E,2,FALSE)","v":"Perpetua"},{"$f":"VLOOKUP($A4,Participants!$A:$E,3,FALSE)","v":"Morey"},{"$f":"VLOOKUP($A4,Participants!$A:$E,5,FALSE)","v":"St Jude"},{"$f":"RANK(B4,$B$1:B$97,0)","v":4},null,null,"Overall Place and Points"]
[156,6001,6001,null,null,{"$f":"VLOOKUP($A5,Participants!$A:$E,4,FALSE)","v":8},{"$f":"VLOOKUP($A5,Participants!$A:$E,2,FALSE)","v":"Savannah"},{"$f":"VLOOKUP($A5,Participants!$A:$E,3,FALSE)","v":"Beck"},{"$f":"VLOOKUP($A5,Participants!$A:$E,5,FALSE)","v":"SSFC"},{"$f":"RANK(B5,$B$1:B$97,0)","v":2}]
[138,3809,3809,null,null,{"$f":"VLOOKUP($A6,Participants!$A:$E,4,FALSE)","v":7},{"$f":"VLOOKUP($A6,Participants!$A:$E,2,FALSE)","v":"Josie "},{"$f":"VLOOKUP($A6,Participants!$A:$E,3,FALSE)","v":"Wilson"},{"$f":"VLOOKUP($A6,Participants!$A:$E,5,FALSE)","v":"St Jude"},{"$f":"RANK(B6,$B$1:B$97,0)","v":5}]
[217,3702,3702,null,null,{"$f":"VLOOKUP($A7,Participants!$A:$E,4,FALSE)","v":7},{"$f":"VLOOKUP($A7,Participants!$A:$E,2,FALSE)","v":"Ava"},{"$f":"VLOOKUP($A7,Participants!$A:$E,3,FALSE)","v":"Young"},{"$f":"VLOOKUP($A7,Participants!$A:$E,5,FALSE)","v":"SSFC"},{"$f":"RANK(B7,$B$1:B$97,0)","v":7}]
[202,3704,3704,null,null,{"$f":"VLOOKUP($A8,Participants!$A:$E,4,FALSE)","v":7},{"$f":"VLOOKUP($A8,Participants!$A:$E,2,FALSE)","v":"Camden"},{"$f":"VLOOKUP($A8,Participants!$A:$E,3,FALSE)","v":"Timberlake"},{"$f":"VLOOKUP($A8,Participants!$A:$E,5,FALSE)","v":"SSFC"},{"$f":"RANK(B8,$B$1:B$97,0)","v":6}]
[null,0,{"$nulls":3},{"$f":"VLOOKUP($A9,Participants!$A:$E,4,FALSE)","v":{"$error":"#N/A"}},{"$f":"VLOOKUP($A9,Participants!$A:$E,2,FALSE)","v":{"$error":"#N/A"}},{"$f":"VLOOKUP($A9,Participants!$A:$E,3,FALSE)","v":{"$error":"#N/A"}},{"$f":"VLOOKUP($A9,Participants!$A:$E,5,FALSE)","v":{"$error":"#N/A"}},{"$f":"RANK(B9,$B$1:B$97,0)","v":8}]
[null,0,{"$nulls":3},{"$f":"VLOOKUP($A10,Participants!$A:$E,4,FALSE)","v":{"$error":"#N/A"}},{"$f":"VLOOKUP($A10,Participants!$A:$E,2,FALSE)","v":{"$error":"#N/A"}},{"$f":"VLOOKUP($A10,Participants!$A:$E,3,FALSE)","v":{"$error":"#N/A"}},{"$f":"VLOOKUP($A10,Participants!$A:$E,5,FALSE)","v":{"$error":"#N/A"}},{"$f":"RANK(B10,$B$1:B$97,0)","v":8}]
[null,0,{"$nulls":3},{"$f":"VLOOKUP($A11,Participants!$A:$E,4,FALSE)","v":{"$error":"#N/A"}},{"$f":"VLOOKUP($A11,Participants!$A:$E,2,FALSE)","v":{"$error":"#N/A"}},{"$f":"VLOOKUP($A11,Participants!$A:$E,3,FALSE)","v":{"$error":"#N/A"}},{"$f":"VLOOKUP($A11,Participants!$A:$E,5,FALSE)","v":{"$error":"#N/A"}},{"$f":"RANK(B11,$B$1:B$97,0)","v":8}]
[null,0,{"$nulls":3},{"$f":"VLOOKUP($A12,Participants!$A:$E,4,FALSE)","v":{"$error":"#N/A"}},{"$f":"VLOOKUP($A12,Participants!$A:$E,2,FALSE)","v":{"$error":"#N/A"}},{"$f":"VLOOKUP($A12,Participants!$A:$E,3,FALSE)","v":{"$error":"#N/A"}},{"$f":"VLOOKUP($A12,Participants!$A:$E,5,FALSE)","v":{"$error":"#N/A"}},{"$f":"RANK(B12,$B$1:B$97,0)","v":8}]
[null,0,{"$nulls":3},{"$f":"VLOOKUP($A13,Participants!$A:$E,4,FALSE)","v":{"$error":"#N/A"}},{"$f":"VLOOKUP($A13,Participants!$A:$E,2,FALSE)","v":{"$error":"#N/A"}},{"$f":"VLOOKUP($A13,Participants!$A:$E,3,FALSE)","v":{"$error":"#N/A"}},{"$f":"VLOOKUP($A13,Participants!$A:$E,5,FALSE)","v":{"$error":"#N/A"}},{"$f":"RANK(B13,$B$1:B$97,0)","v":8}]
[null,0,{"$nulls":3},{"$f":"VLOOKUP($A14,Participants!$A:$E,4,FALSE)","v":{"$error":"#N/A"}},{"$f":"VLOOKUP($A14,Participants!$A:$E,2,FALSE)","v":{"$error":"#N/A"}},{"$f":"VLOOKUP($A14,Participants!$A:$E,3,FALSE)","v":{"$error":"#N/A"}},{"$f":"VLOOKUP($A14,Participants!$A:$E,5,FALSE)","v":{"$error":"#N/A"}},{"$f":"RANK(B14,$B$1:B$97,0)","v":8}]
[null,0,{"$nulls":3},{"$f":"VLOOKUP($A15,Participants!$A:$E,4,FALSE)","v":{"$error":"#N/A"}},{"$f":"VLOOKUP($A15,Participants!$A:$E,2,FALSE)","v":{"$error":"#N/A"}},{"$f":"VLOOKUP($A15,Participants!$A:$E,3,FALSE)","v":{"$error":"#N/A"}},{"$f":"VLOOKUP($A15,Participants!$A:$E,5,FALSE)","v":{"$error":"#N/A"}},{"$f":"RANK(B15,$B$1:B$97,0)","v":8}]
[null,0,{"$nulls":3},{"$f":"VLOOKUP($A16,Participants!$A:$E,4,FALSE)","v":{"$error":"#N/A"}},{"$f":"VLOOKUP($A16,Participants!$A:$E,2,FALSE)","v":{"$error":"#N/A"}},{"$f":"VLOOKUP($A16,Participants!$A:$E,3,FALSE)","v":{"$error":"#N/A"}},{"$f":"VLOOKUP($A16,Participants!$A:$E,5,FALSE)","v":{"$error":"#N/A"}},{"$f":"RANK(B16,$B$1:B$97,0)","v":8}]
[null,0,{"$nulls":3},{"$f":"VLOOKUP($A17,Participants!$A:$E,4,FALSE)","v":{"$error":"#N/A"}},{"$f":"VLOOKUP($A17,Participants!$A:$E,2,FALSE)","v":{"$error":"#N/A"}},{"$f":"VLOOKUP($A17,Participants!$A:$E,3,FALSE)","v":{"$error":"#N/A"}},{"$f":"VLOOKUP($A17,Participants!$A:$E,5,FALSE)","v":{"$error":"#N/A"}},{"$f":"RANK(B17,$B$1:B$97,0)","v":8}]
[null,0,{"$nulls":3},{"$f":"VLOOKUP($A18,Participants!$A:$E,4,FALSE)","v":{"$error":"#N/A"}},{"$f":"VLOOKUP($A18,Participants!$A:$E,2,FALSE)","v":{"$error":"#N/A"}},{"$f":"VLOOKUP($A18,Participants!$A:$E,3,FALSE)","v":{"$error":"#N/A"}},{"$f":"VLOOKUP($A18,Participants!$A:$E,5,FALSE)","v":{"$error":"#N/A"}},{"$f":"RANK(B18,$B$1:B$97,0)","v":8}]
[null,0,{"$nulls":3},{"$f":"VLOOKUP($A19,Participants!$A:$E,4,FALSE)","v":{"$error":"#N/A"}},{"$f":"VLOOKUP($A19,Participants!$A:$E,2,FALSE)","v":{"$error":"#N/A"}},{"$f":"VLOOKUP($A19,Participants!$A:$E,3,FALSE)","v":{"$error":"#N/A"}},{"$f":"VLOOKUP($A19,Participants!$A:$E,5,FALSE)","v":{"$error":"#N/A"}},{"$f":"RANK(B19,$B$1:B$97,0)","v":8}]
[null,0,{"$nulls":3},{"$f":"VLOOKUP($A20,Participants!$A:$E,4,FALSE)","v":{"$error":"#N/A"}},{"$f":"VLOOKUP($A20,Participants!$A:$E,2,FALSE)","v":{"$error":"#N/A"}},{"$f":"VLOOKUP($A20,Participants!$A:$E,3,FALSE)","v":{"$error":"#N/A"}},{"$f":"VLOOKUP($A20,Participants!$A:$E,5,FALSE)","v":{"$error":"#N/A"}},{"$f":"RANK(B20,$B$1:B$97,0)","v":8}]
[null,0,{"$nulls":3},{"$f":"VLOOKUP($A21,Participants!$A:$E,4,FALSE)","v":{"$error":"#N/A"}},{"$f":"VLOOKUP($A21,Participants!$A:$E,2,FALSE)","v":{"$error":"#N/A"}},{"$f":"VLOOKUP($A21,Participants!$A:$E,3,FALSE)","v":{"$error":"#N/A"}},{"$f":"VLOOKUP($A21,Participants!$A:$E,5,FALSE)","v":{"$error":"#N/A"}},{"$f":"RANK(B21,$B$1:B$97,0)","v":8}]
[null,0,{"$nulls":3},{"$f":"VLOOKUP($A22,Participants!$A:$E,4,FALSE)","v":{"$error":"#N/A"}},{"$f":"VLOOKUP($A22,Participants!$A:$E,2,FALSE)","v":{"$error":"#N/A"}},{"$f":"VLOOKUP($A22,Participants!$A:$E,3,FALSE)","v":{"$error":"#N/A"}},{"$f":"VLOOKUP($A22,Participants!$A:$E,5,FALSE)","v":{"$error":"#N/A"}},{"$f":"RANK(B22,$B$1:B$97,0)","v":8}]
[null,0,{"$nulls":3},{"$f":"VLOOKUP($A23,Participants!$A:$E,4,FALSE)","v":{"$error":"#N/A"}},{"$f":"VLOOKUP($A23,Participants!$A:$E,2,FALSE)","v":{"$error":"#N/A"}},{"$f":"VLOOKUP($A23,Participants!$A:$E,3,FALSE)","v":{"$error":"#N/A"}},{"$f":"VLOOKUP($A23,Participants!$A:$E,5,FALSE)","v":{"$error":"#N/A"}},{"$f":"RANK(B23,$B$1:B$97,0)","v":8}]
[null,0,{"$nulls":3},{"$f":"VLOOKUP($A24,Participants!$A:$E,4,FALSE)","v":{"$error":"#N/A"}},{"$f":"VLOOKUP($A24,Participants!$A:$E,2,FALSE)","v":{"$error":"#N/A"}},{"$f":"VLOOKUP($A24,Participants!$A:$E,3,FALSE)","v":{"$error":"#N/A"}},{"$f":"VLOOKUP($A24,Participants!$A:$E,5,FALSE)","v":{"$error":"#N/A"}},{"$f":"RANK(B24,$B$1:B$97,0)","v":8}]
[null,0,{"$nulls":3},{"$f":"VLOOKUP($A25,Participants!$A:$E,4,FALSE)","v":{"$error":"#N/A"}},{"$f":"VLOOKUP($A25,Participants!$A:$E,2,FALSE)","v":{"$error":"#N/A"}},{"$f":"VLOOKUP($A25,Participants!$A:$E,3,FALSE)","v":{"$error":"#N/A"}},{"$f":"VLOOKUP($A25,Participants!$A:$E,5,FALSE)","v":{"$error":"#N/A"}},{"$f":"RANK(B25,$B$1:B$97,0)","v":8}]
[null,0,{"$nulls":3},{"$f":"VLOOKUP($A26,Participants!$A:$E,4,FALSE)","v":{"$error":"#N/A"}},{"$f":"VLOOKUP($A26,Participants!$A:$E,2,FALSE)","v":{"$error":"#N/A"}},{"$f":"VLOOKUP($A26,Participants!$A:$E,3,FALSE)","v":{"$error":"#N/A"}},{"$f":"VLOOKUP($A26,Participants!$A:$E,5,FALSE)","v":{"$error":"#N/A"}},{"$f":"RANK(B26,$B$1:B$97,0)","v":8}]
[null,0,{"$nulls":3},{"$f":"VLOOKUP($A27,Participants!$A:$E,4,FALSE)","v":{"$error":"#N/A"}},{"$f":"VLOOKUP($A27,Participants!$A:$E,2,FALSE)","v":{"$error":"#N/A"}},{"$f":"VLOOKUP($A27,Participants!$A:$E,3,FALSE)","v":{"$error":"#N/A"}},{"$f":"VLOOKUP($A27,Participants!$A:$E,5,FALSE)","v":{"$error":"#N/A"}},{"$f":"RANK(B27,$B$1:B$97,0)","v":8}]
[null,0,{"$nulls":3},{"$f":"VLOOKUP($A28,Participants!$A:$E,4,FALSE)","v":{"$error":"#N/A"}},{"$f":"VLOOKUP($A28,Participants!$A:$E,2,FALSE)","v":{"$error":"#N/A"}},{"$f":"VLOOKUP($A28,Participants!$A:$E,3,FALSE)","v":{"$error":"#N/A"}},{"$f":"VLOOKUP($A28,Participants!$A:$E,5,FALSE)","v":{"$error":"#N/A"}},{"$f":"RANK(B28,$B$1:B$97,0)","v":8}]
[null,0,{"$nulls":3},{"$f":"VLOOKUP($A29,Participants!$A:$E,4,FALSE)","v":{"$error":"#N/A"}},{"$f":"VLOOKUP($A29,Participants!$A:$E,2,FALSE)","v":{"$error":"#N/A"}},{"$f":"VLOOKUP($A29,Participants!$A:$E,3,FALSE)","v":{"$error":"#N/A"}},{"$f":"VLOOKUP($A29,Participants!$A:$E,5,FALSE)","v":{"$error":"#N/A"}},{"$f":"RANK(B29,$B$1:B$97,0)","v":8}]
[null,0,{"$nulls":3},{"$f":"VLOOKUP($A30,Participants!$A:$E,4,FALSE)","v":{"$error":"#N/A"}},{"$f":"VLOOKUP($A30,Participants!$A:$E,2,FALSE)","v":{"$error":"#N/A"}},{"$f":"VLOOKUP($A30,Participants!$A:$E,3,FALSE)","v":{"$error":"#N/A"}},{"$f":"VLOOKUP($A30,Participants!$A:$E,5,FALSE)","v":{"$error":"#N/A"}},{"$f":"RANK(B30,$B$1:B$97,0)","v":8}]
[null,0,{"$nulls":3},{"$f":"VLOOKUP($A31,Participants!$A:$E,4,FALSE)","v":{"$error":"#N/A"}},{"$f":"VLOOKUP($A31,Participants!$A:$E,2,FALSE)","v":{"$error":"#N/A"}},{"$f":"VLOOKUP($A31,Participants!$A:$E,3,FALSE)","v":{"$error":"#N/A"}},{"$f":"VLOOKUP($A31,Participants!$A:$E,5,FALSE)","v":{"$error":"#N/A"}},{"$f":"RANK(B31,$B$1:B$97,0)","v":8}]
[null,0,{"$nulls":3},{"$f":"VLOOKUP($A32,Participants!$A:$E,4,FALSE)","v":{"$error":"#N/A"}},{"$f":"VLOOKUP($A32,Participants!$A:$E,2,FALSE)","v":{"$error":"#N/A"}},{"$f":"VLOOKUP($A32,Participants!$A:$E,3,FALSE)","v":{"$error":"#N/A"}},{"$f":"VLOOKUP($A32,Participants!$A:$E,5,FALSE)","v":{"$error":"#N/A"}},{"$f":"RANK(B32,$B$1:B$97,0)","v":8}]
[null,0,{"$nulls":3},{"$f":"VLOOKUP($A33,Participants!$A:$E,4,FALSE)","v":{"$error":"#N/A"}},{"$f":"VLOOKUP($A33,Participants!$A:$E,2,FALSE)","v":{"$error":"#N/A"}},{"$f":"VLOOKUP($A33,Participants!$A:$E,3,FALSE)","v":{"$error":"#N/A"}},{"$f":"VLOOKUP($A33,Participants!$A:$E,5,FALSE)","v":{"$error":"#N/A"}},{"$f":"RANK(B33,$B$1:B$97,0)","v":8}]
[null,0,{"$nulls":3},{"$f":"VLOOKUP($A34,Participants!$A:$E,4,FALSE)","v":{"$error":"#N/A"}},{"$f":"VLOOKUP($A34,Participants!$A:$E,2,FALSE)","v":{"$error":"#N/A"}},{"$f":"VLOOKUP($A34,Participants!$A:$E,3,FALSE)","v":{"$error":"#N/A"}},{"$f":"VLOOKUP($A34,Participants!$A:$E,5,FALSE)","v":{"$error":"#N/A"}},{"$f":"RANK(B34,$B$1:B$97,0)","v":8}]
[null,0,{"$nulls":3},{"$f":"VLOOKUP($A35,Participants!$A:$E,4,FALSE)","v":{"$error":"#N/A"}},{"$f":"VLOOKUP($A35,Participants!$A:$E,2,FALSE)","v":{"$error":"#N/A"}},{"$f":"VLOOKUP($A35,Participants!$A:$E,3,FALSE)","v":{"$error":"#N/A"}},{"$f":"VLOOKUP($A35,Participants!$A:$E,5,FALSE)","v":{"$error":"#N/A"}},{"$f":"RANK(B35,$B$1:B$97,0)","v":8}]
[null,0,{"$nulls":3},{"$f":"VLOOKUP($A36,Participants!$A:$E,4,FALSE)","v":{"$error":"#N/A"}},{"$f":"VLOOKUP($A36,Participants!$A:$E,2,FALSE)","v":{"$error":"#N/A"}},{"$f":"VLOOKUP($A36,Participants!$A:$E,3,FALSE)","v":{"$error":"#N/A"}},{"$f":"VLOOKUP($A36,Participants!$A:$E,5,FALSE)","v":{"$error":"#N/A"}},{"$f":"RANK(B36,$B$1:B$97,0)","v":8}]
[null,0,{"$nulls":3},{"$f":"VLOOKUP($A37,Participants!$A:$E,4,FALSE)","v":{"$error":"#N/A"}},{"$f":"VLOOKUP($A37,Participants!$A:$E,2,FALSE)","v":{"$error":"#N/A"}},{"$f":"VLOOKUP($A37,Participants!$A:$E,3,FALSE)","v":{"$error":"#N/A"}},{"$f":"VLOOKUP($A37,Participants!$A:$E,5,FALSE)","v":{"$error":"#N/A"}},{"$f":"RANK(B37,$B$1:B$97,0)","v":8}]
[null,0,{"$nulls":3},{"$f":"VLOOKUP($A38,Participants!$A:$E,4,FALSE)","v":{"$error":"#N/A"}},{"$f":"VLOOKUP($A38,Participants!$A:$E,2,FALSE)","v":{"$error":"#N/A"}},{"$f":"VLOOKUP($A38,Participants!$A:$E,3,FALSE)","v":{"$error":"#N/A"}},{"$f":"VLOOKUP($A38,Participants!$A:$E,5,FALSE)","v":{"$error":"#N/A"}},{"$f":"RANK(B38,$B$1:B$97,0)","v":8}]
[null,0,{"$nulls":3},{"$f":"VLOOKUP($A39,Participants!$A:$E,4,FALSE)","v":{"$error":"#N/A"}},{"$f":"VLOOKUP($A39,Participants!$A:$E,2,FALSE)","v":{"$error":"#N/A"}},{"$f":"VLOOKUP($A39,Participants!$A:$E,3,FALSE)","v":{"$error":"#N/A"}},{"$f":"VLOOKUP($A39,Participants!$A:$E,5,FALSE)","v":{"$error":"#N/A"}},{"$f":"RANK(B39,$B$1:B$97,0)","v":8}]
[null,0,{"$nulls":3},{"$f":"VLOOKUP($A40,Participants!$A:$E,4,FALSE)","v":{"$error":"#N/A"}},{"$f":"VLOOKUP($A40,Participants!$A:$E,2,FALSE)","v":{"$error":"#N/A"}},{"$f":"VLOOKUP($A40,Participants!$A:$E,3,FALSE)","v":{"$error":"#N/A"}},{"$f":"VLOOKUP($A40,Participants!$A:$E,5,FALSE)","v":{"$error":"#N/A"}},{"$f":"RANK(B40,$B$1:B$97,0)","v":8}]
[null,0,{"$nulls":3},{"$f":"VLOOKUP($A41,Participants!$A:$E,4,FALSE)","v":{"$error":"#N/A"}},{"$f":"VLOOKUP($A41,Participants!$A:$E,2,FALSE)","v":{"$error":"#N/A"}},{"$f":"VLOOKUP($A41,Participants!$A:$E,3,FALSE)","v":{"$error":"#N/A"}},{"$f":"VLOOKUP($A41,Participants!$A:$E,5,FALSE)","v":{"$error":"#N/A"}},{"$f":"RANK(B41,$B$1:B$97,0)","v":8}]
[null,0,{"$nulls":3},{"$f":"VLOOKUP($A42,Participants!$A:$E,4,FALSE)","v":{"$error":"#N/A"}},{"$f":"VLOOKUP($A42,Participants!$A:$E,2,FALSE)","v":{"$error":"#N/A"}},{"$f":"VLOOKUP($A42,Participants!$A:$E,3,FALSE)","v":{"$error":"#N/A"}},{"$f":"VLOOKUP($A42,Participants!$A:$E,5,FALSE)","v":{"$error":"#N/A"}},{"$f":"RANK(B42,$B$1:B$97,0)","v":8}]
[null,0,{"$nulls":3},{"$f":"VLOOKUP($A43,Participants!$A:$E,4,FALSE)","v":{"$error":"#N/A"}},{"$f":"VLOOKUP($A43,Participants!$A:$E,2,FALSE)","v":{"$error":"#N/A"}},{"$f":"VLOOKUP($A43,Participants!$A:$E,3,FALSE)","v":{"$error":"#N/A"}},{"$f":"VLOOKUP($A43,Participants!$A:$E,5,FALSE)","v":{"$error":"#N/A"}},{"$f":"RANK(B43,$B$1:B$97,0)","v":8}]
[null,0,{"$nulls":3},{"$f":"VLOOKUP($A44,Participants!$A:$E,4,FALSE)","v":{"$error":"#N/A"}},{"$f":"VLOOKUP($A44,Participants!$A:$E,2,FALSE)","v":{"$error":"#N/A"}},{"$f":"VLOOKUP($A44,Participants!$A:$E,3,FALSE)","v":{"$error":"#N/A"}},{"$f":"VLOOKUP($A44,Participants!$A:$E,5,FALSE)","v":{"$error":"#N/A"}},{"$f":"RANK(B44,$B$1:B$97,0)","v":8}]
[null,0,{"$nulls":3},{"$f":"VLOOKUP($A45,Participants!$A:$E,4,FALSE)","v":{"$error":"#N/A"}},{"$f":"VLOOKUP($A45,Participants!$A:$E,2,FALSE)","v":{"$error":"#N/A"}},{"$f":"VLOOKUP($A45,Participants!$A:$E,3,FALSE)","v":{"$error":"#N/A"}},{"$f":"VLOOKUP($A45,Participants!$A:$E,5,FALSE)","v":{"$error":"#N/A"}},{"$f":"RANK(B45,$B$1:B$97,0)","v":8}]
[null,0,{"$nulls":3},{"$f":"VLOOKUP($A46,Participants!$A:$E,4,FALSE)","v":{"$error":"#N/A"}},{"$f":"VLOOKUP($A46,Participants!$A:$E,2,FALSE)","v":{"$error":"#N/A"}},{"$f":"VLOOKUP($A46,Participants!$A:$E,3,FALSE)","v":{"$error":"#N/A"}},{"$f":"VLOOKUP($A46,Participants!$A:$E,5,FALSE)","v":{"$error":"#N/A"}},{"$f":"RANK(B46,$B$1:B$97,0)","v":8}]
[null,0,{"$nulls":3},{"$f":"VLOOKUP($A47,Participants!$A:$E,4,FALSE)","v":{"$error":"#N/A"}},{"$f":"VLOOKUP($A47,Participants!$A:$E,2,FALSE)","v":{"$error":"#N/A"}},{"$f":"VLOOKUP($A47,Participants!$A:$E,3,FALSE)","v":{"$error":"#N/A"}},{"$f":"VLOOKUP($A47,Participants!$A:$E,5,FALSE)","v":{"$error":"#N/A"}},{"$f":"RANK(B47,$B$1:B$97,0)","v":8}]
[null,0,{"$nulls":3},{"$f":"VLOOKUP($A48,Participants!$A:$E,4,FALSE)","v":{"$error":"#N/A"}},{"$f":"VLOOKUP($A48,Participants!$A:$E,2,FALSE)","v":{"$error":"#N/A"}},{"$f":"VLOOKUP($A48,Participants!$A:$E,3,FALSE)","v":{"$error":"#N/A"}},{"$f":"VLOOKUP($A48,Participants!$A:$E,5,FALSE)","v":{"$error":"#N/A"}},{"$f":"RANK(B48,$B$1:B$97,0)","v":8}]
[null,0,{"$nulls":3},{"$f":"VLOOKUP($A49,Participants!$A:$E,4,FALSE)","v":{"$error":"#N/A"}},{"$f":"VLOOKUP($A49,Participants!$A:$E,2,FALSE)","v":{"$error":"#N/A"}},{"$f":"VLOOKUP($A49,Participants!$A:$E,3,FALSE)","v":{"$error":"#N/A"}},{"$f":"VLOOKUP($A49,Participants!$A:$E,5,FALSE)","v":{"$error":"#N/A"}},{"$f":"RANK(B49,$B$1:B$97,0)","v":8}]
[null,0,{"$nulls":3},{"$f":"VLOOKUP($A50,Participants!$A:$E,4,FALSE)","v":{"$error":"#N/A"}},{"$f":"VLOOKUP($A50,Participants!$A:$E,2,FALSE)","v":{"$error":"#N/A"}},{"$f":"VLOOKUP($A50,Participants!$A:$E,3,FALSE)","v":{"$error":"#N/A"}},{"$f":"VLOOKUP($A50,Participants!$A:$E,5,FALSE)","v":{"$error":"#N/A"}},{"$f":"RANK(B50,$B$1:B$97,0)","v":8}]
[null,0,{"$nulls":3},{"$f":"VLOOKUP($A51,Participants!$A:$E,4,FALSE)","v":{"$error":"#N/A"}},{"$f":"VLOOKUP($A51,Participants!$A:$E,2,FALSE)","v":{"$error":"#N/A"}},{"$f":"VLOOKUP($A51,Participants!$A:$E,3,FALSE)","v":{"$error":"#N/A"}},{"$f":"VLOOKUP($A51,Participants!$A:$E,5,FALSE)","v":{"$error":"#N/A"}},{"$f":"RANK(B51,$B$1:B$97,0)","v":8}]
[null,0,{"$nulls":3},{"$f":"VLOOKUP($A52,Participants!$A:$E,4,FALSE)","v":{"$error":"#N/A"}},{"$f":"VLOOKUP($A52,Participants!$A:$E,2,FALSE)","v":{"$error":"#N/A"}},{"$f":"VLOOKUP($A52,Participants!$A:$E,3,FALSE)","v":{"$error":"#N/A"}},{"$f":"VLOOKUP($A52,Participants!$A:$E,5,FALSE)","v":{"$error":"#N/A"}},{"$f":"RANK(B52,$B$1:B$97,0)","v":8}]
[null,0,{"$nulls":3},{"$f":"VLOOKUP($A53,Participants!$A:$E,4,FALSE)","v":{"$error":"#N/A"}},{"$f":"VLOOKUP($A53,Participants!$A:$E,2,FALSE)","v":{"$error":"#N/A"}},{"$f":"VLOOKUP($A53,Participants!$A:$E,3,FALSE)","v":{"$error":"#N/A"}},{"$f":"VLOOKUP($A53,Participants!$A:$E,5,FALSE)","v":{"$error":"#N/A"}},{"$f":"RANK(B53,$B$1:B$97,0)","v":8}]
[null,0,{"$nulls":3},{"$f":"VLOOKUP($A54,Participants!$A:$E,4,FALSE)","v":{"$error":"#N/A"}},{"$f":"VLOOKUP($A54,Participants!$A:$E,2,FALSE)","v":{"$error":"#N/A"}},{"$f":"VLOOKUP($A54,Participants!$A:$E,3,FALSE)","v":{"$error":"#N/A"}},{"$f":"VLOOKUP($A54,Participants!$A:$E,5,FALSE)","v":{"$error":"#N/A"}},{"$f":"RANK(B54,$B$1:B$97,0)","v":8}]
[null,0,{"$nulls":3},{"$f":"VLOOKUP($A55,Participants!$A:$E,4,FALSE)","v":{"$error":"#N/A"}},{"$f":"VLOOKUP($A55,Participants!$A:$E,2,FALSE)","v":{"$error":"#N/A"}},{"$f":"VLOOKUP($A55,Participants!$A:$E,3,FALSE)","v":{"$error":"#N/A"}},{"$f":"VLOOKUP($A55,Participants!$A:$E,5,FALSE)","v":{"$error":"#N/A"}},{"$f":"RANK(B55,$B$1:B$97,0)","v":8}]
[null,0,{"$nulls":3},{"$f":"VLOOKUP($A56,Participants!$A:$E,4,FALSE)","v":{"$error":"#N/A"}},{"$f":"VLOOKUP($A56,Participants!$A:$E,2,FALSE)","v":{"$error":"#N/A"}},{"$f":"VLOOKUP($A56,Participants!$A:$E,3,FALSE)","v":{"$error":"#N/A"}},{"$f":"VLOOKUP($A56,Participants!$A:$E,5,FALSE)","v":{"$error":"#N/A"}},{"$f":"RANK(B56,$B$1:B$97,0)","v":8}]
[null,0,{"$nulls":3},{"$f":"VLOOKUP($A57,Participants!$A:$E,4,FALSE)","v":{"$error":"#N/A"}},{"$f":"VLOOKUP($A57,Participants!$A:$E,2,FALSE)","v":{"$error":"#N/A"}},{"$f":"VLOOKUP($A57,Participants!$A:$E,3,FALSE)","v":{"$error":"#N/A"}},{"$f":"VLOOKUP($A57,Participants!$A:$E,5,FALSE)","v":{"$error":"#N/A"}},{"$f":"RANK(B57,$B$1:B$97,0)","v":8}]
[null,0,{"$nulls":3},{"$f":"VLOOKUP($A58,Participants!$A:$E,4,FALSE)","v":{"$error":"#N/A"}},{"$f":"VLOOKUP($A58,Participants!$A:$E,2,FALSE)","v":{"$error":"#N/A"}},{"$f":"VLOOKUP($A58,Participants!$A:$E,3,FALSE)","v":{"$error":"#N/A"}},{"$f":"VLOOKUP($A58,Participants!$A:$E,5,FALSE)","v":{"$error":"#N/A"}},{"$f":"RANK(B58,$B$1:B$97,0)","v":8}]
[null,0,{"$nulls":3},{"$f":"VLOOKUP($A59,Participants!$A:$E,4,FALSE)","v":{"$error":"#N/A"}},{"$f":"VLOOKUP($A59,Participants!$A:$E,2,FALSE)","v":{"$error":"#N/A"}},{"$f":"VLOOKUP($A59,Participants!$A:$E,3,FALSE)","v":{"$error":"#N/A"}},{"$f":"VLOOKUP($A59,Participants!$A:$E,5,FALSE)","v":{"$error":"#N/A"}},{"$f":"RANK(B59,$B$1:B$97,0)","v":8}]
[null,0,{"$nulls":3},{"$f":"VLOOKUP($A60,Participants!$A:$E,4,FALSE)","v":{"$error":"#N/A"}},{"$f":"VLOOKUP($A60,Participants!$A:$E,2,FALSE)","v":{"$error":"#N/A"}},{"$f":"VLOOKUP($A60,Participants!$A:$E,3,FALSE)","v":{"$error":"#N/A"}},{"$f":"VLOOKUP($A60,Participants!$A:$E,5,FALSE)","v":{"$error":"#N/A"}},{"$f":"RANK(B60,$B$1:B$97,0)","v":8}]
[null,0,{"$nulls":3},{"$f":"VLOOKUP($A61,Participants!$A:$E,4,FALSE)","v":{"$error":"#N/A"}},{"$f":"VLOOKUP($A61,Participants!$A:$E,2,FALSE)","v":{"$error":"#N/A"}},{"$f":"VLOOKUP($A61,Participants!$A:$E,3,FALSE)","v":{"$error":"#N/A"}},{"$f":"VLOOKUP($A61,Participants!$A:$E,5,FALSE)","v":{"$error":"#N/A"}},{"$f":"RANK(B61,$B$1:B$97,0)","v":8}]
[null,0,{"$nulls":3},{"$f":"VLOOKUP($A62,Participants!$A:$E,4,FALSE)","v":{"$error":"#N/A"}},{"$f":"VLOOKUP($A62,Participants!$A:$E,2,FALSE)","v":{"$error":"#N/A"}},{"$f":"VLOOKUP($A62,Participants!$A:$E,3,FALSE)","v":{"$error":"#N/A"}},{"$f":"VLOOKUP($A62,Participants!$A:$E,5,FALSE)","v":{"$error":"#N/A"}},{"$f":"RANK(B62,$B$1:B$97,0)","v":8}]
[null,0,{"$nulls":3},{"$f":"VLOOKUP($A63,Participants!$A:$E,4,FALSE)","v":{"$error":"#N/A"}},{"$f":"VLOOKUP($A63,Participants!$A:$E,2,FALSE)","v":{"$error":"#N/A"}},{"$f":"VLOOKUP($A63,Participants!$A:$E,3,FALSE)","v":{"$error":"#N/A"}},{"$f":"VLOOKUP($A63,Participants!$A:$E,5,FALSE)","v":{"$error":"#N/A"}},{"$f":"RANK(B63,$B$1:B$97,0)","v":8}]
[null,0,{"$nulls":3},{"$f":"VLOOKUP($A64,Participants!$A:$E,4,FALSE)","v":{"$error":"#N/A"}},{"$f":"VLOOKUP($A64,Participants!$A:$E,2,FALSE)","v":{"$error":"#N/A"}},{"$f":"VLOOKUP($A64,Participants!$A:$E,3,FALSE)","v":{"$error":"#N/A"}},{"$f":"VLOOKUP($A64,Participants!$A:$E,5,FALSE)","v":{"$error":"#N/A"}},{"$f":"RANK(B64,$B$1:B$97,0)","v":8}]
[null,0,{"$nulls":3},{"$f":"VLOOKUP($A65,Participants!$A:$E,4,FALSE)","v":{"$error":"#N/A"}},{"$f":"VLOOKUP($A65,Participants!$A:$E,2,FALSE)","v":{"$error":"#N/A"}},{"$f":"VLOOKUP($A65,Participants!$A:$E,3,FALSE)","v":{"$error":"#N/A"}},{"$f":"VLOOKUP($A65,Participants!$A:$E,5,FALSE)","v":{"$error":"#N/A"}},{"$f":"RANK(B65,$B$1:B$97,0)","v":8}]
[null,0,{"$nulls":3},{"$f":"VLOOKUP($A66,Participants!$A:$E,4,FALSE)","v":{"$error":"#N/A"}},{"$f":"VLOOKUP($A66,Participants!$A:$E,2,FALSE)","v":{"$error":"#N/A"}},{"$f":"VLOOKUP($A66,Participants!$A:$E,3,FALSE)","v":{"$error":"#N/A"}},{"$f":"VLOOKUP($A66,Participants!$A:$E,5,FALSE)","v":{"$error":"#N/A"}},{"$f":"RANK(B66,$B$1:B$97,0)","v":8}]
[null,{"$f":"MAX(C67:E67)","v":0},{"$nulls":3},{"$f":"VLOOKUP($A67,Participants!$A:$E,4,FALSE)","v":{"$error":"#N/A"}},{"$f":"VLOOKUP($A67,Participants!$A:$E,2,FALSE)","v":{"$error":"#N/A"}},{"$f":"VLOOKUP($A67,Participants!$A:$E,3,FALSE)","v":{"$error":"#N/A"}},{"$f":"VLOOKUP($A67,Participants!$A:$E,5,FALSE)","v":{"$error":"#N/A"}},{"$f":"RANK(B67,$B$1:B$97,0)","v":8}]
[null,0,{"$nulls":3},{"$f":"VLOOKUP($A68,Participants!$A:$E,4,FALSE)","v":{"$error":"#N/A"}},{"$f":"VLOOKUP($A68,Participants!$A:$E,2,FALSE)","v":{"$error":"#N/A"}},{"$f":"VLOOKUP($A68,Participants!$A:$E,3,FALSE)","v":{"$error":"#N/A"}},{"$f":"VLOOKUP($A68,Participants!$A:$E,5,FALSE)","v":{"$error":"#N/A"}},{"$f":"RANK(B68,$B$1:B$97,0)","v":8}]
[null,0,{"$nulls":3},{"$f":"VLOOKUP($A69,Participants!$A:$E,4,FALSE)","v":{"$error":"#N/A"}},{"$f":"VLOOKUP($A69,Participants!$A:$E,2,FALSE)","v":{"$error":"#N/A"}},{"$f":"VLOOKUP($A69,Participants!$A:$E,3,FALSE)","v":{"$error":"#N/A"}},{"$f":"VLOOKUP($A69,Participants!$A:$E,5,FALSE)","v":{"$error":"#N/A"}},{"$f":"RANK(B69,$B$1:B$97,0)","v":8}]
[null,0,{"$nulls":3},{"$f":"VLOOKUP($A70,Participants!$A:$E,4,FALSE)","v":{"$error":"#N/A"}},{"$f":"VLOOKUP($A70,Participants!$A:$E,2,FALSE)","v":{"$error":"#N/A"}},{"$f":"VLOOKUP($A70,Participants!$A:$E,3,FALSE)","v":{"$error":"#N/A"}},{"$f":"VLOOKUP($A70,Participants!$A:$E,5,FALSE)","v":{"$error":"#N/A"}},{"$f":"RANK(B70,$B$1:B$97,0)","v":8}]
[null,0,{"$nulls":3},{"$f":"VLOOKUP($A71,Participants!$A:$E,4,FALSE)","v":{"$error":"#N/A"}},{"$f":"VLOOKUP($A71,Participants!$A:$E,2,FALSE)","v":{"$error":"#N/A"}},{"$f":"VLOOKUP($A71,Participants!$A:$E,3,FALSE)","v":{"$error":"#N/A"}},{"$f":"VLOOKUP($A71,Participants!$A:$E,5,FALSE)","v":{"$error":"#N/A"}},{"$f":"RANK(B71,$B$1:B$97,0)","v":8}]
[null,0,{"$nulls":3},{"$f":"VLOOKUP($A72,Participants!$A:$E,4,FALSE)","v":{"$error":"#N/A"}},{"$f":"VLOOKUP($A72,Participants!$A:$E,2,FALSE)","v":{"$error":"#N/A"}},{"$f":"VLOOKUP($A72,Participants!$A:$E,3,FALSE)","v":{"$error":"#N/A"}},{"$f":"VLOOKUP($A72,Participants!$A:$E,5,FALSE)","v":{"$error":"#N/A"}},{"$f":"RANK(B72,$B$1:B$97,0)","v":8}]
[null,0,{"$nulls":3},{"$f":"VLOOKUP($A73,Participants!$A:$E,4,FALSE)","v":{"$error":"#N/A"}},{"$f":"VLOOKUP($A73,Participants!$A:$E,2,FALSE)","v":{"$error":"#N/A"}},{"$f":"VLOOKUP($A73,Participants!$A:$E,3,FALSE)","v":{"$error":"#N/A"}},{"$f":"VLOOKUP($A73,Participants!$A:$E,5,FALSE)","v":{"$error":"#N/A"}},{"$f":"RANK(B73,$B$1:B$97,0)","v":8}]
[null,0,{"$nulls":3},{"$f":"VLOOKUP($A74,Participants!$A:$E,4,FALSE)","v":{"$error":"#N/A"}},{"$f":"VLOOKUP($A74,Participants!$A:$E,2,FALSE)","v":{"$error":"#N/A"}},{"$f":"VLOOKUP($A74,Participants!$A:$E,3,FALSE)","v":{"$error":"#N/A"}},{"$f":"VLOOKUP($A74,Participants!$A:$E,5,FALSE)","v":{"$error":"#N/A"}},{"$f":"RANK(B74,$B$1:B$97,0)","v":8}]
[null,0,{"$nulls":3},{"$f":"VLOOKUP($A75,Participants!$A:$E,4,FALSE)","v":{"$error":"#N/A"}},{"$f":"VLOOKUP($A75,Participants!$A:$E,2,FALSE)","v":{"$error":"#N/A"}},{"$f":"VLOOKUP($A75,Participants!$A:$E,3,FALSE)","v":{"$error":"#N/A"}},{"$f":"VLOOKUP($A75,Participants!$A:$E,5,FALSE)","v":{"$error":"#N/A"}},{"$f":"RANK(B75,$B$1:B$97,0)","v":8}]
[null,0,{"$nulls":3},{"$f":"VLOOKUP($A76,Participants!$A:$E,4,FALSE)","v":{"$error":"#N/A"}},{"$f":"VLOOKUP($A76,Participants!$A:$E,2,FALSE)","v":{"$error":"#N/A"}},{"$f":"VLOOKUP($A76,Participants!$A:$E,3,FALSE)","v":{"$error":"#N/A"}},{"$f":"VLOOKUP($A76,Participants!$A:$E,5,FALSE)","v":{"$error":"#N/A"}},{"$f":"RANK(B76,$B$1:B$97,0)","v":8}]
[null,0,{"$nulls":3},{"$f":"VLOOKUP($A77,Participants!$A:$E,4,FALSE)","v":{"$error":"#N/A"}},{"$f":"VLOOKUP($A77,Participants!$A:$E,2,FALSE)","v":{"$error":"#N/A"}},{"$f":"VLOOKUP($A77,Participants!$A:$E,3,FALSE)","v":{"$error":"#N/A"}},{"$f":"VLOOKUP($A77,Participants!$A:$E,5,FALSE)","v":{"$error":"#N/A"}},{"$f":"RANK(B77,$B$1:B$97,0)","v":8}]
[null,0,{"$nulls":3},{"$f":"VLOOKUP($A78,Participants!$A:$E,4,FALSE)","v":{"$error":"#N/A"}},{"$f":"VLOOKUP($A78,Participants!$A:$E,2,FALSE)","v":{"$error":"#N/A"}},{"$f":"VLOOKUP($A78,Participants!$A:$E,3,FALSE)","v":{"$error":"#N/A"}},{"$f":"VLOOKUP($A78,Participants!$A:$E,5,FALSE)","v":{"$error":"#N/A"}},{"$f":"RANK(B78,$B$1:B$97,0)","v":8}]
[null,0,{"$nulls":3},{"$f":"VLOOKUP($A79,Participants!$A:$E,4,FALSE)","v":{"$error":"#N/A"}},{"$f":"VLOOKUP($A79,Participants!$A:$E,2,FALSE)","v":{"$error":"#N/A"}},{"$f":"VLOOKUP($A79,Participants!$A:$E,3,FALSE)","v":{"$error":"#N/A"}},{"$f":"VLOOKUP($A79,Participants!$A:$E,5,FALSE)","v":{"$error":"#N/A"}},{"$f":"RANK(B79,$B$1:B$97,0)","v":8}]
[null,0,{"$nulls":3},{"$f":"VLOOKUP($A80,Participants!$A:$E,4,FALSE)","v":{"$error":"#N/A"}},{"$f":"VLOOKUP($A80,Participants!$A:$E,2,FALSE)","v":{"$error":"#N/A"}},{"$f":"VLOOKUP($A80,Participants!$A:$E,3,FALSE)","v":{"$error":"#N/A"}},{"$f":"VLOOKUP($A80,Participants!$A:$E,5,FALSE)","v":{"$error":"#N/A"}},{"$f":"RANK(B80,$B$1:B$97,0)","v":8}]
[null,0,{"$nulls":3},{"$f":"VLOOKUP($A81,Participants!$A:$E,4,FALSE)","v":{"$error":"#N/A"}},{"$f":"VLOOKUP($A81,Participants!$A:$E,2,FALSE)","v":{"$error":"#N/A"}},{"$f":"VLOOKUP($A81,Participants!$A:$E,3,FALSE)","v":{"$error":"#N/A"}},{"$f":"VLOOKUP($A81,Participants!$A:$E,5,FALSE)","v":{"$error":"#N/A"}},{"$f":"RANK(B81,$B$1:B$97,0)","v":8}]
[null,0,{"$nulls":3},{"$f":"VLOOKUP($A82,Participants!$A:$E,4,FALSE)","v":{"$error":"#N/A"}},{"$f":"VLOOKUP($A82,Participants!$A:$E,2,FALSE)","v":{"$error":"#N/A"}},{"$f":"VLOOKUP($A82,Participants!$A:$E,3,FALSE)","v":{"$error":"#N/A"}},{"$f":"VLOOKUP($A82,Participants!$A:$E,5,FALSE)","v":{"$error":"#N/A"}},{"$f":"RANK(B82,$B$1:B$97,0)","v":8}]
[null,0,{"$nulls":3},{"$f":"VLOOKUP($A83,Participants!$A:$E,4,FALSE)","v":{"$error":"#N/A"}},{"$f":"VLOOKUP($A83,Participants!$A:$E,2,FALSE)","v":{"$error":"#N/A"}},{"$f":"VLOOKUP($A83,Participants!$A:$E,3,FALSE)","v":{"$error":"#N/A"}},{"$f":"VLOOKUP($A83,Participants!$A:$E,5,FALSE)","v":{"$error":"#N/A"}},{"$f":"RANK(B83,$B$1:B$97,0)","v":8}]
[null,0,{"$nulls":3},{"$f":"VLOOKUP($A84,Participants!$A:$E,4,FALSE)","v":{"$error":"#N/A"}},{"$f":"VLOOKUP($A84,Participants!$A:$E,2,FALSE)","v":{"$error":"#N/A"}},{"$f":"VLOOKUP($A84,Participants!$A:$E,3,FALSE)","v":{"$error":"#N/A"}},{"$f":"VLOOKUP($A84,Participants!$A:$E,5,FALSE)","v":{"$error":"#N/A"}},{"$f":"RANK(B84,$B$1:B$97,0)","v":8}]
[null,0,{"$nulls":3},{"$f":"VLOOKUP($A85,Participants!$A:$E,4,FALSE)","v":{"$error":"#N/A"}},{"$f":"VLOOKUP($A85,Participants!$A:$E,2,FALSE)","v":{"$error":"#N/A"}},{"$f":"VLOOKUP($A85,Participants!$A:$E,3,FALSE)","v":{"$error":"#N/A"}},{"$f":"VLOOKUP($A85,Participants!$A:$E,5,FALSE)","v":{"$error":"#N/A"}},{"$f":"RANK(B85,$B$1:B$97,0)","v":8}]
[null,0,{"$nulls":3},{"$f":"VLOOKUP($A86,Participants!$A:$E,4,FALSE)","v":{"$error":"#N/A"}},{"$f":"VLOOKUP($A86,Participants!$A:$E,2,FALSE)","v":{"$error":"#N/A"}},{"$f":"VLOOKUP($A86,Participants!$A:$E,3,FALSE)","v":{"$error":"#N/A"}},{"$f":"VLOOKUP($A86,Participants!$A:$E,5,FALSE)","v":{"$error":"#N/A"}},{"$f":"RANK(B86,$B$1:B$97,0)","v":8}]
[null,0,{"$nulls":3},{"$f":"VLOOKUP($A87,Participants!$A:$E,4,FALSE)","v":{"$error":"#N/A"}},{"$f":"VLOOKUP($A87,Participants!$A:$E,2,FALSE)","v":{"$error":"#N/A"}},{"$f":"VLOOKUP($A87,Participants!$A:$E,3,FALSE)","v":{"$error":"#N/A"}},{"$f":"VLOOKUP($A87,Participants!$A:$E,5,FALSE)","v":{"$error":"#N/A"}},{"$f":"RANK(B87,$B$1:B$97,0)","v":8}]
[null,0,{"$nulls":3},{"$f":"VLOOKUP($A88,Participants!$A:$E,4,FALSE)","v":{"$error":"#N/A"}},{"$f":"VLOOKUP($A88,Participants!$A:$E,2,FALSE)","v":{"$error":"#N/A"}},{"$f":"VLOOKUP($A88,Participants!$A:$E,3,FALSE)","v":{"$error":"#N/A"}},{"$f":"VLOOKUP($A88,Participants!$A:$E,5,FALSE)","v":{"$error":"#N/A"}},{"$f":"RANK(B88,$B$1:B$97,0)","v":8}]
[null,0,{"$nulls":3},{"$f":"VLOOKUP($A89,Participants!$A:$E,4,FALSE)","v":{"$error":"#N/A"}},{"$f":"VLOOKUP($A89,Participants!$A:$E,2,FALSE)","v":{"$error":"#N/A"}},{"$f":"VLOOKUP($A89,Participants!$A:$E,3,FALSE)","v":{"$error":"#N/A"}},{"$f":"VLOOKUP($A89,Participants!$A:$E,5,FALSE)","v":{"$error":"#N/A"}},{"$f":"RANK(B89,$B$1:B$97,0)","v":8}]
[null,0,{"$nulls":3},{"$f":"VLOOKUP($A90,Participants!$A:$E,4,FALSE)","v":{"$error":"#N/A"}},{"$f":"VLOOKUP($A90,Participants!$A:$E,2,FALSE)","v":{"$error":"#N/A"}},{"$f":"VLOOKUP($A90,Participants!$A:$E,3,FALSE)","v":{"$error":"#N/A"}},{"$f":"VLOOKUP($A90,Participants!$A:$E,5,FALSE)","v":{"$error":"#N/A"}},{"$f":"RANK(B90,$B$1:B$97,0)","v":8}]
[null,0,{"$nulls":3},{"$f":"VLOOKUP($A91,Participants!$A:$E,4,FALSE)","v":{"$error":"#N/A"}},{"$f":"VLOOKUP($A91,Participants!$A:$E,2,FALSE)","v":{"$error":"#N/A"}},{"$f":"VLOOKUP($A91,Participants!$A:$E,3,FALSE)","v":{"$error":"#N/A"}},{"$f":"VLOOKUP($A91,Participants!$A:$E,5,FALSE)","v":{"$error":"#N/A"}},{"$f":"RANK(B91,$B$1:B$97,0)","v":8}]
[null,0,{"$nulls":3},{"$f":"VLOOKUP($A92,Participants!$A:$E,4,FALSE)","v":{"$error":"#N/A"}},{"$f":"VLOOKUP($A92,Participants!$A:$E,2,FALSE)","v":{"$error":"#N/A"}},{"$f":"VLOOKUP($A92,Participants!$A:$E,3,FALSE)","v":{"$error":"#N/A"}},{"$f":"VLOOKUP($A92,Participants!$A:$E,5,FALSE)","v":{"$error":"#N/A"}},{"$f":"RANK(B92,$B$1:B$97,0)","v":8}]
[null,0,{"$nulls":3},{"$f":"VLOOKUP($A93,Participants!$A:$E,4,FALSE)","v":{"$error":"#N/A"}},{"$f":"VLOOKUP($A93,Participants!$A:$E,2,FALSE)","v":{"$error":"#N/A"}},{"$f":"VLOOKUP($A93,Participants!$A:$E,3,FALSE)","v":{"$error":"#N/A"}},{"$f":"VLOOKUP($A93,Participants!$A:$E,5,FALSE)","v":{"$error":"#N/A"}},{"$f":"RANK(B93,$B$1:B$97,0)","v":8}]
[null,0,{"$nulls":3},{"$f":"VLOOKUP($A94,Participants!$A:$E,4,FALSE)","v":{"$error":"#N/A"}},{"$f":"VLOOKUP($A94,Participants!$A:$E,2,FALSE)","v":{"$error":"#N/A"}},{"$f":"VLOOKUP($A94,Participants!$A:$E,3,FALSE)","v":{"$error":"#N/A"}},{"$f":"VLOOKUP($A94,Participants!$A:$E,5,FALSE)","v":{"$error":"#N/A"}},{"$f":"RANK(B94,$B$1:B$97,0)","v":8}]
[null,0,{"$nulls":3},{"$f":"VLOOKUP($A95,Participants!$A:$E,4,FALSE)","v":{"$error":"#N/A"}},{"$f":"VLOOKUP($A95,Participants!$A:$E,2,FALSE)","v":{"$error":"#N/A"}},{"$f":"VLOOKUP($A95,Participants!$A:$E,3,FALSE)","v":{"$error":"#N/A"}},{"$f":"VLOOKUP($A95,Participants!$A:$E,5,FALSE)","v":{"$error":"#N/A"}},{"$f":"RANK(B95,$B$1:B$97,0)","v":8}]
[null,0,{"$nulls":3},{"$f":"VLOOKUP($A96,Participants!$A:$E,4,FALSE)","v":{"$error":"#N/A"}},{"$f":"VLOOKUP($A96,Participants!$A:$E,2,FALSE)","v":{"$error":"#N/A"}},{"$f":"VLOOKUP($A96,Participants!$A:$E,3,FALSE)","v":{"$error":"#N/A"}},{"$f":"VLOOKUP($A96,Participants!$A:$E,5,FALSE)","v":{"$error":"#N/A"}},{"$f":"RANK(B96,$B$1:B$97,0)","v":8}]
[null,0,{"$nulls":3},{"$f":"VLOOKUP($A97,Participants!$A:$E,4,FALSE)","v":{"$error":"#N/A"}},{"$f":"VLOOKUP($A97,Participants!$A:$E,2,FALSE)","v":{"$error":"#N/A"}},{"$f":"VLOOKUP($A97,Participants!$A:$E,3,FALSE)","v":{"$error":"#N/A"}},{"$f":"VLOOKUP($A97,Participants!$A:$E,5,FALSE)","v":{"$error":"#N/A"}},{"$f":"RANK(B97,$B$1:B$97,0)","v":8}]
[null,0,{"$nulls":3},{"$f":"VLOOKUP($A98,Participants!$A:$E,4,FALSE)","v":{"$error":"#N/A"}},{"$f":"VLOOKUP($A98,Participants!$A:$E,2,FALSE)","v":{"$error":"#N/A"}},{"$f":"VLOOKUP($A98,Participants!$A:$E,3,FALSE)","v":{"$error":"#N/A"}},{"$f":"VLOOKUP($A98,Participants!$A:$E,5,FALSE)","v":{"$error":"#N/A"}},{"$f":"RANK(B98,$B$1:B$97,0)","v":8}]
[null,0]
[null,0]
[null,0]

{"sheet":"LongJump Cadet Girls","index":58,"n_rows":101,"n_cols":13,"rows_kept":101}
["Bib","Best Jump\n\nwill calculate\nautomatically","First Jump\n\nEnter 10 ft 3 3/4 in as 1003.75","Second Jump\n\nEnter 10 ft 3 3/4 in as 1003.75","Third Jump\n\nEnter 10 ft 3 3/4 in as 1003.75","Grade","FName","Lname","School","Overall Place",null,null,"Return to Schedule of Events"]
[256,{"$f":"MAX(C2:E2)","v":802},0,802,0,{"$f":"VLOOKUP($A2,Participants!$A:$E,4,FALSE)","v":8},{"$f":"VLOOKUP($A2,Participants!$A:$E,2,FALSE)","v":"Gabrielle"},{"$f":"VLOOKUP($A2,Participants!$A:$E,3,FALSE)","v":"Price"},{"$f":"VLOOKUP($A2,Participants!$A:$E,5,FALSE)","v":"United We Run"},{"$f":"RANK(B2,$B$1:$B$97,0)","v":14}]
[227,{"$f":"MAX(C3:E3)","v":706},0,706,0,{"$f":"VLOOKUP($A3,Participants!$A:$E,4,FALSE)","v":8},{"$f":"VLOOKUP($A3,Participants!$A:$E,2,FALSE)","v":"Keira"},{"$f":"VLOOKUP($A3,Participants!$A:$E,3,FALSE)","v":"Chester"},{"$f":"VLOOKUP($A3,Participants!$A:$E,5,FALSE)","v":"United We Run"},{"$f":"RANK(B3,$B$1:$B$97,0)","v":19},null,null,"Add or Update Participants"]
[221,1110.75,1110.75,1103,1009,{"$f":"VLOOKUP($A4,Participants!$A:$E,4,FALSE)","v":7},{"$f":"VLOOKUP($A4,Participants!$A:$E,2,FALSE)","v":"Elly"},{"$f":"VLOOKUP($A4,Participants!$A:$E,3,FALSE)","v":"Agresta"},{"$f":"VLOOKUP($A4,Participants!$A:$E,5,FALSE)","v":"United We Run"},3,null,null,"Overall Place and Points"]
[275,806.75,803.5,806.75,806.5,{"$f":"VLOOKUP($A5,Participants!$A:$E,4,FALSE)","v":8},{"$f":"VLOOKUP($A5,Participants!$A:$E,2,FALSE)","v":"Lauren"},{"$f":"VLOOKUP($A5,Participants!$A:$E,3,FALSE)","v":"Bender"},{"$f":"VLOOKUP($A5,Participants!$A:$E,5,FALSE)","v":"St. Barnabas"},12]
[288,710.25,507.25,702,710.25,{"$f":"VLOOKUP($A6,Participants!$A:$E,4,FALSE)","v":8},{"$f":"VLOOKUP($A6,Participants!$A:$E,2,FALSE)","v":"Elizabeth"},{"$f":"VLOOKUP($A6,Participants!$A:$E,3,FALSE)","v":"McCoy"},{"$f":"VLOOKUP($A6,Participants!$A:$E,5,FALSE)","v":"St. Barnabas"},15]
[277,707.25,707.25,703,602,{"$f":"VLOOKUP($A7,Participants!$A:$E,4,FALSE)","v":7},{"$f":"VLOOKUP($A7,Participants!$A:$E,2,FALSE)","v":"Caroline"},{"$f":"VLOOKUP($A7,Participants!$A:$E,3,FALSE)","v":"Crews"},{"$f":"VLOOKUP($A7,Participants!$A:$E,5,FALSE)","v":"St. Barnabas"},18]
[161,708,708,0,0,{"$f":"VLOOKUP($A8,Participants!$A:$E,4,FALSE)","v":8},{"$f":"VLOOKUP($A8,Participants!$A:$E,2,FALSE)","v":"Lauren"},{"$f":"VLOOKUP($A8,Participants!$A:$E,3,FALSE)","v":"Coppinger"},{"$f":"VLOOKUP($A8,Participants!$A:$E,5,FALSE)","v":"SSFC"},16]
[217,900,0,809.5,900,{"$f":"VLOOKUP($A9,Participants!$A:$E,4,FALSE)","v":7},{"$f":"VLOOKUP($A9,Participants!$A:$E,2,FALSE)","v":"Ava"},{"$f":"VLOOKUP($A9,Participants!$A:$E,3,FALSE)","v":"Young"},{"$f":"VLOOKUP($A9,Participants!$A:$E,5,FALSE)","v":"SSFC"},8]
[202,708,0,708,707,{"$f":"VLOOKUP($A10,Participants!$A:$E,4,FALSE)","v":7},{"$f":"VLOOKUP($A10,Participants!$A:$E,2,FALSE)","v":"Camden"},{"$f":"VLOOKUP($A10,Participants!$A:$E,3,FALSE)","v":"Timberlake"},{"$f":"VLOOKUP($A10,Participants!$A:$E,5,FALSE)","v":"SSFC"},16]
[96,808.5,808.5,708.5,801,{"$f":"VLOOKUP($A11,Participants!$A:$E,4,FALSE)","v":8},{"$f":"VLOOKUP($A11,Participants!$A:$E,2,FALSE)","v":"Elizabeth"},{"$f":"VLOOKUP($A11,Participants!$A:$E,3,FALSE)","v":"Nelson"},{"$f":"VLOOKUP($A11,Participants!$A:$E,5,FALSE)","v":"St Jude"},11]
[134,700,500.5,700,606.5,{"$f":"VLOOKUP($A12,Participants!$A:$E,4,FALSE)","v":7},{"$f":"VLOOKUP($A12,Participants!$A:$E,2,FALSE)","v":"Valerie"},{"$f":"VLOOKUP($A12,Participants!$A:$E,3,FALSE)","v":"Turner"},{"$f":"VLOOKUP($A12,Participants!$A:$E,5,FALSE)","v":"St Jude"},20]
[50,804,804,705.75,605.5,{"$f":"VLOOKUP($A13,Participants!$A:$E,4,FALSE)","v":7},{"$f":"VLOOKUP($A13,Participants!$A:$E,2,FALSE)","v":"Shelby "},{"$f":"VLOOKUP($A13,Participants!$A:$E,3,FALSE)","v":"Hale"},{"$f":"VLOOKUP($A13,Participants!$A:$E,5,FALSE)","v":"St Jude"},13]
[102,903,903,900,803,{"$f":"VLOOKUP($A14,Participants!$A:$E,4,FALSE)","v":7},{"$f":"VLOOKUP($A14,Participants!$A:$E,2,FALSE)","v":"Addie "},{"$f":"VLOOKUP($A14,Participants!$A:$E,3,FALSE)","v":"Phillips"},{"$f":"VLOOKUP($A14,Participants!$A:$E,5,FALSE)","v":"St Jude"},7]
[138,505.75,505.75,504,501,{"$f":"VLOOKUP($A15,Participants!$A:$E,4,FALSE)","v":7},{"$f":"VLOOKUP($A15,Participants!$A:$E,2,FALSE)","v":"Josie "},{"$f":"VLOOKUP($A15,Participants!$A:$E,3,FALSE)","v":"Wilson"},{"$f":"VLOOKUP($A15,Participants!$A:$E,5,FALSE)","v":"St Jude"},21]
[124,809,0,809,805,{"$f":"VLOOKUP($A16,Participants!$A:$E,4,FALSE)","v":7},{"$f":"VLOOKUP($A16,Participants!$A:$E,2,FALSE)","v":"Guadalupe"},{"$f":"VLOOKUP($A16,Participants!$A:$E,3,FALSE)","v":"Soberanes"},{"$f":"VLOOKUP($A16,Participants!$A:$E,5,FALSE)","v":"St Jude"},10]
[80,1205.5,1104.75,1102.5,1205.5,{"$f":"VLOOKUP($A17,Participants!$A:$E,4,FALSE)","v":7},{"$f":"VLOOKUP($A17,Participants!$A:$E,2,FALSE)","v":"Miriam"},{"$f":"VLOOKUP($A17,Participants!$A:$E,3,FALSE)","v":"Mappes"},{"$f":"VLOOKUP($A17,Participants!$A:$E,5,FALSE)","v":"St Jude"},1]
[114,1004.25,1004.25,0,911,8,"Sophie","Schneider","St. Jude",5]
[119,905.5,904.75,902.25,905.5,{"$f":"VLOOKUP($A19,Participants!$A:$E,4,FALSE)","v":7},{"$f":"VLOOKUP($A19,Participants!$A:$E,2,FALSE)","v":"Brooklyn "},{"$f":"VLOOKUP($A19,Participants!$A:$E,3,FALSE)","v":"Seibert"},{"$f":"VLOOKUP($A19,Participants!$A:$E,5,FALSE)","v":"St Jude"},6]
[118,1100.5,1001,908.5,1100.5,{"$f":"VLOOKUP($A20,Participants!$A:$E,4,FALSE)","v":7},{"$f":"VLOOKUP($A20,Participants!$A:$E,2,FALSE)","v":"Lauren"},{"$f":"VLOOKUP($A20,Participants!$A:$E,3,FALSE)","v":"Schweers"},{"$f":"VLOOKUP($A20,Participants!$A:$E,5,FALSE)","v":"St Jude"},4]
[13,1200,1107,1200,1108,{"$f":"VLOOKUP($A21,Participants!$A:$E,4,FALSE)","v":8},{"$f":"VLOOKUP($A21,Participants!$A:$E,2,FALSE)","v":"Lauren"},{"$f":"VLOOKUP($A21,Participants!$A:$E,3,FALSE)","v":"Brown"},{"$f":"VLOOKUP($A21,Participants!$A:$E,5,FALSE)","v":"St Jude"},2]
[251,811,811,810.5,809.5,{"$f":"VLOOKUP($A22,Participants!$A:$E,4,FALSE)","v":7},{"$f":"VLOOKUP($A22,Participants!$A:$E,2,FALSE)","v":"Molly"},{"$f":"VLOOKUP($A22,Participants!$A:$E,3,FALSE)","v":"Mockaitis"},{"$f":"VLOOKUP($A22,Participants!$A:$E,5,FALSE)","v":"United We Run"},9]
[null,0,{"$nulls":3},{"$f":"VLOOKUP($A23,Participants!$A:$E,4,FALSE)","v":{"$error":"#N/A"}},{"$f":"VLOOKUP($A23,Participants!$A:$E,2,FALSE)","v":{"$error":"#N/A"}},{"$f":"VLOOKUP($A23,Participants!$A:$E,3,FALSE)","v":{"$error":"#N/A"}},{"$f":"VLOOKUP($A23,Participants!$A:$E,5,FALSE)","v":{"$error":"#N/A"}},22]
[null,0,{"$nulls":3},{"$f":"VLOOKUP($A24,Participants!$A:$E,4,FALSE)","v":{"$error":"#N/A"}},{"$f":"VLOOKUP($A24,Participants!$A:$E,2,FALSE)","v":{"$error":"#N/A"}},{"$f":"VLOOKUP($A24,Participants!$A:$E,3,FALSE)","v":{"$error":"#N/A"}},{"$f":"VLOOKUP($A24,Participants!$A:$E,5,FALSE)","v":{"$error":"#N/A"}},22]
[null,0,{"$nulls":3},{"$f":"VLOOKUP($A25,Participants!$A:$E,4,FALSE)","v":{"$error":"#N/A"}},{"$f":"VLOOKUP($A25,Participants!$A:$E,2,FALSE)","v":{"$error":"#N/A"}},{"$f":"VLOOKUP($A25,Participants!$A:$E,3,FALSE)","v":{"$error":"#N/A"}},{"$f":"VLOOKUP($A25,Participants!$A:$E,5,FALSE)","v":{"$error":"#N/A"}},22]
[null,0,{"$nulls":3},{"$f":"VLOOKUP($A26,Participants!$A:$E,4,FALSE)","v":{"$error":"#N/A"}},{"$f":"VLOOKUP($A26,Participants!$A:$E,2,FALSE)","v":{"$error":"#N/A"}},{"$f":"VLOOKUP($A26,Participants!$A:$E,3,FALSE)","v":{"$error":"#N/A"}},{"$f":"VLOOKUP($A26,Participants!$A:$E,5,FALSE)","v":{"$error":"#N/A"}},22]
[null,0,{"$nulls":3},{"$f":"VLOOKUP($A27,Participants!$A:$E,4,FALSE)","v":{"$error":"#N/A"}},{"$f":"VLOOKUP($A27,Participants!$A:$E,2,FALSE)","v":{"$error":"#N/A"}},{"$f":"VLOOKUP($A27,Participants!$A:$E,3,FALSE)","v":{"$error":"#N/A"}},{"$f":"VLOOKUP($A27,Participants!$A:$E,5,FALSE)","v":{"$error":"#N/A"}},22]
[null,0,{"$nulls":3},{"$f":"VLOOKUP($A28,Participants!$A:$E,4,FALSE)","v":{"$error":"#N/A"}},{"$f":"VLOOKUP($A28,Participants!$A:$E,2,FALSE)","v":{"$error":"#N/A"}},{"$f":"VLOOKUP($A28,Participants!$A:$E,3,FALSE)","v":{"$error":"#N/A"}},{"$f":"VLOOKUP($A28,Participants!$A:$E,5,FALSE)","v":{"$error":"#N/A"}},22]
[null,0,{"$nulls":3},{"$f":"VLOOKUP($A29,Participants!$A:$E,4,FALSE)","v":{"$error":"#N/A"}},{"$f":"VLOOKUP($A29,Participants!$A:$E,2,FALSE)","v":{"$error":"#N/A"}},{"$f":"VLOOKUP($A29,Participants!$A:$E,3,FALSE)","v":{"$error":"#N/A"}},{"$f":"VLOOKUP($A29,Participants!$A:$E,5,FALSE)","v":{"$error":"#N/A"}},22]
[null,0,{"$nulls":3},{"$f":"VLOOKUP($A30,Participants!$A:$E,4,FALSE)","v":{"$error":"#N/A"}},{"$f":"VLOOKUP($A30,Participants!$A:$E,2,FALSE)","v":{"$error":"#N/A"}},{"$f":"VLOOKUP($A30,Participants!$A:$E,3,FALSE)","v":{"$error":"#N/A"}},{"$f":"VLOOKUP($A30,Participants!$A:$E,5,FALSE)","v":{"$error":"#N/A"}},22]
[null,0,{"$nulls":3},{"$f":"VLOOKUP($A31,Participants!$A:$E,4,FALSE)","v":{"$error":"#N/A"}},{"$f":"VLOOKUP($A31,Participants!$A:$E,2,FALSE)","v":{"$error":"#N/A"}},{"$f":"VLOOKUP($A31,Participants!$A:$E,3,FALSE)","v":{"$error":"#N/A"}},{"$f":"VLOOKUP($A31,Participants!$A:$E,5,FALSE)","v":{"$error":"#N/A"}},22]
[null,0,{"$nulls":3},{"$f":"VLOOKUP($A32,Participants!$A:$E,4,FALSE)","v":{"$error":"#N/A"}},{"$f":"VLOOKUP($A32,Participants!$A:$E,2,FALSE)","v":{"$error":"#N/A"}},{"$f":"VLOOKUP($A32,Participants!$A:$E,3,FALSE)","v":{"$error":"#N/A"}},{"$f":"VLOOKUP($A32,Participants!$A:$E,5,FALSE)","v":{"$error":"#N/A"}},22]
[null,0,{"$nulls":3},{"$f":"VLOOKUP($A33,Participants!$A:$E,4,FALSE)","v":{"$error":"#N/A"}},{"$f":"VLOOKUP($A33,Participants!$A:$E,2,FALSE)","v":{"$error":"#N/A"}},{"$f":"VLOOKUP($A33,Participants!$A:$E,3,FALSE)","v":{"$error":"#N/A"}},{"$f":"VLOOKUP($A33,Participants!$A:$E,5,FALSE)","v":{"$error":"#N/A"}},22]
[null,0,{"$nulls":3},{"$f":"VLOOKUP($A34,Participants!$A:$E,4,FALSE)","v":{"$error":"#N/A"}},{"$f":"VLOOKUP($A34,Participants!$A:$E,2,FALSE)","v":{"$error":"#N/A"}},{"$f":"VLOOKUP($A34,Participants!$A:$E,3,FALSE)","v":{"$error":"#N/A"}},{"$f":"VLOOKUP($A34,Participants!$A:$E,5,FALSE)","v":{"$error":"#N/A"}},22]
[null,0,{"$nulls":3},{"$f":"VLOOKUP($A35,Participants!$A:$E,4,FALSE)","v":{"$error":"#N/A"}},{"$f":"VLOOKUP($A35,Participants!$A:$E,2,FALSE)","v":{"$error":"#N/A"}},{"$f":"VLOOKUP($A35,Participants!$A:$E,3,FALSE)","v":{"$error":"#N/A"}},{"$f":"VLOOKUP($A35,Participants!$A:$E,5,FALSE)","v":{"$error":"#N/A"}},22]
[null,0,{"$nulls":3},{"$f":"VLOOKUP($A36,Participants!$A:$E,4,FALSE)","v":{"$error":"#N/A"}},{"$f":"VLOOKUP($A36,Participants!$A:$E,2,FALSE)","v":{"$error":"#N/A"}},{"$f":"VLOOKUP($A36,Participants!$A:$E,3,FALSE)","v":{"$error":"#N/A"}},{"$f":"VLOOKUP($A36,Participants!$A:$E,5,FALSE)","v":{"$error":"#N/A"}},22]
[null,0,{"$nulls":3},{"$f":"VLOOKUP($A37,Participants!$A:$E,4,FALSE)","v":{"$error":"#N/A"}},{"$f":"VLOOKUP($A37,Participants!$A:$E,2,FALSE)","v":{"$error":"#N/A"}},{"$f":"VLOOKUP($A37,Participants!$A:$E,3,FALSE)","v":{"$error":"#N/A"}},{"$f":"VLOOKUP($A37,Participants!$A:$E,5,FALSE)","v":{"$error":"#N/A"}},22]
[null,0,{"$nulls":3},{"$f":"VLOOKUP($A38,Participants!$A:$E,4,FALSE)","v":{"$error":"#N/A"}},{"$f":"VLOOKUP($A38,Participants!$A:$E,2,FALSE)","v":{"$error":"#N/A"}},{"$f":"VLOOKUP($A38,Participants!$A:$E,3,FALSE)","v":{"$error":"#N/A"}},{"$f":"VLOOKUP($A38,Participants!$A:$E,5,FALSE)","v":{"$error":"#N/A"}},22]
[null,0,{"$nulls":3},{"$f":"VLOOKUP($A39,Participants!$A:$E,4,FALSE)","v":{"$error":"#N/A"}},{"$f":"VLOOKUP($A39,Participants!$A:$E,2,FALSE)","v":{"$error":"#N/A"}},{"$f":"VLOOKUP($A39,Participants!$A:$E,3,FALSE)","v":{"$error":"#N/A"}},{"$f":"VLOOKUP($A39,Participants!$A:$E,5,FALSE)","v":{"$error":"#N/A"}},22]
[null,0,{"$nulls":3},{"$f":"VLOOKUP($A40,Participants!$A:$E,4,FALSE)","v":{"$error":"#N/A"}},{"$f":"VLOOKUP($A40,Participants!$A:$E,2,FALSE)","v":{"$error":"#N/A"}},{"$f":"VLOOKUP($A40,Participants!$A:$E,3,FALSE)","v":{"$error":"#N/A"}},{"$f":"VLOOKUP($A40,Participants!$A:$E,5,FALSE)","v":{"$error":"#N/A"}},22]
[null,0,{"$nulls":3},{"$f":"VLOOKUP($A41,Participants!$A:$E,4,FALSE)","v":{"$error":"#N/A"}},{"$f":"VLOOKUP($A41,Participants!$A:$E,2,FALSE)","v":{"$error":"#N/A"}},{"$f":"VLOOKUP($A41,Participants!$A:$E,3,FALSE)","v":{"$error":"#N/A"}},{"$f":"VLOOKUP($A41,Participants!$A:$E,5,FALSE)","v":{"$error":"#N/A"}},22]
[null,0,{"$nulls":3},{"$f":"VLOOKUP($A42,Participants!$A:$E,4,FALSE)","v":{"$error":"#N/A"}},{"$f":"VLOOKUP($A42,Participants!$A:$E,2,FALSE)","v":{"$error":"#N/A"}},{"$f":"VLOOKUP($A42,Participants!$A:$E,3,FALSE)","v":{"$error":"#N/A"}},{"$f":"VLOOKUP($A42,Participants!$A:$E,5,FALSE)","v":{"$error":"#N/A"}},22]
[null,0,{"$nulls":3},{"$f":"VLOOKUP($A43,Participants!$A:$E,4,FALSE)","v":{"$error":"#N/A"}},{"$f":"VLOOKUP($A43,Participants!$A:$E,2,FALSE)","v":{"$error":"#N/A"}},{"$f":"VLOOKUP($A43,Participants!$A:$E,3,FALSE)","v":{"$error":"#N/A"}},{"$f":"VLOOKUP($A43,Participants!$A:$E,5,FALSE)","v":{"$error":"#N/A"}},22]
[null,0,{"$nulls":3},{"$f":"VLOOKUP($A44,Participants!$A:$E,4,FALSE)","v":{"$error":"#N/A"}},{"$f":"VLOOKUP($A44,Participants!$A:$E,2,FALSE)","v":{"$error":"#N/A"}},{"$f":"VLOOKUP($A44,Participants!$A:$E,3,FALSE)","v":{"$error":"#N/A"}},{"$f":"VLOOKUP($A44,Participants!$A:$E,5,FALSE)","v":{"$error":"#N/A"}},22]
[null,0,{"$nulls":3},{"$f":"VLOOKUP($A45,Participants!$A:$E,4,FALSE)","v":{"$error":"#N/A"}},{"$f":"VLOOKUP($A45,Participants!$A:$E,2,FALSE)","v":{"$error":"#N/A"}},{"$f":"VLOOKUP($A45,Participants!$A:$E,3,FALSE)","v":{"$error":"#N/A"}},{"$f":"VLOOKUP($A45,Participants!$A:$E,5,FALSE)","v":{"$error":"#N/A"}},22]
[null,0,{"$nulls":3},{"$f":"VLOOKUP($A46,Participants!$A:$E,4,FALSE)","v":{"$error":"#N/A"}},{"$f":"VLOOKUP($A46,Participants!$A:$E,2,FALSE)","v":{"$error":"#N/A"}},{"$f":"VLOOKUP($A46,Participants!$A:$E,3,FALSE)","v":{"$error":"#N/A"}},{"$f":"VLOOKUP($A46,Participants!$A:$E,5,FALSE)","v":{"$error":"#N/A"}},22]
[null,0,{"$nulls":3},{"$f":"VLOOKUP($A47,Participants!$A:$E,4,FALSE)","v":{"$error":"#N/A"}},{"$f":"VLOOKUP($A47,Participants!$A:$E,2,FALSE)","v":{"$error":"#N/A"}},{"$f":"VLOOKUP($A47,Participants!$A:$E,3,FALSE)","v":{"$error":"#N/A"}},{"$f":"VLOOKUP($A47,Participants!$A:$E,5,FALSE)","v":{"$error":"#N/A"}},22]
[null,0,{"$nulls":3},{"$f":"VLOOKUP($A48,Participants!$A:$E,4,FALSE)","v":{"$error":"#N/A"}},{"$f":"VLOOKUP($A48,Participants!$A:$E,2,FALSE)","v":{"$error":"#N/A"}},{"$f":"VLOOKUP($A48,Participants!$A:$E,3,FALSE)","v":{"$error":"#N/A"}},{"$f":"VLOOKUP($A48,Participants!$A:$E,5,FALSE)","v":{"$error":"#N/A"}},22]
[null,0,{"$nulls":3},{"$f":"VLOOKUP($A49,Participants!$A:$E,4,FALSE)","v":{"$error":"#N/A"}},{"$f":"VLOOKUP($A49,Participants!$A:$E,2,FALSE)","v":{"$error":"#N/A"}},{"$f":"VLOOKUP($A49,Participants!$A:$E,3,FALSE)","v":{"$error":"#N/A"}},{"$f":"VLOOKUP($A49,Participants!$A:$E,5,FALSE)","v":{"$error":"#N/A"}},22]
[null,0,{"$nulls":3},{"$f":"VLOOKUP($A50,Participants!$A:$E,4,FALSE)","v":{"$error":"#N/A"}},{"$f":"VLOOKUP($A50,Participants!$A:$E,2,FALSE)","v":{"$error":"#N/A"}},{"$f":"VLOOKUP($A50,Participants!$A:$E,3,FALSE)","v":{"$error":"#N/A"}},{"$f":"VLOOKUP($A50,Participants!$A:$E,5,FALSE)","v":{"$error":"#N/A"}},22]
[null,0,{"$nulls":3},{"$f":"VLOOKUP($A51,Participants!$A:$E,4,FALSE)","v":{"$error":"#N/A"}},{"$f":"VLOOKUP($A51,Participants!$A:$E,2,FALSE)","v":{"$error":"#N/A"}},{"$f":"VLOOKUP($A51,Participants!$A:$E,3,FALSE)","v":{"$error":"#N/A"}},{"$f":"VLOOKUP($A51,Participants!$A:$E,5,FALSE)","v":{"$error":"#N/A"}},22]
[null,0,{"$nulls":3},{"$f":"VLOOKUP($A52,Participants!$A:$E,4,FALSE)","v":{"$error":"#N/A"}},{"$f":"VLOOKUP($A52,Participants!$A:$E,2,FALSE)","v":{"$error":"#N/A"}},{"$f":"VLOOKUP($A52,Participants!$A:$E,3,FALSE)","v":{"$error":"#N/A"}},{"$f":"VLOOKUP($A52,Participants!$A:$E,5,FALSE)","v":{"$error":"#N/A"}},22]
[null,0,{"$nulls":3},{"$f":"VLOOKUP($A53,Participants!$A:$E,4,FALSE)","v":{"$error":"#N/A"}},{"$f":"VLOOKUP($A53,Participants!$A:$E,2,FALSE)","v":{"$error":"#N/A"}},{"$f":"VLOOKUP($A53,Participants!$A:$E,3,FALSE)","v":{"$error":"#N/A"}},{"$f":"VLOOKUP($A53,Participants!$A:$E,5,FALSE)","v":{"$error":"#N/A"}},22]
[null,0,{"$nulls":3},{"$f":"VLOOKUP($A54,Participants!$A:$E,4,FALSE)","v":{"$error":"#N/A"}},{"$f":"VLOOKUP($A54,Participants!$A:$E,2,FALSE)","v":{"$error":"#N/A"}},{"$f":"VLOOKUP($A54,Participants!$A:$E,3,FALSE)","v":{"$error":"#N/A"}},{"$f":"VLOOKUP($A54,Participants!$A:$E,5,FALSE)","v":{"$error":"#N/A"}},22]
[null,0,{"$nulls":3},{"$f":"VLOOKUP($A55,Participants!$A:$E,4,FALSE)","v":{"$error":"#N/A"}},{"$f":"VLOOKUP($A55,Participants!$A:$E,2,FALSE)","v":{"$error":"#N/A"}},{"$f":"VLOOKUP($A55,Participants!$A:$E,3,FALSE)","v":{"$error":"#N/A"}},{"$f":"VLOOKUP($A55,Participants!$A:$E,5,FALSE)","v":{"$error":"#N/A"}},22]
[null,0,{"$nulls":3},{"$f":"VLOOKUP($A56,Participants!$A:$E,4,FALSE)","v":{"$error":"#N/A"}},{"$f":"VLOOKUP($A56,Participants!$A:$E,2,FALSE)","v":{"$error":"#N/A"}},{"$f":"VLOOKUP($A56,Participants!$A:$E,3,FALSE)","v":{"$error":"#N/A"}},{"$f":"VLOOKUP($A56,Participants!$A:$E,5,FALSE)","v":{"$error":"#N/A"}},22]
[null,0,{"$nulls":3},{"$f":"VLOOKUP($A57,Participants!$A:$E,4,FALSE)","v":{"$error":"#N/A"}},{"$f":"VLOOKUP($A57,Participants!$A:$E,2,FALSE)","v":{"$error":"#N/A"}},{"$f":"VLOOKUP($A57,Participants!$A:$E,3,FALSE)","v":{"$error":"#N/A"}},{"$f":"VLOOKUP($A57,Participants!$A:$E,5,FALSE)","v":{"$error":"#N/A"}},22]
[null,0,{"$nulls":3},{"$f":"VLOOKUP($A58,Participants!$A:$E,4,FALSE)","v":{"$error":"#N/A"}},{"$f":"VLOOKUP($A58,Participants!$A:$E,2,FALSE)","v":{"$error":"#N/A"}},{"$f":"VLOOKUP($A58,Participants!$A:$E,3,FALSE)","v":{"$error":"#N/A"}},{"$f":"VLOOKUP($A58,Participants!$A:$E,5,FALSE)","v":{"$error":"#N/A"}},22]
[null,0,{"$nulls":3},{"$f":"VLOOKUP($A59,Participants!$A:$E,4,FALSE)","v":{"$error":"#N/A"}},{"$f":"VLOOKUP($A59,Participants!$A:$E,2,FALSE)","v":{"$error":"#N/A"}},{"$f":"VLOOKUP($A59,Participants!$A:$E,3,FALSE)","v":{"$error":"#N/A"}},{"$f":"VLOOKUP($A59,Participants!$A:$E,5,FALSE)","v":{"$error":"#N/A"}},22]
[null,0,{"$nulls":3},{"$f":"VLOOKUP($A60,Participants!$A:$E,4,FALSE)","v":{"$error":"#N/A"}},{"$f":"VLOOKUP($A60,Participants!$A:$E,2,FALSE)","v":{"$error":"#N/A"}},{"$f":"VLOOKUP($A60,Participants!$A:$E,3,FALSE)","v":{"$error":"#N/A"}},{"$f":"VLOOKUP($A60,Participants!$A:$E,5,FALSE)","v":{"$error":"#N/A"}},22]
[null,0,{"$nulls":3},{"$f":"VLOOKUP($A61,Participants!$A:$E,4,FALSE)","v":{"$error":"#N/A"}},{"$f":"VLOOKUP($A61,Participants!$A:$E,2,FALSE)","v":{"$error":"#N/A"}},{"$f":"VLOOKUP($A61,Participants!$A:$E,3,FALSE)","v":{"$error":"#N/A"}},{"$f":"VLOOKUP($A61,Participants!$A:$E,5,FALSE)","v":{"$error":"#N/A"}},22]
[null,0,{"$nulls":3},{"$f":"VLOOKUP($A62,Participants!$A:$E,4,FALSE)","v":{"$error":"#N/A"}},{"$f":"VLOOKUP($A62,Participants!$A:$E,2,FALSE)","v":{"$error":"#N/A"}},{"$f":"VLOOKUP($A62,Participants!$A:$E,3,FALSE)","v":{"$error":"#N/A"}},{"$f":"VLOOKUP($A62,Participants!$A:$E,5,FALSE)","v":{"$error":"#N/A"}},22]
[null,0,{"$nulls":3},{"$f":"VLOOKUP($A63,Participants!$A:$E,4,FALSE)","v":{"$error":"#N/A"}},{"$f":"VLOOKUP($A63,Participants!$A:$E,2,FALSE)","v":{"$error":"#N/A"}},{"$f":"VLOOKUP($A63,Participants!$A:$E,3,FALSE)","v":{"$error":"#N/A"}},{"$f":"VLOOKUP($A63,Participants!$A:$E,5,FALSE)","v":{"$error":"#N/A"}},22]
[null,0,{"$nulls":3},{"$f":"VLOOKUP($A64,Participants!$A:$E,4,FALSE)","v":{"$error":"#N/A"}},{"$f":"VLOOKUP($A64,Participants!$A:$E,2,FALSE)","v":{"$error":"#N/A"}},{"$f":"VLOOKUP($A64,Participants!$A:$E,3,FALSE)","v":{"$error":"#N/A"}},{"$f":"VLOOKUP($A64,Participants!$A:$E,5,FALSE)","v":{"$error":"#N/A"}},22]
[null,0,{"$nulls":3},{"$f":"VLOOKUP($A65,Participants!$A:$E,4,FALSE)","v":{"$error":"#N/A"}},{"$f":"VLOOKUP($A65,Participants!$A:$E,2,FALSE)","v":{"$error":"#N/A"}},{"$f":"VLOOKUP($A65,Participants!$A:$E,3,FALSE)","v":{"$error":"#N/A"}},{"$f":"VLOOKUP($A65,Participants!$A:$E,5,FALSE)","v":{"$error":"#N/A"}},22]
[null,0,{"$nulls":3},{"$f":"VLOOKUP($A66,Participants!$A:$E,4,FALSE)","v":{"$error":"#N/A"}},{"$f":"VLOOKUP($A66,Participants!$A:$E,2,FALSE)","v":{"$error":"#N/A"}},{"$f":"VLOOKUP($A66,Participants!$A:$E,3,FALSE)","v":{"$error":"#N/A"}},{"$f":"VLOOKUP($A66,Participants!$A:$E,5,FALSE)","v":{"$error":"#N/A"}},22]
[null,{"$f":"MAX(C67:E67)","v":0},{"$nulls":3},{"$f":"VLOOKUP($A67,Participants!$A:$E,4,FALSE)","v":{"$error":"#N/A"}},{"$f":"VLOOKUP($A67,Participants!$A:$E,2,FALSE)","v":{"$error":"#N/A"}},{"$f":"VLOOKUP($A67,Participants!$A:$E,3,FALSE)","v":{"$error":"#N/A"}},{"$f":"VLOOKUP($A67,Participants!$A:$E,5,FALSE)","v":{"$error":"#N/A"}},{"$f":"RANK(B67,$B$1:$B$97,0)","v":22}]
[null,0,{"$nulls":3},{"$f":"VLOOKUP($A68,Participants!$A:$E,4,FALSE)","v":{"$error":"#N/A"}},{"$f":"VLOOKUP($A68,Participants!$A:$E,2,FALSE)","v":{"$error":"#N/A"}},{"$f":"VLOOKUP($A68,Participants!$A:$E,3,FALSE)","v":{"$error":"#N/A"}},{"$f":"VLOOKUP($A68,Participants!$A:$E,5,FALSE)","v":{"$error":"#N/A"}},22]
[null,0,{"$nulls":3},{"$f":"VLOOKUP($A69,Participants!$A:$E,4,FALSE)","v":{"$error":"#N/A"}},{"$f":"VLOOKUP($A69,Participants!$A:$E,2,FALSE)","v":{"$error":"#N/A"}},{"$f":"VLOOKUP($A69,Participants!$A:$E,3,FALSE)","v":{"$error":"#N/A"}},{"$f":"VLOOKUP($A69,Participants!$A:$E,5,FALSE)","v":{"$error":"#N/A"}},22]
[null,0,{"$nulls":3},{"$f":"VLOOKUP($A70,Participants!$A:$E,4,FALSE)","v":{"$error":"#N/A"}},{"$f":"VLOOKUP($A70,Participants!$A:$E,2,FALSE)","v":{"$error":"#N/A"}},{"$f":"VLOOKUP($A70,Participants!$A:$E,3,FALSE)","v":{"$error":"#N/A"}},{"$f":"VLOOKUP($A70,Participants!$A:$E,5,FALSE)","v":{"$error":"#N/A"}},22]
[null,0,{"$nulls":3},{"$f":"VLOOKUP($A71,Participants!$A:$E,4,FALSE)","v":{"$error":"#N/A"}},{"$f":"VLOOKUP($A71,Participants!$A:$E,2,FALSE)","v":{"$error":"#N/A"}},{"$f":"VLOOKUP($A71,Participants!$A:$E,3,FALSE)","v":{"$error":"#N/A"}},{"$f":"VLOOKUP($A71,Participants!$A:$E,5,FALSE)","v":{"$error":"#N/A"}},22]
[null,0,{"$nulls":3},{"$f":"VLOOKUP($A72,Participants!$A:$E,4,FALSE)","v":{"$error":"#N/A"}},{"$f":"VLOOKUP($A72,Participants!$A:$E,2,FALSE)","v":{"$error":"#N/A"}},{"$f":"VLOOKUP($A72,Participants!$A:$E,3,FALSE)","v":{"$error":"#N/A"}},{"$f":"VLOOKUP($A72,Participants!$A:$E,5,FALSE)","v":{"$error":"#N/A"}},22]
[null,0,{"$nulls":3},{"$f":"VLOOKUP($A73,Participants!$A:$E,4,FALSE)","v":{"$error":"#N/A"}},{"$f":"VLOOKUP($A73,Participants!$A:$E,2,FALSE)","v":{"$error":"#N/A"}},{"$f":"VLOOKUP($A73,Participants!$A:$E,3,FALSE)","v":{"$error":"#N/A"}},{"$f":"VLOOKUP($A73,Participants!$A:$E,5,FALSE)","v":{"$error":"#N/A"}},22]
[null,0,{"$nulls":3},{"$f":"VLOOKUP($A74,Participants!$A:$E,4,FALSE)","v":{"$error":"#N/A"}},{"$f":"VLOOKUP($A74,Participants!$A:$E,2,FALSE)","v":{"$error":"#N/A"}},{"$f":"VLOOKUP($A74,Participants!$A:$E,3,FALSE)","v":{"$error":"#N/A"}},{"$f":"VLOOKUP($A74,Participants!$A:$E,5,FALSE)","v":{"$error":"#N/A"}},22]
[null,0,{"$nulls":3},{"$f":"VLOOKUP($A75,Participants!$A:$E,4,FALSE)","v":{"$error":"#N/A"}},{"$f":"VLOOKUP($A75,Participants!$A:$E,2,FALSE)","v":{"$error":"#N/A"}},{"$f":"VLOOKUP($A75,Participants!$A:$E,3,FALSE)","v":{"$error":"#N/A"}},{"$f":"VLOOKUP($A75,Participants!$A:$E,5,FALSE)","v":{"$error":"#N/A"}},22]
[null,0,{"$nulls":3},{"$f":"VLOOKUP($A76,Participants!$A:$E,4,FALSE)","v":{"$error":"#N/A"}},{"$f":"VLOOKUP($A76,Participants!$A:$E,2,FALSE)","v":{"$error":"#N/A"}},{"$f":"VLOOKUP($A76,Participants!$A:$E,3,FALSE)","v":{"$error":"#N/A"}},{"$f":"VLOOKUP($A76,Participants!$A:$E,5,FALSE)","v":{"$error":"#N/A"}},22]
[null,0,{"$nulls":3},{"$f":"VLOOKUP($A77,Participants!$A:$E,4,FALSE)","v":{"$error":"#N/A"}},{"$f":"VLOOKUP($A77,Participants!$A:$E,2,FALSE)","v":{"$error":"#N/A"}},{"$f":"VLOOKUP($A77,Participants!$A:$E,3,FALSE)","v":{"$error":"#N/A"}},{"$f":"VLOOKUP($A77,Participants!$A:$E,5,FALSE)","v":{"$error":"#N/A"}},22]
[null,0,{"$nulls":3},{"$f":"VLOOKUP($A78,Participants!$A:$E,4,FALSE)","v":{"$error":"#N/A"}},{"$f":"VLOOKUP($A78,Participants!$A:$E,2,FALSE)","v":{"$error":"#N/A"}},{"$f":"VLOOKUP($A78,Participants!$A:$E,3,FALSE)","v":{"$error":"#N/A"}},{"$f":"VLOOKUP($A78,Participants!$A:$E,5,FALSE)","v":{"$error":"#N/A"}},22]
[null,0,{"$nulls":3},{"$f":"VLOOKUP($A79,Participants!$A:$E,4,FALSE)","v":{"$error":"#N/A"}},{"$f":"VLOOKUP($A79,Participants!$A:$E,2,FALSE)","v":{"$error":"#N/A"}},{"$f":"VLOOKUP($A79,Participants!$A:$E,3,FALSE)","v":{"$error":"#N/A"}},{"$f":"VLOOKUP($A79,Participants!$A:$E,5,FALSE)","v":{"$error":"#N/A"}},22]
[null,0,{"$nulls":3},{"$f":"VLOOKUP($A80,Participants!$A:$E,4,FALSE)","v":{"$error":"#N/A"}},{"$f":"VLOOKUP($A80,Participants!$A:$E,2,FALSE)","v":{"$error":"#N/A"}},{"$f":"VLOOKUP($A80,Participants!$A:$E,3,FALSE)","v":{"$error":"#N/A"}},{"$f":"VLOOKUP($A80,Participants!$A:$E,5,FALSE)","v":{"$error":"#N/A"}},22]
[null,0,{"$nulls":3},{"$f":"VLOOKUP($A81,Participants!$A:$E,4,FALSE)","v":{"$error":"#N/A"}},{"$f":"VLOOKUP($A81,Participants!$A:$E,2,FALSE)","v":{"$error":"#N/A"}},{"$f":"VLOOKUP($A81,Participants!$A:$E,3,FALSE)","v":{"$error":"#N/A"}},{"$f":"VLOOKUP($A81,Participants!$A:$E,5,FALSE)","v":{"$error":"#N/A"}},22]
[null,0,{"$nulls":3},{"$f":"VLOOKUP($A82,Participants!$A:$E,4,FALSE)","v":{"$error":"#N/A"}},{"$f":"VLOOKUP($A82,Participants!$A:$E,2,FALSE)","v":{"$error":"#N/A"}},{"$f":"VLOOKUP($A82,Participants!$A:$E,3,FALSE)","v":{"$error":"#N/A"}},{"$f":"VLOOKUP($A82,Participants!$A:$E,5,FALSE)","v":{"$error":"#N/A"}},22]
[null,0,{"$nulls":3},{"$f":"VLOOKUP($A83,Participants!$A:$E,4,FALSE)","v":{"$error":"#N/A"}},{"$f":"VLOOKUP($A83,Participants!$A:$E,2,FALSE)","v":{"$error":"#N/A"}},{"$f":"VLOOKUP($A83,Participants!$A:$E,3,FALSE)","v":{"$error":"#N/A"}},{"$f":"VLOOKUP($A83,Participants!$A:$E,5,FALSE)","v":{"$error":"#N/A"}},22]
[null,0,{"$nulls":3},{"$f":"VLOOKUP($A84,Participants!$A:$E,4,FALSE)","v":{"$error":"#N/A"}},{"$f":"VLOOKUP($A84,Participants!$A:$E,2,FALSE)","v":{"$error":"#N/A"}},{"$f":"VLOOKUP($A84,Participants!$A:$E,3,FALSE)","v":{"$error":"#N/A"}},{"$f":"VLOOKUP($A84,Participants!$A:$E,5,FALSE)","v":{"$error":"#N/A"}},22]
[null,0,{"$nulls":3},{"$f":"VLOOKUP($A85,Participants!$A:$E,4,FALSE)","v":{"$error":"#N/A"}},{"$f":"VLOOKUP($A85,Participants!$A:$E,2,FALSE)","v":{"$error":"#N/A"}},{"$f":"VLOOKUP($A85,Participants!$A:$E,3,FALSE)","v":{"$error":"#N/A"}},{"$f":"VLOOKUP($A85,Participants!$A:$E,5,FALSE)","v":{"$error":"#N/A"}},22]
[null,0,{"$nulls":3},{"$f":"VLOOKUP($A86,Participants!$A:$E,4,FALSE)","v":{"$error":"#N/A"}},{"$f":"VLOOKUP($A86,Participants!$A:$E,2,FALSE)","v":{"$error":"#N/A"}},{"$f":"VLOOKUP($A86,Participants!$A:$E,3,FALSE)","v":{"$error":"#N/A"}},{"$f":"VLOOKUP($A86,Participants!$A:$E,5,FALSE)","v":{"$error":"#N/A"}},22]
[null,0,{"$nulls":3},{"$f":"VLOOKUP($A87,Participants!$A:$E,4,FALSE)","v":{"$error":"#N/A"}},{"$f":"VLOOKUP($A87,Participants!$A:$E,2,FALSE)","v":{"$error":"#N/A"}},{"$f":"VLOOKUP($A87,Participants!$A:$E,3,FALSE)","v":{"$error":"#N/A"}},{"$f":"VLOOKUP($A87,Participants!$A:$E,5,FALSE)","v":{"$error":"#N/A"}},22]
[null,0,{"$nulls":3},{"$f":"VLOOKUP($A88,Participants!$A:$E,4,FALSE)","v":{"$error":"#N/A"}},{"$f":"VLOOKUP($A88,Participants!$A:$E,2,FALSE)","v":{"$error":"#N/A"}},{"$f":"VLOOKUP($A88,Participants!$A:$E,3,FALSE)","v":{"$error":"#N/A"}},{"$f":"VLOOKUP($A88,Participants!$A:$E,5,FALSE)","v":{"$error":"#N/A"}},22]
[null,0,{"$nulls":3},{"$f":"VLOOKUP($A89,Participants!$A:$E,4,FALSE)","v":{"$error":"#N/A"}},{"$f":"VLOOKUP($A89,Participants!$A:$E,2,FALSE)","v":{"$error":"#N/A"}},{"$f":"VLOOKUP($A89,Participants!$A:$E,3,FALSE)","v":{"$error":"#N/A"}},{"$f":"VLOOKUP($A89,Participants!$A:$E,5,FALSE)","v":{"$error":"#N/A"}},22]
[null,0,{"$nulls":3},{"$f":"VLOOKUP($A90,Participants!$A:$E,4,FALSE)","v":{"$error":"#N/A"}},{"$f":"VLOOKUP($A90,Participants!$A:$E,2,FALSE)","v":{"$error":"#N/A"}},{"$f":"VLOOKUP($A90,Participants!$A:$E,3,FALSE)","v":{"$error":"#N/A"}},{"$f":"VLOOKUP($A90,Participants!$A:$E,5,FALSE)","v":{"$error":"#N/A"}},22]
[null,0,{"$nulls":3},{"$f":"VLOOKUP($A91,Participants!$A:$E,4,FALSE)","v":{"$error":"#N/A"}},{"$f":"VLOOKUP($A91,Participants!$A:$E,2,FALSE)","v":{"$error":"#N/A"}},{"$f":"VLOOKUP($A91,Participants!$A:$E,3,FALSE)","v":{"$error":"#N/A"}},{"$f":"VLOOKUP($A91,Participants!$A:$E,5,FALSE)","v":{"$error":"#N/A"}},22]
[null,0,{"$nulls":3},{"$f":"VLOOKUP($A92,Participants!$A:$E,4,FALSE)","v":{"$error":"#N/A"}},{"$f":"VLOOKUP($A92,Participants!$A:$E,2,FALSE)","v":{"$error":"#N/A"}},{"$f":"VLOOKUP($A92,Participants!$A:$E,3,FALSE)","v":{"$error":"#N/A"}},{"$f":"VLOOKUP($A92,Participants!$A:$E,5,FALSE)","v":{"$error":"#N/A"}},22]
[null,0,{"$nulls":3},{"$f":"VLOOKUP($A93,Participants!$A:$E,4,FALSE)","v":{"$error":"#N/A"}},{"$f":"VLOOKUP($A93,Participants!$A:$E,2,FALSE)","v":{"$error":"#N/A"}},{"$f":"VLOOKUP($A93,Participants!$A:$E,3,FALSE)","v":{"$error":"#N/A"}},{"$f":"VLOOKUP($A93,Participants!$A:$E,5,FALSE)","v":{"$error":"#N/A"}},22]
[null,0,{"$nulls":3},{"$f":"VLOOKUP($A94,Participants!$A:$E,4,FALSE)","v":{"$error":"#N/A"}},{"$f":"VLOOKUP($A94,Participants!$A:$E,2,FALSE)","v":{"$error":"#N/A"}},{"$f":"VLOOKUP($A94,Participants!$A:$E,3,FALSE)","v":{"$error":"#N/A"}},{"$f":"VLOOKUP($A94,Participants!$A:$E,5,FALSE)","v":{"$error":"#N/A"}},22]
[null,0,{"$nulls":3},{"$f":"VLOOKUP($A95,Participants!$A:$E,4,FALSE)","v":{"$error":"#N/A"}},{"$f":"VLOOKUP($A95,Participants!$A:$E,2,FALSE)","v":{"$error":"#N/A"}},{"$f":"VLOOKUP($A95,Participants!$A:$E,3,FALSE)","v":{"$error":"#N/A"}},{"$f":"VLOOKUP($A95,Participants!$A:$E,5,FALSE)","v":{"$error":"#N/A"}},22]
[null,0,{"$nulls":3},{"$f":"VLOOKUP($A96,Participants!$A:$E,4,FALSE)","v":{"$error":"#N/A"}},{"$f":"VLOOKUP($A96,Participants!$A:$E,2,FALSE)","v":{"$error":"#N/A"}},{"$f":"VLOOKUP($A96,Participants!$A:$E,3,FALSE)","v":{"$error":"#N/A"}},{"$f":"VLOOKUP($A96,Participants!$A:$E,5,FALSE)","v":{"$error":"#N/A"}},22]
[null,0,{"$nulls":3},{"$f":"VLOOKUP($A97,Participants!$A:$E,4,FALSE)","v":{"$error":"#N/A"}},{"$f":"VLOOKUP($A97,Participants!$A:$E,2,FALSE)","v":{"$error":"#N/A"}},{"$f":"VLOOKUP($A97,Participants!$A:$E,3,FALSE)","v":{"$error":"#N/A"}},{"$f":"VLOOKUP($A97,Participants!$A:$E,5,FALSE)","v":{"$error":"#N/A"}},22]
[null,0,{"$nulls":3},{"$f":"VLOOKUP($A98,Participants!$A:$E,4,FALSE)","v":{"$error":"#N/A"}},{"$f":"VLOOKUP($A98,Participants!$A:$E,2,FALSE)","v":{"$error":"#N/A"}},{"$f":"VLOOKUP($A98,Participants!$A:$E,3,FALSE)","v":{"$error":"#N/A"}},{"$f":"VLOOKUP($A98,Participants!$A:$E,5,FALSE)","v":{"$error":"#N/A"}},22]
[null,0,{"$nulls":3},{"$f":"VLOOKUP($A99,Participants!$A:$E,4,FALSE)","v":{"$error":"#N/A"}},{"$f":"VLOOKUP($A99,Participants!$A:$E,2,FALSE)","v":{"$error":"#N/A"}},{"$f":"VLOOKUP($A99,Participants!$A:$E,3,FALSE)","v":{"$error":"#N/A"}},{"$f":"VLOOKUP($A99,Participants!$A:$E,5,FALSE)","v":{"$error":"#N/A"}},22]
[null,0,{"$nulls":3},{"$f":"VLOOKUP($A100,Participants!$A:$E,4,FALSE)","v":{"$error":"#N/A"}},{"$f":"VLOOKUP($A100,Participants!$A:$E,2,FALSE)","v":{"$error":"#N/A"}},{"$f":"VLOOKUP($A100,Participants!$A:$E,3,FALSE)","v":{"$error":"#N/A"}},{"$f":"VLOOKUP($A100,Participants!$A:$E,5,FALSE)","v":{"$error":"#N/A"}},22]
[null,0,{"$nulls":3},{"$f":"VLOOKUP($A101,Participants!$A:$E,4,FALSE)","v":{"$error":"#N/A"}},{"$f":"VLOOKUP($A101,Participants!$A:$E,2,FALSE)","v":{"$error":"#N/A"}},{"$f":"VLOOKUP($A101,Participants!$A:$E,3,FALSE)","v":{"$error":"#N/A"}},{"$f":"VLOOKUP($A101,Participants!$A:$E,5,FALSE)","v":{"$error":"#N/A"}},22]

{"sheet":"HighJump Cadet Girls","index":59,"n_rows":101,"n_cols":13,"rows_kept":101}
["Bib","Enter Best Only\nEnter 10 ft 3 3/4 in as 1003.75",{"$nulls":3},"Grade","FName","Lname","School","Overall Place",null,null,"Return to Schedule of Events"]
[167,402,"4'2 on 3rd try",null,null,{"$f":"VLOOKUP($A2,Participants!$A:$E,4,FALSE)","v":7},{"$f":"VLOOKUP($A2,Participants!$A:$E,2,FALSE)","v":"Evie"},{"$f":"VLOOKUP($A2,Participants!$A:$E,3,FALSE)","v":"Eble"},{"$f":"VLOOKUP($A2,Participants!$A:$E,5,FALSE)","v":"SSFC"},{"$f":"RANK(B2,$B$1:$B$97,0)","v":2}]
[234,306,{"$nulls":3},{"$f":"VLOOKUP($A3,Participants!$A:$E,4,FALSE)","v":7},{"$f":"VLOOKUP($A3,Participants!$A:$E,2,FALSE)","v":"Becca"},{"$f":"VLOOKUP($A3,Participants!$A:$E,3,FALSE)","v":"Engel"},{"$f":"VLOOKUP($A3,Participants!$A:$E,5,FALSE)","v":"United We Run"},{"$f":"RANK(B3,$B$1:$B$97,0)","v":6},null,null,"Add or Update Participants"]
[114,309,{"$nulls":3},8,"Sophie","Schneider","St. Jude",5,null,null,"Overall Place and Points"]
[189,402,"4'2 on 3rd try",null,null,{"$f":"VLOOKUP($A5,Participants!$A:$E,4,FALSE)","v":7},{"$f":"VLOOKUP($A5,Participants!$A:$E,2,FALSE)","v":"Peyton"},{"$f":"VLOOKUP($A5,Participants!$A:$E,3,FALSE)","v":"Nalley"},"SSFC",2]
[4,402.002,"cleared 4'2 on 2nd try",null,null,{"$f":"VLOOKUP($A6,Participants!$A:$E,4,FALSE)","v":8},{"$f":"VLOOKUP($A6,Participants!$A:$E,2,FALSE)","v":"Lucia"},{"$f":"VLOOKUP($A6,Participants!$A:$E,3,FALSE)","v":"Allen"},{"$f":"VLOOKUP($A6,Participants!$A:$E,5,FALSE)","v":"St Jude"},1]
[80,402,"4'2 on 3rd try",null,null,{"$f":"VLOOKUP($A7,Participants!$A:$E,4,FALSE)","v":7},{"$f":"VLOOKUP($A7,Participants!$A:$E,2,FALSE)","v":"Miriam"},{"$f":"VLOOKUP($A7,Participants!$A:$E,3,FALSE)","v":"Mappes"},{"$f":"VLOOKUP($A7,Participants!$A:$E,5,FALSE)","v":"St Jude"},2]
[{"$nulls":5},{"$f":"VLOOKUP($A8,Participants!$A:$E,4,FALSE)","v":{"$error":"#N/A"}},{"$f":"VLOOKUP($A8,Participants!$A:$E,2,FALSE)","v":{"$error":"#N/A"}},{"$f":"VLOOKUP($A8,Participants!$A:$E,3,FALSE)","v":{"$error":"#N/A"}},{"$f":"VLOOKUP($A8,Participants!$A:$E,5,FALSE)","v":{"$error":"#N/A"}},{"$error":"#N/A"}]
[{"$nulls":5},{"$f":"VLOOKUP($A9,Participants!$A:$E,4,FALSE)","v":{"$error":"#N/A"}},{"$f":"VLOOKUP($A9,Participants!$A:$E,2,FALSE)","v":{"$error":"#N/A"}},{"$f":"VLOOKUP($A9,Participants!$A:$E,3,FALSE)","v":{"$error":"#N/A"}},{"$f":"VLOOKUP($A9,Participants!$A:$E,5,FALSE)","v":{"$error":"#N/A"}},{"$error":"#N/A"}]
[{"$nulls":5},{"$f":"VLOOKUP($A10,Participants!$A:$E,4,FALSE)","v":{"$error":"#N/A"}},{"$f":"VLOOKUP($A10,Participants!$A:$E,2,FALSE)","v":{"$error":"#N/A"}},{"$f":"VLOOKUP($A10,Participants!$A:$E,3,FALSE)","v":{"$error":"#N/A"}},{"$f":"VLOOKUP($A10,Participants!$A:$E,5,FALSE)","v":{"$error":"#N/A"}},{"$error":"#N/A"}]
[{"$nulls":5},{"$f":"VLOOKUP($A11,Participants!$A:$E,4,FALSE)","v":{"$error":"#N/A"}},{"$f":"VLOOKUP($A11,Participants!$A:$E,2,FALSE)","v":{"$error":"#N/A"}},{"$f":"VLOOKUP($A11,Participants!$A:$E,3,FALSE)","v":{"$error":"#N/A"}},{"$f":"VLOOKUP($A11,Participants!$A:$E,5,FALSE)","v":{"$error":"#N/A"}},{"$error":"#N/A"}]
[{"$nulls":5},{"$f":"VLOOKUP($A12,Participants!$A:$E,4,FALSE)","v":{"$error":"#N/A"}},{"$f":"VLOOKUP($A12,Participants!$A:$E,2,FALSE)","v":{"$error":"#N/A"}},{"$f":"VLOOKUP($A12,Participants!$A:$E,3,FALSE)","v":{"$error":"#N/A"}},{"$f":"VLOOKUP($A12,Participants!$A:$E,5,FALSE)","v":{"$error":"#N/A"}},{"$error":"#N/A"}]
[{"$nulls":5},{"$f":"VLOOKUP($A13,Participants!$A:$E,4,FALSE)","v":{"$error":"#N/A"}},{"$f":"VLOOKUP($A13,Participants!$A:$E,2,FALSE)","v":{"$error":"#N/A"}},{"$f":"VLOOKUP($A13,Participants!$A:$E,3,FALSE)","v":{"$error":"#N/A"}},{"$f":"VLOOKUP($A13,Participants!$A:$E,5,FALSE)","v":{"$error":"#N/A"}},{"$error":"#N/A"}]
[{"$nulls":5},{"$f":"VLOOKUP($A14,Participants!$A:$E,4,FALSE)","v":{"$error":"#N/A"}},{"$f":"VLOOKUP($A14,Participants!$A:$E,2,FALSE)","v":{"$error":"#N/A"}},{"$f":"VLOOKUP($A14,Participants!$A:$E,3,FALSE)","v":{"$error":"#N/A"}},{"$f":"VLOOKUP($A14,Participants!$A:$E,5,FALSE)","v":{"$error":"#N/A"}},{"$error":"#N/A"}]
[{"$nulls":5},{"$f":"VLOOKUP($A15,Participants!$A:$E,4,FALSE)","v":{"$error":"#N/A"}},{"$f":"VLOOKUP($A15,Participants!$A:$E,2,FALSE)","v":{"$error":"#N/A"}},{"$f":"VLOOKUP($A15,Participants!$A:$E,3,FALSE)","v":{"$error":"#N/A"}},{"$f":"VLOOKUP($A15,Participants!$A:$E,5,FALSE)","v":{"$error":"#N/A"}},{"$error":"#N/A"}]
[{"$nulls":5},{"$f":"VLOOKUP($A16,Participants!$A:$E,4,FALSE)","v":{"$error":"#N/A"}},{"$f":"VLOOKUP($A16,Participants!$A:$E,2,FALSE)","v":{"$error":"#N/A"}},{"$f":"VLOOKUP($A16,Participants!$A:$E,3,FALSE)","v":{"$error":"#N/A"}},{"$f":"VLOOKUP($A16,Participants!$A:$E,5,FALSE)","v":{"$error":"#N/A"}},{"$error":"#N/A"}]
[{"$nulls":5},{"$f":"VLOOKUP($A17,Participants!$A:$E,4,FALSE)","v":{"$error":"#N/A"}},{"$f":"VLOOKUP($A17,Participants!$A:$E,2,FALSE)","v":{"$error":"#N/A"}},{"$f":"VLOOKUP($A17,Participants!$A:$E,3,FALSE)","v":{"$error":"#N/A"}},{"$f":"VLOOKUP($A17,Participants!$A:$E,5,FALSE)","v":{"$error":"#N/A"}},{"$error":"#N/A"}]
[{"$nulls":5},{"$f":"VLOOKUP($A18,Participants!$A:$E,4,FALSE)","v":{"$error":"#N/A"}},{"$f":"VLOOKUP($A18,Participants!$A:$E,2,FALSE)","v":{"$error":"#N/A"}},{"$f":"VLOOKUP($A18,Participants!$A:$E,3,FALSE)","v":{"$error":"#N/A"}},{"$f":"VLOOKUP($A18,Participants!$A:$E,5,FALSE)","v":{"$error":"#N/A"}},{"$error":"#N/A"}]
[{"$nulls":5},{"$f":"VLOOKUP($A19,Participants!$A:$E,4,FALSE)","v":{"$error":"#N/A"}},{"$f":"VLOOKUP($A19,Participants!$A:$E,2,FALSE)","v":{"$error":"#N/A"}},{"$f":"VLOOKUP($A19,Participants!$A:$E,3,FALSE)","v":{"$error":"#N/A"}},{"$f":"VLOOKUP($A19,Participants!$A:$E,5,FALSE)","v":{"$error":"#N/A"}},{"$error":"#N/A"}]
[{"$nulls":5},{"$f":"VLOOKUP($A20,Participants!$A:$E,4,FALSE)","v":{"$error":"#N/A"}},{"$f":"VLOOKUP($A20,Participants!$A:$E,2,FALSE)","v":{"$error":"#N/A"}},{"$f":"VLOOKUP($A20,Participants!$A:$E,3,FALSE)","v":{"$error":"#N/A"}},{"$f":"VLOOKUP($A20,Participants!$A:$E,5,FALSE)","v":{"$error":"#N/A"}},{"$error":"#N/A"}]
[{"$nulls":5},{"$f":"VLOOKUP($A21,Participants!$A:$E,4,FALSE)","v":{"$error":"#N/A"}},{"$f":"VLOOKUP($A21,Participants!$A:$E,2,FALSE)","v":{"$error":"#N/A"}},{"$f":"VLOOKUP($A21,Participants!$A:$E,3,FALSE)","v":{"$error":"#N/A"}},{"$f":"VLOOKUP($A21,Participants!$A:$E,5,FALSE)","v":{"$error":"#N/A"}},{"$error":"#N/A"}]
[{"$nulls":5},{"$f":"VLOOKUP($A22,Participants!$A:$E,4,FALSE)","v":{"$error":"#N/A"}},{"$f":"VLOOKUP($A22,Participants!$A:$E,2,FALSE)","v":{"$error":"#N/A"}},{"$f":"VLOOKUP($A22,Participants!$A:$E,3,FALSE)","v":{"$error":"#N/A"}},{"$f":"VLOOKUP($A22,Participants!$A:$E,5,FALSE)","v":{"$error":"#N/A"}},{"$error":"#N/A"}]
[{"$nulls":5},{"$f":"VLOOKUP($A23,Participants!$A:$E,4,FALSE)","v":{"$error":"#N/A"}},{"$f":"VLOOKUP($A23,Participants!$A:$E,2,FALSE)","v":{"$error":"#N/A"}},{"$f":"VLOOKUP($A23,Participants!$A:$E,3,FALSE)","v":{"$error":"#N/A"}},{"$f":"VLOOKUP($A23,Participants!$A:$E,5,FALSE)","v":{"$error":"#N/A"}},{"$error":"#N/A"}]
[{"$nulls":5},{"$f":"VLOOKUP($A24,Participants!$A:$E,4,FALSE)","v":{"$error":"#N/A"}},{"$f":"VLOOKUP($A24,Participants!$A:$E,2,FALSE)","v":{"$error":"#N/A"}},{"$f":"VLOOKUP($A24,Participants!$A:$E,3,FALSE)","v":{"$error":"#N/A"}},{"$f":"VLOOKUP($A24,Participants!$A:$E,5,FALSE)","v":{"$error":"#N/A"}},{"$error":"#N/A"}]
[{"$nulls":5},{"$f":"VLOOKUP($A25,Participants!$A:$E,4,FALSE)","v":{"$error":"#N/A"}},{"$f":"VLOOKUP($A25,Participants!$A:$E,2,FALSE)","v":{"$error":"#N/A"}},{"$f":"VLOOKUP($A25,Participants!$A:$E,3,FALSE)","v":{"$error":"#N/A"}},{"$f":"VLOOKUP($A25,Participants!$A:$E,5,FALSE)","v":{"$error":"#N/A"}},{"$error":"#N/A"}]
[{"$nulls":5},{"$f":"VLOOKUP($A26,Participants!$A:$E,4,FALSE)","v":{"$error":"#N/A"}},{"$f":"VLOOKUP($A26,Participants!$A:$E,2,FALSE)","v":{"$error":"#N/A"}},{"$f":"VLOOKUP($A26,Participants!$A:$E,3,FALSE)","v":{"$error":"#N/A"}},{"$f":"VLOOKUP($A26,Participants!$A:$E,5,FALSE)","v":{"$error":"#N/A"}},{"$error":"#N/A"}]
[{"$nulls":5},{"$f":"VLOOKUP($A27,Participants!$A:$E,4,FALSE)","v":{"$error":"#N/A"}},{"$f":"VLOOKUP($A27,Participants!$A:$E,2,FALSE)","v":{"$error":"#N/A"}},{"$f":"VLOOKUP($A27,Participants!$A:$E,3,FALSE)","v":{"$error":"#N/A"}},{"$f":"VLOOKUP($A27,Participants!$A:$E,5,FALSE)","v":{"$error":"#N/A"}},{"$error":"#N/A"}]
[{"$nulls":5},{"$f":"VLOOKUP($A28,Participants!$A:$E,4,FALSE)","v":{"$error":"#N/A"}},{"$f":"VLOOKUP($A28,Participants!$A:$E,2,FALSE)","v":{"$error":"#N/A"}},{"$f":"VLOOKUP($A28,Participants!$A:$E,3,FALSE)","v":{"$error":"#N/A"}},{"$f":"VLOOKUP($A28,Participants!$A:$E,5,FALSE)","v":{"$error":"#N/A"}},{"$error":"#N/A"}]
[{"$nulls":5},{"$f":"VLOOKUP($A29,Participants!$A:$E,4,FALSE)","v":{"$error":"#N/A"}},{"$f":"VLOOKUP($A29,Participants!$A:$E,2,FALSE)","v":{"$error":"#N/A"}},{"$f":"VLOOKUP($A29,Participants!$A:$E,3,FALSE)","v":{"$error":"#N/A"}},{"$f":"VLOOKUP($A29,Participants!$A:$E,5,FALSE)","v":{"$error":"#N/A"}},{"$error":"#N/A"}]
[{"$nulls":5},{"$f":"VLOOKUP($A30,Participants!$A:$E,4,FALSE)","v":{"$error":"#N/A"}},{"$f":"VLOOKUP($A30,Participants!$A:$E,2,FALSE)","v":{"$error":"#N/A"}},{"$f":"VLOOKUP($A30,Participants!$A:$E,3,FALSE)","v":{"$error":"#N/A"}},{"$f":"VLOOKUP($A30,Participants!$A:$E,5,FALSE)","v":{"$error":"#N/A"}},{"$error":"#N/A"}]
[{"$nulls":5},{"$f":"VLOOKUP($A31,Participants!$A:$E,4,FALSE)","v":{"$error":"#N/A"}},{"$f":"VLOOKUP($A31,Participants!$A:$E,2,FALSE)","v":{"$error":"#N/A"}},{"$f":"VLOOKUP($A31,Participants!$A:$E,3,FALSE)","v":{"$error":"#N/A"}},{"$f":"VLOOKUP($A31,Participants!$A:$E,5,FALSE)","v":{"$error":"#N/A"}},{"$error":"#N/A"}]
[{"$nulls":5},{"$f":"VLOOKUP($A32,Participants!$A:$E,4,FALSE)","v":{"$error":"#N/A"}},{"$f":"VLOOKUP($A32,Participants!$A:$E,2,FALSE)","v":{"$error":"#N/A"}},{"$f":"VLOOKUP($A32,Participants!$A:$E,3,FALSE)","v":{"$error":"#N/A"}},{"$f":"VLOOKUP($A32,Participants!$A:$E,5,FALSE)","v":{"$error":"#N/A"}},{"$error":"#N/A"}]
[{"$nulls":5},{"$f":"VLOOKUP($A33,Participants!$A:$E,4,FALSE)","v":{"$error":"#N/A"}},{"$f":"VLOOKUP($A33,Participants!$A:$E,2,FALSE)","v":{"$error":"#N/A"}},{"$f":"VLOOKUP($A33,Participants!$A:$E,3,FALSE)","v":{"$error":"#N/A"}},{"$f":"VLOOKUP($A33,Participants!$A:$E,5,FALSE)","v":{"$error":"#N/A"}},{"$error":"#N/A"}]
[{"$nulls":5},{"$f":"VLOOKUP($A34,Participants!$A:$E,4,FALSE)","v":{"$error":"#N/A"}},{"$f":"VLOOKUP($A34,Participants!$A:$E,2,FALSE)","v":{"$error":"#N/A"}},{"$f":"VLOOKUP($A34,Participants!$A:$E,3,FALSE)","v":{"$error":"#N/A"}},{"$f":"VLOOKUP($A34,Participants!$A:$E,5,FALSE)","v":{"$error":"#N/A"}},{"$error":"#N/A"}]
[{"$nulls":5},{"$f":"VLOOKUP($A35,Participants!$A:$E,4,FALSE)","v":{"$error":"#N/A"}},{"$f":"VLOOKUP($A35,Participants!$A:$E,2,FALSE)","v":{"$error":"#N/A"}},{"$f":"VLOOKUP($A35,Participants!$A:$E,3,FALSE)","v":{"$error":"#N/A"}},{"$f":"VLOOKUP($A35,Participants!$A:$E,5,FALSE)","v":{"$error":"#N/A"}},{"$error":"#N/A"}]
[{"$nulls":5},{"$f":"VLOOKUP($A36,Participants!$A:$E,4,FALSE)","v":{"$error":"#N/A"}},{"$f":"VLOOKUP($A36,Participants!$A:$E,2,FALSE)","v":{"$error":"#N/A"}},{"$f":"VLOOKUP($A36,Participants!$A:$E,3,FALSE)","v":{"$error":"#N/A"}},{"$f":"VLOOKUP($A36,Participants!$A:$E,5,FALSE)","v":{"$error":"#N/A"}},{"$error":"#N/A"}]
[{"$nulls":5},{"$f":"VLOOKUP($A37,Participants!$A:$E,4,FALSE)","v":{"$error":"#N/A"}},{"$f":"VLOOKUP($A37,Participants!$A:$E,2,FALSE)","v":{"$error":"#N/A"}},{"$f":"VLOOKUP($A37,Participants!$A:$E,3,FALSE)","v":{"$error":"#N/A"}},{"$f":"VLOOKUP($A37,Participants!$A:$E,5,FALSE)","v":{"$error":"#N/A"}},{"$error":"#N/A"}]
[{"$nulls":5},{"$f":"VLOOKUP($A38,Participants!$A:$E,4,FALSE)","v":{"$error":"#N/A"}},{"$f":"VLOOKUP($A38,Participants!$A:$E,2,FALSE)","v":{"$error":"#N/A"}},{"$f":"VLOOKUP($A38,Participants!$A:$E,3,FALSE)","v":{"$error":"#N/A"}},{"$f":"VLOOKUP($A38,Participants!$A:$E,5,FALSE)","v":{"$error":"#N/A"}},{"$error":"#N/A"}]
[{"$nulls":5},{"$f":"VLOOKUP($A39,Participants!$A:$E,4,FALSE)","v":{"$error":"#N/A"}},{"$f":"VLOOKUP($A39,Participants!$A:$E,2,FALSE)","v":{"$error":"#N/A"}},{"$f":"VLOOKUP($A39,Participants!$A:$E,3,FALSE)","v":{"$error":"#N/A"}},{"$f":"VLOOKUP($A39,Participants!$A:$E,5,FALSE)","v":{"$error":"#N/A"}},{"$error":"#N/A"}]
[{"$nulls":5},{"$f":"VLOOKUP($A40,Participants!$A:$E,4,FALSE)","v":{"$error":"#N/A"}},{"$f":"VLOOKUP($A40,Participants!$A:$E,2,FALSE)","v":{"$error":"#N/A"}},{"$f":"VLOOKUP($A40,Participants!$A:$E,3,FALSE)","v":{"$error":"#N/A"}},{"$f":"VLOOKUP($A40,Participants!$A:$E,5,FALSE)","v":{"$error":"#N/A"}},{"$error":"#N/A"}]
[{"$nulls":5},{"$f":"VLOOKUP($A41,Participants!$A:$E,4,FALSE)","v":{"$error":"#N/A"}},{"$f":"VLOOKUP($A41,Participants!$A:$E,2,FALSE)","v":{"$error":"#N/A"}},{"$f":"VLOOKUP($A41,Participants!$A:$E,3,FALSE)","v":{"$error":"#N/A"}},{"$f":"VLOOKUP($A41,Participants!$A:$E,5,FALSE)","v":{"$error":"#N/A"}},{"$error":"#N/A"}]
[{"$nulls":5},{"$f":"VLOOKUP($A42,Participants!$A:$E,4,FALSE)","v":{"$error":"#N/A"}},{"$f":"VLOOKUP($A42,Participants!$A:$E,2,FALSE)","v":{"$error":"#N/A"}},{"$f":"VLOOKUP($A42,Participants!$A:$E,3,FALSE)","v":{"$error":"#N/A"}},{"$f":"VLOOKUP($A42,Participants!$A:$E,5,FALSE)","v":{"$error":"#N/A"}},{"$error":"#N/A"}]
[{"$nulls":5},{"$f":"VLOOKUP($A43,Participants!$A:$E,4,FALSE)","v":{"$error":"#N/A"}},{"$f":"VLOOKUP($A43,Participants!$A:$E,2,FALSE)","v":{"$error":"#N/A"}},{"$f":"VLOOKUP($A43,Participants!$A:$E,3,FALSE)","v":{"$error":"#N/A"}},{"$f":"VLOOKUP($A43,Participants!$A:$E,5,FALSE)","v":{"$error":"#N/A"}},{"$error":"#N/A"}]
[{"$nulls":5},{"$f":"VLOOKUP($A44,Participants!$A:$E,4,FALSE)","v":{"$error":"#N/A"}},{"$f":"VLOOKUP($A44,Participants!$A:$E,2,FALSE)","v":{"$error":"#N/A"}},{"$f":"VLOOKUP($A44,Participants!$A:$E,3,FALSE)","v":{"$error":"#N/A"}},{"$f":"VLOOKUP($A44,Participants!$A:$E,5,FALSE)","v":{"$error":"#N/A"}},{"$error":"#N/A"}]
[{"$nulls":5},{"$f":"VLOOKUP($A45,Participants!$A:$E,4,FALSE)","v":{"$error":"#N/A"}},{"$f":"VLOOKUP($A45,Participants!$A:$E,2,FALSE)","v":{"$error":"#N/A"}},{"$f":"VLOOKUP($A45,Participants!$A:$E,3,FALSE)","v":{"$error":"#N/A"}},{"$f":"VLOOKUP($A45,Participants!$A:$E,5,FALSE)","v":{"$error":"#N/A"}},{"$error":"#N/A"}]
[{"$nulls":5},{"$f":"VLOOKUP($A46,Participants!$A:$E,4,FALSE)","v":{"$error":"#N/A"}},{"$f":"VLOOKUP($A46,Participants!$A:$E,2,FALSE)","v":{"$error":"#N/A"}},{"$f":"VLOOKUP($A46,Participants!$A:$E,3,FALSE)","v":{"$error":"#N/A"}},{"$f":"VLOOKUP($A46,Participants!$A:$E,5,FALSE)","v":{"$error":"#N/A"}},{"$error":"#N/A"}]
[{"$nulls":5},{"$f":"VLOOKUP($A47,Participants!$A:$E,4,FALSE)","v":{"$error":"#N/A"}},{"$f":"VLOOKUP($A47,Participants!$A:$E,2,FALSE)","v":{"$error":"#N/A"}},{"$f":"VLOOKUP($A47,Participants!$A:$E,3,FALSE)","v":{"$error":"#N/A"}},{"$f":"VLOOKUP($A47,Participants!$A:$E,5,FALSE)","v":{"$error":"#N/A"}},{"$error":"#N/A"}]
[{"$nulls":5},{"$f":"VLOOKUP($A48,Participants!$A:$E,4,FALSE)","v":{"$error":"#N/A"}},{"$f":"VLOOKUP($A48,Participants!$A:$E,2,FALSE)","v":{"$error":"#N/A"}},{"$f":"VLOOKUP($A48,Participants!$A:$E,3,FALSE)","v":{"$error":"#N/A"}},{"$f":"VLOOKUP($A48,Participants!$A:$E,5,FALSE)","v":{"$error":"#N/A"}},{"$error":"#N/A"}]
[{"$nulls":5},{"$f":"VLOOKUP($A49,Participants!$A:$E,4,FALSE)","v":{"$error":"#N/A"}},{"$f":"VLOOKUP($A49,Participants!$A:$E,2,FALSE)","v":{"$error":"#N/A"}},{"$f":"VLOOKUP($A49,Participants!$A:$E,3,FALSE)","v":{"$error":"#N/A"}},{"$f":"VLOOKUP($A49,Participants!$A:$E,5,FALSE)","v":{"$error":"#N/A"}},{"$error":"#N/A"}]
[{"$nulls":5},{"$f":"VLOOKUP($A50,Participants!$A:$E,4,FALSE)","v":{"$error":"#N/A"}},{"$f":"VLOOKUP($A50,Participants!$A:$E,2,FALSE)","v":{"$error":"#N/A"}},{"$f":"VLOOKUP($A50,Participants!$A:$E,3,FALSE)","v":{"$error":"#N/A"}},{"$f":"VLOOKUP($A50,Participants!$A:$E,5,FALSE)","v":{"$error":"#N/A"}},{"$error":"#N/A"}]
[{"$nulls":5},{"$f":"VLOOKUP($A51,Participants!$A:$E,4,FALSE)","v":{"$error":"#N/A"}},{"$f":"VLOOKUP($A51,Participants!$A:$E,2,FALSE)","v":{"$error":"#N/A"}},{"$f":"VLOOKUP($A51,Participants!$A:$E,3,FALSE)","v":{"$error":"#N/A"}},{"$f":"VLOOKUP($A51,Participants!$A:$E,5,FALSE)","v":{"$error":"#N/A"}},{"$error":"#N/A"}]
[{"$nulls":5},{"$f":"VLOOKUP($A52,Participants!$A:$E,4,FALSE)","v":{"$error":"#N/A"}},{"$f":"VLOOKUP($A52,Participants!$A:$E,2,FALSE)","v":{"$error":"#N/A"}},{"$f":"VLOOKUP($A52,Participants!$A:$E,3,FALSE)","v":{"$error":"#N/A"}},{"$f":"VLOOKUP($A52,Participants!$A:$E,5,FALSE)","v":{"$error":"#N/A"}},{"$error":"#N/A"}]
[{"$nulls":5},{"$f":"VLOOKUP($A53,Participants!$A:$E,4,FALSE)","v":{"$error":"#N/A"}},{"$f":"VLOOKUP($A53,Participants!$A:$E,2,FALSE)","v":{"$error":"#N/A"}},{"$f":"VLOOKUP($A53,Participants!$A:$E,3,FALSE)","v":{"$error":"#N/A"}},{"$f":"VLOOKUP($A53,Participants!$A:$E,5,FALSE)","v":{"$error":"#N/A"}},{"$error":"#N/A"}]
[{"$nulls":5},{"$f":"VLOOKUP($A54,Participants!$A:$E,4,FALSE)","v":{"$error":"#N/A"}},{"$f":"VLOOKUP($A54,Participants!$A:$E,2,FALSE)","v":{"$error":"#N/A"}},{"$f":"VLOOKUP($A54,Participants!$A:$E,3,FALSE)","v":{"$error":"#N/A"}},{"$f":"VLOOKUP($A54,Participants!$A:$E,5,FALSE)","v":{"$error":"#N/A"}},{"$error":"#N/A"}]
[{"$nulls":5},{"$f":"VLOOKUP($A55,Participants!$A:$E,4,FALSE)","v":{"$error":"#N/A"}},{"$f":"VLOOKUP($A55,Participants!$A:$E,2,FALSE)","v":{"$error":"#N/A"}},{"$f":"VLOOKUP($A55,Participants!$A:$E,3,FALSE)","v":{"$error":"#N/A"}},{"$f":"VLOOKUP($A55,Participants!$A:$E,5,FALSE)","v":{"$error":"#N/A"}},{"$error":"#N/A"}]
[{"$nulls":5},{"$f":"VLOOKUP($A56,Participants!$A:$E,4,FALSE)","v":{"$error":"#N/A"}},{"$f":"VLOOKUP($A56,Participants!$A:$E,2,FALSE)","v":{"$error":"#N/A"}},{"$f":"VLOOKUP($A56,Participants!$A:$E,3,FALSE)","v":{"$error":"#N/A"}},{"$f":"VLOOKUP($A56,Participants!$A:$E,5,FALSE)","v":{"$error":"#N/A"}},{"$error":"#N/A"}]
[{"$nulls":5},{"$f":"VLOOKUP($A57,Participants!$A:$E,4,FALSE)","v":{"$error":"#N/A"}},{"$f":"VLOOKUP($A57,Participants!$A:$E,2,FALSE)","v":{"$error":"#N/A"}},{"$f":"VLOOKUP($A57,Participants!$A:$E,3,FALSE)","v":{"$error":"#N/A"}},{"$f":"VLOOKUP($A57,Participants!$A:$E,5,FALSE)","v":{"$error":"#N/A"}},{"$error":"#N/A"}]
[{"$nulls":5},{"$f":"VLOOKUP($A58,Participants!$A:$E,4,FALSE)","v":{"$error":"#N/A"}},{"$f":"VLOOKUP($A58,Participants!$A:$E,2,FALSE)","v":{"$error":"#N/A"}},{"$f":"VLOOKUP($A58,Participants!$A:$E,3,FALSE)","v":{"$error":"#N/A"}},{"$f":"VLOOKUP($A58,Participants!$A:$E,5,FALSE)","v":{"$error":"#N/A"}},{"$error":"#N/A"}]
[{"$nulls":5},{"$f":"VLOOKUP($A59,Participants!$A:$E,4,FALSE)","v":{"$error":"#N/A"}},{"$f":"VLOOKUP($A59,Participants!$A:$E,2,FALSE)","v":{"$error":"#N/A"}},{"$f":"VLOOKUP($A59,Participants!$A:$E,3,FALSE)","v":{"$error":"#N/A"}},{"$f":"VLOOKUP($A59,Participants!$A:$E,5,FALSE)","v":{"$error":"#N/A"}},{"$error":"#N/A"}]
[{"$nulls":5},{"$f":"VLOOKUP($A60,Participants!$A:$E,4,FALSE)","v":{"$error":"#N/A"}},{"$f":"VLOOKUP($A60,Participants!$A:$E,2,FALSE)","v":{"$error":"#N/A"}},{"$f":"VLOOKUP($A60,Participants!$A:$E,3,FALSE)","v":{"$error":"#N/A"}},{"$f":"VLOOKUP($A60,Participants!$A:$E,5,FALSE)","v":{"$error":"#N/A"}},{"$error":"#N/A"}]
[{"$nulls":5},{"$f":"VLOOKUP($A61,Participants!$A:$E,4,FALSE)","v":{"$error":"#N/A"}},{"$f":"VLOOKUP($A61,Participants!$A:$E,2,FALSE)","v":{"$error":"#N/A"}},{"$f":"VLOOKUP($A61,Participants!$A:$E,3,FALSE)","v":{"$error":"#N/A"}},{"$f":"VLOOKUP($A61,Participants!$A:$E,5,FALSE)","v":{"$error":"#N/A"}},{"$error":"#N/A"}]
[{"$nulls":5},{"$f":"VLOOKUP($A62,Participants!$A:$E,4,FALSE)","v":{"$error":"#N/A"}},{"$f":"VLOOKUP($A62,Participants!$A:$E,2,FALSE)","v":{"$error":"#N/A"}},{"$f":"VLOOKUP($A62,Participants!$A:$E,3,FALSE)","v":{"$error":"#N/A"}},{"$f":"VLOOKUP($A62,Participants!$A:$E,5,FALSE)","v":{"$error":"#N/A"}},{"$error":"#N/A"}]
[{"$nulls":5},{"$f":"VLOOKUP($A63,Participants!$A:$E,4,FALSE)","v":{"$error":"#N/A"}},{"$f":"VLOOKUP($A63,Participants!$A:$E,2,FALSE)","v":{"$error":"#N/A"}},{"$f":"VLOOKUP($A63,Participants!$A:$E,3,FALSE)","v":{"$error":"#N/A"}},{"$f":"VLOOKUP($A63,Participants!$A:$E,5,FALSE)","v":{"$error":"#N/A"}},{"$error":"#N/A"}]
[{"$nulls":5},{"$f":"VLOOKUP($A64,Participants!$A:$E,4,FALSE)","v":{"$error":"#N/A"}},{"$f":"VLOOKUP($A64,Participants!$A:$E,2,FALSE)","v":{"$error":"#N/A"}},{"$f":"VLOOKUP($A64,Participants!$A:$E,3,FALSE)","v":{"$error":"#N/A"}},{"$f":"VLOOKUP($A64,Participants!$A:$E,5,FALSE)","v":{"$error":"#N/A"}},{"$error":"#N/A"}]
[{"$nulls":5},{"$f":"VLOOKUP($A65,Participants!$A:$E,4,FALSE)","v":{"$error":"#N/A"}},{"$f":"VLOOKUP($A65,Participants!$A:$E,2,FALSE)","v":{"$error":"#N/A"}},{"$f":"VLOOKUP($A65,Participants!$A:$E,3,FALSE)","v":{"$error":"#N/A"}},{"$f":"VLOOKUP($A65,Participants!$A:$E,5,FALSE)","v":{"$error":"#N/A"}},{"$error":"#N/A"}]
[{"$nulls":5},{"$f":"VLOOKUP($A66,Participants!$A:$E,4,FALSE)","v":{"$error":"#N/A"}},{"$f":"VLOOKUP($A66,Participants!$A:$E,2,FALSE)","v":{"$error":"#N/A"}},{"$f":"VLOOKUP($A66,Participants!$A:$E,3,FALSE)","v":{"$error":"#N/A"}},{"$f":"VLOOKUP($A66,Participants!$A:$E,5,FALSE)","v":{"$error":"#N/A"}},{"$error":"#N/A"}]
[{"$nulls":5},{"$f":"VLOOKUP($A67,Participants!$A:$E,4,FALSE)","v":{"$error":"#N/A"}},{"$f":"VLOOKUP($A67,Participants!$A:$E,2,FALSE)","v":{"$error":"#N/A"}},{"$f":"VLOOKUP($A67,Participants!$A:$E,3,FALSE)","v":{"$error":"#N/A"}},{"$f":"VLOOKUP($A67,Participants!$A:$E,5,FALSE)","v":{"$error":"#N/A"}},{"$f":"RANK(B67,$B$1:$B$97,0)","v":{"$error":"#N/A"}}]
[{"$nulls":5},{"$f":"VLOOKUP($A68,Participants!$A:$E,4,FALSE)","v":{"$error":"#N/A"}},{"$f":"VLOOKUP($A68,Participants!$A:$E,2,FALSE)","v":{"$error":"#N/A"}},{"$f":"VLOOKUP($A68,Participants!$A:$E,3,FALSE)","v":{"$error":"#N/A"}},{"$f":"VLOOKUP($A68,Participants!$A:$E,5,FALSE)","v":{"$error":"#N/A"}},{"$error":"#N/A"}]
[{"$nulls":5},{"$f":"VLOOKUP($A69,Participants!$A:$E,4,FALSE)","v":{"$error":"#N/A"}},{"$f":"VLOOKUP($A69,Participants!$A:$E,2,FALSE)","v":{"$error":"#N/A"}},{"$f":"VLOOKUP($A69,Participants!$A:$E,3,FALSE)","v":{"$error":"#N/A"}},{"$f":"VLOOKUP($A69,Participants!$A:$E,5,FALSE)","v":{"$error":"#N/A"}},{"$error":"#N/A"}]
[{"$nulls":5},{"$f":"VLOOKUP($A70,Participants!$A:$E,4,FALSE)","v":{"$error":"#N/A"}},{"$f":"VLOOKUP($A70,Participants!$A:$E,2,FALSE)","v":{"$error":"#N/A"}},{"$f":"VLOOKUP($A70,Participants!$A:$E,3,FALSE)","v":{"$error":"#N/A"}},{"$f":"VLOOKUP($A70,Participants!$A:$E,5,FALSE)","v":{"$error":"#N/A"}},{"$error":"#N/A"}]
[{"$nulls":5},{"$f":"VLOOKUP($A71,Participants!$A:$E,4,FALSE)","v":{"$error":"#N/A"}},{"$f":"VLOOKUP($A71,Participants!$A:$E,2,FALSE)","v":{"$error":"#N/A"}},{"$f":"VLOOKUP($A71,Participants!$A:$E,3,FALSE)","v":{"$error":"#N/A"}},{"$f":"VLOOKUP($A71,Participants!$A:$E,5,FALSE)","v":{"$error":"#N/A"}},{"$error":"#N/A"}]
[{"$nulls":5},{"$f":"VLOOKUP($A72,Participants!$A:$E,4,FALSE)","v":{"$error":"#N/A"}},{"$f":"VLOOKUP($A72,Participants!$A:$E,2,FALSE)","v":{"$error":"#N/A"}},{"$f":"VLOOKUP($A72,Participants!$A:$E,3,FALSE)","v":{"$error":"#N/A"}},{"$f":"VLOOKUP($A72,Participants!$A:$E,5,FALSE)","v":{"$error":"#N/A"}},{"$error":"#N/A"}]
[{"$nulls":5},{"$f":"VLOOKUP($A73,Participants!$A:$E,4,FALSE)","v":{"$error":"#N/A"}},{"$f":"VLOOKUP($A73,Participants!$A:$E,2,FALSE)","v":{"$error":"#N/A"}},{"$f":"VLOOKUP($A73,Participants!$A:$E,3,FALSE)","v":{"$error":"#N/A"}},{"$f":"VLOOKUP($A73,Participants!$A:$E,5,FALSE)","v":{"$error":"#N/A"}},{"$error":"#N/A"}]
[{"$nulls":5},{"$f":"VLOOKUP($A74,Participants!$A:$E,4,FALSE)","v":{"$error":"#N/A"}},{"$f":"VLOOKUP($A74,Participants!$A:$E,2,FALSE)","v":{"$error":"#N/A"}},{"$f":"VLOOKUP($A74,Participants!$A:$E,3,FALSE)","v":{"$error":"#N/A"}},{"$f":"VLOOKUP($A74,Participants!$A:$E,5,FALSE)","v":{"$error":"#N/A"}},{"$error":"#N/A"}]
[{"$nulls":5},{"$f":"VLOOKUP($A75,Participants!$A:$E,4,FALSE)","v":{"$error":"#N/A"}},{"$f":"VLOOKUP($A75,Participants!$A:$E,2,FALSE)","v":{"$error":"#N/A"}},{"$f":"VLOOKUP($A75,Participants!$A:$E,3,FALSE)","v":{"$error":"#N/A"}},{"$f":"VLOOKUP($A75,Participants!$A:$E,5,FALSE)","v":{"$error":"#N/A"}},{"$error":"#N/A"}]
[{"$nulls":5},{"$f":"VLOOKUP($A76,Participants!$A:$E,4,FALSE)","v":{"$error":"#N/A"}},{"$f":"VLOOKUP($A76,Participants!$A:$E,2,FALSE)","v":{"$error":"#N/A"}},{"$f":"VLOOKUP($A76,Participants!$A:$E,3,FALSE)","v":{"$error":"#N/A"}},{"$f":"VLOOKUP($A76,Participants!$A:$E,5,FALSE)","v":{"$error":"#N/A"}},{"$error":"#N/A"}]
[{"$nulls":5},{"$f":"VLOOKUP($A77,Participants!$A:$E,4,FALSE)","v":{"$error":"#N/A"}},{"$f":"VLOOKUP($A77,Participants!$A:$E,2,FALSE)","v":{"$error":"#N/A"}},{"$f":"VLOOKUP($A77,Participants!$A:$E,3,FALSE)","v":{"$error":"#N/A"}},{"$f":"VLOOKUP($A77,Participants!$A:$E,5,FALSE)","v":{"$error":"#N/A"}},{"$error":"#N/A"}]
[{"$nulls":5},{"$f":"VLOOKUP($A78,Participants!$A:$E,4,FALSE)","v":{"$error":"#N/A"}},{"$f":"VLOOKUP($A78,Participants!$A:$E,2,FALSE)","v":{"$error":"#N/A"}},{"$f":"VLOOKUP($A78,Participants!$A:$E,3,FALSE)","v":{"$error":"#N/A"}},{"$f":"VLOOKUP($A78,Participants!$A:$E,5,FALSE)","v":{"$error":"#N/A"}},{"$error":"#N/A"}]
[{"$nulls":5},{"$f":"VLOOKUP($A79,Participants!$A:$E,4,FALSE)","v":{"$error":"#N/A"}},{"$f":"VLOOKUP($A79,Participants!$A:$E,2,FALSE)","v":{"$error":"#N/A"}},{"$f":"VLOOKUP($A79,Participants!$A:$E,3,FALSE)","v":{"$error":"#N/A"}},{"$f":"VLOOKUP($A79,Participants!$A:$E,5,FALSE)","v":{"$error":"#N/A"}},{"$error":"#N/A"}]
[{"$nulls":5},{"$f":"VLOOKUP($A80,Participants!$A:$E,4,FALSE)","v":{"$error":"#N/A"}},{"$f":"VLOOKUP($A80,Participants!$A:$E,2,FALSE)","v":{"$error":"#N/A"}},{"$f":"VLOOKUP($A80,Participants!$A:$E,3,FALSE)","v":{"$error":"#N/A"}},{"$f":"VLOOKUP($A80,Participants!$A:$E,5,FALSE)","v":{"$error":"#N/A"}},{"$error":"#N/A"}]
[{"$nulls":5},{"$f":"VLOOKUP($A81,Participants!$A:$E,4,FALSE)","v":{"$error":"#N/A"}},{"$f":"VLOOKUP($A81,Participants!$A:$E,2,FALSE)","v":{"$error":"#N/A"}},{"$f":"VLOOKUP($A81,Participants!$A:$E,3,FALSE)","v":{"$error":"#N/A"}},{"$f":"VLOOKUP($A81,Participants!$A:$E,5,FALSE)","v":{"$error":"#N/A"}},{"$error":"#N/A"}]
[{"$nulls":5},{"$f":"VLOOKUP($A82,Participants!$A:$E,4,FALSE)","v":{"$error":"#N/A"}},{"$f":"VLOOKUP($A82,Participants!$A:$E,2,FALSE)","v":{"$error":"#N/A"}},{"$f":"VLOOKUP($A82,Participants!$A:$E,3,FALSE)","v":{"$error":"#N/A"}},{"$f":"VLOOKUP($A82,Participants!$A:$E,5,FALSE)","v":{"$error":"#N/A"}},{"$error":"#N/A"}]
[{"$nulls":5},{"$f":"VLOOKUP($A83,Participants!$A:$E,4,FALSE)","v":{"$error":"#N/A"}},{"$f":"VLOOKUP($A83,Participants!$A:$E,2,FALSE)","v":{"$error":"#N/A"}},{"$f":"VLOOKUP($A83,Participants!$A:$E,3,FALSE)","v":{"$error":"#N/A"}},{"$f":"VLOOKUP($A83,Participants!$A:$E,5,FALSE)","v":{"$error":"#N/A"}},{"$error":"#N/A"}]
[{"$nulls":5},{"$f":"VLOOKUP($A84,Participants!$A:$E,4,FALSE)","v":{"$error":"#N/A"}},{"$f":"VLOOKUP($A84,Participants!$A:$E,2,FALSE)","v":{"$error":"#N/A"}},{"$f":"VLOOKUP($A84,Participants!$A:$E,3,FALSE)","v":{"$error":"#N/A"}},{"$f":"VLOOKUP($A84,Participants!$A:$E,5,FALSE)","v":{"$error":"#N/A"}},{"$error":"#N/A"}]
[{"$nulls":5},{"$f":"VLOOKUP($A85,Participants!$A:$E,4,FALSE)","v":{"$error":"#N/A"}},{"$f":"VLOOKUP($A85,Participants!$A:$E,2,FALSE)","v":{"$error":"#N/A"}},{"$f":"VLOOKUP($A85,Participants!$A:$E,3,FALSE)","v":{"$error":"#N/A"}},{"$f":"VLOOKUP($A85,Participants!$A:$E,5,FALSE)","v":{"$error":"#N/A"}},{"$error":"#N/A"}]
[{"$nulls":5},{"$f":"VLOOKUP($A86,Participants!$A:$E,4,FALSE)","v":{"$error":"#N/A"}},{"$f":"VLOOKUP($A86,Participants!$A:$E,2,FALSE)","v":{"$error":"#N/A"}},{"$f":"VLOOKUP($A86,Participants!$A:$E,3,FALSE)","v":{"$error":"#N/A"}},{"$f":"VLOOKUP($A86,Participants!$A:$E,5,FALSE)","v":{"$error":"#N/A"}},{"$error":"#N/A"}]
[{"$nulls":5},{"$f":"VLOOKUP($A87,Participants!$A:$E,4,FALSE)","v":{"$error":"#N/A"}},{"$f":"VLOOKUP($A87,Participants!$A:$E,2,FALSE)","v":{"$error":"#N/A"}},{"$f":"VLOOKUP($A87,Participants!$A:$E,3,FALSE)","v":{"$error":"#N/A"}},{"$f":"VLOOKUP($A87,Participants!$A:$E,5,FALSE)","v":{"$error":"#N/A"}},{"$error":"#N/A"}]
[{"$nulls":5},{"$f":"VLOOKUP($A88,Participants!$A:$E,4,FALSE)","v":{"$error":"#N/A"}},{"$f":"VLOOKUP($A88,Participants!$A:$E,2,FALSE)","v":{"$error":"#N/A"}},{"$f":"VLOOKUP($A88,Participants!$A:$E,3,FALSE)","v":{"$error":"#N/A"}},{"$f":"VLOOKUP($A88,Participants!$A:$E,5,FALSE)","v":{"$error":"#N/A"}},{"$error":"#N/A"}]
[{"$nulls":5},{"$f":"VLOOKUP($A89,Participants!$A:$E,4,FALSE)","v":{"$error":"#N/A"}},{"$f":"VLOOKUP($A89,Participants!$A:$E,2,FALSE)","v":{"$error":"#N/A"}},{"$f":"VLOOKUP($A89,Participants!$A:$E,3,FALSE)","v":{"$error":"#N/A"}},{"$f":"VLOOKUP($A89,Participants!$A:$E,5,FALSE)","v":{"$error":"#N/A"}},{"$error":"#N/A"}]
[{"$nulls":5},{"$f":"VLOOKUP($A90,Participants!$A:$E,4,FALSE)","v":{"$error":"#N/A"}},{"$f":"VLOOKUP($A90,Participants!$A:$E,2,FALSE)","v":{"$error":"#N/A"}},{"$f":"VLOOKUP($A90,Participants!$A:$E,3,FALSE)","v":{"$error":"#N/A"}},{"$f":"VLOOKUP($A90,Participants!$A:$E,5,FALSE)","v":{"$error":"#N/A"}},{"$error":"#N/A"}]
[{"$nulls":5},{"$f":"VLOOKUP($A91,Participants!$A:$E,4,FALSE)","v":{"$error":"#N/A"}},{"$f":"VLOOKUP($A91,Participants!$A:$E,2,FALSE)","v":{"$error":"#N/A"}},{"$f":"VLOOKUP($A91,Participants!$A:$E,3,FALSE)","v":{"$error":"#N/A"}},{"$f":"VLOOKUP($A91,Participants!$A:$E,5,FALSE)","v":{"$error":"#N/A"}},{"$error":"#N/A"}]
[{"$nulls":5},{"$f":"VLOOKUP($A92,Participants!$A:$E,4,FALSE)","v":{"$error":"#N/A"}},{"$f":"VLOOKUP($A92,Participants!$A:$E,2,FALSE)","v":{"$error":"#N/A"}},{"$f":"VLOOKUP($A92,Participants!$A:$E,3,FALSE)","v":{"$error":"#N/A"}},{"$f":"VLOOKUP($A92,Participants!$A:$E,5,FALSE)","v":{"$error":"#N/A"}},{"$error":"#N/A"}]
[{"$nulls":5},{"$f":"VLOOKUP($A93,Participants!$A:$E,4,FALSE)","v":{"$error":"#N/A"}},{"$f":"VLOOKUP($A93,Participants!$A:$E,2,FALSE)","v":{"$error":"#N/A"}},{"$f":"VLOOKUP($A93,Participants!$A:$E,3,FALSE)","v":{"$error":"#N/A"}},{"$f":"VLOOKUP($A93,Participants!$A:$E,5,FALSE)","v":{"$error":"#N/A"}},{"$error":"#N/A"}]
[{"$nulls":5},{"$f":"VLOOKUP($A94,Participants!$A:$E,4,FALSE)","v":{"$error":"#N/A"}},{"$f":"VLOOKUP($A94,Participants!$A:$E,2,FALSE)","v":{"$error":"#N/A"}},{"$f":"VLOOKUP($A94,Participants!$A:$E,3,FALSE)","v":{"$error":"#N/A"}},{"$f":"VLOOKUP($A94,Participants!$A:$E,5,FALSE)","v":{"$error":"#N/A"}},{"$error":"#N/A"}]
[{"$nulls":5},{"$f":"VLOOKUP($A95,Participants!$A:$E,4,FALSE)","v":{"$error":"#N/A"}},{"$f":"VLOOKUP($A95,Participants!$A:$E,2,FALSE)","v":{"$error":"#N/A"}},{"$f":"VLOOKUP($A95,Participants!$A:$E,3,FALSE)","v":{"$error":"#N/A"}},{"$f":"VLOOKUP($A95,Participants!$A:$E,5,FALSE)","v":{"$error":"#N/A"}},{"$error":"#N/A"}]
[{"$nulls":5},{"$f":"VLOOKUP($A96,Participants!$A:$E,4,FALSE)","v":{"$error":"#N/A"}},{"$f":"VLOOKUP($A96,Participants!$A:$E,2,FALSE)","v":{"$error":"#N/A"}},{"$f":"VLOOKUP($A96,Participants!$A:$E,3,FALSE)","v":{"$error":"#N/A"}},{"$f":"VLOOKUP($A96,Participants!$A:$E,5,FALSE)","v":{"$error":"#N/A"}},{"$error":"#N/A"}]
[{"$nulls":5},{"$f":"VLOOKUP($A97,Participants!$A:$E,4,FALSE)","v":{"$error":"#N/A"}},{"$f":"VLOOKUP($A97,Participants!$A:$E,2,FALSE)","v":{"$error":"#N/A"}},{"$f":"VLOOKUP($A97,Participants!$A:$E,3,FALSE)","v":{"$error":"#N/A"}},{"$f":"VLOOKUP($A97,Participants!$A:$E,5,FALSE)","v":{"$error":"#N/A"}},{"$error":"#N/A"}]
[{"$nulls":5},{"$f":"VLOOKUP($A98,Participants!$A:$E,4,FALSE)","v":{"$error":"#N/A"}},{"$f":"VLOOKUP($A98,Participants!$A:$E,2,FALSE)","v":{"$error":"#N/A"}},{"$f":"VLOOKUP($A98,Participants!$A:$E,3,FALSE)","v":{"$error":"#N/A"}},{"$f":"VLOOKUP($A98,Participants!$A:$E,5,FALSE)","v":{"$error":"#N/A"}},{"$error":"#N/A"}]
[{"$nulls":5},{"$f":"VLOOKUP($A99,Participants!$A:$E,4,FALSE)","v":{"$error":"#N/A"}},{"$f":"VLOOKUP($A99,Participants!$A:$E,2,FALSE)","v":{"$error":"#N/A"}},{"$f":"VLOOKUP($A99,Participants!$A:$E,3,FALSE)","v":{"$error":"#N/A"}},{"$f":"VLOOKUP($A99,Participants!$A:$E,5,FALSE)","v":{"$error":"#N/A"}},{"$error":"#N/A"}]
[{"$nulls":5},{"$f":"VLOOKUP($A100,Participants!$A:$E,4,FALSE)","v":{"$error":"#N/A"}},{"$f":"VLOOKUP($A100,Participants!$A:$E,2,FALSE)","v":{"$error":"#N/A"}},{"$f":"VLOOKUP($A100,Participants!$A:$E,3,FALSE)","v":{"$error":"#N/A"}},{"$f":"VLOOKUP($A100,Participants!$A:$E,5,FALSE)","v":{"$error":"#N/A"}},{"$error":"#N/A"}]
[{"$nulls":5},{"$f":"VLOOKUP($A101,Participants!$A:$E,4,FALSE)","v":{"$error":"#N/A"}},{"$f":"VLOOKUP($A101,Participants!$A:$E,2,FALSE)","v":{"$error":"#N/A"}},{"$f":"VLOOKUP($A101,Participants!$A:$E,3,FALSE)","v":{"$error":"#N/A"}},{"$f":"VLOOKUP($A101,Participants!$A:$E,5,FALSE)","v":{"$error":"#N/A"}},{"$error":"#N/A"}]

{"sheet":"4X100 Girls","index":60,"n_rows":52,"n_cols":13,"rows_kept":52}
["Bib of Anchor","HeatOrder",null,"Time","Grade","FName","Lname","School","Heat","Heat Place","Overall Place","Group","Return to Schedule of Events"]
[]
[]
[18,"Lap 2","00:00:05.200","00:01:09.290",{"$f":"VLOOKUP($A4,Participants!$A:$E,4,FALSE)","v":5},{"$f":"VLOOKUP($A4,Participants!$A:$E,2,FALSE)","v":"Ella "},{"$f":"VLOOKUP($A4,Participants!$A:$E,3,FALSE)","v":"Cadwallader"},{"$f":"VLOOKUP($A4,Participants!$A:$E,5,FALSE)","v":"St Jude"},1,{"$f":"RANK(D4,IF(I4=1,$D$4:$D$8,),1)","v":1},{"$f":"RANK(D4,$D$4:$D$8,1)","v":1},{"$f":"VLOOKUP(A4,Participants!A:G,7,FALSE)","v":"56"},"Add or Update Participants"]
[204,"Lap 3","00:00:04.910","00:01:19.410",{"$f":"VLOOKUP($A5,Participants!$A:$E,4,FALSE)","v":6},{"$f":"VLOOKUP($A5,Participants!$A:$E,2,FALSE)","v":"Emma"},{"$f":"VLOOKUP($A5,Participants!$A:$E,3,FALSE)","v":"Timberlake"},{"$f":"VLOOKUP($A5,Participants!$A:$E,5,FALSE)","v":"SSFC"},1,2,2,{"$f":"VLOOKUP(A5,Participants!A:G,7,FALSE)","v":"56"},"Overall Place and Points"]
[116,"Lap 4","00:00:02.070","00:01:21.480",{"$f":"VLOOKUP($A6,Participants!$A:$E,4,FALSE)","v":5},{"$f":"VLOOKUP($A6,Participants!$A:$E,2,FALSE)","v":"Aleigha"},{"$f":"VLOOKUP($A6,Participants!$A:$E,3,FALSE)","v":"Schoettle"},{"$f":"VLOOKUP($A6,Participants!$A:$E,5,FALSE)","v":"St Jude"},1,3,3,{"$f":"VLOOKUP(A6,Participants!A:G,7,FALSE)","v":"56"}]
[172,"Lap 5","00:00:03.760","00:01:25.240",{"$f":"VLOOKUP($A7,Participants!$A:$E,4,FALSE)","v":5},{"$f":"VLOOKUP($A7,Participants!$A:$E,2,FALSE)","v":"Alexa"},{"$f":"VLOOKUP($A7,Participants!$A:$E,3,FALSE)","v":"Griffin"},{"$f":"VLOOKUP($A7,Participants!$A:$E,5,FALSE)","v":"SSFC"},1,4,4,{"$f":"VLOOKUP(A7,Participants!A:G,7,FALSE)","v":"56"}]
[{"$nulls":4},{"$f":"VLOOKUP($A8,Participants!$A:$E,4,FALSE)","v":{"$error":"#N/A"}},{"$f":"VLOOKUP($A8,Participants!$A:$E,2,FALSE)","v":{"$error":"#N/A"}},{"$f":"VLOOKUP($A8,Participants!$A:$E,3,FALSE)","v":{"$error":"#N/A"}},{"$f":"VLOOKUP($A8,Participants!$A:$E,5,FALSE)","v":{"$error":"#N/A"}},1,{"$error":"#N/A"},{"$error":"#N/A"},{"$f":"VLOOKUP(A8,Participants!A:G,7,FALSE)","v":{"$error":"#N/A"}},"Only capture Anchor (last) runner"]
[{"$nulls":4},{"$f":"VLOOKUP($A9,Participants!$A:$E,4,FALSE)","v":{"$error":"#N/A"}},{"$f":"VLOOKUP($A9,Participants!$A:$E,2,FALSE)","v":{"$error":"#N/A"}},{"$f":"VLOOKUP($A9,Participants!$A:$E,3,FALSE)","v":{"$error":"#N/A"}},{"$f":"VLOOKUP($A9,Participants!$A:$E,5,FALSE)","v":{"$error":"#N/A"}},1,{"$error":"#N/A"},{"$error":"#N/A"},{"$f":"VLOOKUP(A9,Participants!A:G,7,FALSE)","v":{"$error":"#N/A"}}]
[306,null,null,"00:01:14.490",{"$f":"VLOOKUP($A10,Participants!$A:$E,4,FALSE)","v":4},{"$f":"VLOOKUP($A10,Participants!$A:$E,2,FALSE)","v":"Callie"},{"$f":"VLOOKUP($A10,Participants!$A:$E,3,FALSE)","v":"Stephenson"},{"$f":"VLOOKUP($A10,Participants!$A:$E,5,FALSE)","v":"St. Barnabas"},1,{"$error":"#N/A"},{"$error":"#N/A"},{"$f":"VLOOKUP(A10,Participants!A:G,7,FALSE)","v":"34"}]
[]
[4,"Lap 1","00:01:02.930","00:01:02.930",{"$f":"VLOOKUP($A12,Participants!$A:$E,4,FALSE)","v":8},{"$f":"VLOOKUP($A12,Participants!$A:$E,2,FALSE)","v":"Lucia"},{"$f":"VLOOKUP($A12,Participants!$A:$E,3,FALSE)","v":"Allen"},{"$f":"VLOOKUP($A12,Participants!$A:$E,5,FALSE)","v":"St Jude"},2,{"$f":"RANK(D12,IF(I12=2,$D$12:$D$17,),1)","v":1},{"$f":"RANK(D12,$D$12:$D$25,1)","v":1},{"$f":"VLOOKUP(A12,Participants!A:G,7,FALSE)","v":"Cadet"}]
[114,"Lap 2","00:00:03.620","00:01:06.560",8,"Sophie","Schneider","St. Jude",2,2,{"$f":"RANK(D13,$D$12:$D$25,1)","v":2},{"$f":"VLOOKUP(A13,Participants!A:G,7,FALSE)","v":{"$error":"#N/A"}}]
[{"$nulls":4},{"$f":"VLOOKUP($A14,Participants!$A:$E,4,FALSE)","v":{"$error":"#N/A"}},{"$f":"VLOOKUP($A14,Participants!$A:$E,2,FALSE)","v":{"$error":"#N/A"}},{"$f":"VLOOKUP($A14,Participants!$A:$E,3,FALSE)","v":{"$error":"#N/A"}},{"$f":"VLOOKUP($A14,Participants!$A:$E,5,FALSE)","v":{"$error":"#N/A"}},2,{"$error":"#N/A"},{"$error":"#N/A"},{"$f":"VLOOKUP(A14,Participants!A:G,7,FALSE)","v":{"$error":"#N/A"}}]
[{"$nulls":4},{"$f":"VLOOKUP($A15,Participants!$A:$E,4,FALSE)","v":{"$error":"#N/A"}},{"$f":"VLOOKUP($A15,Participants!$A:$E,2,FALSE)","v":{"$error":"#N/A"}},{"$f":"VLOOKUP($A15,Participants!$A:$E,3,FALSE)","v":{"$error":"#N/A"}},{"$f":"VLOOKUP($A15,Participants!$A:$E,5,FALSE)","v":{"$error":"#N/A"}},2,{"$error":"#N/A"},{"$error":"#N/A"},{"$f":"VLOOKUP(A15,Participants!A:G,7,FALSE)","v":{"$error":"#N/A"}},"1 team only"]
[{"$nulls":4},{"$f":"VLOOKUP($A16,Participants!$A:$E,4,FALSE)","v":{"$error":"#N/A"}},{"$f":"VLOOKUP($A16,Participants!$A:$E,2,FALSE)","v":{"$error":"#N/A"}},{"$f":"VLOOKUP($A16,Participants!$A:$E,3,FALSE)","v":{"$error":"#N/A"}},{"$f":"VLOOKUP($A16,Participants!$A:$E,5,FALSE)","v":{"$error":"#N/A"}},2,{"$error":"#N/A"},{"$error":"#N/A"},{"$f":"VLOOKUP(A16,Participants!A:G,7,FALSE)","v":{"$error":"#N/A"}}]
[{"$nulls":4},{"$f":"VLOOKUP($A17,Participants!$A:$E,4,FALSE)","v":{"$error":"#N/A"}},{"$f":"VLOOKUP($A17,Participants!$A:$E,2,FALSE)","v":{"$error":"#N/A"}},{"$f":"VLOOKUP($A17,Participants!$A:$E,3,FALSE)","v":{"$error":"#N/A"}},{"$f":"VLOOKUP($A17,Participants!$A:$E,5,FALSE)","v":{"$error":"#N/A"}},2,{"$error":"#N/A"},{"$error":"#N/A"},{"$f":"VLOOKUP(A17,Participants!A:G,7,FALSE)","v":{"$error":"#N/A"}}]
[]
[{"$nulls":4},{"$f":"VLOOKUP($A19,Participants!$A:$E,4,FALSE)","v":{"$error":"#N/A"}},{"$f":"VLOOKUP($A19,Participants!$A:$E,2,FALSE)","v":{"$error":"#N/A"}},{"$f":"VLOOKUP($A19,Participants!$A:$E,3,FALSE)","v":{"$error":"#N/A"}},{"$f":"VLOOKUP($A19,Participants!$A:$E,5,FALSE)","v":{"$error":"#N/A"}},3,{"$f":"RANK(D19,IF(I19=3,$D$19:$D$24,),1)","v":{"$error":"#N/A"}},{"$error":"#N/A"},{"$f":"VLOOKUP(A19,Participants!A:G,7,FALSE)","v":{"$error":"#N/A"}}]
[{"$nulls":4},{"$f":"VLOOKUP($A20,Participants!$A:$E,4,FALSE)","v":{"$error":"#N/A"}},{"$f":"VLOOKUP($A20,Participants!$A:$E,2,FALSE)","v":{"$error":"#N/A"}},{"$f":"VLOOKUP($A20,Participants!$A:$E,3,FALSE)","v":{"$error":"#N/A"}},{"$f":"VLOOKUP($A20,Participants!$A:$E,5,FALSE)","v":{"$error":"#N/A"}},3,{"$error":"#N/A"},{"$error":"#N/A"},{"$f":"VLOOKUP(A20,Participants!A:G,7,FALSE)","v":{"$error":"#N/A"}}]
[{"$nulls":4},{"$f":"VLOOKUP($A21,Participants!$A:$E,4,FALSE)","v":{"$error":"#N/A"}},{"$f":"VLOOKUP($A21,Participants!$A:$E,2,FALSE)","v":{"$error":"#N/A"}},{"$f":"VLOOKUP($A21,Participants!$A:$E,3,FALSE)","v":{"$error":"#N/A"}},{"$f":"VLOOKUP($A21,Participants!$A:$E,5,FALSE)","v":{"$error":"#N/A"}},3,{"$error":"#N/A"},{"$error":"#N/A"},{"$f":"VLOOKUP(A21,Participants!A:G,7,FALSE)","v":{"$error":"#N/A"}}]
[{"$nulls":4},{"$f":"VLOOKUP($A22,Participants!$A:$E,4,FALSE)","v":{"$error":"#N/A"}},{"$f":"VLOOKUP($A22,Participants!$A:$E,2,FALSE)","v":{"$error":"#N/A"}},{"$f":"VLOOKUP($A22,Participants!$A:$E,3,FALSE)","v":{"$error":"#N/A"}},{"$f":"VLOOKUP($A22,Participants!$A:$E,5,FALSE)","v":{"$error":"#N/A"}},3,{"$error":"#N/A"},{"$error":"#N/A"},{"$f":"VLOOKUP(A22,Participants!A:G,7,FALSE)","v":{"$error":"#N/A"}}]
[{"$nulls":4},{"$f":"VLOOKUP($A23,Participants!$A:$E,4,FALSE)","v":{"$error":"#N/A"}},{"$f":"VLOOKUP($A23,Participants!$A:$E,2,FALSE)","v":{"$error":"#N/A"}},{"$f":"VLOOKUP($A23,Participants!$A:$E,3,FALSE)","v":{"$error":"#N/A"}},{"$f":"VLOOKUP($A23,Participants!$A:$E,5,FALSE)","v":{"$error":"#N/A"}},3,{"$error":"#N/A"},{"$error":"#N/A"},{"$f":"VLOOKUP(A23,Participants!A:G,7,FALSE)","v":{"$error":"#N/A"}}]
[{"$nulls":4},{"$f":"VLOOKUP($A24,Participants!$A:$E,4,FALSE)","v":{"$error":"#N/A"}},{"$f":"VLOOKUP($A24,Participants!$A:$E,2,FALSE)","v":{"$error":"#N/A"}},{"$f":"VLOOKUP($A24,Participants!$A:$E,3,FALSE)","v":{"$error":"#N/A"}},{"$f":"VLOOKUP($A24,Participants!$A:$E,5,FALSE)","v":{"$error":"#N/A"}},3,{"$error":"#N/A"},{"$error":"#N/A"},{"$f":"VLOOKUP(A24,Participants!A:G,7,FALSE)","v":{"$error":"#N/A"}}]
[]
[{"$nulls":4},{"$f":"VLOOKUP($A26,Participants!$A:$E,4,FALSE)","v":{"$error":"#N/A"}},{"$f":"VLOOKUP($A26,Participants!$A:$E,2,FALSE)","v":{"$error":"#N/A"}},{"$f":"VLOOKUP($A26,Participants!$A:$E,3,FALSE)","v":{"$error":"#N/A"}},{"$f":"VLOOKUP($A26,Participants!$A:$E,5,FALSE)","v":{"$error":"#N/A"}},4,{"$f":"RANK(D26,IF(I26=4,$D$26:$D$31,),1)","v":{"$error":"#N/A"}},{"$f":"RANK(D26,$D$26:$D$52,1)","v":{"$error":"#N/A"}},{"$f":"VLOOKUP(A26,Participants!A:G,7,FALSE)","v":{"$error":"#N/A"}}]
[{"$nulls":4},{"$f":"VLOOKUP($A27,Participants!$A:$E,4,FALSE)","v":{"$error":"#N/A"}},{"$f":"VLOOKUP($A27,Participants!$A:$E,2,FALSE)","v":{"$error":"#N/A"}},{"$f":"VLOOKUP($A27,Participants!$A:$E,3,FALSE)","v":{"$error":"#N/A"}},{"$f":"VLOOKUP($A27,Participants!$A:$E,5,FALSE)","v":{"$error":"#N/A"}},4,{"$error":"#N/A"},{"$f":"RANK(D27,$D$26:$D$52,1)","v":{"$error":"#N/A"}},{"$f":"VLOOKUP(A27,Participants!A:G,7,FALSE)","v":{"$error":"#N/A"}}]
[{"$nulls":4},{"$f":"VLOOKUP($A28,Participants!$A:$E,4,FALSE)","v":{"$error":"#N/A"}},{"$f":"VLOOKUP($A28,Participants!$A:$E,2,FALSE)","v":{"$error":"#N/A"}},{"$f":"VLOOKUP($A28,Participants!$A:$E,3,FALSE)","v":{"$error":"#N/A"}},{"$f":"VLOOKUP($A28,Participants!$A:$E,5,FALSE)","v":{"$error":"#N/A"}},4,{"$error":"#N/A"},{"$error":"#N/A"},{"$f":"VLOOKUP(A28,Participants!A:G,7,FALSE)","v":{"$error":"#N/A"}}]
[{"$nulls":4},{"$f":"VLOOKUP($A29,Participants!$A:$E,4,FALSE)","v":{"$error":"#N/A"}},{"$f":"VLOOKUP($A29,Participants!$A:$E,2,FALSE)","v":{"$error":"#N/A"}},{"$f":"VLOOKUP($A29,Participants!$A:$E,3,FALSE)","v":{"$error":"#N/A"}},{"$f":"VLOOKUP($A29,Participants!$A:$E,5,FALSE)","v":{"$error":"#N/A"}},4,{"$error":"#N/A"},{"$error":"#N/A"},{"$f":"VLOOKUP(A29,Participants!A:G,7,FALSE)","v":{"$error":"#N/A"}}]
[{"$nulls":4},{"$f":"VLOOKUP($A30,Participants!$A:$E,4,FALSE)","v":{"$error":"#N/A"}},{"$f":"VLOOKUP($A30,Participants!$A:$E,2,FALSE)","v":{"$error":"#N/A"}},{"$f":"VLOOKUP($A30,Participants!$A:$E,3,FALSE)","v":{"$error":"#N/A"}},{"$f":"VLOOKUP($A30,Participants!$A:$E,5,FALSE)","v":{"$error":"#N/A"}},4,{"$error":"#N/A"},{"$error":"#N/A"},{"$f":"VLOOKUP(A30,Participants!A:G,7,FALSE)","v":{"$error":"#N/A"}}]
[{"$nulls":4},{"$f":"VLOOKUP($A31,Participants!$A:$E,4,FALSE)","v":{"$error":"#N/A"}},{"$f":"VLOOKUP($A31,Participants!$A:$E,2,FALSE)","v":{"$error":"#N/A"}},{"$f":"VLOOKUP($A31,Participants!$A:$E,3,FALSE)","v":{"$error":"#N/A"}},{"$f":"VLOOKUP($A31,Participants!$A:$E,5,FALSE)","v":{"$error":"#N/A"}},4,{"$error":"#N/A"},{"$error":"#N/A"},{"$f":"VLOOKUP(A31,Participants!A:G,7,FALSE)","v":{"$error":"#N/A"}}]
[]
[{"$nulls":4},{"$f":"VLOOKUP($A33,Participants!$A:$E,4,FALSE)","v":{"$error":"#N/A"}},{"$f":"VLOOKUP($A33,Participants!$A:$E,2,FALSE)","v":{"$error":"#N/A"}},{"$f":"VLOOKUP($A33,Participants!$A:$E,3,FALSE)","v":{"$error":"#N/A"}},{"$f":"VLOOKUP($A33,Participants!$A:$E,5,FALSE)","v":{"$error":"#N/A"}},5,{"$f":"RANK(D33,IF(I33=5,$D$33:$D$38,),1)","v":{"$error":"#N/A"}},{"$error":"#N/A"},{"$f":"VLOOKUP(A33,Participants!A:G,7,FALSE)","v":{"$error":"#N/A"}}]
[{"$nulls":4},{"$f":"VLOOKUP($A34,Participants!$A:$E,4,FALSE)","v":{"$error":"#N/A"}},{"$f":"VLOOKUP($A34,Participants!$A:$E,2,FALSE)","v":{"$error":"#N/A"}},{"$f":"VLOOKUP($A34,Participants!$A:$E,3,FALSE)","v":{"$error":"#N/A"}},{"$f":"VLOOKUP($A34,Participants!$A:$E,5,FALSE)","v":{"$error":"#N/A"}},5,{"$f":"RANK(D34,IF(I34=5,$D$33:$D$38,),1)","v":{"$error":"#N/A"}},{"$error":"#N/A"},{"$f":"VLOOKUP(A34,Participants!A:G,7,FALSE)","v":{"$error":"#N/A"}},"1 team only"]
[{"$nulls":4},{"$f":"VLOOKUP($A35,Participants!$A:$E,4,FALSE)","v":{"$error":"#N/A"}},{"$f":"VLOOKUP($A35,Participants!$A:$E,2,FALSE)","v":{"$error":"#N/A"}},{"$f":"VLOOKUP($A35,Participants!$A:$E,3,FALSE)","v":{"$error":"#N/A"}},{"$f":"VLOOKUP($A35,Participants!$A:$E,5,FALSE)","v":{"$error":"#N/A"}},5,{"$error":"#N/A"},{"$error":"#N/A"},{"$f":"VLOOKUP(A35,Participants!A:G,7,FALSE)","v":{"$error":"#N/A"}},"team score for seventh place"]
[{"$nulls":4},{"$f":"VLOOKUP($A36,Participants!$A:$E,4,FALSE)","v":{"$error":"#N/A"}},{"$f":"VLOOKUP($A36,Participants!$A:$E,2,FALSE)","v":{"$error":"#N/A"}},{"$f":"VLOOKUP($A36,Participants!$A:$E,3,FALSE)","v":{"$error":"#N/A"}},{"$f":"VLOOKUP($A36,Participants!$A:$E,5,FALSE)","v":{"$error":"#N/A"}},5,{"$error":"#N/A"},{"$error":"#N/A"},{"$f":"VLOOKUP(A36,Participants!A:G,7,FALSE)","v":{"$error":"#N/A"}}]
[{"$nulls":4},{"$f":"VLOOKUP($A37,Participants!$A:$E,4,FALSE)","v":{"$error":"#N/A"}},{"$f":"VLOOKUP($A37,Participants!$A:$E,2,FALSE)","v":{"$error":"#N/A"}},{"$f":"VLOOKUP($A37,Participants!$A:$E,3,FALSE)","v":{"$error":"#N/A"}},{"$f":"VLOOKUP($A37,Participants!$A:$E,5,FALSE)","v":{"$error":"#N/A"}},5,{"$error":"#N/A"},{"$error":"#N/A"},{"$f":"VLOOKUP(A37,Participants!A:G,7,FALSE)","v":{"$error":"#N/A"}}]
[{"$nulls":4},{"$f":"VLOOKUP($A38,Participants!$A:$E,4,FALSE)","v":{"$error":"#N/A"}},{"$f":"VLOOKUP($A38,Participants!$A:$E,2,FALSE)","v":{"$error":"#N/A"}},{"$f":"VLOOKUP($A38,Participants!$A:$E,3,FALSE)","v":{"$error":"#N/A"}},{"$f":"VLOOKUP($A38,Participants!$A:$E,5,FALSE)","v":{"$error":"#N/A"}},5,{"$error":"#N/A"},{"$error":"#N/A"},{"$f":"VLOOKUP(A38,Participants!A:G,7,FALSE)","v":{"$error":"#N/A"}}]
[]
[{"$nulls":4},{"$f":"VLOOKUP($A40,Participants!$A:$E,4,FALSE)","v":{"$error":"#N/A"}},{"$f":"VLOOKUP($A40,Participants!$A:$E,2,FALSE)","v":{"$error":"#N/A"}},{"$f":"VLOOKUP($A40,Participants!$A:$E,3,FALSE)","v":{"$error":"#N/A"}},{"$f":"VLOOKUP($A40,Participants!$A:$E,5,FALSE)","v":{"$error":"#N/A"}},6,{"$f":"RANK(D40,IF(I40=6,$D$40:$D$45,),1)","v":{"$error":"#N/A"}},{"$error":"#N/A"},{"$f":"VLOOKUP(A40,Participants!A:G,7,FALSE)","v":{"$error":"#N/A"}}]
[{"$nulls":4},{"$f":"VLOOKUP($A41,Participants!$A:$E,4,FALSE)","v":{"$error":"#N/A"}},{"$f":"VLOOKUP($A41,Participants!$A:$E,2,FALSE)","v":{"$error":"#N/A"}},{"$f":"VLOOKUP($A41,Participants!$A:$E,3,FALSE)","v":{"$error":"#N/A"}},{"$f":"VLOOKUP($A41,Participants!$A:$E,5,FALSE)","v":{"$error":"#N/A"}},6,{"$f":"RANK(D41,IF(I41=6,$D$40:$D$45,),1)","v":{"$error":"#N/A"}},{"$error":"#N/A"},{"$f":"VLOOKUP(A41,Participants!A:G,7,FALSE)","v":{"$error":"#N/A"}}]
[{"$nulls":4},{"$f":"VLOOKUP($A42,Participants!$A:$E,4,FALSE)","v":{"$error":"#N/A"}},{"$f":"VLOOKUP($A42,Participants!$A:$E,2,FALSE)","v":{"$error":"#N/A"}},{"$f":"VLOOKUP($A42,Participants!$A:$E,3,FALSE)","v":{"$error":"#N/A"}},{"$f":"VLOOKUP($A42,Participants!$A:$E,5,FALSE)","v":{"$error":"#N/A"}},6,{"$error":"#N/A"},{"$error":"#N/A"},{"$f":"VLOOKUP(A42,Participants!A:G,7,FALSE)","v":{"$error":"#N/A"}}]
[{"$nulls":4},{"$f":"VLOOKUP($A43,Participants!$A:$E,4,FALSE)","v":{"$error":"#N/A"}},{"$f":"VLOOKUP($A43,Participants!$A:$E,2,FALSE)","v":{"$error":"#N/A"}},{"$f":"VLOOKUP($A43,Participants!$A:$E,3,FALSE)","v":{"$error":"#N/A"}},{"$f":"VLOOKUP($A43,Participants!$A:$E,5,FALSE)","v":{"$error":"#N/A"}},6,{"$error":"#N/A"},{"$error":"#N/A"},{"$f":"VLOOKUP(A43,Participants!A:G,7,FALSE)","v":{"$error":"#N/A"}}]
[{"$nulls":4},{"$f":"VLOOKUP($A44,Participants!$A:$E,4,FALSE)","v":{"$error":"#N/A"}},{"$f":"VLOOKUP($A44,Participants!$A:$E,2,FALSE)","v":{"$error":"#N/A"}},{"$f":"VLOOKUP($A44,Participants!$A:$E,3,FALSE)","v":{"$error":"#N/A"}},{"$f":"VLOOKUP($A44,Participants!$A:$E,5,FALSE)","v":{"$error":"#N/A"}},6,{"$error":"#N/A"},{"$error":"#N/A"},{"$f":"VLOOKUP(A44,Participants!A:G,7,FALSE)","v":{"$error":"#N/A"}}]
[{"$nulls":4},{"$f":"VLOOKUP($A45,Participants!$A:$E,4,FALSE)","v":{"$error":"#N/A"}},{"$f":"VLOOKUP($A45,Participants!$A:$E,2,FALSE)","v":{"$error":"#N/A"}},{"$f":"VLOOKUP($A45,Participants!$A:$E,3,FALSE)","v":{"$error":"#N/A"}},{"$f":"VLOOKUP($A45,Participants!$A:$E,5,FALSE)","v":{"$error":"#N/A"}},6,{"$error":"#N/A"},{"$error":"#N/A"},{"$f":"VLOOKUP(A45,Participants!A:G,7,FALSE)","v":{"$error":"#N/A"}}]
[]
[{"$nulls":4},{"$f":"VLOOKUP($A47,Participants!$A:$E,4,FALSE)","v":{"$error":"#N/A"}},{"$f":"VLOOKUP($A47,Participants!$A:$E,2,FALSE)","v":{"$error":"#N/A"}},{"$f":"VLOOKUP($A47,Participants!$A:$E,3,FALSE)","v":{"$error":"#N/A"}},{"$f":"VLOOKUP($A47,Participants!$A:$E,5,FALSE)","v":{"$error":"#N/A"}},7,{"$f":"RANK(D47,IF(I47=7,$D$47:$D$52,),1)","v":{"$error":"#N/A"}},{"$error":"#N/A"},{"$f":"VLOOKUP(A47,Participants!A:G,7,FALSE)","v":{"$error":"#N/A"}}]
[{"$nulls":4},{"$f":"VLOOKUP($A48,Participants!$A:$E,4,FALSE)","v":{"$error":"#N/A"}},{"$f":"VLOOKUP($A48,Participants!$A:$E,2,FALSE)","v":{"$error":"#N/A"}},{"$f":"VLOOKUP($A48,Participants!$A:$E,3,FALSE)","v":{"$error":"#N/A"}},{"$f":"VLOOKUP($A48,Participants!$A:$E,5,FALSE)","v":{"$error":"#N/A"}},7,{"$f":"RANK(D48,IF(I48=7,$D$47:$D$52,),1)","v":{"$error":"#N/A"}},{"$error":"#N/A"},{"$f":"VLOOKUP(A48,Participants!A:G,7,FALSE)","v":{"$error":"#N/A"}}]
[{"$nulls":4},{"$f":"VLOOKUP($A49,Participants!$A:$E,4,FALSE)","v":{"$error":"#N/A"}},{"$f":"VLOOKUP($A49,Participants!$A:$E,2,FALSE)","v":{"$error":"#N/A"}},{"$f":"VLOOKUP($A49,Participants!$A:$E,3,FALSE)","v":{"$error":"#N/A"}},{"$f":"VLOOKUP($A49,Participants!$A:$E,5,FALSE)","v":{"$error":"#N/A"}},7,{"$error":"#N/A"},{"$error":"#N/A"},{"$f":"VLOOKUP(A49,Participants!A:G,7,FALSE)","v":{"$error":"#N/A"}}]
[{"$nulls":4},{"$f":"VLOOKUP($A50,Participants!$A:$E,4,FALSE)","v":{"$error":"#N/A"}},{"$f":"VLOOKUP($A50,Participants!$A:$E,2,FALSE)","v":{"$error":"#N/A"}},{"$f":"VLOOKUP($A50,Participants!$A:$E,3,FALSE)","v":{"$error":"#N/A"}},{"$f":"VLOOKUP($A50,Participants!$A:$E,5,FALSE)","v":{"$error":"#N/A"}},7,{"$error":"#N/A"},{"$error":"#N/A"},{"$f":"VLOOKUP(A50,Participants!A:G,7,FALSE)","v":{"$error":"#N/A"}}]
[{"$nulls":4},{"$f":"VLOOKUP($A51,Participants!$A:$E,4,FALSE)","v":{"$error":"#N/A"}},{"$f":"VLOOKUP($A51,Participants!$A:$E,2,FALSE)","v":{"$error":"#N/A"}},{"$f":"VLOOKUP($A51,Participants!$A:$E,3,FALSE)","v":{"$error":"#N/A"}},{"$f":"VLOOKUP($A51,Participants!$A:$E,5,FALSE)","v":{"$error":"#N/A"}},7,{"$error":"#N/A"},{"$error":"#N/A"},{"$f":"VLOOKUP(A51,Participants!A:G,7,FALSE)","v":{"$error":"#N/A"}}]
[{"$nulls":4},{"$f":"VLOOKUP($A52,Participants!$A:$E,4,FALSE)","v":{"$error":"#N/A"}},{"$f":"VLOOKUP($A52,Participants!$A:$E,2,FALSE)","v":{"$error":"#N/A"}},{"$f":"VLOOKUP($A52,Participants!$A:$E,3,FALSE)","v":{"$error":"#N/A"}},{"$f":"VLOOKUP($A52,Participants!$A:$E,5,FALSE)","v":{"$error":"#N/A"}},7,{"$error":"#N/A"},{"$error":"#N/A"},{"$f":"VLOOKUP(A52,Participants!A:G,7,FALSE)","v":{"$error":"#N/A"}}]

{"sheet":"800XMedley Girls","index":61,"n_rows":46,"n_cols":13,"rows_kept":46}
["Bib","HeatOrder",null,"Time","Grade","FName","Lname","School","Heat","Heat Place","Overall Place",null,"Return to Schedule of Events"]
[]
[35,"Lap 1","00:02:12.840","00:02:12.840",{"$f":"VLOOKUP($A3,Participants!$A:$E,4,FALSE)","v":8},{"$f":"VLOOKUP($A3,Participants!$A:$E,2,FALSE)","v":"Rachel"},{"$f":"VLOOKUP($A3,Participants!$A:$E,3,FALSE)","v":"Flick"},{"$f":"VLOOKUP($A3,Participants!$A:$E,5,FALSE)","v":"St Jude"},1,{"$f":"RANK(D3,IF(I3=1,$D$3:$D$9,),1)","v":1},{"$f":"RANK(D3,$D$3:$D$9,1)","v":1}]
[167,"Lap 2","00:00:09.040","00:02:21.880",{"$f":"VLOOKUP($A4,Participants!$A:$E,4,FALSE)","v":7},{"$f":"VLOOKUP($A4,Participants!$A:$E,2,FALSE)","v":"Evie"},{"$f":"VLOOKUP($A4,Participants!$A:$E,3,FALSE)","v":"Eble"},{"$f":"VLOOKUP($A4,Participants!$A:$E,5,FALSE)","v":"SSFC"},1,2,{"$f":"RANK(D4,$D$3:$D$9,1)","v":2},null,"Add or Update Participants"]
[65,"Lap 3","00:00:04.350","00:02:26.240",{"$f":"VLOOKUP($A5,Participants!$A:$E,4,FALSE)","v":7},{"$f":"VLOOKUP($A5,Participants!$A:$E,2,FALSE)","v":"Madelyn"},{"$f":"VLOOKUP($A5,Participants!$A:$E,3,FALSE)","v":"Kitchens"},{"$f":"VLOOKUP($A5,Participants!$A:$E,5,FALSE)","v":"St Jude"},1,3,{"$f":"RANK(D5,$D$3:$D$9,1)","v":3},null,"Overall Place and Points"]
[]
[123,"Lap 4","00:00:07.830","00:02:34.070",{"$f":"VLOOKUP($A7,Participants!$A:$E,4,FALSE)","v":5},{"$f":"VLOOKUP($A7,Participants!$A:$E,2,FALSE)","v":"Nora"},{"$f":"VLOOKUP($A7,Participants!$A:$E,3,FALSE)","v":"Smith"},{"$f":"VLOOKUP($A7,Participants!$A:$E,5,FALSE)","v":"St Jude"},1,4,1]
[296,"Lap 5","00:00:01.890","00:02:35.970",{"$f":"VLOOKUP($A8,Participants!$A:$E,4,FALSE)","v":6},{"$f":"VLOOKUP($A8,Participants!$A:$E,2,FALSE)","v":"Tessa"},{"$f":"VLOOKUP($A8,Participants!$A:$E,3,FALSE)","v":"Mize"},{"$f":"VLOOKUP($A8,Participants!$A:$E,5,FALSE)","v":"St. Barnabas"},1,5,2]
[{"$nulls":4},{"$f":"VLOOKUP($A9,Participants!$A:$E,4,FALSE)","v":{"$error":"#N/A"}},{"$f":"VLOOKUP($A9,Participants!$A:$E,2,FALSE)","v":{"$error":"#N/A"}},{"$f":"VLOOKUP($A9,Participants!$A:$E,3,FALSE)","v":{"$error":"#N/A"}},{"$f":"VLOOKUP($A9,Participants!$A:$E,5,FALSE)","v":{"$error":"#N/A"}},1,{"$error":"#N/A"},{"$f":"RANK(D9,$D$3:$D$9,1)","v":{"$error":"#N/A"}},null,"Only capture Anchor (last) runner"]
[]
[]
[{"$nulls":4},{"$f":"VLOOKUP($A12,Participants!$A:$E,4,FALSE)","v":{"$error":"#N/A"}},{"$f":"VLOOKUP($A12,Participants!$A:$E,2,FALSE)","v":{"$error":"#N/A"}},{"$f":"VLOOKUP($A12,Participants!$A:$E,3,FALSE)","v":{"$error":"#N/A"}},{"$f":"VLOOKUP($A12,Participants!$A:$E,5,FALSE)","v":{"$error":"#N/A"}},2,{"$f":"RANK(D12,IF(I12=2,$D$12:$D$17,),1)","v":{"$error":"#N/A"}},{"$f":"RANK(D12,$D$12:$D$17,1)","v":{"$error":"#N/A"}}]
[{"$nulls":4},{"$f":"VLOOKUP($A13,Participants!$A:$E,4,FALSE)","v":{"$error":"#N/A"}},{"$f":"VLOOKUP($A13,Participants!$A:$E,2,FALSE)","v":{"$error":"#N/A"}},{"$f":"VLOOKUP($A13,Participants!$A:$E,3,FALSE)","v":{"$error":"#N/A"}},{"$f":"VLOOKUP($A13,Participants!$A:$E,5,FALSE)","v":{"$error":"#N/A"}},2,{"$error":"#N/A"},{"$f":"RANK(D13,$D$12:$D$17,1)","v":{"$error":"#N/A"}}]
[{"$nulls":4},{"$f":"VLOOKUP($A14,Participants!$A:$E,4,FALSE)","v":{"$error":"#N/A"}},{"$f":"VLOOKUP($A14,Participants!$A:$E,2,FALSE)","v":{"$error":"#N/A"}},{"$f":"VLOOKUP($A14,Participants!$A:$E,3,FALSE)","v":{"$error":"#N/A"}},{"$f":"VLOOKUP($A14,Participants!$A:$E,5,FALSE)","v":{"$error":"#N/A"}},2,{"$error":"#N/A"},{"$error":"#N/A"}]
[{"$nulls":4},{"$f":"VLOOKUP($A15,Participants!$A:$E,4,FALSE)","v":{"$error":"#N/A"}},{"$f":"VLOOKUP($A15,Participants!$A:$E,2,FALSE)","v":{"$error":"#N/A"}},{"$f":"VLOOKUP($A15,Participants!$A:$E,3,FALSE)","v":{"$error":"#N/A"}},{"$f":"VLOOKUP($A15,Participants!$A:$E,5,FALSE)","v":{"$error":"#N/A"}},2,{"$error":"#N/A"},{"$error":"#N/A"}]
[{"$nulls":4},{"$f":"VLOOKUP($A16,Participants!$A:$E,4,FALSE)","v":{"$error":"#N/A"}},{"$f":"VLOOKUP($A16,Participants!$A:$E,2,FALSE)","v":{"$error":"#N/A"}},{"$f":"VLOOKUP($A16,Participants!$A:$E,3,FALSE)","v":{"$error":"#N/A"}},{"$f":"VLOOKUP($A16,Participants!$A:$E,5,FALSE)","v":{"$error":"#N/A"}},2,{"$error":"#N/A"},{"$error":"#N/A"}]
[{"$nulls":4},{"$f":"VLOOKUP($A17,Participants!$A:$E,4,FALSE)","v":{"$error":"#N/A"}},{"$f":"VLOOKUP($A17,Participants!$A:$E,2,FALSE)","v":{"$error":"#N/A"}},{"$f":"VLOOKUP($A17,Participants!$A:$E,3,FALSE)","v":{"$error":"#N/A"}},{"$f":"VLOOKUP($A17,Participants!$A:$E,5,FALSE)","v":{"$error":"#N/A"}},2,{"$error":"#N/A"},{"$error":"#N/A"}]
[]
[]
[{"$nulls":4},{"$f":"VLOOKUP($A20,Participants!$A:$E,4,FALSE)","v":{"$error":"#N/A"}},{"$f":"VLOOKUP($A20,Participants!$A:$E,2,FALSE)","v":{"$error":"#N/A"}},{"$f":"VLOOKUP($A20,Participants!$A:$E,3,FALSE)","v":{"$error":"#N/A"}},{"$f":"VLOOKUP($A20,Participants!$A:$E,5,FALSE)","v":{"$error":"#N/A"}},3,{"$f":"RANK(D20,IF(I20=3,$D$20:$D$25,),1)","v":{"$error":"#N/A"}},{"$f":"RANK(D20,$D$20:$D$25,1)","v":{"$error":"#N/A"}}]
[{"$nulls":4},{"$f":"VLOOKUP($A21,Participants!$A:$E,4,FALSE)","v":{"$error":"#N/A"}},{"$f":"VLOOKUP($A21,Participants!$A:$E,2,FALSE)","v":{"$error":"#N/A"}},{"$f":"VLOOKUP($A21,Participants!$A:$E,3,FALSE)","v":{"$error":"#N/A"}},{"$f":"VLOOKUP($A21,Participants!$A:$E,5,FALSE)","v":{"$error":"#N/A"}},3,{"$error":"#N/A"},{"$f":"RANK(D21,$D$20:$D$25,1)","v":{"$error":"#N/A"}}]
[{"$nulls":4},{"$f":"VLOOKUP($A22,Participants!$A:$E,4,FALSE)","v":{"$error":"#N/A"}},{"$f":"VLOOKUP($A22,Participants!$A:$E,2,FALSE)","v":{"$error":"#N/A"}},{"$f":"VLOOKUP($A22,Participants!$A:$E,3,FALSE)","v":{"$error":"#N/A"}},{"$f":"VLOOKUP($A22,Participants!$A:$E,5,FALSE)","v":{"$error":"#N/A"}},3,{"$error":"#N/A"},{"$error":"#N/A"}]
[{"$nulls":4},{"$f":"VLOOKUP($A23,Participants!$A:$E,4,FALSE)","v":{"$error":"#N/A"}},{"$f":"VLOOKUP($A23,Participants!$A:$E,2,FALSE)","v":{"$error":"#N/A"}},{"$f":"VLOOKUP($A23,Participants!$A:$E,3,FALSE)","v":{"$error":"#N/A"}},{"$f":"VLOOKUP($A23,Participants!$A:$E,5,FALSE)","v":{"$error":"#N/A"}},3,{"$error":"#N/A"},{"$error":"#N/A"}]
[{"$nulls":4},{"$f":"VLOOKUP($A24,Participants!$A:$E,4,FALSE)","v":{"$error":"#N/A"}},{"$f":"VLOOKUP($A24,Participants!$A:$E,2,FALSE)","v":{"$error":"#N/A"}},{"$f":"VLOOKUP($A24,Participants!$A:$E,3,FALSE)","v":{"$error":"#N/A"}},{"$f":"VLOOKUP($A24,Participants!$A:$E,5,FALSE)","v":{"$error":"#N/A"}},3,{"$error":"#N/A"},{"$error":"#N/A"}]
[{"$nulls":4},{"$f":"VLOOKUP($A25,Participants!$A:$E,4,FALSE)","v":{"$error":"#N/A"}},{"$f":"VLOOKUP($A25,Participants!$A:$E,2,FALSE)","v":{"$error":"#N/A"}},{"$f":"VLOOKUP($A25,Participants!$A:$E,3,FALSE)","v":{"$error":"#N/A"}},{"$f":"VLOOKUP($A25,Participants!$A:$E,5,FALSE)","v":{"$error":"#N/A"}},3,{"$error":"#N/A"},{"$error":"#N/A"}]
[]
[{"$nulls":4},{"$f":"VLOOKUP($A27,Participants!$A:$E,4,FALSE)","v":{"$error":"#N/A"}},{"$f":"VLOOKUP($A27,Participants!$A:$E,2,FALSE)","v":{"$error":"#N/A"}},{"$f":"VLOOKUP($A27,Participants!$A:$E,3,FALSE)","v":{"$error":"#N/A"}},{"$f":"VLOOKUP($A27,Participants!$A:$E,5,FALSE)","v":{"$error":"#N/A"}},4,{"$f":"RANK(D27,IF(I27=4,$D$27:$D$32,),1)","v":{"$error":"#N/A"}},{"$f":"RANK(D27,$D$3:$D$104,1)","v":{"$error":"#N/A"}}]
[{"$nulls":4},{"$f":"VLOOKUP($A28,Participants!$A:$E,4,FALSE)","v":{"$error":"#N/A"}},{"$f":"VLOOKUP($A28,Participants!$A:$E,2,FALSE)","v":{"$error":"#N/A"}},{"$f":"VLOOKUP($A28,Participants!$A:$E,3,FALSE)","v":{"$error":"#N/A"}},{"$f":"VLOOKUP($A28,Participants!$A:$E,5,FALSE)","v":{"$error":"#N/A"}},4,{"$error":"#N/A"},{"$error":"#N/A"}]
[{"$nulls":4},{"$f":"VLOOKUP($A29,Participants!$A:$E,4,FALSE)","v":{"$error":"#N/A"}},{"$f":"VLOOKUP($A29,Participants!$A:$E,2,FALSE)","v":{"$error":"#N/A"}},{"$f":"VLOOKUP($A29,Participants!$A:$E,3,FALSE)","v":{"$error":"#N/A"}},{"$f":"VLOOKUP($A29,Participants!$A:$E,5,FALSE)","v":{"$error":"#N/A"}},4,{"$error":"#N/A"},{"$error":"#N/A"}]
[{"$nulls":4},{"$f":"VLOOKUP($A30,Participants!$A:$E,4,FALSE)","v":{"$error":"#N/A"}},{"$f":"VLOOKUP($A30,Participants!$A:$E,2,FALSE)","v":{"$error":"#N/A"}},{"$f":"VLOOKUP($A30,Participants!$A:$E,3,FALSE)","v":{"$error":"#N/A"}},{"$f":"VLOOKUP($A30,Participants!$A:$E,5,FALSE)","v":{"$error":"#N/A"}},4,{"$error":"#N/A"},{"$error":"#N/A"}]
[{"$nulls":4},{"$f":"VLOOKUP($A31,Participants!$A:$E,4,FALSE)","v":{"$error":"#N/A"}},{"$f":"VLOOKUP($A31,Participants!$A:$E,2,FALSE)","v":{"$error":"#N/A"}},{"$f":"VLOOKUP($A31,Participants!$A:$E,3,FALSE)","v":{"$error":"#N/A"}},{"$f":"VLOOKUP($A31,Participants!$A:$E,5,FALSE)","v":{"$error":"#N/A"}},4,{"$error":"#N/A"},{"$error":"#N/A"}]
[{"$nulls":4},{"$f":"VLOOKUP($A32,Participants!$A:$E,4,FALSE)","v":{"$error":"#N/A"}},{"$f":"VLOOKUP($A32,Participants!$A:$E,2,FALSE)","v":{"$error":"#N/A"}},{"$f":"VLOOKUP($A32,Participants!$A:$E,3,FALSE)","v":{"$error":"#N/A"}},{"$f":"VLOOKUP($A32,Participants!$A:$E,5,FALSE)","v":{"$error":"#N/A"}},4,{"$error":"#N/A"},{"$error":"#N/A"}]
[]
[{"$nulls":4},{"$f":"VLOOKUP($A34,Participants!$A:$E,4,FALSE)","v":{"$error":"#N/A"}},{"$f":"VLOOKUP($A34,Participants!$A:$E,2,FALSE)","v":{"$error":"#N/A"}},{"$f":"VLOOKUP($A34,Participants!$A:$E,3,FALSE)","v":{"$error":"#N/A"}},{"$f":"VLOOKUP($A34,Participants!$A:$E,5,FALSE)","v":{"$error":"#N/A"}},5,{"$f":"RANK(D34,IF(I34=5,$D$34:$D$39,),1)","v":{"$error":"#N/A"}},{"$f":"RANK(D34,$D$3:$D$104,1)","v":{"$error":"#N/A"}}]
[{"$nulls":4},{"$f":"VLOOKUP($A35,Participants!$A:$E,4,FALSE)","v":{"$error":"#N/A"}},{"$f":"VLOOKUP($A35,Participants!$A:$E,2,FALSE)","v":{"$error":"#N/A"}},{"$f":"VLOOKUP($A35,Participants!$A:$E,3,FALSE)","v":{"$error":"#N/A"}},{"$f":"VLOOKUP($A35,Participants!$A:$E,5,FALSE)","v":{"$error":"#N/A"}},5,{"$f":"RANK(D35,IF(I35=5,$D$34:$D$39,),1)","v":{"$error":"#N/A"}},{"$error":"#N/A"}]
[{"$nulls":4},{"$f":"VLOOKUP($A36,Participants!$A:$E,4,FALSE)","v":{"$error":"#N/A"}},{"$f":"VLOOKUP($A36,Participants!$A:$E,2,FALSE)","v":{"$error":"#N/A"}},{"$f":"VLOOKUP($A36,Participants!$A:$E,3,FALSE)","v":{"$error":"#N/A"}},{"$f":"VLOOKUP($A36,Participants!$A:$E,5,FALSE)","v":{"$error":"#N/A"}},5,{"$error":"#N/A"},{"$error":"#N/A"}]
[{"$nulls":4},{"$f":"VLOOKUP($A37,Participants!$A:$E,4,FALSE)","v":{"$error":"#N/A"}},{"$f":"VLOOKUP($A37,Participants!$A:$E,2,FALSE)","v":{"$error":"#N/A"}},{"$f":"VLOOKUP($A37,Participants!$A:$E,3,FALSE)","v":{"$error":"#N/A"}},{"$f":"VLOOKUP($A37,Participants!$A:$E,5,FALSE)","v":{"$error":"#N/A"}},5,{"$error":"#N/A"},{"$error":"#N/A"}]
[{"$nulls":4},{"$f":"VLOOKUP($A38,Participants!$A:$E,4,FALSE)","v":{"$error":"#N/A"}},{"$f":"VLOOKUP($A38,Participants!$A:$E,2,FALSE)","v":{"$error":"#N/A"}},{"$f":"VLOOKUP($A38,Participants!$A:$E,3,FALSE)","v":{"$error":"#N/A"}},{"$f":"VLOOKUP($A38,Participants!$A:$E,5,FALSE)","v":{"$error":"#N/A"}},5,{"$error":"#N/A"},{"$error":"#N/A"}]
[{"$nulls":4},{"$f":"VLOOKUP($A39,Participants!$A:$E,4,FALSE)","v":{"$error":"#N/A"}},{"$f":"VLOOKUP($A39,Participants!$A:$E,2,FALSE)","v":{"$error":"#N/A"}},{"$f":"VLOOKUP($A39,Participants!$A:$E,3,FALSE)","v":{"$error":"#N/A"}},{"$f":"VLOOKUP($A39,Participants!$A:$E,5,FALSE)","v":{"$error":"#N/A"}},5,{"$error":"#N/A"},{"$error":"#N/A"}]
[]
[{"$nulls":4},{"$f":"VLOOKUP($A41,Participants!$A:$E,4,FALSE)","v":{"$error":"#N/A"}},{"$f":"VLOOKUP($A41,Participants!$A:$E,2,FALSE)","v":{"$error":"#N/A"}},{"$f":"VLOOKUP($A41,Participants!$A:$E,3,FALSE)","v":{"$error":"#N/A"}},{"$f":"VLOOKUP($A41,Participants!$A:$E,5,FALSE)","v":{"$error":"#N/A"}},6,{"$f":"RANK(D41,IF(I41=6,$D$41:$D$46,),1)","v":{"$error":"#N/A"}},{"$f":"RANK(D41,$D$3:$D$104,1)","v":{"$error":"#N/A"}}]
[{"$nulls":4},{"$f":"VLOOKUP($A42,Participants!$A:$E,4,FALSE)","v":{"$error":"#N/A"}},{"$f":"VLOOKUP($A42,Participants!$A:$E,2,FALSE)","v":{"$error":"#N/A"}},{"$f":"VLOOKUP($A42,Participants!$A:$E,3,FALSE)","v":{"$error":"#N/A"}},{"$f":"VLOOKUP($A42,Participants!$A:$E,5,FALSE)","v":{"$error":"#N/A"}},6,{"$f":"RANK(D42,IF(I42=6,$D$41:$D$46,),1)","v":{"$error":"#N/A"}},{"$error":"#N/A"}]
[{"$nulls":4},{"$f":"VLOOKUP($A43,Participants!$A:$E,4,FALSE)","v":{"$error":"#N/A"}},{"$f":"VLOOKUP($A43,Participants!$A:$E,2,FALSE)","v":{"$error":"#N/A"}},{"$f":"VLOOKUP($A43,Participants!$A:$E,3,FALSE)","v":{"$error":"#N/A"}},{"$f":"VLOOKUP($A43,Participants!$A:$E,5,FALSE)","v":{"$error":"#N/A"}},6,{"$error":"#N/A"},{"$error":"#N/A"}]
[{"$nulls":4},{"$f":"VLOOKUP($A44,Participants!$A:$E,4,FALSE)","v":{"$error":"#N/A"}},{"$f":"VLOOKUP($A44,Participants!$A:$E,2,FALSE)","v":{"$error":"#N/A"}},{"$f":"VLOOKUP($A44,Participants!$A:$E,3,FALSE)","v":{"$error":"#N/A"}},{"$f":"VLOOKUP($A44,Participants!$A:$E,5,FALSE)","v":{"$error":"#N/A"}},6,{"$error":"#N/A"},{"$error":"#N/A"}]
[{"$nulls":4},{"$f":"VLOOKUP($A45,Participants!$A:$E,4,FALSE)","v":{"$error":"#N/A"}},{"$f":"VLOOKUP($A45,Participants!$A:$E,2,FALSE)","v":{"$error":"#N/A"}},{"$f":"VLOOKUP($A45,Participants!$A:$E,3,FALSE)","v":{"$error":"#N/A"}},{"$f":"VLOOKUP($A45,Participants!$A:$E,5,FALSE)","v":{"$error":"#N/A"}},6,{"$error":"#N/A"},{"$error":"#N/A"}]
[{"$nulls":4},{"$f":"VLOOKUP($A46,Participants!$A:$E,4,FALSE)","v":{"$error":"#N/A"}},{"$f":"VLOOKUP($A46,Participants!$A:$E,2,FALSE)","v":{"$error":"#N/A"}},{"$f":"VLOOKUP($A46,Participants!$A:$E,3,FALSE)","v":{"$error":"#N/A"}},{"$f":"VLOOKUP($A46,Participants!$A:$E,5,FALSE)","v":{"$error":"#N/A"}},6,{"$error":"#N/A"},{"$error":"#N/A"}]

{"sheet":"Field","index":62,"n_rows":101,"n_cols":13,"rows_kept":101}
["Bib","Enter Best Only\nEnter 10 ft 3 3/4 in as 1003.75","Grade","FName","Lname","School","Overall Place",{"$nulls":5},"Return to Schedule of Events"]
[null,null,{"$f":"VLOOKUP($A2,Participants!$A:$E,4,FALSE)","v":{"$error":"#N/A"}},{"$f":"VLOOKUP($A2,Participants!$A:$E,2,FALSE)","v":{"$error":"#N/A"}},{"$f":"VLOOKUP($A2,Participants!$A:$E,3,FALSE)","v":{"$error":"#N/A"}},{"$f":"VLOOKUP($A2,Participants!$A:$E,5,FALSE)","v":{"$error":"#N/A"}},{"$f":"IFERROR(VLOOKUP(F2,#REF!,2,FALSE),0)","v":0}]
[null,null,{"$f":"VLOOKUP($A3,Participants!$A:$E,4,FALSE)","v":{"$error":"#N/A"}},{"$f":"VLOOKUP($A3,Participants!$A:$E,2,FALSE)","v":{"$error":"#N/A"}},{"$f":"VLOOKUP($A3,Participants!$A:$E,3,FALSE)","v":{"$error":"#N/A"}},{"$f":"VLOOKUP($A3,Participants!$A:$E,5,FALSE)","v":{"$error":"#N/A"}},{"$f":"IFERROR(VLOOKUP(F3,#REF!,2,FALSE),0)","v":0},{"$nulls":5},"Add or Update Participants"]
[null,null,{"$f":"VLOOKUP($A4,Participants!$A:$E,4,FALSE)","v":{"$error":"#N/A"}},{"$f":"VLOOKUP($A4,Participants!$A:$E,2,FALSE)","v":{"$error":"#N/A"}},{"$f":"VLOOKUP($A4,Participants!$A:$E,3,FALSE)","v":{"$error":"#N/A"}},{"$f":"VLOOKUP($A4,Participants!$A:$E,5,FALSE)","v":{"$error":"#N/A"}},{"$f":"IFERROR(VLOOKUP(F4,#REF!,2,FALSE),0)","v":0},{"$nulls":5},"Overall Place and Points"]
[null,null,{"$f":"VLOOKUP($A5,Participants!$A:$E,4,FALSE)","v":{"$error":"#N/A"}},{"$f":"VLOOKUP($A5,Participants!$A:$E,2,FALSE)","v":{"$error":"#N/A"}},{"$f":"VLOOKUP($A5,Participants!$A:$E,3,FALSE)","v":{"$error":"#N/A"}},{"$f":"VLOOKUP($A5,Participants!$A:$E,5,FALSE)","v":{"$error":"#N/A"}},{"$f":"IFERROR(VLOOKUP(F5,#REF!,2,FALSE),0)","v":0}]
[null,null,{"$f":"VLOOKUP($A6,Participants!$A:$E,4,FALSE)","v":{"$error":"#N/A"}},{"$f":"VLOOKUP($A6,Participants!$A:$E,2,FALSE)","v":{"$error":"#N/A"}},{"$f":"VLOOKUP($A6,Participants!$A:$E,3,FALSE)","v":{"$error":"#N/A"}},{"$f":"VLOOKUP($A6,Participants!$A:$E,5,FALSE)","v":{"$error":"#N/A"}},{"$f":"IFERROR(VLOOKUP(F6,#REF!,2,FALSE),0)","v":0}]
[null,null,{"$f":"VLOOKUP($A7,Participants!$A:$E,4,FALSE)","v":{"$error":"#N/A"}},{"$f":"VLOOKUP($A7,Participants!$A:$E,2,FALSE)","v":{"$error":"#N/A"}},{"$f":"VLOOKUP($A7,Participants!$A:$E,3,FALSE)","v":{"$error":"#N/A"}},{"$f":"VLOOKUP($A7,Participants!$A:$E,5,FALSE)","v":{"$error":"#N/A"}},{"$f":"IFERROR(VLOOKUP(F7,#REF!,2,FALSE),0)","v":0}]
[null,null,{"$f":"VLOOKUP($A8,Participants!$A:$E,4,FALSE)","v":{"$error":"#N/A"}},{"$f":"VLOOKUP($A8,Participants!$A:$E,2,FALSE)","v":{"$error":"#N/A"}},{"$f":"VLOOKUP($A8,Participants!$A:$E,3,FALSE)","v":{"$error":"#N/A"}},{"$f":"VLOOKUP($A8,Participants!$A:$E,5,FALSE)","v":{"$error":"#N/A"}},{"$f":"IFERROR(VLOOKUP(F8,#REF!,2,FALSE),0)","v":0}]
[null,null,{"$f":"VLOOKUP($A9,Participants!$A:$E,4,FALSE)","v":{"$error":"#N/A"}},{"$f":"VLOOKUP($A9,Participants!$A:$E,2,FALSE)","v":{"$error":"#N/A"}},{"$f":"VLOOKUP($A9,Participants!$A:$E,3,FALSE)","v":{"$error":"#N/A"}},{"$f":"VLOOKUP($A9,Participants!$A:$E,5,FALSE)","v":{"$error":"#N/A"}},{"$f":"IFERROR(VLOOKUP(F9,#REF!,2,FALSE),0)","v":0}]
[null,null,{"$f":"VLOOKUP($A10,Participants!$A:$E,4,FALSE)","v":{"$error":"#N/A"}},{"$f":"VLOOKUP($A10,Participants!$A:$E,2,FALSE)","v":{"$error":"#N/A"}},{"$f":"VLOOKUP($A10,Participants!$A:$E,3,FALSE)","v":{"$error":"#N/A"}},{"$f":"VLOOKUP($A10,Participants!$A:$E,5,FALSE)","v":{"$error":"#N/A"}},{"$f":"IFERROR(VLOOKUP(F10,#REF!,2,FALSE),0)","v":0}]
[null,null,{"$f":"VLOOKUP($A11,Participants!$A:$E,4,FALSE)","v":{"$error":"#N/A"}},{"$f":"VLOOKUP($A11,Participants!$A:$E,2,FALSE)","v":{"$error":"#N/A"}},{"$f":"VLOOKUP($A11,Participants!$A:$E,3,FALSE)","v":{"$error":"#N/A"}},{"$f":"VLOOKUP($A11,Participants!$A:$E,5,FALSE)","v":{"$error":"#N/A"}},{"$f":"IFERROR(VLOOKUP(F11,#REF!,2,FALSE),0)","v":0}]
[null,null,{"$f":"VLOOKUP($A12,Participants!$A:$E,4,FALSE)","v":{"$error":"#N/A"}},{"$f":"VLOOKUP($A12,Participants!$A:$E,2,FALSE)","v":{"$error":"#N/A"}},{"$f":"VLOOKUP($A12,Participants!$A:$E,3,FALSE)","v":{"$error":"#N/A"}},{"$f":"VLOOKUP($A12,Participants!$A:$E,5,FALSE)","v":{"$error":"#N/A"}},{"$f":"IFERROR(VLOOKUP(F12,#REF!,2,FALSE),0)","v":0}]
[null,null,{"$f":"VLOOKUP($A13,Participants!$A:$E,4,FALSE)","v":{"$error":"#N/A"}},{"$f":"VLOOKUP($A13,Participants!$A:$E,2,FALSE)","v":{"$error":"#N/A"}},{"$f":"VLOOKUP($A13,Participants!$A:$E,3,FALSE)","v":{"$error":"#N/A"}},{"$f":"VLOOKUP($A13,Participants!$A:$E,5,FALSE)","v":{"$error":"#N/A"}},{"$f":"IFERROR(VLOOKUP(F13,#REF!,2,FALSE),0)","v":0}]
[null,null,{"$f":"VLOOKUP($A14,Participants!$A:$E,4,FALSE)","v":{"$error":"#N/A"}},{"$f":"VLOOKUP($A14,Participants!$A:$E,2,FALSE)","v":{"$error":"#N/A"}},{"$f":"VLOOKUP($A14,Participants!$A:$E,3,FALSE)","v":{"$error":"#N/A"}},{"$f":"VLOOKUP($A14,Participants!$A:$E,5,FALSE)","v":{"$error":"#N/A"}},{"$f":"IFERROR(VLOOKUP(F14,#REF!,2,FALSE),0)","v":0}]
[null,null,{"$f":"VLOOKUP($A15,Participants!$A:$E,4,FALSE)","v":{"$error":"#N/A"}},{"$f":"VLOOKUP($A15,Participants!$A:$E,2,FALSE)","v":{"$error":"#N/A"}},{"$f":"VLOOKUP($A15,Participants!$A:$E,3,FALSE)","v":{"$error":"#N/A"}},{"$f":"VLOOKUP($A15,Participants!$A:$E,5,FALSE)","v":{"$error":"#N/A"}},{"$f":"IFERROR(VLOOKUP(F15,#REF!,2,FALSE),0)","v":0}]
[null,null,{"$f":"VLOOKUP($A16,Participants!$A:$E,4,FALSE)","v":{"$error":"#N/A"}},{"$f":"VLOOKUP($A16,Participants!$A:$E,2,FALSE)","v":{"$error":"#N/A"}},{"$f":"VLOOKUP($A16,Participants!$A:$E,3,FALSE)","v":{"$error":"#N/A"}},{"$f":"VLOOKUP($A16,Participants!$A:$E,5,FALSE)","v":{"$error":"#N/A"}},{"$f":"IFERROR(VLOOKUP(F16,#REF!,2,FALSE),0)","v":0}]
[null,null,{"$f":"VLOOKUP($A17,Participants!$A:$E,4,FALSE)","v":{"$error":"#N/A"}},{"$f":"VLOOKUP($A17,Participants!$A:$E,2,FALSE)","v":{"$error":"#N/A"}},{"$f":"VLOOKUP($A17,Participants!$A:$E,3,FALSE)","v":{"$error":"#N/A"}},{"$f":"VLOOKUP($A17,Participants!$A:$E,5,FALSE)","v":{"$error":"#N/A"}},{"$f":"IFERROR(VLOOKUP(F17,#REF!,2,FALSE),0)","v":0}]
[null,null,{"$f":"VLOOKUP($A18,Participants!$A:$E,4,FALSE)","v":{"$error":"#N/A"}},{"$f":"VLOOKUP($A18,Participants!$A:$E,2,FALSE)","v":{"$error":"#N/A"}},{"$f":"VLOOKUP($A18,Participants!$A:$E,3,FALSE)","v":{"$error":"#N/A"}},{"$f":"VLOOKUP($A18,Participants!$A:$E,5,FALSE)","v":{"$error":"#N/A"}},{"$f":"IFERROR(VLOOKUP(F18,#REF!,2,FALSE),0)","v":0}]
[null,null,{"$f":"VLOOKUP($A19,Participants!$A:$E,4,FALSE)","v":{"$error":"#N/A"}},{"$f":"VLOOKUP($A19,Participants!$A:$E,2,FALSE)","v":{"$error":"#N/A"}},{"$f":"VLOOKUP($A19,Participants!$A:$E,3,FALSE)","v":{"$error":"#N/A"}},{"$f":"VLOOKUP($A19,Participants!$A:$E,5,FALSE)","v":{"$error":"#N/A"}},{"$f":"IFERROR(VLOOKUP(F19,#REF!,2,FALSE),0)","v":0}]
[null,null,{"$f":"VLOOKUP($A20,Participants!$A:$E,4,FALSE)","v":{"$error":"#N/A"}},{"$f":"VLOOKUP($A20,Participants!$A:$E,2,FALSE)","v":{"$error":"#N/A"}},{"$f":"VLOOKUP($A20,Participants!$A:$E,3,FALSE)","v":{"$error":"#N/A"}},{"$f":"VLOOKUP($A20,Participants!$A:$E,5,FALSE)","v":{"$error":"#N/A"}},{"$f":"IFERROR(VLOOKUP(F20,#REF!,2,FALSE),0)","v":0}]
[null,null,{"$f":"VLOOKUP($A21,Participants!$A:$E,4,FALSE)","v":{"$error":"#N/A"}},{"$f":"VLOOKUP($A21,Participants!$A:$E,2,FALSE)","v":{"$error":"#N/A"}},{"$f":"VLOOKUP($A21,Participants!$A:$E,3,FALSE)","v":{"$error":"#N/A"}},{"$f":"VLOOKUP($A21,Participants!$A:$E,5,FALSE)","v":{"$error":"#N/A"}},{"$f":"IFERROR(VLOOKUP(F21,#REF!,2,FALSE),0)","v":0}]
[null,null,{"$f":"VLOOKUP($A22,Participants!$A:$E,4,FALSE)","v":{"$error":"#N/A"}},{"$f":"VLOOKUP($A22,Participants!$A:$E,2,FALSE)","v":{"$error":"#N/A"}},{"$f":"VLOOKUP($A22,Participants!$A:$E,3,FALSE)","v":{"$error":"#N/A"}},{"$f":"VLOOKUP($A22,Participants!$A:$E,5,FALSE)","v":{"$error":"#N/A"}},{"$f":"IFERROR(VLOOKUP(F22,#REF!,2,FALSE),0)","v":0}]
[null,null,{"$f":"VLOOKUP($A23,Participants!$A:$E,4,FALSE)","v":{"$error":"#N/A"}},{"$f":"VLOOKUP($A23,Participants!$A:$E,2,FALSE)","v":{"$error":"#N/A"}},{"$f":"VLOOKUP($A23,Participants!$A:$E,3,FALSE)","v":{"$error":"#N/A"}},{"$f":"VLOOKUP($A23,Participants!$A:$E,5,FALSE)","v":{"$error":"#N/A"}},{"$f":"IFERROR(VLOOKUP(F23,#REF!,2,FALSE),0)","v":0}]
[null,null,{"$f":"VLOOKUP($A24,Participants!$A:$E,4,FALSE)","v":{"$error":"#N/A"}},{"$f":"VLOOKUP($A24,Participants!$A:$E,2,FALSE)","v":{"$error":"#N/A"}},{"$f":"VLOOKUP($A24,Participants!$A:$E,3,FALSE)","v":{"$error":"#N/A"}},{"$f":"VLOOKUP($A24,Participants!$A:$E,5,FALSE)","v":{"$error":"#N/A"}},{"$f":"IFERROR(VLOOKUP(F24,#REF!,2,FALSE),0)","v":0}]
[null,null,{"$f":"VLOOKUP($A25,Participants!$A:$E,4,FALSE)","v":{"$error":"#N/A"}},{"$f":"VLOOKUP($A25,Participants!$A:$E,2,FALSE)","v":{"$error":"#N/A"}},{"$f":"VLOOKUP($A25,Participants!$A:$E,3,FALSE)","v":{"$error":"#N/A"}},{"$f":"VLOOKUP($A25,Participants!$A:$E,5,FALSE)","v":{"$error":"#N/A"}},{"$f":"IFERROR(VLOOKUP(F25,#REF!,2,FALSE),0)","v":0}]
[null,null,{"$f":"VLOOKUP($A26,Participants!$A:$E,4,FALSE)","v":{"$error":"#N/A"}},{"$f":"VLOOKUP($A26,Participants!$A:$E,2,FALSE)","v":{"$error":"#N/A"}},{"$f":"VLOOKUP($A26,Participants!$A:$E,3,FALSE)","v":{"$error":"#N/A"}},{"$f":"VLOOKUP($A26,Participants!$A:$E,5,FALSE)","v":{"$error":"#N/A"}},{"$f":"IFERROR(VLOOKUP(F26,#REF!,2,FALSE),0)","v":0}]
[null,null,{"$f":"VLOOKUP($A27,Participants!$A:$E,4,FALSE)","v":{"$error":"#N/A"}},{"$f":"VLOOKUP($A27,Participants!$A:$E,2,FALSE)","v":{"$error":"#N/A"}},{"$f":"VLOOKUP($A27,Participants!$A:$E,3,FALSE)","v":{"$error":"#N/A"}},{"$f":"VLOOKUP($A27,Participants!$A:$E,5,FALSE)","v":{"$error":"#N/A"}},{"$f":"IFERROR(VLOOKUP(F27,#REF!,2,FALSE),0)","v":0}]
[null,null,{"$f":"VLOOKUP($A28,Participants!$A:$E,4,FALSE)","v":{"$error":"#N/A"}},{"$f":"VLOOKUP($A28,Participants!$A:$E,2,FALSE)","v":{"$error":"#N/A"}},{"$f":"VLOOKUP($A28,Participants!$A:$E,3,FALSE)","v":{"$error":"#N/A"}},{"$f":"VLOOKUP($A28,Participants!$A:$E,5,FALSE)","v":{"$error":"#N/A"}},{"$f":"IFERROR(VLOOKUP(F28,#REF!,2,FALSE),0)","v":0}]
[null,null,{"$f":"VLOOKUP($A29,Participants!$A:$E,4,FALSE)","v":{"$error":"#N/A"}},{"$f":"VLOOKUP($A29,Participants!$A:$E,2,FALSE)","v":{"$error":"#N/A"}},{"$f":"VLOOKUP($A29,Participants!$A:$E,3,FALSE)","v":{"$error":"#N/A"}},{"$f":"VLOOKUP($A29,Participants!$A:$E,5,FALSE)","v":{"$error":"#N/A"}},{"$f":"IFERROR(VLOOKUP(F29,#REF!,2,FALSE),0)","v":0}]
[null,null,{"$f":"VLOOKUP($A30,Participants!$A:$E,4,FALSE)","v":{"$error":"#N/A"}},{"$f":"VLOOKUP($A30,Participants!$A:$E,2,FALSE)","v":{"$error":"#N/A"}},{"$f":"VLOOKUP($A30,Participants!$A:$E,3,FALSE)","v":{"$error":"#N/A"}},{"$f":"VLOOKUP($A30,Participants!$A:$E,5,FALSE)","v":{"$error":"#N/A"}},{"$f":"IFERROR(VLOOKUP(F30,#REF!,2,FALSE),0)","v":0}]
[null,null,{"$f":"VLOOKUP($A31,Participants!$A:$E,4,FALSE)","v":{"$error":"#N/A"}},{"$f":"VLOOKUP($A31,Participants!$A:$E,2,FALSE)","v":{"$error":"#N/A"}},{"$f":"VLOOKUP($A31,Participants!$A:$E,3,FALSE)","v":{"$error":"#N/A"}},{"$f":"VLOOKUP($A31,Participants!$A:$E,5,FALSE)","v":{"$error":"#N/A"}},{"$f":"IFERROR(VLOOKUP(F31,#REF!,2,FALSE),0)","v":0}]
[null,null,{"$f":"VLOOKUP($A32,Participants!$A:$E,4,FALSE)","v":{"$error":"#N/A"}},{"$f":"VLOOKUP($A32,Participants!$A:$E,2,FALSE)","v":{"$error":"#N/A"}},{"$f":"VLOOKUP($A32,Participants!$A:$E,3,FALSE)","v":{"$error":"#N/A"}},{"$f":"VLOOKUP($A32,Participants!$A:$E,5,FALSE)","v":{"$error":"#N/A"}},{"$f":"IFERROR(VLOOKUP(F32,#REF!,2,FALSE),0)","v":0}]
[null,null,{"$f":"VLOOKUP($A33,Participants!$A:$E,4,FALSE)","v":{"$error":"#N/A"}},{"$f":"VLOOKUP($A33,Participants!$A:$E,2,FALSE)","v":{"$error":"#N/A"}},{"$f":"VLOOKUP($A33,Participants!$A:$E,3,FALSE)","v":{"$error":"#N/A"}},{"$f":"VLOOKUP($A33,Participants!$A:$E,5,FALSE)","v":{"$error":"#N/A"}},{"$f":"IFERROR(VLOOKUP(F33,#REF!,2,FALSE),0)","v":0}]
[null,null,{"$f":"VLOOKUP($A34,Participants!$A:$E,4,FALSE)","v":{"$error":"#N/A"}},{"$f":"VLOOKUP($A34,Participants!$A:$E,2,FALSE)","v":{"$error":"#N/A"}},{"$f":"VLOOKUP($A34,Participants!$A:$E,3,FALSE)","v":{"$error":"#N/A"}},{"$f":"VLOOKUP($A34,Participants!$A:$E,5,FALSE)","v":{"$error":"#N/A"}},{"$f":"IFERROR(VLOOKUP(F34,#REF!,2,FALSE),0)","v":0}]
[null,null,{"$f":"VLOOKUP($A35,Participants!$A:$E,4,FALSE)","v":{"$error":"#N/A"}},{"$f":"VLOOKUP($A35,Participants!$A:$E,2,FALSE)","v":{"$error":"#N/A"}},{"$f":"VLOOKUP($A35,Participants!$A:$E,3,FALSE)","v":{"$error":"#N/A"}},{"$f":"VLOOKUP($A35,Participants!$A:$E,5,FALSE)","v":{"$error":"#N/A"}},{"$f":"IFERROR(VLOOKUP(F35,#REF!,2,FALSE),0)","v":0}]
[null,null,{"$f":"VLOOKUP($A36,Participants!$A:$E,4,FALSE)","v":{"$error":"#N/A"}},{"$f":"VLOOKUP($A36,Participants!$A:$E,2,FALSE)","v":{"$error":"#N/A"}},{"$f":"VLOOKUP($A36,Participants!$A:$E,3,FALSE)","v":{"$error":"#N/A"}},{"$f":"VLOOKUP($A36,Participants!$A:$E,5,FALSE)","v":{"$error":"#N/A"}},{"$f":"IFERROR(VLOOKUP(F36,#REF!,2,FALSE),0)","v":0}]
[null,null,{"$f":"VLOOKUP($A37,Participants!$A:$E,4,FALSE)","v":{"$error":"#N/A"}},{"$f":"VLOOKUP($A37,Participants!$A:$E,2,FALSE)","v":{"$error":"#N/A"}},{"$f":"VLOOKUP($A37,Participants!$A:$E,3,FALSE)","v":{"$error":"#N/A"}},{"$f":"VLOOKUP($A37,Participants!$A:$E,5,FALSE)","v":{"$error":"#N/A"}},{"$f":"IFERROR(VLOOKUP(F37,#REF!,2,FALSE),0)","v":0}]
[null,null,{"$f":"VLOOKUP($A38,Participants!$A:$E,4,FALSE)","v":{"$error":"#N/A"}},{"$f":"VLOOKUP($A38,Participants!$A:$E,2,FALSE)","v":{"$error":"#N/A"}},{"$f":"VLOOKUP($A38,Participants!$A:$E,3,FALSE)","v":{"$error":"#N/A"}},{"$f":"VLOOKUP($A38,Participants!$A:$E,5,FALSE)","v":{"$error":"#N/A"}},{"$f":"IFERROR(VLOOKUP(F38,#REF!,2,FALSE),0)","v":0}]
[null,null,{"$f":"VLOOKUP($A39,Participants!$A:$E,4,FALSE)","v":{"$error":"#N/A"}},{"$f":"VLOOKUP($A39,Participants!$A:$E,2,FALSE)","v":{"$error":"#N/A"}},{"$f":"VLOOKUP($A39,Participants!$A:$E,3,FALSE)","v":{"$error":"#N/A"}},{"$f":"VLOOKUP($A39,Participants!$A:$E,5,FALSE)","v":{"$error":"#N/A"}},{"$f":"IFERROR(VLOOKUP(F39,#REF!,2,FALSE),0)","v":0}]
[null,null,{"$f":"VLOOKUP($A40,Participants!$A:$E,4,FALSE)","v":{"$error":"#N/A"}},{"$f":"VLOOKUP($A40,Participants!$A:$E,2,FALSE)","v":{"$error":"#N/A"}},{"$f":"VLOOKUP($A40,Participants!$A:$E,3,FALSE)","v":{"$error":"#N/A"}},{"$f":"VLOOKUP($A40,Participants!$A:$E,5,FALSE)","v":{"$error":"#N/A"}},{"$f":"IFERROR(VLOOKUP(F40,#REF!,2,FALSE),0)","v":0}]
[null,null,{"$f":"VLOOKUP($A41,Participants!$A:$E,4,FALSE)","v":{"$error":"#N/A"}},{"$f":"VLOOKUP($A41,Participants!$A:$E,2,FALSE)","v":{"$error":"#N/A"}},{"$f":"VLOOKUP($A41,Participants!$A:$E,3,FALSE)","v":{"$error":"#N/A"}},{"$f":"VLOOKUP($A41,Participants!$A:$E,5,FALSE)","v":{"$error":"#N/A"}},{"$f":"IFERROR(VLOOKUP(F41,#REF!,2,FALSE),0)","v":0}]
[null,null,{"$f":"VLOOKUP($A42,Participants!$A:$E,4,FALSE)","v":{"$error":"#N/A"}},{"$f":"VLOOKUP($A42,Participants!$A:$E,2,FALSE)","v":{"$error":"#N/A"}},{"$f":"VLOOKUP($A42,Participants!$A:$E,3,FALSE)","v":{"$error":"#N/A"}},{"$f":"VLOOKUP($A42,Participants!$A:$E,5,FALSE)","v":{"$error":"#N/A"}},{"$f":"IFERROR(VLOOKUP(F42,#REF!,2,FALSE),0)","v":0}]
[null,null,{"$f":"VLOOKUP($A43,Participants!$A:$E,4,FALSE)","v":{"$error":"#N/A"}},{"$f":"VLOOKUP($A43,Participants!$A:$E,2,FALSE)","v":{"$error":"#N/A"}},{"$f":"VLOOKUP($A43,Participants!$A:$E,3,FALSE)","v":{"$error":"#N/A"}},{"$f":"VLOOKUP($A43,Participants!$A:$E,5,FALSE)","v":{"$error":"#N/A"}},{"$f":"IFERROR(VLOOKUP(F43,#REF!,2,FALSE),0)","v":0}]
[null,null,{"$f":"VLOOKUP($A44,Participants!$A:$E,4,FALSE)","v":{"$error":"#N/A"}},{"$f":"VLOOKUP($A44,Participants!$A:$E,2,FALSE)","v":{"$error":"#N/A"}},{"$f":"VLOOKUP($A44,Participants!$A:$E,3,FALSE)","v":{"$error":"#N/A"}},{"$f":"VLOOKUP($A44,Participants!$A:$E,5,FALSE)","v":{"$error":"#N/A"}},{"$f":"IFERROR(VLOOKUP(F44,#REF!,2,FALSE),0)","v":0}]
[null,null,{"$f":"VLOOKUP($A45,Participants!$A:$E,4,FALSE)","v":{"$error":"#N/A"}},{"$f":"VLOOKUP($A45,Participants!$A:$E,2,FALSE)","v":{"$error":"#N/A"}},{"$f":"VLOOKUP($A45,Participants!$A:$E,3,FALSE)","v":{"$error":"#N/A"}},{"$f":"VLOOKUP($A45,Participants!$A:$E,5,FALSE)","v":{"$error":"#N/A"}},{"$f":"IFERROR(VLOOKUP(F45,#REF!,2,FALSE),0)","v":0}]
[null,null,{"$f":"VLOOKUP($A46,Participants!$A:$E,4,FALSE)","v":{"$error":"#N/A"}},{"$f":"VLOOKUP($A46,Participants!$A:$E,2,FALSE)","v":{"$error":"#N/A"}},{"$f":"VLOOKUP($A46,Participants!$A:$E,3,FALSE)","v":{"$error":"#N/A"}},{"$f":"VLOOKUP($A46,Participants!$A:$E,5,FALSE)","v":{"$error":"#N/A"}},{"$f":"IFERROR(VLOOKUP(F46,#REF!,2,FALSE),0)","v":0}]
[null,null,{"$f":"VLOOKUP($A47,Participants!$A:$E,4,FALSE)","v":{"$error":"#N/A"}},{"$f":"VLOOKUP($A47,Participants!$A:$E,2,FALSE)","v":{"$error":"#N/A"}},{"$f":"VLOOKUP($A47,Participants!$A:$E,3,FALSE)","v":{"$error":"#N/A"}},{"$f":"VLOOKUP($A47,Participants!$A:$E,5,FALSE)","v":{"$error":"#N/A"}},{"$f":"IFERROR(VLOOKUP(F47,#REF!,2,FALSE),0)","v":0}]
[null,null,{"$f":"VLOOKUP($A48,Participants!$A:$E,4,FALSE)","v":{"$error":"#N/A"}},{"$f":"VLOOKUP($A48,Participants!$A:$E,2,FALSE)","v":{"$error":"#N/A"}},{"$f":"VLOOKUP($A48,Participants!$A:$E,3,FALSE)","v":{"$error":"#N/A"}},{"$f":"VLOOKUP($A48,Participants!$A:$E,5,FALSE)","v":{"$error":"#N/A"}},{"$f":"IFERROR(VLOOKUP(F48,#REF!,2,FALSE),0)","v":0}]
[null,null,{"$f":"VLOOKUP($A49,Participants!$A:$E,4,FALSE)","v":{"$error":"#N/A"}},{"$f":"VLOOKUP($A49,Participants!$A:$E,2,FALSE)","v":{"$error":"#N/A"}},{"$f":"VLOOKUP($A49,Participants!$A:$E,3,FALSE)","v":{"$error":"#N/A"}},{"$f":"VLOOKUP($A49,Participants!$A:$E,5,FALSE)","v":{"$error":"#N/A"}},{"$f":"IFERROR(VLOOKUP(F49,#REF!,2,FALSE),0)","v":0}]
[null,null,{"$f":"VLOOKUP($A50,Participants!$A:$E,4,FALSE)","v":{"$error":"#N/A"}},{"$f":"VLOOKUP($A50,Participants!$A:$E,2,FALSE)","v":{"$error":"#N/A"}},{"$f":"VLOOKUP($A50,Participants!$A:$E,3,FALSE)","v":{"$error":"#N/A"}},{"$f":"VLOOKUP($A50,Participants!$A:$E,5,FALSE)","v":{"$error":"#N/A"}},{"$f":"IFERROR(VLOOKUP(F50,#REF!,2,FALSE),0)","v":0}]
[null,null,{"$f":"VLOOKUP($A51,Participants!$A:$E,4,FALSE)","v":{"$error":"#N/A"}},{"$f":"VLOOKUP($A51,Participants!$A:$E,2,FALSE)","v":{"$error":"#N/A"}},{"$f":"VLOOKUP($A51,Participants!$A:$E,3,FALSE)","v":{"$error":"#N/A"}},{"$f":"VLOOKUP($A51,Participants!$A:$E,5,FALSE)","v":{"$error":"#N/A"}},{"$f":"IFERROR(VLOOKUP(F51,#REF!,2,FALSE),0)","v":0}]
[null,null,{"$f":"VLOOKUP($A52,Participants!$A:$E,4,FALSE)","v":{"$error":"#N/A"}},{"$f":"VLOOKUP($A52,Participants!$A:$E,2,FALSE)","v":{"$error":"#N/A"}},{"$f":"VLOOKUP($A52,Participants!$A:$E,3,FALSE)","v":{"$error":"#N/A"}},{"$f":"VLOOKUP($A52,Participants!$A:$E,5,FALSE)","v":{"$error":"#N/A"}},{"$f":"IFERROR(VLOOKUP(F52,#REF!,2,FALSE),0)","v":0}]
[null,null,{"$f":"VLOOKUP($A53,Participants!$A:$E,4,FALSE)","v":{"$error":"#N/A"}},{"$f":"VLOOKUP($A53,Participants!$A:$E,2,FALSE)","v":{"$error":"#N/A"}},{"$f":"VLOOKUP($A53,Participants!$A:$E,3,FALSE)","v":{"$error":"#N/A"}},{"$f":"VLOOKUP($A53,Participants!$A:$E,5,FALSE)","v":{"$error":"#N/A"}},{"$f":"IFERROR(VLOOKUP(F53,#REF!,2,FALSE),0)","v":0}]
[null,null,{"$f":"VLOOKUP($A54,Participants!$A:$E,4,FALSE)","v":{"$error":"#N/A"}},{"$f":"VLOOKUP($A54,Participants!$A:$E,2,FALSE)","v":{"$error":"#N/A"}},{"$f":"VLOOKUP($A54,Participants!$A:$E,3,FALSE)","v":{"$error":"#N/A"}},{"$f":"VLOOKUP($A54,Participants!$A:$E,5,FALSE)","v":{"$error":"#N/A"}},{"$f":"IFERROR(VLOOKUP(F54,#REF!,2,FALSE),0)","v":0}]
[null,null,{"$f":"VLOOKUP($A55,Participants!$A:$E,4,FALSE)","v":{"$error":"#N/A"}},{"$f":"VLOOKUP($A55,Participants!$A:$E,2,FALSE)","v":{"$error":"#N/A"}},{"$f":"VLOOKUP($A55,Participants!$A:$E,3,FALSE)","v":{"$error":"#N/A"}},{"$f":"VLOOKUP($A55,Participants!$A:$E,5,FALSE)","v":{"$error":"#N/A"}},{"$f":"IFERROR(VLOOKUP(F55,#REF!,2,FALSE),0)","v":0}]
[null,null,{"$f":"VLOOKUP($A56,Participants!$A:$E,4,FALSE)","v":{"$error":"#N/A"}},{"$f":"VLOOKUP($A56,Participants!$A:$E,2,FALSE)","v":{"$error":"#N/A"}},{"$f":"VLOOKUP($A56,Participants!$A:$E,3,FALSE)","v":{"$error":"#N/A"}},{"$f":"VLOOKUP($A56,Participants!$A:$E,5,FALSE)","v":{"$error":"#N/A"}},{"$f":"IFERROR(VLOOKUP(F56,#REF!,2,FALSE),0)","v":0}]
[null,null,{"$f":"VLOOKUP($A57,Participants!$A:$E,4,FALSE)","v":{"$error":"#N/A"}},{"$f":"VLOOKUP($A57,Participants!$A:$E,2,FALSE)","v":{"$error":"#N/A"}},{"$f":"VLOOKUP($A57,Participants!$A:$E,3,FALSE)","v":{"$error":"#N/A"}},{"$f":"VLOOKUP($A57,Participants!$A:$E,5,FALSE)","v":{"$error":"#N/A"}},{"$f":"IFERROR(VLOOKUP(F57,#REF!,2,FALSE),0)","v":0}]
[null,null,{"$f":"VLOOKUP($A58,Participants!$A:$E,4,FALSE)","v":{"$error":"#N/A"}},{"$f":"VLOOKUP($A58,Participants!$A:$E,2,FALSE)","v":{"$error":"#N/A"}},{"$f":"VLOOKUP($A58,Participants!$A:$E,3,FALSE)","v":{"$error":"#N/A"}},{"$f":"VLOOKUP($A58,Participants!$A:$E,5,FALSE)","v":{"$error":"#N/A"}},{"$f":"IFERROR(VLOOKUP(F58,#REF!,2,FALSE),0)","v":0}]
[null,null,{"$f":"VLOOKUP($A59,Participants!$A:$E,4,FALSE)","v":{"$error":"#N/A"}},{"$f":"VLOOKUP($A59,Participants!$A:$E,2,FALSE)","v":{"$error":"#N/A"}},{"$f":"VLOOKUP($A59,Participants!$A:$E,3,FALSE)","v":{"$error":"#N/A"}},{"$f":"VLOOKUP($A59,Participants!$A:$E,5,FALSE)","v":{"$error":"#N/A"}},{"$f":"IFERROR(VLOOKUP(F59,#REF!,2,FALSE),0)","v":0}]
[null,null,{"$f":"VLOOKUP($A60,Participants!$A:$E,4,FALSE)","v":{"$error":"#N/A"}},{"$f":"VLOOKUP($A60,Participants!$A:$E,2,FALSE)","v":{"$error":"#N/A"}},{"$f":"VLOOKUP($A60,Participants!$A:$E,3,FALSE)","v":{"$error":"#N/A"}},{"$f":"VLOOKUP($A60,Participants!$A:$E,5,FALSE)","v":{"$error":"#N/A"}},{"$f":"IFERROR(VLOOKUP(F60,#REF!,2,FALSE),0)","v":0}]
[null,null,{"$f":"VLOOKUP($A61,Participants!$A:$E,4,FALSE)","v":{"$error":"#N/A"}},{"$f":"VLOOKUP($A61,Participants!$A:$E,2,FALSE)","v":{"$error":"#N/A"}},{"$f":"VLOOKUP($A61,Participants!$A:$E,3,FALSE)","v":{"$error":"#N/A"}},{"$f":"VLOOKUP($A61,Participants!$A:$E,5,FALSE)","v":{"$error":"#N/A"}},{"$f":"IFERROR(VLOOKUP(F61,#REF!,2,FALSE),0)","v":0}]
[null,null,{"$f":"VLOOKUP($A62,Participants!$A:$E,4,FALSE)","v":{"$error":"#N/A"}},{"$f":"VLOOKUP($A62,Participants!$A:$E,2,FALSE)","v":{"$error":"#N/A"}},{"$f":"VLOOKUP($A62,Participants!$A:$E,3,FALSE)","v":{"$error":"#N/A"}},{"$f":"VLOOKUP($A62,Participants!$A:$E,5,FALSE)","v":{"$error":"#N/A"}},{"$f":"IFERROR(VLOOKUP(F62,#REF!,2,FALSE),0)","v":0}]
[null,null,{"$f":"VLOOKUP($A63,Participants!$A:$E,4,FALSE)","v":{"$error":"#N/A"}},{"$f":"VLOOKUP($A63,Participants!$A:$E,2,FALSE)","v":{"$error":"#N/A"}},{"$f":"VLOOKUP($A63,Participants!$A:$E,3,FALSE)","v":{"$error":"#N/A"}},{"$f":"VLOOKUP($A63,Participants!$A:$E,5,FALSE)","v":{"$error":"#N/A"}},{"$f":"IFERROR(VLOOKUP(F63,#REF!,2,FALSE),0)","v":0}]
[null,null,{"$f":"VLOOKUP($A64,Participants!$A:$E,4,FALSE)","v":{"$error":"#N/A"}},{"$f":"VLOOKUP($A64,Participants!$A:$E,2,FALSE)","v":{"$error":"#N/A"}},{"$f":"VLOOKUP($A64,Participants!$A:$E,3,FALSE)","v":{"$error":"#N/A"}},{"$f":"VLOOKUP($A64,Participants!$A:$E,5,FALSE)","v":{"$error":"#N/A"}},{"$f":"IFERROR(VLOOKUP(F64,#REF!,2,FALSE),0)","v":0}]
[null,null,{"$f":"VLOOKUP($A65,Participants!$A:$E,4,FALSE)","v":{"$error":"#N/A"}},{"$f":"VLOOKUP($A65,Participants!$A:$E,2,FALSE)","v":{"$error":"#N/A"}},{"$f":"VLOOKUP($A65,Participants!$A:$E,3,FALSE)","v":{"$error":"#N/A"}},{"$f":"VLOOKUP($A65,Participants!$A:$E,5,FALSE)","v":{"$error":"#N/A"}},{"$f":"IFERROR(VLOOKUP(F65,#REF!,2,FALSE),0)","v":0}]
[null,null,{"$f":"VLOOKUP($A66,Participants!$A:$E,4,FALSE)","v":{"$error":"#N/A"}},{"$f":"VLOOKUP($A66,Participants!$A:$E,2,FALSE)","v":{"$error":"#N/A"}},{"$f":"VLOOKUP($A66,Participants!$A:$E,3,FALSE)","v":{"$error":"#N/A"}},{"$f":"VLOOKUP($A66,Participants!$A:$E,5,FALSE)","v":{"$error":"#N/A"}},{"$f":"IFERROR(VLOOKUP(F66,#REF!,2,FALSE),0)","v":0}]
[null,null,{"$f":"VLOOKUP($A67,Participants!$A:$E,4,FALSE)","v":{"$error":"#N/A"}},{"$f":"VLOOKUP($A67,Participants!$A:$E,2,FALSE)","v":{"$error":"#N/A"}},{"$f":"VLOOKUP($A67,Participants!$A:$E,3,FALSE)","v":{"$error":"#N/A"}},{"$f":"VLOOKUP($A67,Participants!$A:$E,5,FALSE)","v":{"$error":"#N/A"}},{"$f":"IFERROR(VLOOKUP(F67,#REF!,2,FALSE),0)","v":0}]
[null,null,{"$f":"VLOOKUP($A68,Participants!$A:$E,4,FALSE)","v":{"$error":"#N/A"}},{"$f":"VLOOKUP($A68,Participants!$A:$E,2,FALSE)","v":{"$error":"#N/A"}},{"$f":"VLOOKUP($A68,Participants!$A:$E,3,FALSE)","v":{"$error":"#N/A"}},{"$f":"VLOOKUP($A68,Participants!$A:$E,5,FALSE)","v":{"$error":"#N/A"}},{"$f":"IFERROR(VLOOKUP(F68,#REF!,2,FALSE),0)","v":0}]
[null,null,{"$f":"VLOOKUP($A69,Participants!$A:$E,4,FALSE)","v":{"$error":"#N/A"}},{"$f":"VLOOKUP($A69,Participants!$A:$E,2,FALSE)","v":{"$error":"#N/A"}},{"$f":"VLOOKUP($A69,Participants!$A:$E,3,FALSE)","v":{"$error":"#N/A"}},{"$f":"VLOOKUP($A69,Participants!$A:$E,5,FALSE)","v":{"$error":"#N/A"}},{"$f":"IFERROR(VLOOKUP(F69,#REF!,2,FALSE),0)","v":0}]
[null,null,{"$f":"VLOOKUP($A70,Participants!$A:$E,4,FALSE)","v":{"$error":"#N/A"}},{"$f":"VLOOKUP($A70,Participants!$A:$E,2,FALSE)","v":{"$error":"#N/A"}},{"$f":"VLOOKUP($A70,Participants!$A:$E,3,FALSE)","v":{"$error":"#N/A"}},{"$f":"VLOOKUP($A70,Participants!$A:$E,5,FALSE)","v":{"$error":"#N/A"}},{"$f":"IFERROR(VLOOKUP(F70,#REF!,2,FALSE),0)","v":0}]
[null,null,{"$f":"VLOOKUP($A71,Participants!$A:$E,4,FALSE)","v":{"$error":"#N/A"}},{"$f":"VLOOKUP($A71,Participants!$A:$E,2,FALSE)","v":{"$error":"#N/A"}},{"$f":"VLOOKUP($A71,Participants!$A:$E,3,FALSE)","v":{"$error":"#N/A"}},{"$f":"VLOOKUP($A71,Participants!$A:$E,5,FALSE)","v":{"$error":"#N/A"}},{"$f":"IFERROR(VLOOKUP(F71,#REF!,2,FALSE),0)","v":0}]
[null,null,{"$f":"VLOOKUP($A72,Participants!$A:$E,4,FALSE)","v":{"$error":"#N/A"}},{"$f":"VLOOKUP($A72,Participants!$A:$E,2,FALSE)","v":{"$error":"#N/A"}},{"$f":"VLOOKUP($A72,Participants!$A:$E,3,FALSE)","v":{"$error":"#N/A"}},{"$f":"VLOOKUP($A72,Participants!$A:$E,5,FALSE)","v":{"$error":"#N/A"}},{"$f":"IFERROR(VLOOKUP(F72,#REF!,2,FALSE),0)","v":0}]
[null,null,{"$f":"VLOOKUP($A73,Participants!$A:$E,4,FALSE)","v":{"$error":"#N/A"}},{"$f":"VLOOKUP($A73,Participants!$A:$E,2,FALSE)","v":{"$error":"#N/A"}},{"$f":"VLOOKUP($A73,Participants!$A:$E,3,FALSE)","v":{"$error":"#N/A"}},{"$f":"VLOOKUP($A73,Participants!$A:$E,5,FALSE)","v":{"$error":"#N/A"}},{"$f":"IFERROR(VLOOKUP(F73,#REF!,2,FALSE),0)","v":0}]
[null,null,{"$f":"VLOOKUP($A74,Participants!$A:$E,4,FALSE)","v":{"$error":"#N/A"}},{"$f":"VLOOKUP($A74,Participants!$A:$E,2,FALSE)","v":{"$error":"#N/A"}},{"$f":"VLOOKUP($A74,Participants!$A:$E,3,FALSE)","v":{"$error":"#N/A"}},{"$f":"VLOOKUP($A74,Participants!$A:$E,5,FALSE)","v":{"$error":"#N/A"}},{"$f":"IFERROR(VLOOKUP(F74,#REF!,2,FALSE),0)","v":0}]
[null,null,{"$f":"VLOOKUP($A75,Participants!$A:$E,4,FALSE)","v":{"$error":"#N/A"}},{"$f":"VLOOKUP($A75,Participants!$A:$E,2,FALSE)","v":{"$error":"#N/A"}},{"$f":"VLOOKUP($A75,Participants!$A:$E,3,FALSE)","v":{"$error":"#N/A"}},{"$f":"VLOOKUP($A75,Participants!$A:$E,5,FALSE)","v":{"$error":"#N/A"}},{"$f":"IFERROR(VLOOKUP(F75,#REF!,2,FALSE),0)","v":0}]
[null,null,{"$f":"VLOOKUP($A76,Participants!$A:$E,4,FALSE)","v":{"$error":"#N/A"}},{"$f":"VLOOKUP($A76,Participants!$A:$E,2,FALSE)","v":{"$error":"#N/A"}},{"$f":"VLOOKUP($A76,Participants!$A:$E,3,FALSE)","v":{"$error":"#N/A"}},{"$f":"VLOOKUP($A76,Participants!$A:$E,5,FALSE)","v":{"$error":"#N/A"}},{"$f":"IFERROR(VLOOKUP(F76,#REF!,2,FALSE),0)","v":0}]
[null,null,{"$f":"VLOOKUP($A77,Participants!$A:$E,4,FALSE)","v":{"$error":"#N/A"}},{"$f":"VLOOKUP($A77,Participants!$A:$E,2,FALSE)","v":{"$error":"#N/A"}},{"$f":"VLOOKUP($A77,Participants!$A:$E,3,FALSE)","v":{"$error":"#N/A"}},{"$f":"VLOOKUP($A77,Participants!$A:$E,5,FALSE)","v":{"$error":"#N/A"}},{"$f":"IFERROR(VLOOKUP(F77,#REF!,2,FALSE),0)","v":0}]
[null,null,{"$f":"VLOOKUP($A78,Participants!$A:$E,4,FALSE)","v":{"$error":"#N/A"}},{"$f":"VLOOKUP($A78,Participants!$A:$E,2,FALSE)","v":{"$error":"#N/A"}},{"$f":"VLOOKUP($A78,Participants!$A:$E,3,FALSE)","v":{"$error":"#N/A"}},{"$f":"VLOOKUP($A78,Participants!$A:$E,5,FALSE)","v":{"$error":"#N/A"}},{"$f":"IFERROR(VLOOKUP(F78,#REF!,2,FALSE),0)","v":0}]
[null,null,{"$f":"VLOOKUP($A79,Participants!$A:$E,4,FALSE)","v":{"$error":"#N/A"}},{"$f":"VLOOKUP($A79,Participants!$A:$E,2,FALSE)","v":{"$error":"#N/A"}},{"$f":"VLOOKUP($A79,Participants!$A:$E,3,FALSE)","v":{"$error":"#N/A"}},{"$f":"VLOOKUP($A79,Participants!$A:$E,5,FALSE)","v":{"$error":"#N/A"}},{"$f":"IFERROR(VLOOKUP(F79,#REF!,2,FALSE),0)","v":0}]
[null,null,{"$f":"VLOOKUP($A80,Participants!$A:$E,4,FALSE)","v":{"$error":"#N/A"}},{"$f":"VLOOKUP($A80,Participants!$A:$E,2,FALSE)","v":{"$error":"#N/A"}},{"$f":"VLOOKUP($A80,Participants!$A:$E,3,FALSE)","v":{"$error":"#N/A"}},{"$f":"VLOOKUP($A80,Participants!$A:$E,5,FALSE)","v":{"$error":"#N/A"}},{"$f":"IFERROR(VLOOKUP(F80,#REF!,2,FALSE),0)","v":0}]
[null,null,{"$f":"VLOOKUP($A81,Participants!$A:$E,4,FALSE)","v":{"$error":"#N/A"}},{"$f":"VLOOKUP($A81,Participants!$A:$E,2,FALSE)","v":{"$error":"#N/A"}},{"$f":"VLOOKUP($A81,Participants!$A:$E,3,FALSE)","v":{"$error":"#N/A"}},{"$f":"VLOOKUP($A81,Participants!$A:$E,5,FALSE)","v":{"$error":"#N/A"}},{"$f":"IFERROR(VLOOKUP(F81,#REF!,2,FALSE),0)","v":0}]
[null,null,{"$f":"VLOOKUP($A82,Participants!$A:$E,4,FALSE)","v":{"$error":"#N/A"}},{"$f":"VLOOKUP($A82,Participants!$A:$E,2,FALSE)","v":{"$error":"#N/A"}},{"$f":"VLOOKUP($A82,Participants!$A:$E,3,FALSE)","v":{"$error":"#N/A"}},{"$f":"VLOOKUP($A82,Participants!$A:$E,5,FALSE)","v":{"$error":"#N/A"}},{"$f":"IFERROR(VLOOKUP(F82,#REF!,2,FALSE),0)","v":0}]
[null,null,{"$f":"VLOOKUP($A83,Participants!$A:$E,4,FALSE)","v":{"$error":"#N/A"}},{"$f":"VLOOKUP($A83,Participants!$A:$E,2,FALSE)","v":{"$error":"#N/A"}},{"$f":"VLOOKUP($A83,Participants!$A:$E,3,FALSE)","v":{"$error":"#N/A"}},{"$f":"VLOOKUP($A83,Participants!$A:$E,5,FALSE)","v":{"$error":"#N/A"}},{"$f":"IFERROR(VLOOKUP(F83,#REF!,2,FALSE),0)","v":0}]
[null,null,{"$f":"VLOOKUP($A84,Participants!$A:$E,4,FALSE)","v":{"$error":"#N/A"}},{"$f":"VLOOKUP($A84,Participants!$A:$E,2,FALSE)","v":{"$error":"#N/A"}},{"$f":"VLOOKUP($A84,Participants!$A:$E,3,FALSE)","v":{"$error":"#N/A"}},{"$f":"VLOOKUP($A84,Participants!$A:$E,5,FALSE)","v":{"$error":"#N/A"}},{"$f":"IFERROR(VLOOKUP(F84,#REF!,2,FALSE),0)","v":0}]
[null,null,{"$f":"VLOOKUP($A85,Participants!$A:$E,4,FALSE)","v":{"$error":"#N/A"}},{"$f":"VLOOKUP($A85,Participants!$A:$E,2,FALSE)","v":{"$error":"#N/A"}},{"$f":"VLOOKUP($A85,Participants!$A:$E,3,FALSE)","v":{"$error":"#N/A"}},{"$f":"VLOOKUP($A85,Participants!$A:$E,5,FALSE)","v":{"$error":"#N/A"}},{"$f":"IFERROR(VLOOKUP(F85,#REF!,2,FALSE),0)","v":0}]
[null,null,{"$f":"VLOOKUP($A86,Participants!$A:$E,4,FALSE)","v":{"$error":"#N/A"}},{"$f":"VLOOKUP($A86,Participants!$A:$E,2,FALSE)","v":{"$error":"#N/A"}},{"$f":"VLOOKUP($A86,Participants!$A:$E,3,FALSE)","v":{"$error":"#N/A"}},{"$f":"VLOOKUP($A86,Participants!$A:$E,5,FALSE)","v":{"$error":"#N/A"}},{"$f":"IFERROR(VLOOKUP(F86,#REF!,2,FALSE),0)","v":0}]
[null,null,{"$f":"VLOOKUP($A87,Participants!$A:$E,4,FALSE)","v":{"$error":"#N/A"}},{"$f":"VLOOKUP($A87,Participants!$A:$E,2,FALSE)","v":{"$error":"#N/A"}},{"$f":"VLOOKUP($A87,Participants!$A:$E,3,FALSE)","v":{"$error":"#N/A"}},{"$f":"VLOOKUP($A87,Participants!$A:$E,5,FALSE)","v":{"$error":"#N/A"}},{"$f":"IFERROR(VLOOKUP(F87,#REF!,2,FALSE),0)","v":0}]
[null,null,{"$f":"VLOOKUP($A88,Participants!$A:$E,4,FALSE)","v":{"$error":"#N/A"}},{"$f":"VLOOKUP($A88,Participants!$A:$E,2,FALSE)","v":{"$error":"#N/A"}},{"$f":"VLOOKUP($A88,Participants!$A:$E,3,FALSE)","v":{"$error":"#N/A"}},{"$f":"VLOOKUP($A88,Participants!$A:$E,5,FALSE)","v":{"$error":"#N/A"}},{"$f":"IFERROR(VLOOKUP(F88,#REF!,2,FALSE),0)","v":0}]
[null,null,{"$f":"VLOOKUP($A89,Participants!$A:$E,4,FALSE)","v":{"$error":"#N/A"}},{"$f":"VLOOKUP($A89,Participants!$A:$E,2,FALSE)","v":{"$error":"#N/A"}},{"$f":"VLOOKUP($A89,Participants!$A:$E,3,FALSE)","v":{"$error":"#N/A"}},{"$f":"VLOOKUP($A89,Participants!$A:$E,5,FALSE)","v":{"$error":"#N/A"}},{"$f":"IFERROR(VLOOKUP(F89,#REF!,2,FALSE),0)","v":0}]
[null,null,{"$f":"VLOOKUP($A90,Participants!$A:$E,4,FALSE)","v":{"$error":"#N/A"}},{"$f":"VLOOKUP($A90,Participants!$A:$E,2,FALSE)","v":{"$error":"#N/A"}},{"$f":"VLOOKUP($A90,Participants!$A:$E,3,FALSE)","v":{"$error":"#N/A"}},{"$f":"VLOOKUP($A90,Participants!$A:$E,5,FALSE)","v":{"$error":"#N/A"}},{"$f":"IFERROR(VLOOKUP(F90,#REF!,2,FALSE),0)","v":0}]
[null,null,{"$f":"VLOOKUP($A91,Participants!$A:$E,4,FALSE)","v":{"$error":"#N/A"}},{"$f":"VLOOKUP($A91,Participants!$A:$E,2,FALSE)","v":{"$error":"#N/A"}},{"$f":"VLOOKUP($A91,Participants!$A:$E,3,FALSE)","v":{"$error":"#N/A"}},{"$f":"VLOOKUP($A91,Participants!$A:$E,5,FALSE)","v":{"$error":"#N/A"}},{"$f":"IFERROR(VLOOKUP(F91,#REF!,2,FALSE),0)","v":0}]
[null,null,{"$f":"VLOOKUP($A92,Participants!$A:$E,4,FALSE)","v":{"$error":"#N/A"}},{"$f":"VLOOKUP($A92,Participants!$A:$E,2,FALSE)","v":{"$error":"#N/A"}},{"$f":"VLOOKUP($A92,Participants!$A:$E,3,FALSE)","v":{"$error":"#N/A"}},{"$f":"VLOOKUP($A92,Participants!$A:$E,5,FALSE)","v":{"$error":"#N/A"}},{"$f":"IFERROR(VLOOKUP(F92,#REF!,2,FALSE),0)","v":0}]
[null,null,{"$f":"VLOOKUP($A93,Participants!$A:$E,4,FALSE)","v":{"$error":"#N/A"}},{"$f":"VLOOKUP($A93,Participants!$A:$E,2,FALSE)","v":{"$error":"#N/A"}},{"$f":"VLOOKUP($A93,Participants!$A:$E,3,FALSE)","v":{"$error":"#N/A"}},{"$f":"VLOOKUP($A93,Participants!$A:$E,5,FALSE)","v":{"$error":"#N/A"}},{"$f":"IFERROR(VLOOKUP(F93,#REF!,2,FALSE),0)","v":0}]
[null,null,{"$f":"VLOOKUP($A94,Participants!$A:$E,4,FALSE)","v":{"$error":"#N/A"}},{"$f":"VLOOKUP($A94,Participants!$A:$E,2,FALSE)","v":{"$error":"#N/A"}},{"$f":"VLOOKUP($A94,Participants!$A:$E,3,FALSE)","v":{"$error":"#N/A"}},{"$f":"VLOOKUP($A94,Participants!$A:$E,5,FALSE)","v":{"$error":"#N/A"}},{"$f":"IFERROR(VLOOKUP(F94,#REF!,2,FALSE),0)","v":0}]
[null,null,{"$f":"VLOOKUP($A95,Participants!$A:$E,4,FALSE)","v":{"$error":"#N/A"}},{"$f":"VLOOKUP($A95,Participants!$A:$E,2,FALSE)","v":{"$error":"#N/A"}},{"$f":"VLOOKUP($A95,Participants!$A:$E,3,FALSE)","v":{"$error":"#N/A"}},{"$f":"VLOOKUP($A95,Participants!$A:$E,5,FALSE)","v":{"$error":"#N/A"}},{"$f":"IFERROR(VLOOKUP(F95,#REF!,2,FALSE),0)","v":0}]
[null,null,{"$f":"VLOOKUP($A96,Participants!$A:$E,4,FALSE)","v":{"$error":"#N/A"}},{"$f":"VLOOKUP($A96,Participants!$A:$E,2,FALSE)","v":{"$error":"#N/A"}},{"$f":"VLOOKUP($A96,Participants!$A:$E,3,FALSE)","v":{"$error":"#N/A"}},{"$f":"VLOOKUP($A96,Participants!$A:$E,5,FALSE)","v":{"$error":"#N/A"}},{"$f":"IFERROR(VLOOKUP(F96,#REF!,2,FALSE),0)","v":0}]
[null,null,{"$f":"VLOOKUP($A97,Participants!$A:$E,4,FALSE)","v":{"$error":"#N/A"}},{"$f":"VLOOKUP($A97,Participants!$A:$E,2,FALSE)","v":{"$error":"#N/A"}},{"$f":"VLOOKUP($A97,Participants!$A:$E,3,FALSE)","v":{"$error":"#N/A"}},{"$f":"VLOOKUP($A97,Participants!$A:$E,5,FALSE)","v":{"$error":"#N/A"}},{"$f":"IFERROR(VLOOKUP(F97,#REF!,2,FALSE),0)","v":0}]
[null,null,{"$f":"VLOOKUP($A98,Participants!$A:$E,4,FALSE)","v":{"$error":"#N/A"}},{"$f":"VLOOKUP($A98,Participants!$A:$E,2,FALSE)","v":{"$error":"#N/A"}},{"$f":"VLOOKUP($A98,Participants!$A:$E,3,FALSE)","v":{"$error":"#N/A"}},{"$f":"VLOOKUP($A98,Participants!$A:$E,5,FALSE)","v":{"$error":"#N/A"}},{"$f":"IFERROR(VLOOKUP(F98,#REF!,2,FALSE),0)","v":0}]
[{"$nulls":6},{"$f":"IFERROR(VLOOKUP(F99,#REF!,2,FALSE),0)","v":0}]
[{"$nulls":6},{"$f":"IFERROR(VLOOKUP(F100,#REF!,2,FALSE),0)","v":0}]
[{"$nulls":6},{"$f":"IFERROR(VLOOKUP(F101,#REF!,2,FALSE),0)","v":0}]